{"text_format":"1","workbook":"xlsx","n_sheets":14,"sheets":["DataEntry","lists","vegetation_monitoring","vegetation_monitoring_users","vegetation_monitoring_points","vegetation_monitoring_hits","vegetation_monitoring_canopy","vegetation_monitoring_unknowns","vegetation_species_outside_plot","SQL","SQL2","SQL3","SQL4","SQL5"],"not_rendered":{"charts":0,"images":1,"macros":1,"external_links":0,"defined_names":0,"comments":0,"pivot_tables":0},"unopened":[],"bounds":{"document_bytes":16777216,"sheet_cells":100000,"rows_first":2000,"rows_last":500,"rows_between":2000,"halvings":0,"cell_chars":16384,"cell_head_chars":4096},"cells_cut":0,"cells_raw":0,"read":"whole","date_system":"1900"}

{"sheet":"DataEntry","index":0,"n_rows":1000,"n_cols":27,"rows_kept":1000,"cut":false,"hidden":false,"merged":[[4,4,5,7]]}
["Study Site Name",null,null,"Observers","","","",null,""]
["Project",null,null,"user_id",{"$f":"VLOOKUP(E1,lists!I2:J20,2,FALSE)","v":{"$error":"#N/A"}},{"$f":"VLOOKUP(F1,lists!I2:J20,2,FALSE)","v":{"$error":"#N/A"}},{"$f":"VLOOKUP(G1,lists!I2:J20,2,FALSE)","v":{"$error":"#N/A"}},{"$f":"VLOOKUP(H1,lists!I2:J20,2,FALSE)","v":{"$error":"#N/A"}},{"$f":"VLOOKUP(I1,lists!I2:J20,2,FALSE)","v":{"$error":"#N/A"}}]
["Transect","",{"$f":"VLOOKUP(B3,lists!L2:M27,2,FALSE)","v":{"$error":"#N/A"}}]
["Date"]
["Start Time",null,null,null,"SAVE AS: YYYYMMDD_DeerCreek_VegetationMonitoring_Transect##"]
["End Time"]
["Meter Mark","Distance to stream","bank height"]
[0]
[12.5]
[25]
[]
["POINTS",null,null,null,null,null,"HITS",null,null,null,null,null,null,"CANOPY",null,null,null,"SPECIES OUTSIDE PLOTS",null,null,"UNKNOWN SPECIES",null,null,null,null,"Horizontal Moisture Transect"]
["Transect Point","Soil Surface","soil_surface_id","Canopy Cover Score","Soil Moisture Percentage",null,"Trasect Point","Hit (1 or 2)","Species Code","accepted_species_id","Soil Surface","soil_surface_id",null,"Transect Point","Species Code","accepted_species_id",null,"SPECIES CODE","accepted_species_id",null,"Temporary Name","Description","Voucher ID","Notes"]
[null,"",{"$f":"VLOOKUP(B14,lists!$F$2:$G$17,2,FALSE)","v":{"$error":"#N/A"}},null,null,null,null,null,"",{"$f":"VLOOKUP(I14,lists!$A$2:$B$1335,2,FALSE)","v":{"$error":"#N/A"}},null,{"$f":"VLOOKUP(K14,lists!$F$2:$G$17,2,FALSE)","v":{"$error":"#N/A"}},null,null,null,{"$f":"VLOOKUP(O14,lists!$A$2:$B$1335,2,FALSE)","v":{"$error":"#N/A"}},null,null,{"$f":"VLOOKUP(R14,lists!$A$2:$B$575,2,FALSE)","v":{"$error":"#N/A"}},null,null,null,null,null,null,"0M"]
[null,null,{"$f":"VLOOKUP(B15,lists!$F$2:$G$17,2,FALSE)","v":{"$error":"#N/A"}},null,null,null,null,null,"",{"$f":"VLOOKUP(I15,lists!$A$2:$B$1335,2,FALSE)","v":{"$error":"#N/A"}},null,{"$f":"VLOOKUP(K15,lists!$F$2:$G$17,2,FALSE)","v":{"$error":"#N/A"}},null,null,null,{"$f":"VLOOKUP(O15,lists!$A$2:$B$1335,2,FALSE)","v":{"$error":"#N/A"}},null,null,{"$f":"VLOOKUP(R15,lists!$A$2:$B$575,2,FALSE)","v":{"$error":"#N/A"}},null,null,null,null,null,null,"1M"]
[null,null,{"$f":"VLOOKUP(B16,lists!$F$2:$G$17,2,FALSE)","v":{"$error":"#N/A"}},null,null,null,null,null,"",{"$f":"VLOOKUP(I16,lists!$A$2:$B$1335,2,FALSE)","v":{"$error":"#N/A"}},null,{"$f":"VLOOKUP(K16,lists!$F$2:$G$17,2,FALSE)","v":{"$error":"#N/A"}},null,null,null,{"$f":"VLOOKUP(O16,lists!$A$2:$B$1335,2,FALSE)","v":{"$error":"#N/A"}},null,null,{"$f":"VLOOKUP(R16,lists!$A$2:$B$575,2,FALSE)","v":{"$error":"#N/A"}},null,null,null,null,null,null,"2M"]
[null,null,{"$f":"VLOOKUP(B17,lists!$F$2:$G$17,2,FALSE)","v":{"$error":"#N/A"}},null,null,null,null,null,"",{"$f":"VLOOKUP(I17,lists!$A$2:$B$1335,2,FALSE)","v":{"$error":"#N/A"}},null,{"$f":"VLOOKUP(K17,lists!$F$2:$G$17,2,FALSE)","v":{"$error":"#N/A"}},null,null,null,{"$f":"VLOOKUP(O17,lists!$A$2:$B$1335,2,FALSE)","v":{"$error":"#N/A"}},null,null,{"$f":"VLOOKUP(R17,lists!$A$2:$B$575,2,FALSE)","v":{"$error":"#N/A"}},null,null,null,null,null,null,"3M"]
[null,null,{"$f":"VLOOKUP(B18,lists!$F$2:$G$17,2,FALSE)","v":{"$error":"#N/A"}},null,null,null,null,null,"",{"$f":"VLOOKUP(I18,lists!$A$2:$B$1335,2,FALSE)","v":{"$error":"#N/A"}},null,{"$f":"VLOOKUP(K18,lists!$F$2:$G$17,2,FALSE)","v":{"$error":"#N/A"}},null,null,null,{"$f":"VLOOKUP(O18,lists!$A$2:$B$1335,2,FALSE)","v":{"$error":"#N/A"}},null,null,{"$f":"VLOOKUP(R18,lists!$A$2:$B$575,2,FALSE)","v":{"$error":"#N/A"}},null,null,null,null,null,null,"4M"]
[null,null,{"$f":"VLOOKUP(B19,lists!$F$2:$G$17,2,FALSE)","v":{"$error":"#N/A"}},null,null,null,null,null,"",{"$f":"VLOOKUP(I19,lists!$A$2:$B$1335,2,FALSE)","v":{"$error":"#N/A"}},null,{"$f":"VLOOKUP(K19,lists!$F$2:$G$17,2,FALSE)","v":{"$error":"#N/A"}},null,null,null,{"$f":"VLOOKUP(O19,lists!$A$2:$B$1335,2,FALSE)","v":{"$error":"#N/A"}},null,null,{"$f":"VLOOKUP(R19,lists!$A$2:$B$575,2,FALSE)","v":{"$error":"#N/A"}},null,null,null,null,null,null,"5M"]
[null,null,{"$f":"VLOOKUP(B20,lists!$F$2:$G$17,2,FALSE)","v":{"$error":"#N/A"}},null,null,null,null,null,"",{"$f":"VLOOKUP(I20,lists!$A$2:$B$1335,2,FALSE)","v":{"$error":"#N/A"}},null,{"$f":"VLOOKUP(K20,lists!$F$2:$G$17,2,FALSE)","v":{"$error":"#N/A"}},null,null,null,{"$f":"VLOOKUP(O20,lists!$A$2:$B$1335,2,FALSE)","v":{"$error":"#N/A"}},null,null,{"$f":"VLOOKUP(R20,lists!$A$2:$B$575,2,FALSE)","v":{"$error":"#N/A"}},null,null,null,null,null,null,"6M"]
[null,null,{"$f":"VLOOKUP(B21,lists!$F$2:$G$17,2,FALSE)","v":{"$error":"#N/A"}},null,null,null,null,null,"",{"$f":"VLOOKUP(I21,lists!$A$2:$B$1335,2,FALSE)","v":{"$error":"#N/A"}},null,{"$f":"VLOOKUP(K21,lists!$F$2:$G$17,2,FALSE)","v":{"$error":"#N/A"}},null,null,null,{"$f":"VLOOKUP(O21,lists!$A$2:$B$1335,2,FALSE)","v":{"$error":"#N/A"}},null,null,{"$f":"VLOOKUP(R21,lists!$A$2:$B$575,2,FALSE)","v":{"$error":"#N/A"}},null,null,null,null,null,null,"7M"]
[null,null,{"$f":"VLOOKUP(B22,lists!$F$2:$G$17,2,FALSE)","v":{"$error":"#N/A"}},null,null,null,null,null,"",{"$f":"VLOOKUP(I22,lists!$A$2:$B$1335,2,FALSE)","v":{"$error":"#N/A"}},null,{"$f":"VLOOKUP(K22,lists!$F$2:$G$17,2,FALSE)","v":{"$error":"#N/A"}},null,null,null,{"$f":"VLOOKUP(O22,lists!$A$2:$B$1335,2,FALSE)","v":{"$error":"#N/A"}},null,null,{"$f":"VLOOKUP(R22,lists!$A$2:$B$575,2,FALSE)","v":{"$error":"#N/A"}},null,null,null,null,null,null,"8M"]
[null,null,{"$f":"VLOOKUP(B23,lists!$F$2:$G$17,2,FALSE)","v":{"$error":"#N/A"}},null,null,null,null,null,"",{"$f":"VLOOKUP(I23,lists!$A$2:$B$1335,2,FALSE)","v":{"$error":"#N/A"}},null,{"$f":"VLOOKUP(K23,lists!$F$2:$G$17,2,FALSE)","v":{"$error":"#N/A"}},null,null,null,{"$f":"VLOOKUP(O23,lists!$A$2:$B$1335,2,FALSE)","v":{"$error":"#N/A"}},null,null,{"$f":"VLOOKUP(R23,lists!$A$2:$B$575,2,FALSE)","v":{"$error":"#N/A"}},null,null,null,null,null,null,"9M"]
[null,null,{"$f":"VLOOKUP(B24,lists!$F$2:$G$17,2,FALSE)","v":{"$error":"#N/A"}},null,null,null,null,null,"",{"$f":"VLOOKUP(I24,lists!$A$2:$B$1335,2,FALSE)","v":{"$error":"#N/A"}},null,{"$f":"VLOOKUP(K24,lists!$F$2:$G$17,2,FALSE)","v":{"$error":"#N/A"}},null,null,null,{"$f":"VLOOKUP(O24,lists!$A$2:$B$1335,2,FALSE)","v":{"$error":"#N/A"}},null,null,{"$f":"VLOOKUP(R24,lists!$A$2:$B$575,2,FALSE)","v":{"$error":"#N/A"}},null,null,null,null,null,null,"10M"]
[null,null,{"$f":"VLOOKUP(B25,lists!$F$2:$G$17,2,FALSE)","v":{"$error":"#N/A"}},null,null,null,null,null,"",{"$f":"VLOOKUP(I25,lists!$A$2:$B$1335,2,FALSE)","v":{"$error":"#N/A"}},null,{"$f":"VLOOKUP(K25,lists!$F$2:$G$17,2,FALSE)","v":{"$error":"#N/A"}},null,null,null,{"$f":"VLOOKUP(O25,lists!$A$2:$B$1335,2,FALSE)","v":{"$error":"#N/A"}},null,null,{"$f":"VLOOKUP(R25,lists!$A$2:$B$575,2,FALSE)","v":{"$error":"#N/A"}}]
[null,null,{"$f":"VLOOKUP(B26,lists!$F$2:$G$17,2,FALSE)","v":{"$error":"#N/A"}},null,null,null,null,null,"",{"$f":"VLOOKUP(I26,lists!$A$2:$B$1335,2,FALSE)","v":{"$error":"#N/A"}},null,{"$f":"VLOOKUP(K26,lists!$F$2:$G$17,2,FALSE)","v":{"$error":"#N/A"}},null,null,null,{"$f":"VLOOKUP(O26,lists!$A$2:$B$1335,2,FALSE)","v":{"$error":"#N/A"}},null,null,{"$f":"VLOOKUP(R26,lists!$A$2:$B$575,2,FALSE)","v":{"$error":"#N/A"}},null,null,null,null,null,null,"In Stream Woody Debris"]
[null,null,{"$f":"VLOOKUP(B27,lists!$F$2:$G$17,2,FALSE)","v":{"$error":"#N/A"}},null,null,null,null,null,"",{"$f":"VLOOKUP(I27,lists!$A$2:$B$1335,2,FALSE)","v":{"$error":"#N/A"}},null,{"$f":"VLOOKUP(K27,lists!$F$2:$G$17,2,FALSE)","v":{"$error":"#N/A"}},null,null,null,{"$f":"VLOOKUP(O27,lists!$A$2:$B$1335,2,FALSE)","v":{"$error":"#N/A"}},null,null,{"$f":"VLOOKUP(R27,lists!$A$2:$B$575,2,FALSE)","v":{"$error":"#N/A"}},null,null,null,null,null,null,"Present",""]
[null,null,{"$f":"VLOOKUP(B28,lists!$F$2:$G$17,2,FALSE)","v":{"$error":"#N/A"}},null,null,null,null,null,"",{"$f":"VLOOKUP(I28,lists!$A$2:$B$1335,2,FALSE)","v":{"$error":"#N/A"}},null,{"$f":"VLOOKUP(K28,lists!$F$2:$G$17,2,FALSE)","v":{"$error":"#N/A"}},null,null,null,{"$f":"VLOOKUP(O28,lists!$A$2:$B$1335,2,FALSE)","v":{"$error":"#N/A"}},null,"",{"$f":"VLOOKUP(R28,lists!$A$2:$B$575,2,FALSE)","v":{"$error":"#N/A"}},null,null,null,null,null,null,"Amount",""]
[null,null,{"$f":"VLOOKUP(B29,lists!$F$2:$G$17,2,FALSE)","v":{"$error":"#N/A"}},null,null,null,null,null,"",{"$f":"VLOOKUP(I29,lists!$A$2:$B$1335,2,FALSE)","v":{"$error":"#N/A"}},null,{"$f":"VLOOKUP(K29,lists!$F$2:$G$17,2,FALSE)","v":{"$error":"#N/A"}},null,null,null,{"$f":"VLOOKUP(O29,lists!$A$2:$B$1335,2,FALSE)","v":{"$error":"#N/A"}},null,"",{"$f":"VLOOKUP(R29,lists!$A$2:$B$575,2,FALSE)","v":{"$error":"#N/A"}}]
[null,null,{"$f":"VLOOKUP(B30,lists!$F$2:$G$17,2,FALSE)","v":{"$error":"#N/A"}},null,null,null,null,null,"",{"$f":"VLOOKUP(I30,lists!$A$2:$B$1335,2,FALSE)","v":{"$error":"#N/A"}},null,{"$f":"VLOOKUP(K30,lists!$F$2:$G$17,2,FALSE)","v":{"$error":"#N/A"}},null,null,null,{"$f":"VLOOKUP(O30,lists!$A$2:$B$1335,2,FALSE)","v":{"$error":"#N/A"}},null,"",{"$f":"VLOOKUP(R30,lists!$A$2:$B$575,2,FALSE)","v":{"$error":"#N/A"}},null,null,null,null,null,null,"habitat(s)"]
[null,null,{"$f":"VLOOKUP(B31,lists!$F$2:$G$17,2,FALSE)","v":{"$error":"#N/A"}},null,null,null,null,null,"",{"$f":"VLOOKUP(I31,lists!$A$2:$B$1335,2,FALSE)","v":{"$error":"#N/A"}},null,{"$f":"VLOOKUP(K31,lists!$F$2:$G$17,2,FALSE)","v":{"$error":"#N/A"}},null,null,null,{"$f":"VLOOKUP(O31,lists!$A$2:$B$1335,2,FALSE)","v":{"$error":"#N/A"}},null,"",{"$f":"VLOOKUP(R31,lists!$A$2:$B$575,2,FALSE)","v":{"$error":"#N/A"}},null,null,null,null,null,null,"soil type(s)"]
[null,null,{"$f":"VLOOKUP(B32,lists!$F$2:$G$17,2,FALSE)","v":{"$error":"#N/A"}},null,null,null,null,null,"",{"$f":"VLOOKUP(I32,lists!$A$2:$B$1335,2,FALSE)","v":{"$error":"#N/A"}},null,{"$f":"VLOOKUP(K32,lists!$F$2:$G$17,2,FALSE)","v":{"$error":"#N/A"}},null,null,null,{"$f":"VLOOKUP(O32,lists!$A$2:$B$1335,2,FALSE)","v":{"$error":"#N/A"}},null,"",{"$f":"VLOOKUP(R32,lists!$A$2:$B$575,2,FALSE)","v":{"$error":"#N/A"}}]
[null,null,{"$f":"VLOOKUP(B33,lists!$F$2:$G$17,2,FALSE)","v":{"$error":"#N/A"}},null,null,null,null,null,"",{"$f":"VLOOKUP(I33,lists!$A$2:$B$1335,2,FALSE)","v":{"$error":"#N/A"}},null,{"$f":"VLOOKUP(K33,lists!$F$2:$G$17,2,FALSE)","v":{"$error":"#N/A"}},null,null,null,{"$f":"VLOOKUP(O33,lists!$A$2:$B$1335,2,FALSE)","v":{"$error":"#N/A"}},null,"",{"$f":"VLOOKUP(R33,lists!$A$2:$B$575,2,FALSE)","v":{"$error":"#N/A"}}]
[null,null,{"$f":"VLOOKUP(B34,lists!$F$2:$G$17,2,FALSE)","v":{"$error":"#N/A"}},null,null,null,null,null,"",{"$f":"VLOOKUP(I34,lists!$A$2:$B$1335,2,FALSE)","v":{"$error":"#N/A"}},null,{"$f":"VLOOKUP(K34,lists!$F$2:$G$17,2,FALSE)","v":{"$error":"#N/A"}},null,null,null,{"$f":"VLOOKUP(O34,lists!$A$2:$B$1335,2,FALSE)","v":{"$error":"#N/A"}},null,"",{"$f":"VLOOKUP(R34,lists!$A$2:$B$575,2,FALSE)","v":{"$error":"#N/A"}}]
[null,null,{"$f":"VLOOKUP(B35,lists!$F$2:$G$17,2,FALSE)","v":{"$error":"#N/A"}},null,null,null,null,null,"",{"$f":"VLOOKUP(I35,lists!$A$2:$B$1335,2,FALSE)","v":{"$error":"#N/A"}},null,{"$f":"VLOOKUP(K35,lists!$F$2:$G$17,2,FALSE)","v":{"$error":"#N/A"}},null,null,null,{"$f":"VLOOKUP(O35,lists!$A$2:$B$1335,2,FALSE)","v":{"$error":"#N/A"}},null,"",{"$f":"VLOOKUP(R35,lists!$A$2:$B$575,2,FALSE)","v":{"$error":"#N/A"}}]
[null,null,{"$f":"VLOOKUP(B36,lists!$F$2:$G$17,2,FALSE)","v":{"$error":"#N/A"}},null,null,null,null,null,"",{"$f":"VLOOKUP(I36,lists!$A$2:$B$1335,2,FALSE)","v":{"$error":"#N/A"}},null,{"$f":"VLOOKUP(K36,lists!$F$2:$G$17,2,FALSE)","v":{"$error":"#N/A"}},null,null,null,{"$f":"VLOOKUP(O36,lists!$A$2:$B$1335,2,FALSE)","v":{"$error":"#N/A"}},null,"",{"$f":"VLOOKUP(R36,lists!$A$2:$B$575,2,FALSE)","v":{"$error":"#N/A"}}]
[null,null,{"$f":"VLOOKUP(B37,lists!$F$2:$G$17,2,FALSE)","v":{"$error":"#N/A"}},null,null,null,null,null,"",{"$f":"VLOOKUP(I37,lists!$A$2:$B$1335,2,FALSE)","v":{"$error":"#N/A"}},null,{"$f":"VLOOKUP(K37,lists!$F$2:$G$17,2,FALSE)","v":{"$error":"#N/A"}},null,null,null,{"$f":"VLOOKUP(O37,lists!$A$2:$B$1335,2,FALSE)","v":{"$error":"#N/A"}},null,"",{"$f":"VLOOKUP(R37,lists!$A$2:$B$575,2,FALSE)","v":{"$error":"#N/A"}}]
[null,null,{"$f":"VLOOKUP(B38,lists!$F$2:$G$17,2,FALSE)","v":{"$error":"#N/A"}},null,null,null,null,null,"",{"$f":"VLOOKUP(I38,lists!$A$2:$B$1335,2,FALSE)","v":{"$error":"#N/A"}},null,{"$f":"VLOOKUP(K38,lists!$F$2:$G$17,2,FALSE)","v":{"$error":"#N/A"}},null,null,null,{"$f":"VLOOKUP(O38,lists!$A$2:$B$1335,2,FALSE)","v":{"$error":"#N/A"}},null,"",{"$f":"VLOOKUP(R38,lists!$A$2:$B$575,2,FALSE)","v":{"$error":"#N/A"}}]
[null,null,{"$f":"VLOOKUP(B39,lists!$F$2:$G$17,2,FALSE)","v":{"$error":"#N/A"}},null,null,null,null,null,"",{"$f":"VLOOKUP(I39,lists!$A$2:$B$1335,2,FALSE)","v":{"$error":"#N/A"}},null,{"$f":"VLOOKUP(K39,lists!$F$2:$G$17,2,FALSE)","v":{"$error":"#N/A"}},null,null,null,{"$f":"VLOOKUP(O39,lists!$A$2:$B$1335,2,FALSE)","v":{"$error":"#N/A"}},null,"",{"$f":"VLOOKUP(R39,lists!$A$2:$B$575,2,FALSE)","v":{"$error":"#N/A"}}]
[null,null,{"$f":"VLOOKUP(B40,lists!$F$2:$G$17,2,FALSE)","v":{"$error":"#N/A"}},null,null,null,null,null,"",{"$f":"VLOOKUP(I40,lists!$A$2:$B$1335,2,FALSE)","v":{"$error":"#N/A"}},null,{"$f":"VLOOKUP(K40,lists!$F$2:$G$17,2,FALSE)","v":{"$error":"#N/A"}},null,null,null,{"$f":"VLOOKUP(O40,lists!$A$2:$B$1335,2,FALSE)","v":{"$error":"#N/A"}},null,"",{"$f":"VLOOKUP(R40,lists!$A$2:$B$575,2,FALSE)","v":{"$error":"#N/A"}}]
[null,null,{"$f":"VLOOKUP(B41,lists!$F$2:$G$17,2,FALSE)","v":{"$error":"#N/A"}},null,null,null,null,null,"",{"$f":"VLOOKUP(I41,lists!$A$2:$B$1335,2,FALSE)","v":{"$error":"#N/A"}},null,{"$f":"VLOOKUP(K41,lists!$F$2:$G$17,2,FALSE)","v":{"$error":"#N/A"}},null,null,null,{"$f":"VLOOKUP(O41,lists!$A$2:$B$1335,2,FALSE)","v":{"$error":"#N/A"}},null,"",{"$f":"VLOOKUP(R41,lists!$A$2:$B$575,2,FALSE)","v":{"$error":"#N/A"}}]
[null,null,{"$f":"VLOOKUP(B42,lists!$F$2:$G$17,2,FALSE)","v":{"$error":"#N/A"}},null,null,null,null,null,"",{"$f":"VLOOKUP(I42,lists!$A$2:$B$1335,2,FALSE)","v":{"$error":"#N/A"}},null,{"$f":"VLOOKUP(K42,lists!$F$2:$G$17,2,FALSE)","v":{"$error":"#N/A"}},null,null,null,{"$f":"VLOOKUP(O42,lists!$A$2:$B$1335,2,FALSE)","v":{"$error":"#N/A"}},null,"",{"$f":"VLOOKUP(R42,lists!$A$2:$B$575,2,FALSE)","v":{"$error":"#N/A"}}]
[null,null,{"$f":"VLOOKUP(B43,lists!$F$2:$G$17,2,FALSE)","v":{"$error":"#N/A"}},null,null,null,null,null,"",{"$f":"VLOOKUP(I43,lists!$A$2:$B$1335,2,FALSE)","v":{"$error":"#N/A"}},null,{"$f":"VLOOKUP(K43,lists!$F$2:$G$17,2,FALSE)","v":{"$error":"#N/A"}},null,null,null,{"$f":"VLOOKUP(O43,lists!$A$2:$B$1335,2,FALSE)","v":{"$error":"#N/A"}},null,"",{"$f":"VLOOKUP(R43,lists!$A$2:$B$575,2,FALSE)","v":{"$error":"#N/A"}}]
[null,null,{"$f":"VLOOKUP(B44,lists!$F$2:$G$17,2,FALSE)","v":{"$error":"#N/A"}},null,null,null,null,null,"",{"$f":"VLOOKUP(I44,lists!$A$2:$B$1335,2,FALSE)","v":{"$error":"#N/A"}},null,{"$f":"VLOOKUP(K44,lists!$F$2:$G$17,2,FALSE)","v":{"$error":"#N/A"}},null,null,null,{"$f":"VLOOKUP(O44,lists!$A$2:$B$1335,2,FALSE)","v":{"$error":"#N/A"}},null,"",{"$f":"VLOOKUP(R44,lists!$A$2:$B$575,2,FALSE)","v":{"$error":"#N/A"}}]
[null,null,{"$f":"VLOOKUP(B45,lists!$F$2:$G$17,2,FALSE)","v":{"$error":"#N/A"}},null,null,null,null,null,"",{"$f":"VLOOKUP(I45,lists!$A$2:$B$1335,2,FALSE)","v":{"$error":"#N/A"}},null,{"$f":"VLOOKUP(K45,lists!$F$2:$G$17,2,FALSE)","v":{"$error":"#N/A"}},null,null,null,{"$f":"VLOOKUP(O45,lists!$A$2:$B$1335,2,FALSE)","v":{"$error":"#N/A"}},null,"",{"$f":"VLOOKUP(R45,lists!$A$2:$B$575,2,FALSE)","v":{"$error":"#N/A"}}]
[null,null,{"$f":"VLOOKUP(B46,lists!$F$2:$G$17,2,FALSE)","v":{"$error":"#N/A"}},null,null,null,null,null,"",{"$f":"VLOOKUP(I46,lists!$A$2:$B$1335,2,FALSE)","v":{"$error":"#N/A"}},null,{"$f":"VLOOKUP(K46,lists!$F$2:$G$17,2,FALSE)","v":{"$error":"#N/A"}},null,null,null,{"$f":"VLOOKUP(O46,lists!$A$2:$B$1335,2,FALSE)","v":{"$error":"#N/A"}},null,"",{"$f":"VLOOKUP(R46,lists!$A$2:$B$575,2,FALSE)","v":{"$error":"#N/A"}}]
[null,null,{"$f":"VLOOKUP(B47,lists!$F$2:$G$17,2,FALSE)","v":{"$error":"#N/A"}},null,null,null,null,null,"",{"$f":"VLOOKUP(I47,lists!$A$2:$B$1335,2,FALSE)","v":{"$error":"#N/A"}},null,{"$f":"VLOOKUP(K47,lists!$F$2:$G$17,2,FALSE)","v":{"$error":"#N/A"}},null,null,null,{"$f":"VLOOKUP(O47,lists!$A$2:$B$1335,2,FALSE)","v":{"$error":"#N/A"}},null,"",{"$f":"VLOOKUP(R47,lists!$A$2:$B$575,2,FALSE)","v":{"$error":"#N/A"}}]
[null,null,{"$f":"VLOOKUP(B48,lists!$F$2:$G$17,2,FALSE)","v":{"$error":"#N/A"}},null,null,null,null,null,"",{"$f":"VLOOKUP(I48,lists!$A$2:$B$1335,2,FALSE)","v":{"$error":"#N/A"}},null,{"$f":"VLOOKUP(K48,lists!$F$2:$G$17,2,FALSE)","v":{"$error":"#N/A"}},null,null,null,{"$f":"VLOOKUP(O48,lists!$A$2:$B$1335,2,FALSE)","v":{"$error":"#N/A"}},null,"",{"$f":"VLOOKUP(R48,lists!$A$2:$B$575,2,FALSE)","v":{"$error":"#N/A"}}]
[null,null,{"$f":"VLOOKUP(B49,lists!$F$2:$G$17,2,FALSE)","v":{"$error":"#N/A"}},null,null,null,null,null,"",{"$f":"VLOOKUP(I49,lists!$A$2:$B$1335,2,FALSE)","v":{"$error":"#N/A"}},null,{"$f":"VLOOKUP(K49,lists!$F$2:$G$17,2,FALSE)","v":{"$error":"#N/A"}},null,null,null,{"$f":"VLOOKUP(O49,lists!$A$2:$B$1335,2,FALSE)","v":{"$error":"#N/A"}},null,"",{"$f":"VLOOKUP(R49,lists!$A$2:$B$575,2,FALSE)","v":{"$error":"#N/A"}}]
[null,null,{"$f":"VLOOKUP(B50,lists!$F$2:$G$17,2,FALSE)","v":{"$error":"#N/A"}},null,null,null,null,null,"",{"$f":"VLOOKUP(I50,lists!$A$2:$B$1335,2,FALSE)","v":{"$error":"#N/A"}},null,{"$f":"VLOOKUP(K50,lists!$F$2:$G$17,2,FALSE)","v":{"$error":"#N/A"}},null,null,null,{"$f":"VLOOKUP(O50,lists!$A$2:$B$1335,2,FALSE)","v":{"$error":"#N/A"}},null,"",{"$f":"VLOOKUP(R50,lists!$A$2:$B$575,2,FALSE)","v":{"$error":"#N/A"}}]
[null,null,{"$f":"VLOOKUP(B51,lists!$F$2:$G$17,2,FALSE)","v":{"$error":"#N/A"}},null,null,null,null,null,"",{"$f":"VLOOKUP(I51,lists!$A$2:$B$1335,2,FALSE)","v":{"$error":"#N/A"}},null,{"$f":"VLOOKUP(K51,lists!$F$2:$G$17,2,FALSE)","v":{"$error":"#N/A"}},null,null,null,{"$f":"VLOOKUP(O51,lists!$A$2:$B$1335,2,FALSE)","v":{"$error":"#N/A"}},null,"",{"$f":"VLOOKUP(R51,lists!$A$2:$B$575,2,FALSE)","v":{"$error":"#N/A"}}]
[null,null,{"$f":"VLOOKUP(B52,lists!$F$2:$G$17,2,FALSE)","v":{"$error":"#N/A"}},null,null,null,null,null,"",{"$f":"VLOOKUP(I52,lists!$A$2:$B$1335,2,FALSE)","v":{"$error":"#N/A"}},null,{"$f":"VLOOKUP(K52,lists!$F$2:$G$17,2,FALSE)","v":{"$error":"#N/A"}},null,null,null,{"$f":"VLOOKUP(O52,lists!$A$2:$B$1335,2,FALSE)","v":{"$error":"#N/A"}},null,"",{"$f":"VLOOKUP(R52,lists!$A$2:$B$575,2,FALSE)","v":{"$error":"#N/A"}}]
[null,null,{"$f":"VLOOKUP(B53,lists!$F$2:$G$17,2,FALSE)","v":{"$error":"#N/A"}},null,null,null,null,null,"",{"$f":"VLOOKUP(I53,lists!$A$2:$B$1335,2,FALSE)","v":{"$error":"#N/A"}},null,{"$f":"VLOOKUP(K53,lists!$F$2:$G$17,2,FALSE)","v":{"$error":"#N/A"}},null,null,null,{"$f":"VLOOKUP(O53,lists!$A$2:$B$1335,2,FALSE)","v":{"$error":"#N/A"}},null,"",{"$f":"VLOOKUP(R53,lists!$A$2:$B$575,2,FALSE)","v":{"$error":"#N/A"}}]
[null,null,{"$f":"VLOOKUP(B54,lists!$F$2:$G$17,2,FALSE)","v":{"$error":"#N/A"}},null,null,null,null,null,"",{"$f":"VLOOKUP(I54,lists!$A$2:$B$1335,2,FALSE)","v":{"$error":"#N/A"}},null,{"$f":"VLOOKUP(K54,lists!$F$2:$G$17,2,FALSE)","v":{"$error":"#N/A"}},null,null,null,{"$f":"VLOOKUP(O54,lists!$A$2:$B$1335,2,FALSE)","v":{"$error":"#N/A"}},null,"",{"$f":"VLOOKUP(R54,lists!$A$2:$B$575,2,FALSE)","v":{"$error":"#N/A"}}]
[null,null,{"$f":"VLOOKUP(B55,lists!$F$2:$G$17,2,FALSE)","v":{"$error":"#N/A"}},null,null,null,null,null,"",{"$f":"VLOOKUP(I55,lists!$A$2:$B$1335,2,FALSE)","v":{"$error":"#N/A"}},null,{"$f":"VLOOKUP(K55,lists!$F$2:$G$17,2,FALSE)","v":{"$error":"#N/A"}},null,null,null,{"$f":"VLOOKUP(O55,lists!$A$2:$B$1335,2,FALSE)","v":{"$error":"#N/A"}},null,"",{"$f":"VLOOKUP(R55,lists!$A$2:$B$575,2,FALSE)","v":{"$error":"#N/A"}}]
[null,null,{"$f":"VLOOKUP(B56,lists!$F$2:$G$17,2,FALSE)","v":{"$error":"#N/A"}},null,null,null,null,null,"",{"$f":"VLOOKUP(I56,lists!$A$2:$B$1335,2,FALSE)","v":{"$error":"#N/A"}},null,{"$f":"VLOOKUP(K56,lists!$F$2:$G$17,2,FALSE)","v":{"$error":"#N/A"}},null,null,null,{"$f":"VLOOKUP(O56,lists!$A$2:$B$1335,2,FALSE)","v":{"$error":"#N/A"}},null,"",{"$f":"VLOOKUP(R56,lists!$A$2:$B$575,2,FALSE)","v":{"$error":"#N/A"}}]
[null,null,{"$f":"VLOOKUP(B57,lists!$F$2:$G$17,2,FALSE)","v":{"$error":"#N/A"}},null,null,null,null,null,"",{"$f":"VLOOKUP(I57,lists!$A$2:$B$1335,2,FALSE)","v":{"$error":"#N/A"}},null,{"$f":"VLOOKUP(K57,lists!$F$2:$G$17,2,FALSE)","v":{"$error":"#N/A"}},null,null,null,{"$f":"VLOOKUP(O57,lists!$A$2:$B$1335,2,FALSE)","v":{"$error":"#N/A"}},null,"",{"$f":"VLOOKUP(R57,lists!$A$2:$B$575,2,FALSE)","v":{"$error":"#N/A"}}]
[null,null,{"$f":"VLOOKUP(B58,lists!$F$2:$G$17,2,FALSE)","v":{"$error":"#N/A"}},null,null,null,null,null,"",{"$f":"VLOOKUP(I58,lists!$A$2:$B$1335,2,FALSE)","v":{"$error":"#N/A"}},null,{"$f":"VLOOKUP(K58,lists!$F$2:$G$17,2,FALSE)","v":{"$error":"#N/A"}},null,null,null,{"$f":"VLOOKUP(O58,lists!$A$2:$B$1335,2,FALSE)","v":{"$error":"#N/A"}},null,"",{"$f":"VLOOKUP(R58,lists!$A$2:$B$575,2,FALSE)","v":{"$error":"#N/A"}}]
[null,null,{"$f":"VLOOKUP(B59,lists!$F$2:$G$17,2,FALSE)","v":{"$error":"#N/A"}},null,null,null,null,null,"",{"$f":"VLOOKUP(I59,lists!$A$2:$B$1335,2,FALSE)","v":{"$error":"#N/A"}},null,{"$f":"VLOOKUP(K59,lists!$F$2:$G$17,2,FALSE)","v":{"$error":"#N/A"}},null,null,null,{"$f":"VLOOKUP(O59,lists!$A$2:$B$1335,2,FALSE)","v":{"$error":"#N/A"}},null,"",{"$f":"VLOOKUP(R59,lists!$A$2:$B$575,2,FALSE)","v":{"$error":"#N/A"}}]
[null,null,{"$f":"VLOOKUP(B60,lists!$F$2:$G$17,2,FALSE)","v":{"$error":"#N/A"}},null,null,null,null,null,"",{"$f":"VLOOKUP(I60,lists!$A$2:$B$1335,2,FALSE)","v":{"$error":"#N/A"}},null,{"$f":"VLOOKUP(K60,lists!$F$2:$G$17,2,FALSE)","v":{"$error":"#N/A"}},null,null,null,{"$f":"VLOOKUP(O60,lists!$A$2:$B$1335,2,FALSE)","v":{"$error":"#N/A"}},null,"",{"$f":"VLOOKUP(R60,lists!$A$2:$B$575,2,FALSE)","v":{"$error":"#N/A"}}]
[null,null,{"$f":"VLOOKUP(B61,lists!$F$2:$G$17,2,FALSE)","v":{"$error":"#N/A"}},null,null,null,null,null,"",{"$f":"VLOOKUP(I61,lists!$A$2:$B$1335,2,FALSE)","v":{"$error":"#N/A"}},null,{"$f":"VLOOKUP(K61,lists!$F$2:$G$17,2,FALSE)","v":{"$error":"#N/A"}},null,null,null,{"$f":"VLOOKUP(O61,lists!$A$2:$B$1335,2,FALSE)","v":{"$error":"#N/A"}},null,"",{"$f":"VLOOKUP(R61,lists!$A$2:$B$575,2,FALSE)","v":{"$error":"#N/A"}}]
[null,null,{"$f":"VLOOKUP(B62,lists!$F$2:$G$17,2,FALSE)","v":{"$error":"#N/A"}},null,null,null,null,null,"",{"$f":"VLOOKUP(I62,lists!$A$2:$B$1335,2,FALSE)","v":{"$error":"#N/A"}},null,{"$f":"VLOOKUP(K62,lists!$F$2:$G$17,2,FALSE)","v":{"$error":"#N/A"}},null,null,null,{"$f":"VLOOKUP(O62,lists!$A$2:$B$1335,2,FALSE)","v":{"$error":"#N/A"}},null,"",{"$f":"VLOOKUP(R62,lists!$A$2:$B$575,2,FALSE)","v":{"$error":"#N/A"}}]
[null,null,{"$f":"VLOOKUP(B63,lists!$F$2:$G$17,2,FALSE)","v":{"$error":"#N/A"}},null,null,null,null,null,"",{"$f":"VLOOKUP(I63,lists!$A$2:$B$1335,2,FALSE)","v":{"$error":"#N/A"}},null,{"$f":"VLOOKUP(K63,lists!$F$2:$G$17,2,FALSE)","v":{"$error":"#N/A"}},null,null,null,{"$f":"VLOOKUP(O63,lists!$A$2:$B$1335,2,FALSE)","v":{"$error":"#N/A"}},null,"",{"$f":"VLOOKUP(R63,lists!$A$2:$B$575,2,FALSE)","v":{"$error":"#N/A"}}]
[null,null,{"$f":"VLOOKUP(B64,lists!$F$2:$G$17,2,FALSE)","v":{"$error":"#N/A"}},null,null,null,null,null,"",{"$f":"VLOOKUP(I64,lists!$A$2:$B$1335,2,FALSE)","v":{"$error":"#N/A"}},null,{"$f":"VLOOKUP(K64,lists!$F$2:$G$17,2,FALSE)","v":{"$error":"#N/A"}},null,null,null,{"$f":"VLOOKUP(O64,lists!$A$2:$B$1335,2,FALSE)","v":{"$error":"#N/A"}},null,"",{"$f":"VLOOKUP(R64,lists!$A$2:$B$575,2,FALSE)","v":{"$error":"#N/A"}}]
[null,null,{"$f":"VLOOKUP(B65,lists!$F$2:$G$17,2,FALSE)","v":{"$error":"#N/A"}},null,null,null,null,null,"",{"$f":"VLOOKUP(I65,lists!$A$2:$B$1335,2,FALSE)","v":{"$error":"#N/A"}},null,{"$f":"VLOOKUP(K65,lists!$F$2:$G$17,2,FALSE)","v":{"$error":"#N/A"}},null,null,null,{"$f":"VLOOKUP(O65,lists!$A$2:$B$1335,2,FALSE)","v":{"$error":"#N/A"}},null,"",{"$f":"VLOOKUP(R65,lists!$A$2:$B$575,2,FALSE)","v":{"$error":"#N/A"}}]
[null,null,{"$f":"VLOOKUP(B66,lists!$F$2:$G$17,2,FALSE)","v":{"$error":"#N/A"}},null,null,null,null,null,"",{"$f":"VLOOKUP(I66,lists!$A$2:$B$1335,2,FALSE)","v":{"$error":"#N/A"}},null,{"$f":"VLOOKUP(K66,lists!$F$2:$G$17,2,FALSE)","v":{"$error":"#N/A"}},null,null,null,{"$f":"VLOOKUP(O66,lists!$A$2:$B$1335,2,FALSE)","v":{"$error":"#N/A"}},null,"",{"$f":"VLOOKUP(R66,lists!$A$2:$B$575,2,FALSE)","v":{"$error":"#N/A"}}]
[null,null,{"$f":"VLOOKUP(B67,lists!$F$2:$G$17,2,FALSE)","v":{"$error":"#N/A"}},null,null,null,null,null,"",{"$f":"VLOOKUP(I67,lists!$A$2:$B$1335,2,FALSE)","v":{"$error":"#N/A"}},null,{"$f":"VLOOKUP(K67,lists!$F$2:$G$17,2,FALSE)","v":{"$error":"#N/A"}},null,null,null,{"$f":"VLOOKUP(O67,lists!$A$2:$B$1335,2,FALSE)","v":{"$error":"#N/A"}},null,"",{"$f":"VLOOKUP(R67,lists!$A$2:$B$575,2,FALSE)","v":{"$error":"#N/A"}}]
[null,null,{"$f":"VLOOKUP(B68,lists!$F$2:$G$17,2,FALSE)","v":{"$error":"#N/A"}},null,null,null,null,null,"",{"$f":"VLOOKUP(I68,lists!$A$2:$B$1335,2,FALSE)","v":{"$error":"#N/A"}},null,{"$f":"VLOOKUP(K68,lists!$F$2:$G$17,2,FALSE)","v":{"$error":"#N/A"}},null,null,null,{"$f":"VLOOKUP(O68,lists!$A$2:$B$1335,2,FALSE)","v":{"$error":"#N/A"}},null,"",{"$f":"VLOOKUP(R68,lists!$A$2:$B$575,2,FALSE)","v":{"$error":"#N/A"}}]
[null,null,{"$f":"VLOOKUP(B69,lists!$F$2:$G$17,2,FALSE)","v":{"$error":"#N/A"}},null,null,null,null,null,"",{"$f":"VLOOKUP(I69,lists!$A$2:$B$1335,2,FALSE)","v":{"$error":"#N/A"}},null,{"$f":"VLOOKUP(K69,lists!$F$2:$G$17,2,FALSE)","v":{"$error":"#N/A"}},null,null,null,{"$f":"VLOOKUP(O69,lists!$A$2:$B$1335,2,FALSE)","v":{"$error":"#N/A"}},null,"",{"$f":"VLOOKUP(R69,lists!$A$2:$B$575,2,FALSE)","v":{"$error":"#N/A"}}]
[null,null,{"$f":"VLOOKUP(B70,lists!$F$2:$G$17,2,FALSE)","v":{"$error":"#N/A"}},null,null,null,null,null,"",{"$f":"VLOOKUP(I70,lists!$A$2:$B$1335,2,FALSE)","v":{"$error":"#N/A"}},null,{"$f":"VLOOKUP(K70,lists!$F$2:$G$17,2,FALSE)","v":{"$error":"#N/A"}},null,null,null,{"$f":"VLOOKUP(O70,lists!$A$2:$B$1335,2,FALSE)","v":{"$error":"#N/A"}},null,"",{"$f":"VLOOKUP(R70,lists!$A$2:$B$575,2,FALSE)","v":{"$error":"#N/A"}}]
[null,null,{"$f":"VLOOKUP(B71,lists!$F$2:$G$17,2,FALSE)","v":{"$error":"#N/A"}},null,null,null,null,null,"",{"$f":"VLOOKUP(I71,lists!$A$2:$B$1335,2,FALSE)","v":{"$error":"#N/A"}},null,{"$f":"VLOOKUP(K71,lists!$F$2:$G$17,2,FALSE)","v":{"$error":"#N/A"}},null,null,null,{"$f":"VLOOKUP(O71,lists!$A$2:$B$1335,2,FALSE)","v":{"$error":"#N/A"}},null,"",{"$f":"VLOOKUP(R71,lists!$A$2:$B$575,2,FALSE)","v":{"$error":"#N/A"}}]
[null,null,{"$f":"VLOOKUP(B72,lists!$F$2:$G$17,2,FALSE)","v":{"$error":"#N/A"}},null,null,null,null,null,"",{"$f":"VLOOKUP(I72,lists!$A$2:$B$1335,2,FALSE)","v":{"$error":"#N/A"}},null,{"$f":"VLOOKUP(K72,lists!$F$2:$G$17,2,FALSE)","v":{"$error":"#N/A"}},null,null,null,{"$f":"VLOOKUP(O72,lists!$A$2:$B$1335,2,FALSE)","v":{"$error":"#N/A"}},null,"",{"$f":"VLOOKUP(R72,lists!$A$2:$B$575,2,FALSE)","v":{"$error":"#N/A"}}]
[null,null,{"$f":"VLOOKUP(B73,lists!$F$2:$G$17,2,FALSE)","v":{"$error":"#N/A"}},null,null,null,null,null,"",{"$f":"VLOOKUP(I73,lists!$A$2:$B$1335,2,FALSE)","v":{"$error":"#N/A"}},null,{"$f":"VLOOKUP(K73,lists!$F$2:$G$17,2,FALSE)","v":{"$error":"#N/A"}},null,null,null,{"$f":"VLOOKUP(O73,lists!$A$2:$B$1335,2,FALSE)","v":{"$error":"#N/A"}},null,"",{"$f":"VLOOKUP(R73,lists!$A$2:$B$575,2,FALSE)","v":{"$error":"#N/A"}}]
[null,null,{"$f":"VLOOKUP(B74,lists!$F$2:$G$17,2,FALSE)","v":{"$error":"#N/A"}},null,null,null,null,null,"",{"$f":"VLOOKUP(I74,lists!$A$2:$B$1335,2,FALSE)","v":{"$error":"#N/A"}},null,{"$f":"VLOOKUP(K74,lists!$F$2:$G$17,2,FALSE)","v":{"$error":"#N/A"}},null,null,null,{"$f":"VLOOKUP(O74,lists!$A$2:$B$1335,2,FALSE)","v":{"$error":"#N/A"}},null,"",{"$f":"VLOOKUP(R74,lists!$A$2:$B$575,2,FALSE)","v":{"$error":"#N/A"}}]
[null,null,{"$f":"VLOOKUP(B75,lists!$F$2:$G$17,2,FALSE)","v":{"$error":"#N/A"}},null,null,null,null,null,"",{"$f":"VLOOKUP(I75,lists!$A$2:$B$1335,2,FALSE)","v":{"$error":"#N/A"}},null,{"$f":"VLOOKUP(K75,lists!$F$2:$G$17,2,FALSE)","v":{"$error":"#N/A"}},null,null,null,{"$f":"VLOOKUP(O75,lists!$A$2:$B$1335,2,FALSE)","v":{"$error":"#N/A"}},null,"",{"$f":"VLOOKUP(R75,lists!$A$2:$B$575,2,FALSE)","v":{"$error":"#N/A"}}]
[null,null,{"$f":"VLOOKUP(B76,lists!$F$2:$G$17,2,FALSE)","v":{"$error":"#N/A"}},null,null,null,null,null,"",{"$f":"VLOOKUP(I76,lists!$A$2:$B$1335,2,FALSE)","v":{"$error":"#N/A"}},null,{"$f":"VLOOKUP(K76,lists!$F$2:$G$17,2,FALSE)","v":{"$error":"#N/A"}},null,null,null,{"$f":"VLOOKUP(O76,lists!$A$2:$B$1335,2,FALSE)","v":{"$error":"#N/A"}},null,"",{"$f":"VLOOKUP(R76,lists!$A$2:$B$575,2,FALSE)","v":{"$error":"#N/A"}}]
[null,null,{"$f":"VLOOKUP(B77,lists!$F$2:$G$17,2,FALSE)","v":{"$error":"#N/A"}},null,null,null,null,null,"",{"$f":"VLOOKUP(I77,lists!$A$2:$B$1335,2,FALSE)","v":{"$error":"#N/A"}},null,{"$f":"VLOOKUP(K77,lists!$F$2:$G$17,2,FALSE)","v":{"$error":"#N/A"}},null,null,null,{"$f":"VLOOKUP(O77,lists!$A$2:$B$1335,2,FALSE)","v":{"$error":"#N/A"}},null,"",{"$f":"VLOOKUP(R77,lists!$A$2:$B$575,2,FALSE)","v":{"$error":"#N/A"}}]
[null,null,{"$f":"VLOOKUP(B78,lists!$F$2:$G$17,2,FALSE)","v":{"$error":"#N/A"}},null,null,null,null,null,"",{"$f":"VLOOKUP(I78,lists!$A$2:$B$1335,2,FALSE)","v":{"$error":"#N/A"}},null,{"$f":"VLOOKUP(K78,lists!$F$2:$G$17,2,FALSE)","v":{"$error":"#N/A"}},null,null,null,{"$f":"VLOOKUP(O78,lists!$A$2:$B$1335,2,FALSE)","v":{"$error":"#N/A"}},null,"",{"$f":"VLOOKUP(R78,lists!$A$2:$B$575,2,FALSE)","v":{"$error":"#N/A"}}]
[null,null,{"$f":"VLOOKUP(B79,lists!$F$2:$G$17,2,FALSE)","v":{"$error":"#N/A"}},null,null,null,null,null,"",{"$f":"VLOOKUP(I79,lists!$A$2:$B$1335,2,FALSE)","v":{"$error":"#N/A"}},null,{"$f":"VLOOKUP(K79,lists!$F$2:$G$17,2,FALSE)","v":{"$error":"#N/A"}},null,null,null,{"$f":"VLOOKUP(O79,lists!$A$2:$B$1335,2,FALSE)","v":{"$error":"#N/A"}},null,"",{"$f":"VLOOKUP(R79,lists!$A$2:$B$575,2,FALSE)","v":{"$error":"#N/A"}}]
[null,null,{"$f":"VLOOKUP(B80,lists!$F$2:$G$17,2,FALSE)","v":{"$error":"#N/A"}},null,null,null,null,null,"",{"$f":"VLOOKUP(I80,lists!$A$2:$B$1335,2,FALSE)","v":{"$error":"#N/A"}},null,{"$f":"VLOOKUP(K80,lists!$F$2:$G$17,2,FALSE)","v":{"$error":"#N/A"}},null,null,null,{"$f":"VLOOKUP(O80,lists!$A$2:$B$1335,2,FALSE)","v":{"$error":"#N/A"}},null,"",{"$f":"VLOOKUP(R80,lists!$A$2:$B$575,2,FALSE)","v":{"$error":"#N/A"}}]
[null,null,{"$f":"VLOOKUP(B81,lists!$F$2:$G$17,2,FALSE)","v":{"$error":"#N/A"}},null,null,null,null,null,"",{"$f":"VLOOKUP(I81,lists!$A$2:$B$1335,2,FALSE)","v":{"$error":"#N/A"}},null,{"$f":"VLOOKUP(K81,lists!$F$2:$G$17,2,FALSE)","v":{"$error":"#N/A"}},null,null,null,{"$f":"VLOOKUP(O81,lists!$A$2:$B$1335,2,FALSE)","v":{"$error":"#N/A"}},null,"",{"$f":"VLOOKUP(R81,lists!$A$2:$B$575,2,FALSE)","v":{"$error":"#N/A"}}]
[null,null,{"$f":"VLOOKUP(B82,lists!$F$2:$G$17,2,FALSE)","v":{"$error":"#N/A"}},null,null,null,null,null,"",{"$f":"VLOOKUP(I82,lists!$A$2:$B$1335,2,FALSE)","v":{"$error":"#N/A"}},null,{"$f":"VLOOKUP(K82,lists!$F$2:$G$17,2,FALSE)","v":{"$error":"#N/A"}},null,null,null,{"$f":"VLOOKUP(O82,lists!$A$2:$B$1335,2,FALSE)","v":{"$error":"#N/A"}},null,"",{"$f":"VLOOKUP(R82,lists!$A$2:$B$575,2,FALSE)","v":{"$error":"#N/A"}}]
[null,null,{"$f":"VLOOKUP(B83,lists!$F$2:$G$17,2,FALSE)","v":{"$error":"#N/A"}},null,null,null,null,null,"",{"$f":"VLOOKUP(I83,lists!$A$2:$B$1335,2,FALSE)","v":{"$error":"#N/A"}},null,{"$f":"VLOOKUP(K83,lists!$F$2:$G$17,2,FALSE)","v":{"$error":"#N/A"}},null,null,null,{"$f":"VLOOKUP(O83,lists!$A$2:$B$1335,2,FALSE)","v":{"$error":"#N/A"}},null,"",{"$f":"VLOOKUP(R83,lists!$A$2:$B$575,2,FALSE)","v":{"$error":"#N/A"}}]
[null,null,{"$f":"VLOOKUP(B84,lists!$F$2:$G$17,2,FALSE)","v":{"$error":"#N/A"}},null,null,null,null,null,"",{"$f":"VLOOKUP(I84,lists!$A$2:$B$1335,2,FALSE)","v":{"$error":"#N/A"}},null,{"$f":"VLOOKUP(K84,lists!$F$2:$G$17,2,FALSE)","v":{"$error":"#N/A"}},null,null,null,{"$f":"VLOOKUP(O84,lists!$A$2:$B$1335,2,FALSE)","v":{"$error":"#N/A"}},null,"",{"$f":"VLOOKUP(R84,lists!$A$2:$B$575,2,FALSE)","v":{"$error":"#N/A"}}]
[null,null,{"$f":"VLOOKUP(B85,lists!$F$2:$G$17,2,FALSE)","v":{"$error":"#N/A"}},null,null,null,null,null,"",{"$f":"VLOOKUP(I85,lists!$A$2:$B$1335,2,FALSE)","v":{"$error":"#N/A"}},null,{"$f":"VLOOKUP(K85,lists!$F$2:$G$17,2,FALSE)","v":{"$error":"#N/A"}},null,null,null,{"$f":"VLOOKUP(O85,lists!$A$2:$B$1335,2,FALSE)","v":{"$error":"#N/A"}},null,"",{"$f":"VLOOKUP(R85,lists!$A$2:$B$575,2,FALSE)","v":{"$error":"#N/A"}}]
[null,null,{"$f":"VLOOKUP(B86,lists!$F$2:$G$17,2,FALSE)","v":{"$error":"#N/A"}},null,null,null,null,null,"",{"$f":"VLOOKUP(I86,lists!$A$2:$B$1335,2,FALSE)","v":{"$error":"#N/A"}},null,{"$f":"VLOOKUP(K86,lists!$F$2:$G$17,2,FALSE)","v":{"$error":"#N/A"}},null,null,null,{"$f":"VLOOKUP(O86,lists!$A$2:$B$1335,2,FALSE)","v":{"$error":"#N/A"}},null,"",{"$f":"VLOOKUP(R86,lists!$A$2:$B$575,2,FALSE)","v":{"$error":"#N/A"}}]
[null,null,{"$f":"VLOOKUP(B87,lists!$F$2:$G$17,2,FALSE)","v":{"$error":"#N/A"}},null,null,null,null,null,"",{"$f":"VLOOKUP(I87,lists!$A$2:$B$1335,2,FALSE)","v":{"$error":"#N/A"}},null,{"$f":"VLOOKUP(K87,lists!$F$2:$G$17,2,FALSE)","v":{"$error":"#N/A"}},null,null,null,{"$f":"VLOOKUP(O87,lists!$A$2:$B$1335,2,FALSE)","v":{"$error":"#N/A"}},null,"",{"$f":"VLOOKUP(R87,lists!$A$2:$B$575,2,FALSE)","v":{"$error":"#N/A"}}]
[null,null,{"$f":"VLOOKUP(B88,lists!$F$2:$G$17,2,FALSE)","v":{"$error":"#N/A"}},null,null,null,null,null,"",{"$f":"VLOOKUP(I88,lists!$A$2:$B$1335,2,FALSE)","v":{"$error":"#N/A"}},null,{"$f":"VLOOKUP(K88,lists!$F$2:$G$17,2,FALSE)","v":{"$error":"#N/A"}},null,null,null,{"$f":"VLOOKUP(O88,lists!$A$2:$B$1335,2,FALSE)","v":{"$error":"#N/A"}},null,"",{"$f":"VLOOKUP(R88,lists!$A$2:$B$575,2,FALSE)","v":{"$error":"#N/A"}}]
[null,null,{"$f":"VLOOKUP(B89,lists!$F$2:$G$17,2,FALSE)","v":{"$error":"#N/A"}},null,null,null,null,null,"",{"$f":"VLOOKUP(I89,lists!$A$2:$B$1335,2,FALSE)","v":{"$error":"#N/A"}},null,{"$f":"VLOOKUP(K89,lists!$F$2:$G$17,2,FALSE)","v":{"$error":"#N/A"}},null,null,null,{"$f":"VLOOKUP(O89,lists!$A$2:$B$1335,2,FALSE)","v":{"$error":"#N/A"}},null,"",{"$f":"VLOOKUP(R89,lists!$A$2:$B$575,2,FALSE)","v":{"$error":"#N/A"}}]
[null,null,{"$f":"VLOOKUP(B90,lists!$F$2:$G$17,2,FALSE)","v":{"$error":"#N/A"}},null,null,null,null,null,"",{"$f":"VLOOKUP(I90,lists!$A$2:$B$1335,2,FALSE)","v":{"$error":"#N/A"}},null,{"$f":"VLOOKUP(K90,lists!$F$2:$G$17,2,FALSE)","v":{"$error":"#N/A"}},null,null,null,{"$f":"VLOOKUP(O90,lists!$A$2:$B$1335,2,FALSE)","v":{"$error":"#N/A"}},null,"",{"$f":"VLOOKUP(R90,lists!$A$2:$B$575,2,FALSE)","v":{"$error":"#N/A"}}]
[null,null,{"$f":"VLOOKUP(B91,lists!$F$2:$G$17,2,FALSE)","v":{"$error":"#N/A"}},null,null,null,null,null,"",{"$f":"VLOOKUP(I91,lists!$A$2:$B$1335,2,FALSE)","v":{"$error":"#N/A"}},null,{"$f":"VLOOKUP(K91,lists!$F$2:$G$17,2,FALSE)","v":{"$error":"#N/A"}},null,null,null,{"$f":"VLOOKUP(O91,lists!$A$2:$B$1335,2,FALSE)","v":{"$error":"#N/A"}},null,"",{"$f":"VLOOKUP(R91,lists!$A$2:$B$575,2,FALSE)","v":{"$error":"#N/A"}}]
[null,null,{"$f":"VLOOKUP(B92,lists!$F$2:$G$17,2,FALSE)","v":{"$error":"#N/A"}},null,null,null,null,null,"",{"$f":"VLOOKUP(I92,lists!$A$2:$B$1335,2,FALSE)","v":{"$error":"#N/A"}},null,{"$f":"VLOOKUP(K92,lists!$F$2:$G$17,2,FALSE)","v":{"$error":"#N/A"}},null,null,null,{"$f":"VLOOKUP(O92,lists!$A$2:$B$1335,2,FALSE)","v":{"$error":"#N/A"}},null,"",{"$f":"VLOOKUP(R92,lists!$A$2:$B$575,2,FALSE)","v":{"$error":"#N/A"}}]
[null,null,{"$f":"VLOOKUP(B93,lists!$F$2:$G$17,2,FALSE)","v":{"$error":"#N/A"}},null,null,null,null,null,"",{"$f":"VLOOKUP(I93,lists!$A$2:$B$1335,2,FALSE)","v":{"$error":"#N/A"}},null,{"$f":"VLOOKUP(K93,lists!$F$2:$G$17,2,FALSE)","v":{"$error":"#N/A"}},null,null,null,{"$f":"VLOOKUP(O93,lists!$A$2:$B$1335,2,FALSE)","v":{"$error":"#N/A"}},null,"",{"$f":"VLOOKUP(R93,lists!$A$2:$B$575,2,FALSE)","v":{"$error":"#N/A"}}]
[null,null,{"$f":"VLOOKUP(B94,lists!$F$2:$G$17,2,FALSE)","v":{"$error":"#N/A"}},null,null,null,null,null,"",{"$f":"VLOOKUP(I94,lists!$A$2:$B$1335,2,FALSE)","v":{"$error":"#N/A"}},null,{"$f":"VLOOKUP(K94,lists!$F$2:$G$17,2,FALSE)","v":{"$error":"#N/A"}},null,null,null,{"$f":"VLOOKUP(O94,lists!$A$2:$B$1335,2,FALSE)","v":{"$error":"#N/A"}},null,"",{"$f":"VLOOKUP(R94,lists!$A$2:$B$575,2,FALSE)","v":{"$error":"#N/A"}}]
[null,null,{"$f":"VLOOKUP(B95,lists!$F$2:$G$17,2,FALSE)","v":{"$error":"#N/A"}},null,null,null,null,null,"",{"$f":"VLOOKUP(I95,lists!$A$2:$B$1335,2,FALSE)","v":{"$error":"#N/A"}},null,{"$f":"VLOOKUP(K95,lists!$F$2:$G$17,2,FALSE)","v":{"$error":"#N/A"}},null,null,null,{"$f":"VLOOKUP(O95,lists!$A$2:$B$1335,2,FALSE)","v":{"$error":"#N/A"}},null,"",{"$f":"VLOOKUP(R95,lists!$A$2:$B$575,2,FALSE)","v":{"$error":"#N/A"}}]
[null,null,{"$f":"VLOOKUP(B96,lists!$F$2:$G$17,2,FALSE)","v":{"$error":"#N/A"}},null,null,null,null,null,"",{"$f":"VLOOKUP(I96,lists!$A$2:$B$1335,2,FALSE)","v":{"$error":"#N/A"}},null,{"$f":"VLOOKUP(K96,lists!$F$2:$G$17,2,FALSE)","v":{"$error":"#N/A"}},null,null,null,{"$f":"VLOOKUP(O96,lists!$A$2:$B$1335,2,FALSE)","v":{"$error":"#N/A"}},null,"",{"$f":"VLOOKUP(R96,lists!$A$2:$B$575,2,FALSE)","v":{"$error":"#N/A"}}]
[null,null,{"$f":"VLOOKUP(B97,lists!$F$2:$G$17,2,FALSE)","v":{"$error":"#N/A"}},null,null,null,null,null,"",{"$f":"VLOOKUP(I97,lists!$A$2:$B$1335,2,FALSE)","v":{"$error":"#N/A"}},null,{"$f":"VLOOKUP(K97,lists!$F$2:$G$17,2,FALSE)","v":{"$error":"#N/A"}},null,null,null,{"$f":"VLOOKUP(O97,lists!$A$2:$B$1335,2,FALSE)","v":{"$error":"#N/A"}},null,"",{"$f":"VLOOKUP(R97,lists!$A$2:$B$575,2,FALSE)","v":{"$error":"#N/A"}}]
[null,null,{"$f":"VLOOKUP(B98,lists!$F$2:$G$17,2,FALSE)","v":{"$error":"#N/A"}},null,null,null,null,null,"",{"$f":"VLOOKUP(I98,lists!$A$2:$B$1335,2,FALSE)","v":{"$error":"#N/A"}},null,{"$f":"VLOOKUP(K98,lists!$F$2:$G$17,2,FALSE)","v":{"$error":"#N/A"}},null,null,null,{"$f":"VLOOKUP(O98,lists!$A$2:$B$1335,2,FALSE)","v":{"$error":"#N/A"}},null,"",{"$f":"VLOOKUP(R98,lists!$A$2:$B$575,2,FALSE)","v":{"$error":"#N/A"}}]
[null,null,{"$f":"VLOOKUP(B99,lists!$F$2:$G$17,2,FALSE)","v":{"$error":"#N/A"}},null,null,null,null,null,"",{"$f":"VLOOKUP(I99,lists!$A$2:$B$1335,2,FALSE)","v":{"$error":"#N/A"}},null,{"$f":"VLOOKUP(K99,lists!$F$2:$G$17,2,FALSE)","v":{"$error":"#N/A"}},null,null,null,{"$f":"VLOOKUP(O99,lists!$A$2:$B$1335,2,FALSE)","v":{"$error":"#N/A"}},null,"",{"$f":"VLOOKUP(R99,lists!$A$2:$B$575,2,FALSE)","v":{"$error":"#N/A"}}]
[null,null,{"$f":"VLOOKUP(B100,lists!$F$2:$G$17,2,FALSE)","v":{"$error":"#N/A"}},null,null,null,null,null,"",{"$f":"VLOOKUP(I100,lists!$A$2:$B$1335,2,FALSE)","v":{"$error":"#N/A"}},null,{"$f":"VLOOKUP(K100,lists!$F$2:$G$17,2,FALSE)","v":{"$error":"#N/A"}},null,null,null,{"$f":"VLOOKUP(O100,lists!$A$2:$B$1335,2,FALSE)","v":{"$error":"#N/A"}},null,"",{"$f":"VLOOKUP(R100,lists!$A$2:$B$575,2,FALSE)","v":{"$error":"#N/A"}}]
[null,null,{"$f":"VLOOKUP(B101,lists!$F$2:$G$17,2,FALSE)","v":{"$error":"#N/A"}},null,null,null,null,null,"",{"$f":"VLOOKUP(I101,lists!$A$2:$B$1335,2,FALSE)","v":{"$error":"#N/A"}},null,{"$f":"VLOOKUP(K101,lists!$F$2:$G$17,2,FALSE)","v":{"$error":"#N/A"}},null,null,null,{"$f":"VLOOKUP(O101,lists!$A$2:$B$1335,2,FALSE)","v":{"$error":"#N/A"}},null,"",{"$f":"VLOOKUP(R101,lists!$A$2:$B$575,2,FALSE)","v":{"$error":"#N/A"}}]
[null,null,{"$f":"VLOOKUP(B102,lists!$F$2:$G$17,2,FALSE)","v":{"$error":"#N/A"}},null,null,null,null,null,"",{"$f":"VLOOKUP(I102,lists!$A$2:$B$1335,2,FALSE)","v":{"$error":"#N/A"}},null,{"$f":"VLOOKUP(K102,lists!$F$2:$G$17,2,FALSE)","v":{"$error":"#N/A"}},null,null,null,{"$f":"VLOOKUP(O102,lists!$A$2:$B$1335,2,FALSE)","v":{"$error":"#N/A"}},null,"",{"$f":"VLOOKUP(R102,lists!$A$2:$B$575,2,FALSE)","v":{"$error":"#N/A"}}]
[null,null,{"$f":"VLOOKUP(B103,lists!$F$2:$G$17,2,FALSE)","v":{"$error":"#N/A"}},null,null,null,null,null,"",{"$f":"VLOOKUP(I103,lists!$A$2:$B$1335,2,FALSE)","v":{"$error":"#N/A"}},null,{"$f":"VLOOKUP(K103,lists!$F$2:$G$17,2,FALSE)","v":{"$error":"#N/A"}},null,null,null,{"$f":"VLOOKUP(O103,lists!$A$2:$B$1335,2,FALSE)","v":{"$error":"#N/A"}},null,"",{"$f":"VLOOKUP(R103,lists!$A$2:$B$575,2,FALSE)","v":{"$error":"#N/A"}}]
[null,null,{"$f":"VLOOKUP(B104,lists!$F$2:$G$17,2,FALSE)","v":{"$error":"#N/A"}},null,null,null,null,null,"",{"$f":"VLOOKUP(I104,lists!$A$2:$B$1335,2,FALSE)","v":{"$error":"#N/A"}},null,{"$f":"VLOOKUP(K104,lists!$F$2:$G$17,2,FALSE)","v":{"$error":"#N/A"}},null,null,null,{"$f":"VLOOKUP(O104,lists!$A$2:$B$1335,2,FALSE)","v":{"$error":"#N/A"}},null,"",{"$f":"VLOOKUP(R104,lists!$A$2:$B$575,2,FALSE)","v":{"$error":"#N/A"}}]
[null,null,{"$f":"VLOOKUP(B105,lists!$F$2:$G$17,2,FALSE)","v":{"$error":"#N/A"}},null,null,null,null,null,"",{"$f":"VLOOKUP(I105,lists!$A$2:$B$1335,2,FALSE)","v":{"$error":"#N/A"}},null,{"$f":"VLOOKUP(K105,lists!$F$2:$G$17,2,FALSE)","v":{"$error":"#N/A"}},null,null,null,{"$f":"VLOOKUP(O105,lists!$A$2:$B$1335,2,FALSE)","v":{"$error":"#N/A"}},null,"",{"$f":"VLOOKUP(R105,lists!$A$2:$B$575,2,FALSE)","v":{"$error":"#N/A"}}]
[null,null,{"$f":"VLOOKUP(B106,lists!$F$2:$G$17,2,FALSE)","v":{"$error":"#N/A"}},null,null,null,null,null,"",{"$f":"VLOOKUP(I106,lists!$A$2:$B$1335,2,FALSE)","v":{"$error":"#N/A"}},null,{"$f":"VLOOKUP(K106,lists!$F$2:$G$17,2,FALSE)","v":{"$error":"#N/A"}},null,null,null,{"$f":"VLOOKUP(O106,lists!$A$2:$B$1335,2,FALSE)","v":{"$error":"#N/A"}},null,"",{"$f":"VLOOKUP(R106,lists!$A$2:$B$575,2,FALSE)","v":{"$error":"#N/A"}}]
[null,null,{"$f":"VLOOKUP(B107,lists!$F$2:$G$17,2,FALSE)","v":{"$error":"#N/A"}},null,null,null,null,null,"",{"$f":"VLOOKUP(I107,lists!$A$2:$B$1335,2,FALSE)","v":{"$error":"#N/A"}},null,{"$f":"VLOOKUP(K107,lists!$F$2:$G$17,2,FALSE)","v":{"$error":"#N/A"}},null,null,null,{"$f":"VLOOKUP(O107,lists!$A$2:$B$1335,2,FALSE)","v":{"$error":"#N/A"}},null,"",{"$f":"VLOOKUP(R107,lists!$A$2:$B$575,2,FALSE)","v":{"$error":"#N/A"}}]
[null,null,{"$f":"VLOOKUP(B108,lists!$F$2:$G$17,2,FALSE)","v":{"$error":"#N/A"}},null,null,null,null,null,"",{"$f":"VLOOKUP(I108,lists!$A$2:$B$1335,2,FALSE)","v":{"$error":"#N/A"}},null,{"$f":"VLOOKUP(K108,lists!$F$2:$G$17,2,FALSE)","v":{"$error":"#N/A"}},null,null,null,{"$f":"VLOOKUP(O108,lists!$A$2:$B$1335,2,FALSE)","v":{"$error":"#N/A"}},null,"",{"$f":"VLOOKUP(R108,lists!$A$2:$B$575,2,FALSE)","v":{"$error":"#N/A"}}]
[null,null,{"$f":"VLOOKUP(B109,lists!$F$2:$G$17,2,FALSE)","v":{"$error":"#N/A"}},null,null,null,null,null,"",{"$f":"VLOOKUP(I109,lists!$A$2:$B$1335,2,FALSE)","v":{"$error":"#N/A"}},null,{"$f":"VLOOKUP(K109,lists!$F$2:$G$17,2,FALSE)","v":{"$error":"#N/A"}},null,null,null,{"$f":"VLOOKUP(O109,lists!$A$2:$B$1335,2,FALSE)","v":{"$error":"#N/A"}},null,"",{"$f":"VLOOKUP(R109,lists!$A$2:$B$575,2,FALSE)","v":{"$error":"#N/A"}}]
[null,null,{"$f":"VLOOKUP(B110,lists!$F$2:$G$17,2,FALSE)","v":{"$error":"#N/A"}},null,null,null,null,null,"",{"$f":"VLOOKUP(I110,lists!$A$2:$B$1335,2,FALSE)","v":{"$error":"#N/A"}},null,{"$f":"VLOOKUP(K110,lists!$F$2:$G$17,2,FALSE)","v":{"$error":"#N/A"}},null,null,null,{"$f":"VLOOKUP(O110,lists!$A$2:$B$1335,2,FALSE)","v":{"$error":"#N/A"}},null,"",{"$f":"VLOOKUP(R110,lists!$A$2:$B$575,2,FALSE)","v":{"$error":"#N/A"}}]
[null,null,{"$f":"VLOOKUP(B111,lists!$F$2:$G$17,2,FALSE)","v":{"$error":"#N/A"}},null,null,null,null,null,"",{"$f":"VLOOKUP(I111,lists!$A$2:$B$1335,2,FALSE)","v":{"$error":"#N/A"}},null,{"$f":"VLOOKUP(K111,lists!$F$2:$G$17,2,FALSE)","v":{"$error":"#N/A"}},null,null,null,{"$f":"VLOOKUP(O111,lists!$A$2:$B$1335,2,FALSE)","v":{"$error":"#N/A"}},null,"",{"$f":"VLOOKUP(R111,lists!$A$2:$B$575,2,FALSE)","v":{"$error":"#N/A"}}]
[null,null,{"$f":"VLOOKUP(B112,lists!$F$2:$G$17,2,FALSE)","v":{"$error":"#N/A"}},null,null,null,null,null,"",{"$f":"VLOOKUP(I112,lists!$A$2:$B$1335,2,FALSE)","v":{"$error":"#N/A"}},null,{"$f":"VLOOKUP(K112,lists!$F$2:$G$17,2,FALSE)","v":{"$error":"#N/A"}},null,null,null,{"$f":"VLOOKUP(O112,lists!$A$2:$B$1335,2,FALSE)","v":{"$error":"#N/A"}},null,"",{"$f":"VLOOKUP(R112,lists!$A$2:$B$575,2,FALSE)","v":{"$error":"#N/A"}}]
[null,null,{"$f":"VLOOKUP(B113,lists!$F$2:$G$17,2,FALSE)","v":{"$error":"#N/A"}},null,null,null,null,null,"",{"$f":"VLOOKUP(I113,lists!$A$2:$B$1335,2,FALSE)","v":{"$error":"#N/A"}},null,{"$f":"VLOOKUP(K113,lists!$F$2:$G$17,2,FALSE)","v":{"$error":"#N/A"}},null,null,null,{"$f":"VLOOKUP(O113,lists!$A$2:$B$1335,2,FALSE)","v":{"$error":"#N/A"}},null,"",{"$f":"VLOOKUP(R113,lists!$A$2:$B$575,2,FALSE)","v":{"$error":"#N/A"}}]
[null,null,{"$f":"VLOOKUP(B114,lists!$F$2:$G$17,2,FALSE)","v":{"$error":"#N/A"}},null,null,null,null,null,"",{"$f":"VLOOKUP(I114,lists!$A$2:$B$1335,2,FALSE)","v":{"$error":"#N/A"}},null,{"$f":"VLOOKUP(K114,lists!$F$2:$G$17,2,FALSE)","v":{"$error":"#N/A"}},null,null,null,{"$f":"VLOOKUP(O114,lists!$A$2:$B$1335,2,FALSE)","v":{"$error":"#N/A"}},null,"",{"$f":"VLOOKUP(R114,lists!$A$2:$B$575,2,FALSE)","v":{"$error":"#N/A"}}]
[null,null,{"$f":"VLOOKUP(B115,lists!$F$2:$G$17,2,FALSE)","v":{"$error":"#N/A"}},null,null,null,null,null,"",{"$f":"VLOOKUP(I115,lists!$A$2:$B$1335,2,FALSE)","v":{"$error":"#N/A"}},null,{"$f":"VLOOKUP(K115,lists!$F$2:$G$17,2,FALSE)","v":{"$error":"#N/A"}},null,null,null,{"$f":"VLOOKUP(O115,lists!$A$2:$B$1335,2,FALSE)","v":{"$error":"#N/A"}},null,"",{"$f":"VLOOKUP(R115,lists!$A$2:$B$575,2,FALSE)","v":{"$error":"#N/A"}}]
[null,null,{"$f":"VLOOKUP(B116,lists!$F$2:$G$17,2,FALSE)","v":{"$error":"#N/A"}},null,null,null,null,null,"",{"$f":"VLOOKUP(I116,lists!$A$2:$B$1335,2,FALSE)","v":{"$error":"#N/A"}},null,{"$f":"VLOOKUP(K116,lists!$F$2:$G$17,2,FALSE)","v":{"$error":"#N/A"}},null,null,null,{"$f":"VLOOKUP(O116,lists!$A$2:$B$1335,2,FALSE)","v":{"$error":"#N/A"}},null,"",{"$f":"VLOOKUP(R116,lists!$A$2:$B$575,2,FALSE)","v":{"$error":"#N/A"}}]
[null,null,{"$f":"VLOOKUP(B117,lists!$F$2:$G$17,2,FALSE)","v":{"$error":"#N/A"}},null,null,null,null,null,"",{"$f":"VLOOKUP(I117,lists!$A$2:$B$1335,2,FALSE)","v":{"$error":"#N/A"}},null,{"$f":"VLOOKUP(K117,lists!$F$2:$G$17,2,FALSE)","v":{"$error":"#N/A"}},null,null,null,{"$f":"VLOOKUP(O117,lists!$A$2:$B$1335,2,FALSE)","v":{"$error":"#N/A"}},null,"",{"$f":"VLOOKUP(R117,lists!$A$2:$B$575,2,FALSE)","v":{"$error":"#N/A"}}]
[null,null,{"$f":"VLOOKUP(B118,lists!$F$2:$G$17,2,FALSE)","v":{"$error":"#N/A"}},null,null,null,null,null,"",{"$f":"VLOOKUP(I118,lists!$A$2:$B$1335,2,FALSE)","v":{"$error":"#N/A"}},null,{"$f":"VLOOKUP(K118,lists!$F$2:$G$17,2,FALSE)","v":{"$error":"#N/A"}},null,null,null,{"$f":"VLOOKUP(O118,lists!$A$2:$B$1335,2,FALSE)","v":{"$error":"#N/A"}},null,"",{"$f":"VLOOKUP(R118,lists!$A$2:$B$575,2,FALSE)","v":{"$error":"#N/A"}}]
[null,null,{"$f":"VLOOKUP(B119,lists!$F$2:$G$17,2,FALSE)","v":{"$error":"#N/A"}},null,null,null,null,null,"",{"$f":"VLOOKUP(I119,lists!$A$2:$B$1335,2,FALSE)","v":{"$error":"#N/A"}},null,{"$f":"VLOOKUP(K119,lists!$F$2:$G$17,2,FALSE)","v":{"$error":"#N/A"}},null,null,null,{"$f":"VLOOKUP(O119,lists!$A$2:$B$1335,2,FALSE)","v":{"$error":"#N/A"}},null,"",{"$f":"VLOOKUP(R119,lists!$A$2:$B$575,2,FALSE)","v":{"$error":"#N/A"}}]
[null,null,{"$f":"VLOOKUP(B120,lists!$F$2:$G$17,2,FALSE)","v":{"$error":"#N/A"}},null,null,null,null,null,"",{"$f":"VLOOKUP(I120,lists!$A$2:$B$1335,2,FALSE)","v":{"$error":"#N/A"}},null,{"$f":"VLOOKUP(K120,lists!$F$2:$G$17,2,FALSE)","v":{"$error":"#N/A"}},null,null,null,{"$f":"VLOOKUP(O120,lists!$A$2:$B$1335,2,FALSE)","v":{"$error":"#N/A"}},null,"",{"$f":"VLOOKUP(R120,lists!$A$2:$B$575,2,FALSE)","v":{"$error":"#N/A"}}]
[null,null,{"$f":"VLOOKUP(B121,lists!$F$2:$G$17,2,FALSE)","v":{"$error":"#N/A"}},null,null,null,null,null,"",{"$f":"VLOOKUP(I121,lists!$A$2:$B$1335,2,FALSE)","v":{"$error":"#N/A"}},null,{"$f":"VLOOKUP(K121,lists!$F$2:$G$17,2,FALSE)","v":{"$error":"#N/A"}},null,null,null,{"$f":"VLOOKUP(O121,lists!$A$2:$B$1335,2,FALSE)","v":{"$error":"#N/A"}},null,"",{"$f":"VLOOKUP(R121,lists!$A$2:$B$575,2,FALSE)","v":{"$error":"#N/A"}}]
[null,null,{"$f":"VLOOKUP(B122,lists!$F$2:$G$17,2,FALSE)","v":{"$error":"#N/A"}},null,null,null,null,null,"",{"$f":"VLOOKUP(I122,lists!$A$2:$B$1335,2,FALSE)","v":{"$error":"#N/A"}},null,{"$f":"VLOOKUP(K122,lists!$F$2:$G$17,2,FALSE)","v":{"$error":"#N/A"}},null,null,null,{"$f":"VLOOKUP(O122,lists!$A$2:$B$1335,2,FALSE)","v":{"$error":"#N/A"}},null,"",{"$f":"VLOOKUP(R122,lists!$A$2:$B$575,2,FALSE)","v":{"$error":"#N/A"}}]
[null,null,{"$f":"VLOOKUP(B123,lists!$F$2:$G$17,2,FALSE)","v":{"$error":"#N/A"}},null,null,null,null,null,"",{"$f":"VLOOKUP(I123,lists!$A$2:$B$1335,2,FALSE)","v":{"$error":"#N/A"}},null,{"$f":"VLOOKUP(K123,lists!$F$2:$G$17,2,FALSE)","v":{"$error":"#N/A"}},null,null,null,{"$f":"VLOOKUP(O123,lists!$A$2:$B$1335,2,FALSE)","v":{"$error":"#N/A"}},null,"",{"$f":"VLOOKUP(R123,lists!$A$2:$B$575,2,FALSE)","v":{"$error":"#N/A"}}]
[null,null,{"$f":"VLOOKUP(B124,lists!$F$2:$G$17,2,FALSE)","v":{"$error":"#N/A"}},null,null,null,null,null,"",{"$f":"VLOOKUP(I124,lists!$A$2:$B$1335,2,FALSE)","v":{"$error":"#N/A"}},null,{"$f":"VLOOKUP(K124,lists!$F$2:$G$17,2,FALSE)","v":{"$error":"#N/A"}},null,null,null,{"$f":"VLOOKUP(O124,lists!$A$2:$B$1335,2,FALSE)","v":{"$error":"#N/A"}},null,"",{"$f":"VLOOKUP(R124,lists!$A$2:$B$575,2,FALSE)","v":{"$error":"#N/A"}}]
[null,null,{"$f":"VLOOKUP(B125,lists!$F$2:$G$17,2,FALSE)","v":{"$error":"#N/A"}},null,null,null,null,null,"",{"$f":"VLOOKUP(I125,lists!$A$2:$B$1335,2,FALSE)","v":{"$error":"#N/A"}},null,{"$f":"VLOOKUP(K125,lists!$F$2:$G$17,2,FALSE)","v":{"$error":"#N/A"}},null,null,null,{"$f":"VLOOKUP(O125,lists!$A$2:$B$1335,2,FALSE)","v":{"$error":"#N/A"}},null,"",{"$f":"VLOOKUP(R125,lists!$A$2:$B$575,2,FALSE)","v":{"$error":"#N/A"}}]
[null,null,{"$f":"VLOOKUP(B126,lists!$F$2:$G$17,2,FALSE)","v":{"$error":"#N/A"}},null,null,null,null,null,"",{"$f":"VLOOKUP(I126,lists!$A$2:$B$1335,2,FALSE)","v":{"$error":"#N/A"}},null,{"$f":"VLOOKUP(K126,lists!$F$2:$G$17,2,FALSE)","v":{"$error":"#N/A"}},null,null,null,{"$f":"VLOOKUP(O126,lists!$A$2:$B$1335,2,FALSE)","v":{"$error":"#N/A"}},null,"",{"$f":"VLOOKUP(R126,lists!$A$2:$B$575,2,FALSE)","v":{"$error":"#N/A"}}]
[null,null,{"$f":"VLOOKUP(B127,lists!$F$2:$G$17,2,FALSE)","v":{"$error":"#N/A"}},null,null,null,null,null,"",{"$f":"VLOOKUP(I127,lists!$A$2:$B$1335,2,FALSE)","v":{"$error":"#N/A"}},null,{"$f":"VLOOKUP(K127,lists!$F$2:$G$17,2,FALSE)","v":{"$error":"#N/A"}},null,null,null,{"$f":"VLOOKUP(O127,lists!$A$2:$B$1335,2,FALSE)","v":{"$error":"#N/A"}},null,"",{"$f":"VLOOKUP(R127,lists!$A$2:$B$575,2,FALSE)","v":{"$error":"#N/A"}}]
[null,null,{"$f":"VLOOKUP(B128,lists!$F$2:$G$17,2,FALSE)","v":{"$error":"#N/A"}},null,null,null,null,null,"",{"$f":"VLOOKUP(I128,lists!$A$2:$B$1335,2,FALSE)","v":{"$error":"#N/A"}},null,{"$f":"VLOOKUP(K128,lists!$F$2:$G$17,2,FALSE)","v":{"$error":"#N/A"}},null,null,null,{"$f":"VLOOKUP(O128,lists!$A$2:$B$1335,2,FALSE)","v":{"$error":"#N/A"}},null,"",{"$f":"VLOOKUP(R128,lists!$A$2:$B$575,2,FALSE)","v":{"$error":"#N/A"}}]
[null,null,{"$f":"VLOOKUP(B129,lists!$F$2:$G$17,2,FALSE)","v":{"$error":"#N/A"}},null,null,null,null,null,"",{"$f":"VLOOKUP(I129,lists!$A$2:$B$1335,2,FALSE)","v":{"$error":"#N/A"}},null,{"$f":"VLOOKUP(K129,lists!$F$2:$G$17,2,FALSE)","v":{"$error":"#N/A"}},null,null,null,{"$f":"VLOOKUP(O129,lists!$A$2:$B$1335,2,FALSE)","v":{"$error":"#N/A"}},null,"",{"$f":"VLOOKUP(R129,lists!$A$2:$B$575,2,FALSE)","v":{"$error":"#N/A"}}]
[null,null,{"$f":"VLOOKUP(B130,lists!$F$2:$G$17,2,FALSE)","v":{"$error":"#N/A"}},null,null,null,null,null,"",{"$f":"VLOOKUP(I130,lists!$A$2:$B$1335,2,FALSE)","v":{"$error":"#N/A"}},null,{"$f":"VLOOKUP(K130,lists!$F$2:$G$17,2,FALSE)","v":{"$error":"#N/A"}},null,null,null,{"$f":"VLOOKUP(O130,lists!$A$2:$B$1335,2,FALSE)","v":{"$error":"#N/A"}},null,"",{"$f":"VLOOKUP(R130,lists!$A$2:$B$575,2,FALSE)","v":{"$error":"#N/A"}}]
[null,null,{"$f":"VLOOKUP(B131,lists!$F$2:$G$17,2,FALSE)","v":{"$error":"#N/A"}},null,null,null,null,null,"",{"$f":"VLOOKUP(I131,lists!$A$2:$B$1335,2,FALSE)","v":{"$error":"#N/A"}},null,{"$f":"VLOOKUP(K131,lists!$F$2:$G$17,2,FALSE)","v":{"$error":"#N/A"}},null,null,null,{"$f":"VLOOKUP(O131,lists!$A$2:$B$1335,2,FALSE)","v":{"$error":"#N/A"}},null,"",{"$f":"VLOOKUP(R131,lists!$A$2:$B$575,2,FALSE)","v":{"$error":"#N/A"}}]
[null,null,{"$f":"VLOOKUP(B132,lists!$F$2:$G$17,2,FALSE)","v":{"$error":"#N/A"}},null,null,null,null,null,"",{"$f":"VLOOKUP(I132,lists!$A$2:$B$1335,2,FALSE)","v":{"$error":"#N/A"}},null,{"$f":"VLOOKUP(K132,lists!$F$2:$G$17,2,FALSE)","v":{"$error":"#N/A"}},null,null,null,{"$f":"VLOOKUP(O132,lists!$A$2:$B$1335,2,FALSE)","v":{"$error":"#N/A"}},null,"",{"$f":"VLOOKUP(R132,lists!$A$2:$B$575,2,FALSE)","v":{"$error":"#N/A"}}]
[null,null,{"$f":"VLOOKUP(B133,lists!$F$2:$G$17,2,FALSE)","v":{"$error":"#N/A"}},null,null,null,null,null,"",{"$f":"VLOOKUP(I133,lists!$A$2:$B$1335,2,FALSE)","v":{"$error":"#N/A"}},null,{"$f":"VLOOKUP(K133,lists!$F$2:$G$17,2,FALSE)","v":{"$error":"#N/A"}},null,null,null,{"$f":"VLOOKUP(O133,lists!$A$2:$B$1335,2,FALSE)","v":{"$error":"#N/A"}},null,"",{"$f":"VLOOKUP(R133,lists!$A$2:$B$575,2,FALSE)","v":{"$error":"#N/A"}}]
[null,null,{"$f":"VLOOKUP(B134,lists!$F$2:$G$17,2,FALSE)","v":{"$error":"#N/A"}},null,null,null,null,null,"",{"$f":"VLOOKUP(I134,lists!$A$2:$B$1335,2,FALSE)","v":{"$error":"#N/A"}},null,{"$f":"VLOOKUP(K134,lists!$F$2:$G$17,2,FALSE)","v":{"$error":"#N/A"}},null,null,null,{"$f":"VLOOKUP(O134,lists!$A$2:$B$1335,2,FALSE)","v":{"$error":"#N/A"}},null,"",{"$f":"VLOOKUP(R134,lists!$A$2:$B$575,2,FALSE)","v":{"$error":"#N/A"}}]
[null,null,{"$f":"VLOOKUP(B135,lists!$F$2:$G$17,2,FALSE)","v":{"$error":"#N/A"}},null,null,null,null,null,"",{"$f":"VLOOKUP(I135,lists!$A$2:$B$1335,2,FALSE)","v":{"$error":"#N/A"}},null,{"$f":"VLOOKUP(K135,lists!$F$2:$G$17,2,FALSE)","v":{"$error":"#N/A"}},null,null,null,{"$f":"VLOOKUP(O135,lists!$A$2:$B$1335,2,FALSE)","v":{"$error":"#N/A"}},null,"",{"$f":"VLOOKUP(R135,lists!$A$2:$B$575,2,FALSE)","v":{"$error":"#N/A"}}]
[null,null,{"$f":"VLOOKUP(B136,lists!$F$2:$G$17,2,FALSE)","v":{"$error":"#N/A"}},null,null,null,null,null,"",{"$f":"VLOOKUP(I136,lists!$A$2:$B$1335,2,FALSE)","v":{"$error":"#N/A"}},null,{"$f":"VLOOKUP(K136,lists!$F$2:$G$17,2,FALSE)","v":{"$error":"#N/A"}},null,null,null,{"$f":"VLOOKUP(O136,lists!$A$2:$B$1335,2,FALSE)","v":{"$error":"#N/A"}},null,"",{"$f":"VLOOKUP(R136,lists!$A$2:$B$575,2,FALSE)","v":{"$error":"#N/A"}}]
[null,null,{"$f":"VLOOKUP(B137,lists!$F$2:$G$17,2,FALSE)","v":{"$error":"#N/A"}},null,null,null,null,null,"",{"$f":"VLOOKUP(I137,lists!$A$2:$B$1335,2,FALSE)","v":{"$error":"#N/A"}},null,{"$f":"VLOOKUP(K137,lists!$F$2:$G$17,2,FALSE)","v":{"$error":"#N/A"}},null,null,null,{"$f":"VLOOKUP(O137,lists!$A$2:$B$1335,2,FALSE)","v":{"$error":"#N/A"}},null,"",{"$f":"VLOOKUP(R137,lists!$A$2:$B$575,2,FALSE)","v":{"$error":"#N/A"}}]
[null,null,{"$f":"VLOOKUP(B138,lists!$F$2:$G$17,2,FALSE)","v":{"$error":"#N/A"}},null,null,null,null,null,"",{"$f":"VLOOKUP(I138,lists!$A$2:$B$1335,2,FALSE)","v":{"$error":"#N/A"}},null,{"$f":"VLOOKUP(K138,lists!$F$2:$G$17,2,FALSE)","v":{"$error":"#N/A"}},null,null,null,{"$f":"VLOOKUP(O138,lists!$A$2:$B$1335,2,FALSE)","v":{"$error":"#N/A"}},null,"",{"$f":"VLOOKUP(R138,lists!$A$2:$B$575,2,FALSE)","v":{"$error":"#N/A"}}]
[null,null,{"$f":"VLOOKUP(B139,lists!$F$2:$G$17,2,FALSE)","v":{"$error":"#N/A"}},null,null,null,null,null,"",{"$f":"VLOOKUP(I139,lists!$A$2:$B$1335,2,FALSE)","v":{"$error":"#N/A"}},null,{"$f":"VLOOKUP(K139,lists!$F$2:$G$17,2,FALSE)","v":{"$error":"#N/A"}},null,null,null,{"$f":"VLOOKUP(O139,lists!$A$2:$B$1335,2,FALSE)","v":{"$error":"#N/A"}},null,"",{"$f":"VLOOKUP(R139,lists!$A$2:$B$575,2,FALSE)","v":{"$error":"#N/A"}}]
[null,null,{"$f":"VLOOKUP(B140,lists!$F$2:$G$17,2,FALSE)","v":{"$error":"#N/A"}},null,null,null,null,null,"",{"$f":"VLOOKUP(I140,lists!$A$2:$B$1335,2,FALSE)","v":{"$error":"#N/A"}},null,{"$f":"VLOOKUP(K140,lists!$F$2:$G$17,2,FALSE)","v":{"$error":"#N/A"}},null,null,null,{"$f":"VLOOKUP(O140,lists!$A$2:$B$1335,2,FALSE)","v":{"$error":"#N/A"}},null,"",{"$f":"VLOOKUP(R140,lists!$A$2:$B$575,2,FALSE)","v":{"$error":"#N/A"}}]
[null,null,{"$f":"VLOOKUP(B141,lists!$F$2:$G$17,2,FALSE)","v":{"$error":"#N/A"}},null,null,null,null,null,"",{"$f":"VLOOKUP(I141,lists!$A$2:$B$1335,2,FALSE)","v":{"$error":"#N/A"}},null,{"$f":"VLOOKUP(K141,lists!$F$2:$G$17,2,FALSE)","v":{"$error":"#N/A"}},null,null,null,{"$f":"VLOOKUP(O141,lists!$A$2:$B$1335,2,FALSE)","v":{"$error":"#N/A"}},null,"",{"$f":"VLOOKUP(R141,lists!$A$2:$B$575,2,FALSE)","v":{"$error":"#N/A"}}]
[null,null,{"$f":"VLOOKUP(B142,lists!$F$2:$G$17,2,FALSE)","v":{"$error":"#N/A"}},null,null,null,null,null,"",{"$f":"VLOOKUP(I142,lists!$A$2:$B$1335,2,FALSE)","v":{"$error":"#N/A"}},null,{"$f":"VLOOKUP(K142,lists!$F$2:$G$17,2,FALSE)","v":{"$error":"#N/A"}},null,null,null,{"$f":"VLOOKUP(O142,lists!$A$2:$B$1335,2,FALSE)","v":{"$error":"#N/A"}},null,"",{"$f":"VLOOKUP(R142,lists!$A$2:$B$575,2,FALSE)","v":{"$error":"#N/A"}}]
[null,null,{"$f":"VLOOKUP(B143,lists!$F$2:$G$17,2,FALSE)","v":{"$error":"#N/A"}},null,null,null,null,null,"",{"$f":"VLOOKUP(I143,lists!$A$2:$B$1335,2,FALSE)","v":{"$error":"#N/A"}},null,{"$f":"VLOOKUP(K143,lists!$F$2:$G$17,2,FALSE)","v":{"$error":"#N/A"}},null,null,null,{"$f":"VLOOKUP(O143,lists!$A$2:$B$1335,2,FALSE)","v":{"$error":"#N/A"}},null,"",{"$f":"VLOOKUP(R143,lists!$A$2:$B$575,2,FALSE)","v":{"$error":"#N/A"}}]
[null,null,{"$f":"VLOOKUP(B144,lists!$F$2:$G$17,2,FALSE)","v":{"$error":"#N/A"}},null,null,null,null,null,"",{"$f":"VLOOKUP(I144,lists!$A$2:$B$1335,2,FALSE)","v":{"$error":"#N/A"}},null,{"$f":"VLOOKUP(K144,lists!$F$2:$G$17,2,FALSE)","v":{"$error":"#N/A"}},null,null,null,{"$f":"VLOOKUP(O144,lists!$A$2:$B$1335,2,FALSE)","v":{"$error":"#N/A"}},null,"",{"$f":"VLOOKUP(R144,lists!$A$2:$B$575,2,FALSE)","v":{"$error":"#N/A"}}]
[null,null,{"$f":"VLOOKUP(B145,lists!$F$2:$G$17,2,FALSE)","v":{"$error":"#N/A"}},null,null,null,null,null,"",{"$f":"VLOOKUP(I145,lists!$A$2:$B$1335,2,FALSE)","v":{"$error":"#N/A"}},null,{"$f":"VLOOKUP(K145,lists!$F$2:$G$17,2,FALSE)","v":{"$error":"#N/A"}},null,null,null,{"$f":"VLOOKUP(O145,lists!$A$2:$B$1335,2,FALSE)","v":{"$error":"#N/A"}},null,"",{"$f":"VLOOKUP(R145,lists!$A$2:$B$575,2,FALSE)","v":{"$error":"#N/A"}}]
[null,null,{"$f":"VLOOKUP(B146,lists!$F$2:$G$17,2,FALSE)","v":{"$error":"#N/A"}},null,null,null,null,null,"",{"$f":"VLOOKUP(I146,lists!$A$2:$B$1335,2,FALSE)","v":{"$error":"#N/A"}},null,{"$f":"VLOOKUP(K146,lists!$F$2:$G$17,2,FALSE)","v":{"$error":"#N/A"}},null,null,null,{"$f":"VLOOKUP(O146,lists!$A$2:$B$1335,2,FALSE)","v":{"$error":"#N/A"}},null,"",{"$f":"VLOOKUP(R146,lists!$A$2:$B$575,2,FALSE)","v":{"$error":"#N/A"}}]
[null,null,{"$f":"VLOOKUP(B147,lists!$F$2:$G$17,2,FALSE)","v":{"$error":"#N/A"}},null,null,null,null,null,"",{"$f":"VLOOKUP(I147,lists!$A$2:$B$1335,2,FALSE)","v":{"$error":"#N/A"}},null,{"$f":"VLOOKUP(K147,lists!$F$2:$G$17,2,FALSE)","v":{"$error":"#N/A"}},null,null,null,{"$f":"VLOOKUP(O147,lists!$A$2:$B$1335,2,FALSE)","v":{"$error":"#N/A"}},null,"",{"$f":"VLOOKUP(R147,lists!$A$2:$B$575,2,FALSE)","v":{"$error":"#N/A"}}]
[null,null,{"$f":"VLOOKUP(B148,lists!$F$2:$G$17,2,FALSE)","v":{"$error":"#N/A"}},null,null,null,null,null,"",{"$f":"VLOOKUP(I148,lists!$A$2:$B$1335,2,FALSE)","v":{"$error":"#N/A"}},null,{"$f":"VLOOKUP(K148,lists!$F$2:$G$17,2,FALSE)","v":{"$error":"#N/A"}},null,null,null,{"$f":"VLOOKUP(O148,lists!$A$2:$B$1335,2,FALSE)","v":{"$error":"#N/A"}},null,"",{"$f":"VLOOKUP(R148,lists!$A$2:$B$575,2,FALSE)","v":{"$error":"#N/A"}}]
[null,null,{"$f":"VLOOKUP(B149,lists!$F$2:$G$17,2,FALSE)","v":{"$error":"#N/A"}},null,null,null,null,null,"",{"$f":"VLOOKUP(I149,lists!$A$2:$B$1335,2,FALSE)","v":{"$error":"#N/A"}},null,{"$f":"VLOOKUP(K149,lists!$F$2:$G$17,2,FALSE)","v":{"$error":"#N/A"}},null,null,null,{"$f":"VLOOKUP(O149,lists!$A$2:$B$1335,2,FALSE)","v":{"$error":"#N/A"}},null,"",{"$f":"VLOOKUP(R149,lists!$A$2:$B$575,2,FALSE)","v":{"$error":"#N/A"}}]
[null,null,{"$f":"VLOOKUP(B150,lists!$F$2:$G$17,2,FALSE)","v":{"$error":"#N/A"}},null,null,null,null,null,"",{"$f":"VLOOKUP(I150,lists!$A$2:$B$1335,2,FALSE)","v":{"$error":"#N/A"}},null,{"$f":"VLOOKUP(K150,lists!$F$2:$G$17,2,FALSE)","v":{"$error":"#N/A"}},null,null,null,{"$f":"VLOOKUP(O150,lists!$A$2:$B$1335,2,FALSE)","v":{"$error":"#N/A"}},null,"",{"$f":"VLOOKUP(R150,lists!$A$2:$B$575,2,FALSE)","v":{"$error":"#N/A"}}]
[null,null,{"$f":"VLOOKUP(B151,lists!$F$2:$G$17,2,FALSE)","v":{"$error":"#N/A"}},null,null,null,null,null,"",{"$f":"VLOOKUP(I151,lists!$A$2:$B$1335,2,FALSE)","v":{"$error":"#N/A"}},null,{"$f":"VLOOKUP(K151,lists!$F$2:$G$17,2,FALSE)","v":{"$error":"#N/A"}},null,null,null,{"$f":"VLOOKUP(O151,lists!$A$2:$B$1335,2,FALSE)","v":{"$error":"#N/A"}},null,"",{"$f":"VLOOKUP(R151,lists!$A$2:$B$575,2,FALSE)","v":{"$error":"#N/A"}}]
[null,null,{"$f":"VLOOKUP(B152,lists!$F$2:$G$17,2,FALSE)","v":{"$error":"#N/A"}},null,null,null,null,null,"",{"$f":"VLOOKUP(I152,lists!$A$2:$B$1335,2,FALSE)","v":{"$error":"#N/A"}},null,{"$f":"VLOOKUP(K152,lists!$F$2:$G$17,2,FALSE)","v":{"$error":"#N/A"}},null,null,null,{"$f":"VLOOKUP(O152,lists!$A$2:$B$1335,2,FALSE)","v":{"$error":"#N/A"}},null,"",{"$f":"VLOOKUP(R152,lists!$A$2:$B$575,2,FALSE)","v":{"$error":"#N/A"}}]
[null,null,{"$f":"VLOOKUP(B153,lists!$F$2:$G$17,2,FALSE)","v":{"$error":"#N/A"}},null,null,null,null,null,"",{"$f":"VLOOKUP(I153,lists!$A$2:$B$1335,2,FALSE)","v":{"$error":"#N/A"}},null,{"$f":"VLOOKUP(K153,lists!$F$2:$G$17,2,FALSE)","v":{"$error":"#N/A"}},null,null,null,{"$f":"VLOOKUP(O153,lists!$A$2:$B$1335,2,FALSE)","v":{"$error":"#N/A"}},null,"",{"$f":"VLOOKUP(R153,lists!$A$2:$B$575,2,FALSE)","v":{"$error":"#N/A"}}]
[null,null,{"$f":"VLOOKUP(B154,lists!$F$2:$G$17,2,FALSE)","v":{"$error":"#N/A"}},null,null,null,null,null,"",{"$f":"VLOOKUP(I154,lists!$A$2:$B$1335,2,FALSE)","v":{"$error":"#N/A"}},null,{"$f":"VLOOKUP(K154,lists!$F$2:$G$17,2,FALSE)","v":{"$error":"#N/A"}},null,null,null,{"$f":"VLOOKUP(O154,lists!$A$2:$B$1335,2,FALSE)","v":{"$error":"#N/A"}},null,"",{"$f":"VLOOKUP(R154,lists!$A$2:$B$575,2,FALSE)","v":{"$error":"#N/A"}}]
[null,null,{"$f":"VLOOKUP(B155,lists!$F$2:$G$17,2,FALSE)","v":{"$error":"#N/A"}},null,null,null,null,null,"",{"$f":"VLOOKUP(I155,lists!$A$2:$B$1335,2,FALSE)","v":{"$error":"#N/A"}},null,{"$f":"VLOOKUP(K155,lists!$F$2:$G$17,2,FALSE)","v":{"$error":"#N/A"}},null,null,null,{"$f":"VLOOKUP(O155,lists!$A$2:$B$1335,2,FALSE)","v":{"$error":"#N/A"}},null,"",{"$f":"VLOOKUP(R155,lists!$A$2:$B$575,2,FALSE)","v":{"$error":"#N/A"}}]
[null,null,{"$f":"VLOOKUP(B156,lists!$F$2:$G$17,2,FALSE)","v":{"$error":"#N/A"}},null,null,null,null,null,"",{"$f":"VLOOKUP(I156,lists!$A$2:$B$1335,2,FALSE)","v":{"$error":"#N/A"}},null,{"$f":"VLOOKUP(K156,lists!$F$2:$G$17,2,FALSE)","v":{"$error":"#N/A"}},null,null,null,{"$f":"VLOOKUP(O156,lists!$A$2:$B$1335,2,FALSE)","v":{"$error":"#N/A"}},null,"",{"$f":"VLOOKUP(R156,lists!$A$2:$B$575,2,FALSE)","v":{"$error":"#N/A"}}]
[null,null,{"$f":"VLOOKUP(B157,lists!$F$2:$G$17,2,FALSE)","v":{"$error":"#N/A"}},null,null,null,null,null,"",{"$f":"VLOOKUP(I157,lists!$A$2:$B$1335,2,FALSE)","v":{"$error":"#N/A"}},null,{"$f":"VLOOKUP(K157,lists!$F$2:$G$17,2,FALSE)","v":{"$error":"#N/A"}},null,null,null,{"$f":"VLOOKUP(O157,lists!$A$2:$B$1335,2,FALSE)","v":{"$error":"#N/A"}},null,"",{"$f":"VLOOKUP(R157,lists!$A$2:$B$575,2,FALSE)","v":{"$error":"#N/A"}}]
[null,null,{"$f":"VLOOKUP(B158,lists!$F$2:$G$17,2,FALSE)","v":{"$error":"#N/A"}},null,null,null,null,null,"",{"$f":"VLOOKUP(I158,lists!$A$2:$B$1335,2,FALSE)","v":{"$error":"#N/A"}},null,{"$f":"VLOOKUP(K158,lists!$F$2:$G$17,2,FALSE)","v":{"$error":"#N/A"}},null,null,null,{"$f":"VLOOKUP(O158,lists!$A$2:$B$1335,2,FALSE)","v":{"$error":"#N/A"}},null,"",{"$f":"VLOOKUP(R158,lists!$A$2:$B$575,2,FALSE)","v":{"$error":"#N/A"}}]
[null,null,{"$f":"VLOOKUP(B159,lists!$F$2:$G$17,2,FALSE)","v":{"$error":"#N/A"}},null,null,null,null,null,"",{"$f":"VLOOKUP(I159,lists!$A$2:$B$1335,2,FALSE)","v":{"$error":"#N/A"}},null,{"$f":"VLOOKUP(K159,lists!$F$2:$G$17,2,FALSE)","v":{"$error":"#N/A"}},null,null,null,{"$f":"VLOOKUP(O159,lists!$A$2:$B$1335,2,FALSE)","v":{"$error":"#N/A"}},null,"",{"$f":"VLOOKUP(R159,lists!$A$2:$B$575,2,FALSE)","v":{"$error":"#N/A"}}]
[null,null,{"$f":"VLOOKUP(B160,lists!$F$2:$G$17,2,FALSE)","v":{"$error":"#N/A"}},null,null,null,null,null,"",{"$f":"VLOOKUP(I160,lists!$A$2:$B$1335,2,FALSE)","v":{"$error":"#N/A"}},null,{"$f":"VLOOKUP(K160,lists!$F$2:$G$17,2,FALSE)","v":{"$error":"#N/A"}},null,null,null,{"$f":"VLOOKUP(O160,lists!$A$2:$B$1335,2,FALSE)","v":{"$error":"#N/A"}},null,"",{"$f":"VLOOKUP(R160,lists!$A$2:$B$575,2,FALSE)","v":{"$error":"#N/A"}}]
[null,null,{"$f":"VLOOKUP(B161,lists!$F$2:$G$17,2,FALSE)","v":{"$error":"#N/A"}},null,null,null,null,null,"",{"$f":"VLOOKUP(I161,lists!$A$2:$B$1335,2,FALSE)","v":{"$error":"#N/A"}},null,{"$f":"VLOOKUP(K161,lists!$F$2:$G$17,2,FALSE)","v":{"$error":"#N/A"}},null,null,null,{"$f":"VLOOKUP(O161,lists!$A$2:$B$1335,2,FALSE)","v":{"$error":"#N/A"}},null,"",{"$f":"VLOOKUP(R161,lists!$A$2:$B$575,2,FALSE)","v":{"$error":"#N/A"}}]
[null,null,{"$f":"VLOOKUP(B162,lists!$F$2:$G$17,2,FALSE)","v":{"$error":"#N/A"}},null,null,null,null,null,"",{"$f":"VLOOKUP(I162,lists!$A$2:$B$1335,2,FALSE)","v":{"$error":"#N/A"}},null,{"$f":"VLOOKUP(K162,lists!$F$2:$G$17,2,FALSE)","v":{"$error":"#N/A"}},null,null,null,{"$f":"VLOOKUP(O162,lists!$A$2:$B$1335,2,FALSE)","v":{"$error":"#N/A"}},null,"",{"$f":"VLOOKUP(R162,lists!$A$2:$B$575,2,FALSE)","v":{"$error":"#N/A"}}]
[null,null,{"$f":"VLOOKUP(B163,lists!$F$2:$G$17,2,FALSE)","v":{"$error":"#N/A"}},null,null,null,null,null,"",{"$f":"VLOOKUP(I163,lists!$A$2:$B$1335,2,FALSE)","v":{"$error":"#N/A"}},null,{"$f":"VLOOKUP(K163,lists!$F$2:$G$17,2,FALSE)","v":{"$error":"#N/A"}},null,null,null,{"$f":"VLOOKUP(O163,lists!$A$2:$B$1335,2,FALSE)","v":{"$error":"#N/A"}},null,"",{"$f":"VLOOKUP(R163,lists!$A$2:$B$575,2,FALSE)","v":{"$error":"#N/A"}}]
[null,null,{"$f":"VLOOKUP(B164,lists!$F$2:$G$17,2,FALSE)","v":{"$error":"#N/A"}},null,null,null,null,null,"",{"$f":"VLOOKUP(I164,lists!$A$2:$B$1335,2,FALSE)","v":{"$error":"#N/A"}},null,{"$f":"VLOOKUP(K164,lists!$F$2:$G$17,2,FALSE)","v":{"$error":"#N/A"}},null,null,null,{"$f":"VLOOKUP(O164,lists!$A$2:$B$1335,2,FALSE)","v":{"$error":"#N/A"}},null,"",{"$f":"VLOOKUP(R164,lists!$A$2:$B$575,2,FALSE)","v":{"$error":"#N/A"}}]
[null,null,{"$f":"VLOOKUP(B165,lists!$F$2:$G$17,2,FALSE)","v":{"$error":"#N/A"}},null,null,null,null,null,"",{"$f":"VLOOKUP(I165,lists!$A$2:$B$1335,2,FALSE)","v":{"$error":"#N/A"}},null,{"$f":"VLOOKUP(K165,lists!$F$2:$G$17,2,FALSE)","v":{"$error":"#N/A"}},null,null,null,{"$f":"VLOOKUP(O165,lists!$A$2:$B$1335,2,FALSE)","v":{"$error":"#N/A"}},null,"",{"$f":"VLOOKUP(R165,lists!$A$2:$B$575,2,FALSE)","v":{"$error":"#N/A"}}]
[null,null,{"$f":"VLOOKUP(B166,lists!$F$2:$G$17,2,FALSE)","v":{"$error":"#N/A"}},null,null,null,null,null,"",{"$f":"VLOOKUP(I166,lists!$A$2:$B$1335,2,FALSE)","v":{"$error":"#N/A"}},null,{"$f":"VLOOKUP(K166,lists!$F$2:$G$17,2,FALSE)","v":{"$error":"#N/A"}},null,null,null,{"$f":"VLOOKUP(O166,lists!$A$2:$B$1335,2,FALSE)","v":{"$error":"#N/A"}},null,"",{"$f":"VLOOKUP(R166,lists!$A$2:$B$575,2,FALSE)","v":{"$error":"#N/A"}}]
[null,null,{"$f":"VLOOKUP(B167,lists!$F$2:$G$17,2,FALSE)","v":{"$error":"#N/A"}},null,null,null,null,null,"",{"$f":"VLOOKUP(I167,lists!$A$2:$B$1335,2,FALSE)","v":{"$error":"#N/A"}},null,{"$f":"VLOOKUP(K167,lists!$F$2:$G$17,2,FALSE)","v":{"$error":"#N/A"}},null,null,null,{"$f":"VLOOKUP(O167,lists!$A$2:$B$1335,2,FALSE)","v":{"$error":"#N/A"}},null,"",{"$f":"VLOOKUP(R167,lists!$A$2:$B$575,2,FALSE)","v":{"$error":"#N/A"}}]
[null,null,{"$f":"VLOOKUP(B168,lists!$F$2:$G$17,2,FALSE)","v":{"$error":"#N/A"}},null,null,null,null,null,"",{"$f":"VLOOKUP(I168,lists!$A$2:$B$1335,2,FALSE)","v":{"$error":"#N/A"}},null,{"$f":"VLOOKUP(K168,lists!$F$2:$G$17,2,FALSE)","v":{"$error":"#N/A"}},null,null,null,{"$f":"VLOOKUP(O168,lists!$A$2:$B$1335,2,FALSE)","v":{"$error":"#N/A"}},null,"",{"$f":"VLOOKUP(R168,lists!$A$2:$B$575,2,FALSE)","v":{"$error":"#N/A"}}]
[null,null,{"$f":"VLOOKUP(B169,lists!$F$2:$G$17,2,FALSE)","v":{"$error":"#N/A"}},null,null,null,null,null,"",{"$f":"VLOOKUP(I169,lists!$A$2:$B$1335,2,FALSE)","v":{"$error":"#N/A"}},null,{"$f":"VLOOKUP(K169,lists!$F$2:$G$17,2,FALSE)","v":{"$error":"#N/A"}},null,null,null,{"$f":"VLOOKUP(O169,lists!$A$2:$B$1335,2,FALSE)","v":{"$error":"#N/A"}},null,"",{"$f":"VLOOKUP(R169,lists!$A$2:$B$575,2,FALSE)","v":{"$error":"#N/A"}}]
[null,null,{"$f":"VLOOKUP(B170,lists!$F$2:$G$17,2,FALSE)","v":{"$error":"#N/A"}},null,null,null,null,null,"",{"$f":"VLOOKUP(I170,lists!$A$2:$B$1335,2,FALSE)","v":{"$error":"#N/A"}},null,{"$f":"VLOOKUP(K170,lists!$F$2:$G$17,2,FALSE)","v":{"$error":"#N/A"}},null,null,null,{"$f":"VLOOKUP(O170,lists!$A$2:$B$1335,2,FALSE)","v":{"$error":"#N/A"}},null,"",{"$f":"VLOOKUP(R170,lists!$A$2:$B$575,2,FALSE)","v":{"$error":"#N/A"}}]
[null,null,{"$f":"VLOOKUP(B171,lists!$F$2:$G$17,2,FALSE)","v":{"$error":"#N/A"}},null,null,null,null,null,"",{"$f":"VLOOKUP(I171,lists!$A$2:$B$1335,2,FALSE)","v":{"$error":"#N/A"}},null,{"$f":"VLOOKUP(K171,lists!$F$2:$G$17,2,FALSE)","v":{"$error":"#N/A"}},null,null,null,{"$f":"VLOOKUP(O171,lists!$A$2:$B$1335,2,FALSE)","v":{"$error":"#N/A"}},null,"",{"$f":"VLOOKUP(R171,lists!$A$2:$B$575,2,FALSE)","v":{"$error":"#N/A"}}]
[null,null,{"$f":"VLOOKUP(B172,lists!$F$2:$G$17,2,FALSE)","v":{"$error":"#N/A"}},null,null,null,null,null,"",{"$f":"VLOOKUP(I172,lists!$A$2:$B$1335,2,FALSE)","v":{"$error":"#N/A"}},null,{"$f":"VLOOKUP(K172,lists!$F$2:$G$17,2,FALSE)","v":{"$error":"#N/A"}},null,null,null,{"$f":"VLOOKUP(O172,lists!$A$2:$B$1335,2,FALSE)","v":{"$error":"#N/A"}},null,"",{"$f":"VLOOKUP(R172,lists!$A$2:$B$575,2,FALSE)","v":{"$error":"#N/A"}}]
[null,null,{"$f":"VLOOKUP(B173,lists!$F$2:$G$17,2,FALSE)","v":{"$error":"#N/A"}},null,null,null,null,null,"",{"$f":"VLOOKUP(I173,lists!$A$2:$B$1335,2,FALSE)","v":{"$error":"#N/A"}},null,{"$f":"VLOOKUP(K173,lists!$F$2:$G$17,2,FALSE)","v":{"$error":"#N/A"}},null,null,null,{"$f":"VLOOKUP(O173,lists!$A$2:$B$1335,2,FALSE)","v":{"$error":"#N/A"}},null,"",{"$f":"VLOOKUP(R173,lists!$A$2:$B$575,2,FALSE)","v":{"$error":"#N/A"}}]
[null,null,{"$f":"VLOOKUP(B174,lists!$F$2:$G$17,2,FALSE)","v":{"$error":"#N/A"}},null,null,null,null,null,"",{"$f":"VLOOKUP(I174,lists!$A$2:$B$1335,2,FALSE)","v":{"$error":"#N/A"}},null,{"$f":"VLOOKUP(K174,lists!$F$2:$G$17,2,FALSE)","v":{"$error":"#N/A"}},null,null,null,{"$f":"VLOOKUP(O174,lists!$A$2:$B$1335,2,FALSE)","v":{"$error":"#N/A"}},null,"",{"$f":"VLOOKUP(R174,lists!$A$2:$B$575,2,FALSE)","v":{"$error":"#N/A"}}]
[null,null,{"$f":"VLOOKUP(B175,lists!$F$2:$G$17,2,FALSE)","v":{"$error":"#N/A"}},null,null,null,null,null,"",{"$f":"VLOOKUP(I175,lists!$A$2:$B$1335,2,FALSE)","v":{"$error":"#N/A"}},null,{"$f":"VLOOKUP(K175,lists!$F$2:$G$17,2,FALSE)","v":{"$error":"#N/A"}},null,null,null,{"$f":"VLOOKUP(O175,lists!$A$2:$B$1335,2,FALSE)","v":{"$error":"#N/A"}},null,"",{"$f":"VLOOKUP(R175,lists!$A$2:$B$575,2,FALSE)","v":{"$error":"#N/A"}}]
[null,null,{"$f":"VLOOKUP(B176,lists!$F$2:$G$17,2,FALSE)","v":{"$error":"#N/A"}},null,null,null,null,null,"",{"$f":"VLOOKUP(I176,lists!$A$2:$B$1335,2,FALSE)","v":{"$error":"#N/A"}},null,{"$f":"VLOOKUP(K176,lists!$F$2:$G$17,2,FALSE)","v":{"$error":"#N/A"}},null,null,null,{"$f":"VLOOKUP(O176,lists!$A$2:$B$1335,2,FALSE)","v":{"$error":"#N/A"}},null,"",{"$f":"VLOOKUP(R176,lists!$A$2:$B$575,2,FALSE)","v":{"$error":"#N/A"}}]
[null,null,{"$f":"VLOOKUP(B177,lists!$F$2:$G$17,2,FALSE)","v":{"$error":"#N/A"}},null,null,null,null,null,"",{"$f":"VLOOKUP(I177,lists!$A$2:$B$1335,2,FALSE)","v":{"$error":"#N/A"}},null,{"$f":"VLOOKUP(K177,lists!$F$2:$G$17,2,FALSE)","v":{"$error":"#N/A"}},null,null,null,{"$f":"VLOOKUP(O177,lists!$A$2:$B$1335,2,FALSE)","v":{"$error":"#N/A"}},null,"",{"$f":"VLOOKUP(R177,lists!$A$2:$B$575,2,FALSE)","v":{"$error":"#N/A"}}]
[null,null,{"$f":"VLOOKUP(B178,lists!$F$2:$G$17,2,FALSE)","v":{"$error":"#N/A"}},null,null,null,null,null,"",{"$f":"VLOOKUP(I178,lists!$A$2:$B$1335,2,FALSE)","v":{"$error":"#N/A"}},null,{"$f":"VLOOKUP(K178,lists!$F$2:$G$17,2,FALSE)","v":{"$error":"#N/A"}},null,null,null,{"$f":"VLOOKUP(O178,lists!$A$2:$B$1335,2,FALSE)","v":{"$error":"#N/A"}},null,"",{"$f":"VLOOKUP(R178,lists!$A$2:$B$575,2,FALSE)","v":{"$error":"#N/A"}}]
[null,null,{"$f":"VLOOKUP(B179,lists!$F$2:$G$17,2,FALSE)","v":{"$error":"#N/A"}},null,null,null,null,null,"",{"$f":"VLOOKUP(I179,lists!$A$2:$B$1335,2,FALSE)","v":{"$error":"#N/A"}},null,{"$f":"VLOOKUP(K179,lists!$F$2:$G$17,2,FALSE)","v":{"$error":"#N/A"}},null,null,null,{"$f":"VLOOKUP(O179,lists!$A$2:$B$1335,2,FALSE)","v":{"$error":"#N/A"}},null,"",{"$f":"VLOOKUP(R179,lists!$A$2:$B$575,2,FALSE)","v":{"$error":"#N/A"}}]
[null,null,{"$f":"VLOOKUP(B180,lists!$F$2:$G$17,2,FALSE)","v":{"$error":"#N/A"}},null,null,null,null,null,"",{"$f":"VLOOKUP(I180,lists!$A$2:$B$1335,2,FALSE)","v":{"$error":"#N/A"}},null,{"$f":"VLOOKUP(K180,lists!$F$2:$G$17,2,FALSE)","v":{"$error":"#N/A"}},null,null,null,{"$f":"VLOOKUP(O180,lists!$A$2:$B$1335,2,FALSE)","v":{"$error":"#N/A"}},null,"",{"$f":"VLOOKUP(R180,lists!$A$2:$B$575,2,FALSE)","v":{"$error":"#N/A"}}]
[null,null,{"$f":"VLOOKUP(B181,lists!$F$2:$G$17,2,FALSE)","v":{"$error":"#N/A"}},null,null,null,null,null,"",{"$f":"VLOOKUP(I181,lists!$A$2:$B$1335,2,FALSE)","v":{"$error":"#N/A"}},null,{"$f":"VLOOKUP(K181,lists!$F$2:$G$17,2,FALSE)","v":{"$error":"#N/A"}},null,null,null,{"$f":"VLOOKUP(O181,lists!$A$2:$B$1335,2,FALSE)","v":{"$error":"#N/A"}},null,"",{"$f":"VLOOKUP(R181,lists!$A$2:$B$575,2,FALSE)","v":{"$error":"#N/A"}}]
[null,null,{"$f":"VLOOKUP(B182,lists!$F$2:$G$17,2,FALSE)","v":{"$error":"#N/A"}},null,null,null,null,null,"",{"$f":"VLOOKUP(I182,lists!$A$2:$B$1335,2,FALSE)","v":{"$error":"#N/A"}},null,{"$f":"VLOOKUP(K182,lists!$F$2:$G$17,2,FALSE)","v":{"$error":"#N/A"}},null,null,null,{"$f":"VLOOKUP(O182,lists!$A$2:$B$1335,2,FALSE)","v":{"$error":"#N/A"}},null,"",{"$f":"VLOOKUP(R182,lists!$A$2:$B$575,2,FALSE)","v":{"$error":"#N/A"}}]
[null,null,{"$f":"VLOOKUP(B183,lists!$F$2:$G$17,2,FALSE)","v":{"$error":"#N/A"}},null,null,null,null,null,"",{"$f":"VLOOKUP(I183,lists!$A$2:$B$1335,2,FALSE)","v":{"$error":"#N/A"}},null,{"$f":"VLOOKUP(K183,lists!$F$2:$G$17,2,FALSE)","v":{"$error":"#N/A"}},null,null,null,{"$f":"VLOOKUP(O183,lists!$A$2:$B$1335,2,FALSE)","v":{"$error":"#N/A"}},null,"",{"$f":"VLOOKUP(R183,lists!$A$2:$B$575,2,FALSE)","v":{"$error":"#N/A"}}]
[null,null,{"$f":"VLOOKUP(B184,lists!$F$2:$G$17,2,FALSE)","v":{"$error":"#N/A"}},null,null,null,null,null,"",{"$f":"VLOOKUP(I184,lists!$A$2:$B$1335,2,FALSE)","v":{"$error":"#N/A"}},null,{"$f":"VLOOKUP(K184,lists!$F$2:$G$17,2,FALSE)","v":{"$error":"#N/A"}},null,null,null,{"$f":"VLOOKUP(O184,lists!$A$2:$B$1335,2,FALSE)","v":{"$error":"#N/A"}},null,"",{"$f":"VLOOKUP(R184,lists!$A$2:$B$575,2,FALSE)","v":{"$error":"#N/A"}}]
[null,null,{"$f":"VLOOKUP(B185,lists!$F$2:$G$17,2,FALSE)","v":{"$error":"#N/A"}},null,null,null,null,null,"",{"$f":"VLOOKUP(I185,lists!$A$2:$B$1335,2,FALSE)","v":{"$error":"#N/A"}},null,{"$f":"VLOOKUP(K185,lists!$F$2:$G$17,2,FALSE)","v":{"$error":"#N/A"}},null,null,null,{"$f":"VLOOKUP(O185,lists!$A$2:$B$1335,2,FALSE)","v":{"$error":"#N/A"}},null,"",{"$f":"VLOOKUP(R185,lists!$A$2:$B$575,2,FALSE)","v":{"$error":"#N/A"}}]
[null,null,{"$f":"VLOOKUP(B186,lists!$F$2:$G$17,2,FALSE)","v":{"$error":"#N/A"}},null,null,null,null,null,"",{"$f":"VLOOKUP(I186,lists!$A$2:$B$1335,2,FALSE)","v":{"$error":"#N/A"}},null,{"$f":"VLOOKUP(K186,lists!$F$2:$G$17,2,FALSE)","v":{"$error":"#N/A"}},null,null,null,{"$f":"VLOOKUP(O186,lists!$A$2:$B$1335,2,FALSE)","v":{"$error":"#N/A"}},null,"",{"$f":"VLOOKUP(R186,lists!$A$2:$B$575,2,FALSE)","v":{"$error":"#N/A"}}]
[null,null,{"$f":"VLOOKUP(B187,lists!$F$2:$G$17,2,FALSE)","v":{"$error":"#N/A"}},null,null,null,null,null,"",{"$f":"VLOOKUP(I187,lists!$A$2:$B$1335,2,FALSE)","v":{"$error":"#N/A"}},null,{"$f":"VLOOKUP(K187,lists!$F$2:$G$17,2,FALSE)","v":{"$error":"#N/A"}},null,null,null,{"$f":"VLOOKUP(O187,lists!$A$2:$B$1335,2,FALSE)","v":{"$error":"#N/A"}},null,"",{"$f":"VLOOKUP(R187,lists!$A$2:$B$575,2,FALSE)","v":{"$error":"#N/A"}}]
[null,null,{"$f":"VLOOKUP(B188,lists!$F$2:$G$17,2,FALSE)","v":{"$error":"#N/A"}},null,null,null,null,null,"",{"$f":"VLOOKUP(I188,lists!$A$2:$B$1335,2,FALSE)","v":{"$error":"#N/A"}},null,{"$f":"VLOOKUP(K188,lists!$F$2:$G$17,2,FALSE)","v":{"$error":"#N/A"}},null,null,null,{"$f":"VLOOKUP(O188,lists!$A$2:$B$1335,2,FALSE)","v":{"$error":"#N/A"}},null,"",{"$f":"VLOOKUP(R188,lists!$A$2:$B$575,2,FALSE)","v":{"$error":"#N/A"}}]
[null,null,{"$f":"VLOOKUP(B189,lists!$F$2:$G$17,2,FALSE)","v":{"$error":"#N/A"}},null,null,null,null,null,"",{"$f":"VLOOKUP(I189,lists!$A$2:$B$1335,2,FALSE)","v":{"$error":"#N/A"}},null,{"$f":"VLOOKUP(K189,lists!$F$2:$G$17,2,FALSE)","v":{"$error":"#N/A"}},null,null,null,{"$f":"VLOOKUP(O189,lists!$A$2:$B$1335,2,FALSE)","v":{"$error":"#N/A"}},null,"",{"$f":"VLOOKUP(R189,lists!$A$2:$B$575,2,FALSE)","v":{"$error":"#N/A"}}]
[null,null,{"$f":"VLOOKUP(B190,lists!$F$2:$G$17,2,FALSE)","v":{"$error":"#N/A"}},null,null,null,null,null,"",{"$f":"VLOOKUP(I190,lists!$A$2:$B$1335,2,FALSE)","v":{"$error":"#N/A"}},null,{"$f":"VLOOKUP(K190,lists!$F$2:$G$17,2,FALSE)","v":{"$error":"#N/A"}},null,null,null,{"$f":"VLOOKUP(O190,lists!$A$2:$B$1335,2,FALSE)","v":{"$error":"#N/A"}},null,"",{"$f":"VLOOKUP(R190,lists!$A$2:$B$575,2,FALSE)","v":{"$error":"#N/A"}}]
[null,null,{"$f":"VLOOKUP(B191,lists!$F$2:$G$17,2,FALSE)","v":{"$error":"#N/A"}},null,null,null,null,null,"",{"$f":"VLOOKUP(I191,lists!$A$2:$B$1335,2,FALSE)","v":{"$error":"#N/A"}},null,{"$f":"VLOOKUP(K191,lists!$F$2:$G$17,2,FALSE)","v":{"$error":"#N/A"}},null,null,null,{"$f":"VLOOKUP(O191,lists!$A$2:$B$1335,2,FALSE)","v":{"$error":"#N/A"}},null,"",{"$f":"VLOOKUP(R191,lists!$A$2:$B$575,2,FALSE)","v":{"$error":"#N/A"}}]
[null,null,{"$f":"VLOOKUP(B192,lists!$F$2:$G$17,2,FALSE)","v":{"$error":"#N/A"}},null,null,null,null,null,"",{"$f":"VLOOKUP(I192,lists!$A$2:$B$1335,2,FALSE)","v":{"$error":"#N/A"}},null,{"$f":"VLOOKUP(K192,lists!$F$2:$G$17,2,FALSE)","v":{"$error":"#N/A"}},null,null,null,{"$f":"VLOOKUP(O192,lists!$A$2:$B$1335,2,FALSE)","v":{"$error":"#N/A"}},null,"",{"$f":"VLOOKUP(R192,lists!$A$2:$B$575,2,FALSE)","v":{"$error":"#N/A"}}]
[null,null,{"$f":"VLOOKUP(B193,lists!$F$2:$G$17,2,FALSE)","v":{"$error":"#N/A"}},null,null,null,null,null,"",{"$f":"VLOOKUP(I193,lists!$A$2:$B$1335,2,FALSE)","v":{"$error":"#N/A"}},null,{"$f":"VLOOKUP(K193,lists!$F$2:$G$17,2,FALSE)","v":{"$error":"#N/A"}},null,null,null,{"$f":"VLOOKUP(O193,lists!$A$2:$B$1335,2,FALSE)","v":{"$error":"#N/A"}},null,"",{"$f":"VLOOKUP(R193,lists!$A$2:$B$575,2,FALSE)","v":{"$error":"#N/A"}}]
[null,null,{"$f":"VLOOKUP(B194,lists!$F$2:$G$17,2,FALSE)","v":{"$error":"#N/A"}},null,null,null,null,null,"",{"$f":"VLOOKUP(I194,lists!$A$2:$B$1335,2,FALSE)","v":{"$error":"#N/A"}},null,{"$f":"VLOOKUP(K194,lists!$F$2:$G$17,2,FALSE)","v":{"$error":"#N/A"}},null,null,null,{"$f":"VLOOKUP(O194,lists!$A$2:$B$1335,2,FALSE)","v":{"$error":"#N/A"}},null,"",{"$f":"VLOOKUP(R194,lists!$A$2:$B$575,2,FALSE)","v":{"$error":"#N/A"}}]
[null,null,{"$f":"VLOOKUP(B195,lists!$F$2:$G$17,2,FALSE)","v":{"$error":"#N/A"}},null,null,null,null,null,"",{"$f":"VLOOKUP(I195,lists!$A$2:$B$1335,2,FALSE)","v":{"$error":"#N/A"}},null,{"$f":"VLOOKUP(K195,lists!$F$2:$G$17,2,FALSE)","v":{"$error":"#N/A"}},null,null,null,{"$f":"VLOOKUP(O195,lists!$A$2:$B$1335,2,FALSE)","v":{"$error":"#N/A"}},null,"",{"$f":"VLOOKUP(R195,lists!$A$2:$B$575,2,FALSE)","v":{"$error":"#N/A"}}]
[null,null,{"$f":"VLOOKUP(B196,lists!$F$2:$G$17,2,FALSE)","v":{"$error":"#N/A"}},null,null,null,null,null,"",{"$f":"VLOOKUP(I196,lists!$A$2:$B$1335,2,FALSE)","v":{"$error":"#N/A"}},null,{"$f":"VLOOKUP(K196,lists!$F$2:$G$17,2,FALSE)","v":{"$error":"#N/A"}},null,null,null,{"$f":"VLOOKUP(O196,lists!$A$2:$B$1335,2,FALSE)","v":{"$error":"#N/A"}},null,"",{"$f":"VLOOKUP(R196,lists!$A$2:$B$575,2,FALSE)","v":{"$error":"#N/A"}}]
[null,null,{"$f":"VLOOKUP(B197,lists!$F$2:$G$17,2,FALSE)","v":{"$error":"#N/A"}},null,null,null,null,null,"",{"$f":"VLOOKUP(I197,lists!$A$2:$B$1335,2,FALSE)","v":{"$error":"#N/A"}},null,{"$f":"VLOOKUP(K197,lists!$F$2:$G$17,2,FALSE)","v":{"$error":"#N/A"}},null,null,null,{"$f":"VLOOKUP(O197,lists!$A$2:$B$1335,2,FALSE)","v":{"$error":"#N/A"}},null,"",{"$f":"VLOOKUP(R197,lists!$A$2:$B$575,2,FALSE)","v":{"$error":"#N/A"}}]
[null,null,{"$f":"VLOOKUP(B198,lists!$F$2:$G$17,2,FALSE)","v":{"$error":"#N/A"}},null,null,null,null,null,"",{"$f":"VLOOKUP(I198,lists!$A$2:$B$1335,2,FALSE)","v":{"$error":"#N/A"}},null,{"$f":"VLOOKUP(K198,lists!$F$2:$G$17,2,FALSE)","v":{"$error":"#N/A"}},null,null,null,{"$f":"VLOOKUP(O198,lists!$A$2:$B$1335,2,FALSE)","v":{"$error":"#N/A"}},null,"",{"$f":"VLOOKUP(R198,lists!$A$2:$B$575,2,FALSE)","v":{"$error":"#N/A"}}]
[null,null,{"$f":"VLOOKUP(B199,lists!$F$2:$G$17,2,FALSE)","v":{"$error":"#N/A"}},null,null,null,null,null,"",{"$f":"VLOOKUP(I199,lists!$A$2:$B$1335,2,FALSE)","v":{"$error":"#N/A"}},null,{"$f":"VLOOKUP(K199,lists!$F$2:$G$17,2,FALSE)","v":{"$error":"#N/A"}},null,null,null,{"$f":"VLOOKUP(O199,lists!$A$2:$B$1335,2,FALSE)","v":{"$error":"#N/A"}},null,"",{"$f":"VLOOKUP(R199,lists!$A$2:$B$575,2,FALSE)","v":{"$error":"#N/A"}}]
[null,null,{"$f":"VLOOKUP(B200,lists!$F$2:$G$17,2,FALSE)","v":{"$error":"#N/A"}},null,null,null,null,null,"",{"$f":"VLOOKUP(I200,lists!$A$2:$B$1335,2,FALSE)","v":{"$error":"#N/A"}},null,{"$f":"VLOOKUP(K200,lists!$F$2:$G$17,2,FALSE)","v":{"$error":"#N/A"}},null,null,null,{"$f":"VLOOKUP(O200,lists!$A$2:$B$1335,2,FALSE)","v":{"$error":"#N/A"}},null,"",{"$f":"VLOOKUP(R200,lists!$A$2:$B$575,2,FALSE)","v":{"$error":"#N/A"}}]
[null,null,{"$f":"VLOOKUP(B201,lists!$F$2:$G$17,2,FALSE)","v":{"$error":"#N/A"}},null,null,null,null,null,"",{"$f":"VLOOKUP(I201,lists!$A$2:$B$1335,2,FALSE)","v":{"$error":"#N/A"}},null,{"$f":"VLOOKUP(K201,lists!$F$2:$G$17,2,FALSE)","v":{"$error":"#N/A"}},null,null,null,{"$f":"VLOOKUP(O201,lists!$A$2:$B$1335,2,FALSE)","v":{"$error":"#N/A"}},null,"",{"$f":"VLOOKUP(R201,lists!$A$2:$B$575,2,FALSE)","v":{"$error":"#N/A"}}]
[null,null,{"$f":"VLOOKUP(B202,lists!$F$2:$G$17,2,FALSE)","v":{"$error":"#N/A"}},null,null,null,null,null,"",{"$f":"VLOOKUP(I202,lists!$A$2:$B$1335,2,FALSE)","v":{"$error":"#N/A"}},null,{"$f":"VLOOKUP(K202,lists!$F$2:$G$17,2,FALSE)","v":{"$error":"#N/A"}},null,null,null,{"$f":"VLOOKUP(O202,lists!$A$2:$B$1335,2,FALSE)","v":{"$error":"#N/A"}},null,"",{"$f":"VLOOKUP(R202,lists!$A$2:$B$575,2,FALSE)","v":{"$error":"#N/A"}}]
[null,null,{"$f":"VLOOKUP(B203,lists!$F$2:$G$17,2,FALSE)","v":{"$error":"#N/A"}},null,null,null,null,null,"",{"$f":"VLOOKUP(I203,lists!$A$2:$B$1335,2,FALSE)","v":{"$error":"#N/A"}},null,{"$f":"VLOOKUP(K203,lists!$F$2:$G$17,2,FALSE)","v":{"$error":"#N/A"}},null,null,null,{"$f":"VLOOKUP(O203,lists!$A$2:$B$1335,2,FALSE)","v":{"$error":"#N/A"}},null,"",{"$f":"VLOOKUP(R203,lists!$A$2:$B$575,2,FALSE)","v":{"$error":"#N/A"}}]
[null,null,{"$f":"VLOOKUP(B204,lists!$F$2:$G$17,2,FALSE)","v":{"$error":"#N/A"}},null,null,null,null,null,"",{"$f":"VLOOKUP(I204,lists!$A$2:$B$1335,2,FALSE)","v":{"$error":"#N/A"}},null,{"$f":"VLOOKUP(K204,lists!$F$2:$G$17,2,FALSE)","v":{"$error":"#N/A"}},null,null,null,{"$f":"VLOOKUP(O204,lists!$A$2:$B$1335,2,FALSE)","v":{"$error":"#N/A"}},null,"",{"$f":"VLOOKUP(R204,lists!$A$2:$B$575,2,FALSE)","v":{"$error":"#N/A"}}]
[null,null,{"$f":"VLOOKUP(B205,lists!$F$2:$G$17,2,FALSE)","v":{"$error":"#N/A"}},null,null,null,null,null,"",{"$f":"VLOOKUP(I205,lists!$A$2:$B$1335,2,FALSE)","v":{"$error":"#N/A"}},null,{"$f":"VLOOKUP(K205,lists!$F$2:$G$17,2,FALSE)","v":{"$error":"#N/A"}},null,null,null,{"$f":"VLOOKUP(O205,lists!$A$2:$B$1335,2,FALSE)","v":{"$error":"#N/A"}},null,"",{"$f":"VLOOKUP(R205,lists!$A$2:$B$575,2,FALSE)","v":{"$error":"#N/A"}}]
[null,null,{"$f":"VLOOKUP(B206,lists!$F$2:$G$17,2,FALSE)","v":{"$error":"#N/A"}},null,null,null,null,null,"",{"$f":"VLOOKUP(I206,lists!$A$2:$B$1335,2,FALSE)","v":{"$error":"#N/A"}},null,{"$f":"VLOOKUP(K206,lists!$F$2:$G$17,2,FALSE)","v":{"$error":"#N/A"}},null,null,null,{"$f":"VLOOKUP(O206,lists!$A$2:$B$1335,2,FALSE)","v":{"$error":"#N/A"}},null,"",{"$f":"VLOOKUP(R206,lists!$A$2:$B$575,2,FALSE)","v":{"$error":"#N/A"}}]
[null,null,{"$f":"VLOOKUP(B207,lists!$F$2:$G$17,2,FALSE)","v":{"$error":"#N/A"}},null,null,null,null,null,"",{"$f":"VLOOKUP(I207,lists!$A$2:$B$1335,2,FALSE)","v":{"$error":"#N/A"}},null,{"$f":"VLOOKUP(K207,lists!$F$2:$G$17,2,FALSE)","v":{"$error":"#N/A"}},null,null,null,{"$f":"VLOOKUP(O207,lists!$A$2:$B$1335,2,FALSE)","v":{"$error":"#N/A"}},null,"",{"$f":"VLOOKUP(R207,lists!$A$2:$B$575,2,FALSE)","v":{"$error":"#N/A"}}]
[null,null,{"$f":"VLOOKUP(B208,lists!$F$2:$G$17,2,FALSE)","v":{"$error":"#N/A"}},null,null,null,null,null,"",{"$f":"VLOOKUP(I208,lists!$A$2:$B$1335,2,FALSE)","v":{"$error":"#N/A"}},null,{"$f":"VLOOKUP(K208,lists!$F$2:$G$17,2,FALSE)","v":{"$error":"#N/A"}},null,null,null,{"$f":"VLOOKUP(O208,lists!$A$2:$B$1335,2,FALSE)","v":{"$error":"#N/A"}},null,"",{"$f":"VLOOKUP(R208,lists!$A$2:$B$575,2,FALSE)","v":{"$error":"#N/A"}}]
[null,null,{"$f":"VLOOKUP(B209,lists!$F$2:$G$17,2,FALSE)","v":{"$error":"#N/A"}},null,null,null,null,null,"",{"$f":"VLOOKUP(I209,lists!$A$2:$B$1335,2,FALSE)","v":{"$error":"#N/A"}},null,{"$f":"VLOOKUP(K209,lists!$F$2:$G$17,2,FALSE)","v":{"$error":"#N/A"}},null,null,null,{"$f":"VLOOKUP(O209,lists!$A$2:$B$1335,2,FALSE)","v":{"$error":"#N/A"}},null,"",{"$f":"VLOOKUP(R209,lists!$A$2:$B$575,2,FALSE)","v":{"$error":"#N/A"}}]
[null,null,{"$f":"VLOOKUP(B210,lists!$F$2:$G$17,2,FALSE)","v":{"$error":"#N/A"}},null,null,null,null,null,"",{"$f":"VLOOKUP(I210,lists!$A$2:$B$1335,2,FALSE)","v":{"$error":"#N/A"}},null,{"$f":"VLOOKUP(K210,lists!$F$2:$G$17,2,FALSE)","v":{"$error":"#N/A"}},null,null,null,{"$f":"VLOOKUP(O210,lists!$A$2:$B$1335,2,FALSE)","v":{"$error":"#N/A"}},null,"",{"$f":"VLOOKUP(R210,lists!$A$2:$B$575,2,FALSE)","v":{"$error":"#N/A"}}]
[null,null,{"$f":"VLOOKUP(B211,lists!$F$2:$G$17,2,FALSE)","v":{"$error":"#N/A"}},null,null,null,null,null,"",{"$f":"VLOOKUP(I211,lists!$A$2:$B$1335,2,FALSE)","v":{"$error":"#N/A"}},null,{"$f":"VLOOKUP(K211,lists!$F$2:$G$17,2,FALSE)","v":{"$error":"#N/A"}},null,null,null,{"$f":"VLOOKUP(O211,lists!$A$2:$B$1335,2,FALSE)","v":{"$error":"#N/A"}},null,"",{"$f":"VLOOKUP(R211,lists!$A$2:$B$575,2,FALSE)","v":{"$error":"#N/A"}}]
[null,null,{"$f":"VLOOKUP(B212,lists!$F$2:$G$17,2,FALSE)","v":{"$error":"#N/A"}},null,null,null,null,null,"",{"$f":"VLOOKUP(I212,lists!$A$2:$B$1335,2,FALSE)","v":{"$error":"#N/A"}},null,{"$f":"VLOOKUP(K212,lists!$F$2:$G$17,2,FALSE)","v":{"$error":"#N/A"}},null,null,null,{"$f":"VLOOKUP(O212,lists!$A$2:$B$1335,2,FALSE)","v":{"$error":"#N/A"}},null,"",{"$f":"VLOOKUP(R212,lists!$A$2:$B$575,2,FALSE)","v":{"$error":"#N/A"}}]
[null,null,{"$f":"VLOOKUP(B213,lists!$F$2:$G$17,2,FALSE)","v":{"$error":"#N/A"}},null,null,null,null,null,"",{"$f":"VLOOKUP(I213,lists!$A$2:$B$1335,2,FALSE)","v":{"$error":"#N/A"}},null,{"$f":"VLOOKUP(K213,lists!$F$2:$G$17,2,FALSE)","v":{"$error":"#N/A"}},null,null,null,{"$f":"VLOOKUP(O213,lists!$A$2:$B$1335,2,FALSE)","v":{"$error":"#N/A"}},null,"",{"$f":"VLOOKUP(R213,lists!$A$2:$B$575,2,FALSE)","v":{"$error":"#N/A"}}]
[null,null,{"$f":"VLOOKUP(B214,lists!$F$2:$G$17,2,FALSE)","v":{"$error":"#N/A"}},null,null,null,null,null,"",{"$f":"VLOOKUP(I214,lists!$A$2:$B$1335,2,FALSE)","v":{"$error":"#N/A"}},null,{"$f":"VLOOKUP(K214,lists!$F$2:$G$17,2,FALSE)","v":{"$error":"#N/A"}},null,null,null,{"$f":"VLOOKUP(O214,lists!$A$2:$B$1335,2,FALSE)","v":{"$error":"#N/A"}},null,"",{"$f":"VLOOKUP(R214,lists!$A$2:$B$575,2,FALSE)","v":{"$error":"#N/A"}}]
[null,null,{"$f":"VLOOKUP(B215,lists!$F$2:$G$17,2,FALSE)","v":{"$error":"#N/A"}},null,null,null,null,null,"",{"$f":"VLOOKUP(I215,lists!$A$2:$B$1335,2,FALSE)","v":{"$error":"#N/A"}},null,{"$f":"VLOOKUP(K215,lists!$F$2:$G$17,2,FALSE)","v":{"$error":"#N/A"}},null,null,null,{"$f":"VLOOKUP(O215,lists!$A$2:$B$1335,2,FALSE)","v":{"$error":"#N/A"}},null,"",{"$f":"VLOOKUP(R215,lists!$A$2:$B$575,2,FALSE)","v":{"$error":"#N/A"}}]
[null,null,{"$f":"VLOOKUP(B216,lists!$F$2:$G$17,2,FALSE)","v":{"$error":"#N/A"}},null,null,null,null,null,"",{"$f":"VLOOKUP(I216,lists!$A$2:$B$1335,2,FALSE)","v":{"$error":"#N/A"}},null,{"$f":"VLOOKUP(K216,lists!$F$2:$G$17,2,FALSE)","v":{"$error":"#N/A"}},null,null,null,{"$f":"VLOOKUP(O216,lists!$A$2:$B$1335,2,FALSE)","v":{"$error":"#N/A"}},null,"",{"$f":"VLOOKUP(R216,lists!$A$2:$B$575,2,FALSE)","v":{"$error":"#N/A"}}]
[null,null,{"$f":"VLOOKUP(B217,lists!$F$2:$G$17,2,FALSE)","v":{"$error":"#N/A"}},null,null,null,null,null,"",{"$f":"VLOOKUP(I217,lists!$A$2:$B$1335,2,FALSE)","v":{"$error":"#N/A"}},null,{"$f":"VLOOKUP(K217,lists!$F$2:$G$17,2,FALSE)","v":{"$error":"#N/A"}},null,null,null,{"$f":"VLOOKUP(O217,lists!$A$2:$B$1335,2,FALSE)","v":{"$error":"#N/A"}},null,"",{"$f":"VLOOKUP(R217,lists!$A$2:$B$575,2,FALSE)","v":{"$error":"#N/A"}}]
[null,null,{"$f":"VLOOKUP(B218,lists!$F$2:$G$17,2,FALSE)","v":{"$error":"#N/A"}},null,null,null,null,null,"",{"$f":"VLOOKUP(I218,lists!$A$2:$B$1335,2,FALSE)","v":{"$error":"#N/A"}},null,{"$f":"VLOOKUP(K218,lists!$F$2:$G$17,2,FALSE)","v":{"$error":"#N/A"}},null,null,null,{"$f":"VLOOKUP(O218,lists!$A$2:$B$1335,2,FALSE)","v":{"$error":"#N/A"}},null,"",{"$f":"VLOOKUP(R218,lists!$A$2:$B$575,2,FALSE)","v":{"$error":"#N/A"}}]
[null,null,{"$f":"VLOOKUP(B219,lists!$F$2:$G$17,2,FALSE)","v":{"$error":"#N/A"}},null,null,null,null,null,"",{"$f":"VLOOKUP(I219,lists!$A$2:$B$1335,2,FALSE)","v":{"$error":"#N/A"}},null,{"$f":"VLOOKUP(K219,lists!$F$2:$G$17,2,FALSE)","v":{"$error":"#N/A"}},null,null,null,{"$f":"VLOOKUP(O219,lists!$A$2:$B$1335,2,FALSE)","v":{"$error":"#N/A"}},null,"",{"$f":"VLOOKUP(R219,lists!$A$2:$B$575,2,FALSE)","v":{"$error":"#N/A"}}]
[null,null,{"$f":"VLOOKUP(B220,lists!$F$2:$G$17,2,FALSE)","v":{"$error":"#N/A"}},null,null,null,null,null,"",{"$f":"VLOOKUP(I220,lists!$A$2:$B$1335,2,FALSE)","v":{"$error":"#N/A"}},null,{"$f":"VLOOKUP(K220,lists!$F$2:$G$17,2,FALSE)","v":{"$error":"#N/A"}},null,null,null,{"$f":"VLOOKUP(O220,lists!$A$2:$B$1335,2,FALSE)","v":{"$error":"#N/A"}},null,"",{"$f":"VLOOKUP(R220,lists!$A$2:$B$575,2,FALSE)","v":{"$error":"#N/A"}}]
[null,null,{"$f":"VLOOKUP(B221,lists!$F$2:$G$17,2,FALSE)","v":{"$error":"#N/A"}},null,null,null,null,null,"",{"$f":"VLOOKUP(I221,lists!$A$2:$B$1335,2,FALSE)","v":{"$error":"#N/A"}},null,{"$f":"VLOOKUP(K221,lists!$F$2:$G$17,2,FALSE)","v":{"$error":"#N/A"}},null,null,null,{"$f":"VLOOKUP(O221,lists!$A$2:$B$1335,2,FALSE)","v":{"$error":"#N/A"}},null,"",{"$f":"VLOOKUP(R221,lists!$A$2:$B$575,2,FALSE)","v":{"$error":"#N/A"}}]
[null,null,{"$f":"VLOOKUP(B222,lists!$F$2:$G$17,2,FALSE)","v":{"$error":"#N/A"}},null,null,null,null,null,"",{"$f":"VLOOKUP(I222,lists!$A$2:$B$1335,2,FALSE)","v":{"$error":"#N/A"}},null,{"$f":"VLOOKUP(K222,lists!$F$2:$G$17,2,FALSE)","v":{"$error":"#N/A"}},null,null,null,{"$f":"VLOOKUP(O222,lists!$A$2:$B$1335,2,FALSE)","v":{"$error":"#N/A"}},null,"",{"$f":"VLOOKUP(R222,lists!$A$2:$B$575,2,FALSE)","v":{"$error":"#N/A"}}]
[null,null,{"$f":"VLOOKUP(B223,lists!$F$2:$G$17,2,FALSE)","v":{"$error":"#N/A"}},null,null,null,null,null,"",{"$f":"VLOOKUP(I223,lists!$A$2:$B$1335,2,FALSE)","v":{"$error":"#N/A"}},null,{"$f":"VLOOKUP(K223,lists!$F$2:$G$17,2,FALSE)","v":{"$error":"#N/A"}},null,null,null,{"$f":"VLOOKUP(O223,lists!$A$2:$B$1335,2,FALSE)","v":{"$error":"#N/A"}},null,"",{"$f":"VLOOKUP(R223,lists!$A$2:$B$575,2,FALSE)","v":{"$error":"#N/A"}}]
[null,null,{"$f":"VLOOKUP(B224,lists!$F$2:$G$17,2,FALSE)","v":{"$error":"#N/A"}},null,null,null,null,null,"",{"$f":"VLOOKUP(I224,lists!$A$2:$B$1335,2,FALSE)","v":{"$error":"#N/A"}},null,{"$f":"VLOOKUP(K224,lists!$F$2:$G$17,2,FALSE)","v":{"$error":"#N/A"}},null,null,null,{"$f":"VLOOKUP(O224,lists!$A$2:$B$1335,2,FALSE)","v":{"$error":"#N/A"}},null,"",{"$f":"VLOOKUP(R224,lists!$A$2:$B$575,2,FALSE)","v":{"$error":"#N/A"}}]
[null,null,{"$f":"VLOOKUP(B225,lists!$F$2:$G$17,2,FALSE)","v":{"$error":"#N/A"}},null,null,null,null,null,"",{"$f":"VLOOKUP(I225,lists!$A$2:$B$1335,2,FALSE)","v":{"$error":"#N/A"}},null,{"$f":"VLOOKUP(K225,lists!$F$2:$G$17,2,FALSE)","v":{"$error":"#N/A"}},null,null,null,{"$f":"VLOOKUP(O225,lists!$A$2:$B$1335,2,FALSE)","v":{"$error":"#N/A"}},null,"",{"$f":"VLOOKUP(R225,lists!$A$2:$B$575,2,FALSE)","v":{"$error":"#N/A"}}]
[null,null,{"$f":"VLOOKUP(B226,lists!$F$2:$G$17,2,FALSE)","v":{"$error":"#N/A"}},null,null,null,null,null,"",{"$f":"VLOOKUP(I226,lists!$A$2:$B$1335,2,FALSE)","v":{"$error":"#N/A"}},null,{"$f":"VLOOKUP(K226,lists!$F$2:$G$17,2,FALSE)","v":{"$error":"#N/A"}},null,null,null,{"$f":"VLOOKUP(O226,lists!$A$2:$B$1335,2,FALSE)","v":{"$error":"#N/A"}},null,"",{"$f":"VLOOKUP(R226,lists!$A$2:$B$575,2,FALSE)","v":{"$error":"#N/A"}}]
[null,null,{"$f":"VLOOKUP(B227,lists!$F$2:$G$17,2,FALSE)","v":{"$error":"#N/A"}},null,null,null,null,null,"",{"$f":"VLOOKUP(I227,lists!$A$2:$B$1335,2,FALSE)","v":{"$error":"#N/A"}},null,{"$f":"VLOOKUP(K227,lists!$F$2:$G$17,2,FALSE)","v":{"$error":"#N/A"}},null,null,null,{"$f":"VLOOKUP(O227,lists!$A$2:$B$1335,2,FALSE)","v":{"$error":"#N/A"}},null,"",{"$f":"VLOOKUP(R227,lists!$A$2:$B$575,2,FALSE)","v":{"$error":"#N/A"}}]
[null,null,{"$f":"VLOOKUP(B228,lists!$F$2:$G$17,2,FALSE)","v":{"$error":"#N/A"}},null,null,null,null,null,"",{"$f":"VLOOKUP(I228,lists!$A$2:$B$1335,2,FALSE)","v":{"$error":"#N/A"}},null,{"$f":"VLOOKUP(K228,lists!$F$2:$G$17,2,FALSE)","v":{"$error":"#N/A"}},null,null,null,{"$f":"VLOOKUP(O228,lists!$A$2:$B$1335,2,FALSE)","v":{"$error":"#N/A"}},null,"",{"$f":"VLOOKUP(R228,lists!$A$2:$B$575,2,FALSE)","v":{"$error":"#N/A"}}]
[null,null,{"$f":"VLOOKUP(B229,lists!$F$2:$G$17,2,FALSE)","v":{"$error":"#N/A"}},null,null,null,null,null,"",{"$f":"VLOOKUP(I229,lists!$A$2:$B$1335,2,FALSE)","v":{"$error":"#N/A"}},null,{"$f":"VLOOKUP(K229,lists!$F$2:$G$17,2,FALSE)","v":{"$error":"#N/A"}},null,null,null,{"$f":"VLOOKUP(O229,lists!$A$2:$B$1335,2,FALSE)","v":{"$error":"#N/A"}},null,"",{"$f":"VLOOKUP(R229,lists!$A$2:$B$575,2,FALSE)","v":{"$error":"#N/A"}}]
[null,null,{"$f":"VLOOKUP(B230,lists!$F$2:$G$17,2,FALSE)","v":{"$error":"#N/A"}},null,null,null,null,null,"",{"$f":"VLOOKUP(I230,lists!$A$2:$B$1335,2,FALSE)","v":{"$error":"#N/A"}},null,{"$f":"VLOOKUP(K230,lists!$F$2:$G$17,2,FALSE)","v":{"$error":"#N/A"}},null,null,null,{"$f":"VLOOKUP(O230,lists!$A$2:$B$1335,2,FALSE)","v":{"$error":"#N/A"}},null,"",{"$f":"VLOOKUP(R230,lists!$A$2:$B$575,2,FALSE)","v":{"$error":"#N/A"}}]
[null,null,{"$f":"VLOOKUP(B231,lists!$F$2:$G$17,2,FALSE)","v":{"$error":"#N/A"}},null,null,null,null,null,"",{"$f":"VLOOKUP(I231,lists!$A$2:$B$1335,2,FALSE)","v":{"$error":"#N/A"}},null,{"$f":"VLOOKUP(K231,lists!$F$2:$G$17,2,FALSE)","v":{"$error":"#N/A"}},null,null,null,{"$f":"VLOOKUP(O231,lists!$A$2:$B$1335,2,FALSE)","v":{"$error":"#N/A"}},null,"",{"$f":"VLOOKUP(R231,lists!$A$2:$B$575,2,FALSE)","v":{"$error":"#N/A"}}]
[null,null,{"$f":"VLOOKUP(B232,lists!$F$2:$G$17,2,FALSE)","v":{"$error":"#N/A"}},null,null,null,null,null,"",{"$f":"VLOOKUP(I232,lists!$A$2:$B$1335,2,FALSE)","v":{"$error":"#N/A"}},null,{"$f":"VLOOKUP(K232,lists!$F$2:$G$17,2,FALSE)","v":{"$error":"#N/A"}},null,null,null,{"$f":"VLOOKUP(O232,lists!$A$2:$B$1335,2,FALSE)","v":{"$error":"#N/A"}},null,"",{"$f":"VLOOKUP(R232,lists!$A$2:$B$575,2,FALSE)","v":{"$error":"#N/A"}}]
[null,null,{"$f":"VLOOKUP(B233,lists!$F$2:$G$17,2,FALSE)","v":{"$error":"#N/A"}},null,null,null,null,null,"",{"$f":"VLOOKUP(I233,lists!$A$2:$B$1335,2,FALSE)","v":{"$error":"#N/A"}},null,{"$f":"VLOOKUP(K233,lists!$F$2:$G$17,2,FALSE)","v":{"$error":"#N/A"}},null,null,null,{"$f":"VLOOKUP(O233,lists!$A$2:$B$1335,2,FALSE)","v":{"$error":"#N/A"}},null,"",{"$f":"VLOOKUP(R233,lists!$A$2:$B$575,2,FALSE)","v":{"$error":"#N/A"}}]
[null,null,{"$f":"VLOOKUP(B234,lists!$F$2:$G$17,2,FALSE)","v":{"$error":"#N/A"}},null,null,null,null,null,"",{"$f":"VLOOKUP(I234,lists!$A$2:$B$1335,2,FALSE)","v":{"$error":"#N/A"}},null,{"$f":"VLOOKUP(K234,lists!$F$2:$G$17,2,FALSE)","v":{"$error":"#N/A"}},null,null,null,{"$f":"VLOOKUP(O234,lists!$A$2:$B$1335,2,FALSE)","v":{"$error":"#N/A"}},null,"",{"$f":"VLOOKUP(R234,lists!$A$2:$B$575,2,FALSE)","v":{"$error":"#N/A"}}]
[null,null,{"$f":"VLOOKUP(B235,lists!$F$2:$G$17,2,FALSE)","v":{"$error":"#N/A"}},null,null,null,null,null,"",{"$f":"VLOOKUP(I235,lists!$A$2:$B$1335,2,FALSE)","v":{"$error":"#N/A"}},null,{"$f":"VLOOKUP(K235,lists!$F$2:$G$17,2,FALSE)","v":{"$error":"#N/A"}},null,null,null,{"$f":"VLOOKUP(O235,lists!$A$2:$B$1335,2,FALSE)","v":{"$error":"#N/A"}},null,"",{"$f":"VLOOKUP(R235,lists!$A$2:$B$575,2,FALSE)","v":{"$error":"#N/A"}}]
[null,null,{"$f":"VLOOKUP(B236,lists!$F$2:$G$17,2,FALSE)","v":{"$error":"#N/A"}},null,null,null,null,null,"",{"$f":"VLOOKUP(I236,lists!$A$2:$B$1335,2,FALSE)","v":{"$error":"#N/A"}},null,{"$f":"VLOOKUP(K236,lists!$F$2:$G$17,2,FALSE)","v":{"$error":"#N/A"}},null,null,null,{"$f":"VLOOKUP(O236,lists!$A$2:$B$1335,2,FALSE)","v":{"$error":"#N/A"}},null,"",{"$f":"VLOOKUP(R236,lists!$A$2:$B$575,2,FALSE)","v":{"$error":"#N/A"}}]
[null,null,{"$f":"VLOOKUP(B237,lists!$F$2:$G$17,2,FALSE)","v":{"$error":"#N/A"}},null,null,null,null,null,"",{"$f":"VLOOKUP(I237,lists!$A$2:$B$1335,2,FALSE)","v":{"$error":"#N/A"}},null,{"$f":"VLOOKUP(K237,lists!$F$2:$G$17,2,FALSE)","v":{"$error":"#N/A"}},null,null,null,{"$f":"VLOOKUP(O237,lists!$A$2:$B$1335,2,FALSE)","v":{"$error":"#N/A"}},null,"",{"$f":"VLOOKUP(R237,lists!$A$2:$B$575,2,FALSE)","v":{"$error":"#N/A"}}]
[null,null,{"$f":"VLOOKUP(B238,lists!$F$2:$G$17,2,FALSE)","v":{"$error":"#N/A"}},null,null,null,null,null,"",{"$f":"VLOOKUP(I238,lists!$A$2:$B$1335,2,FALSE)","v":{"$error":"#N/A"}},null,{"$f":"VLOOKUP(K238,lists!$F$2:$G$17,2,FALSE)","v":{"$error":"#N/A"}},null,null,null,{"$f":"VLOOKUP(O238,lists!$A$2:$B$1335,2,FALSE)","v":{"$error":"#N/A"}},null,"",{"$f":"VLOOKUP(R238,lists!$A$2:$B$575,2,FALSE)","v":{"$error":"#N/A"}}]
[null,null,{"$f":"VLOOKUP(B239,lists!$F$2:$G$17,2,FALSE)","v":{"$error":"#N/A"}},null,null,null,null,null,"",{"$f":"VLOOKUP(I239,lists!$A$2:$B$1335,2,FALSE)","v":{"$error":"#N/A"}},null,{"$f":"VLOOKUP(K239,lists!$F$2:$G$17,2,FALSE)","v":{"$error":"#N/A"}},null,null,null,{"$f":"VLOOKUP(O239,lists!$A$2:$B$1335,2,FALSE)","v":{"$error":"#N/A"}},null,"",{"$f":"VLOOKUP(R239,lists!$A$2:$B$575,2,FALSE)","v":{"$error":"#N/A"}}]
[null,null,{"$f":"VLOOKUP(B240,lists!$F$2:$G$17,2,FALSE)","v":{"$error":"#N/A"}},null,null,null,null,null,"",{"$f":"VLOOKUP(I240,lists!$A$2:$B$1335,2,FALSE)","v":{"$error":"#N/A"}},null,{"$f":"VLOOKUP(K240,lists!$F$2:$G$17,2,FALSE)","v":{"$error":"#N/A"}},null,null,null,{"$f":"VLOOKUP(O240,lists!$A$2:$B$1335,2,FALSE)","v":{"$error":"#N/A"}},null,"",{"$f":"VLOOKUP(R240,lists!$A$2:$B$575,2,FALSE)","v":{"$error":"#N/A"}}]
[null,null,{"$f":"VLOOKUP(B241,lists!$F$2:$G$17,2,FALSE)","v":{"$error":"#N/A"}},null,null,null,null,null,"",{"$f":"VLOOKUP(I241,lists!$A$2:$B$1335,2,FALSE)","v":{"$error":"#N/A"}},null,{"$f":"VLOOKUP(K241,lists!$F$2:$G$17,2,FALSE)","v":{"$error":"#N/A"}},null,null,null,{"$f":"VLOOKUP(O241,lists!$A$2:$B$1335,2,FALSE)","v":{"$error":"#N/A"}},null,"",{"$f":"VLOOKUP(R241,lists!$A$2:$B$575,2,FALSE)","v":{"$error":"#N/A"}}]
[null,null,{"$f":"VLOOKUP(B242,lists!$F$2:$G$17,2,FALSE)","v":{"$error":"#N/A"}},null,null,null,null,null,"",{"$f":"VLOOKUP(I242,lists!$A$2:$B$1335,2,FALSE)","v":{"$error":"#N/A"}},null,{"$f":"VLOOKUP(K242,lists!$F$2:$G$17,2,FALSE)","v":{"$error":"#N/A"}},null,null,null,{"$f":"VLOOKUP(O242,lists!$A$2:$B$1335,2,FALSE)","v":{"$error":"#N/A"}},null,"",{"$f":"VLOOKUP(R242,lists!$A$2:$B$575,2,FALSE)","v":{"$error":"#N/A"}}]
[null,null,{"$f":"VLOOKUP(B243,lists!$F$2:$G$17,2,FALSE)","v":{"$error":"#N/A"}},null,null,null,null,null,"",{"$f":"VLOOKUP(I243,lists!$A$2:$B$1335,2,FALSE)","v":{"$error":"#N/A"}},null,{"$f":"VLOOKUP(K243,lists!$F$2:$G$17,2,FALSE)","v":{"$error":"#N/A"}},null,null,null,{"$f":"VLOOKUP(O243,lists!$A$2:$B$1335,2,FALSE)","v":{"$error":"#N/A"}},null,"",{"$f":"VLOOKUP(R243,lists!$A$2:$B$575,2,FALSE)","v":{"$error":"#N/A"}}]
[null,null,{"$f":"VLOOKUP(B244,lists!$F$2:$G$17,2,FALSE)","v":{"$error":"#N/A"}},null,null,null,null,null,"",{"$f":"VLOOKUP(I244,lists!$A$2:$B$1335,2,FALSE)","v":{"$error":"#N/A"}},null,{"$f":"VLOOKUP(K244,lists!$F$2:$G$17,2,FALSE)","v":{"$error":"#N/A"}},null,null,null,{"$f":"VLOOKUP(O244,lists!$A$2:$B$1335,2,FALSE)","v":{"$error":"#N/A"}},null,"",{"$f":"VLOOKUP(R244,lists!$A$2:$B$575,2,FALSE)","v":{"$error":"#N/A"}}]
[null,null,{"$f":"VLOOKUP(B245,lists!$F$2:$G$17,2,FALSE)","v":{"$error":"#N/A"}},null,null,null,null,null,"",{"$f":"VLOOKUP(I245,lists!$A$2:$B$1335,2,FALSE)","v":{"$error":"#N/A"}},null,{"$f":"VLOOKUP(K245,lists!$F$2:$G$17,2,FALSE)","v":{"$error":"#N/A"}},null,null,null,{"$f":"VLOOKUP(O245,lists!$A$2:$B$1335,2,FALSE)","v":{"$error":"#N/A"}},null,"",{"$f":"VLOOKUP(R245,lists!$A$2:$B$575,2,FALSE)","v":{"$error":"#N/A"}}]
[null,null,{"$f":"VLOOKUP(B246,lists!$F$2:$G$17,2,FALSE)","v":{"$error":"#N/A"}},null,null,null,null,null,"",{"$f":"VLOOKUP(I246,lists!$A$2:$B$1335,2,FALSE)","v":{"$error":"#N/A"}},null,{"$f":"VLOOKUP(K246,lists!$F$2:$G$17,2,FALSE)","v":{"$error":"#N/A"}},null,null,null,{"$f":"VLOOKUP(O246,lists!$A$2:$B$1335,2,FALSE)","v":{"$error":"#N/A"}},null,"",{"$f":"VLOOKUP(R246,lists!$A$2:$B$575,2,FALSE)","v":{"$error":"#N/A"}}]
[null,null,{"$f":"VLOOKUP(B247,lists!$F$2:$G$17,2,FALSE)","v":{"$error":"#N/A"}},null,null,null,null,null,"",{"$f":"VLOOKUP(I247,lists!$A$2:$B$1335,2,FALSE)","v":{"$error":"#N/A"}},null,{"$f":"VLOOKUP(K247,lists!$F$2:$G$17,2,FALSE)","v":{"$error":"#N/A"}},null,null,null,{"$f":"VLOOKUP(O247,lists!$A$2:$B$1335,2,FALSE)","v":{"$error":"#N/A"}},null,"",{"$f":"VLOOKUP(R247,lists!$A$2:$B$575,2,FALSE)","v":{"$error":"#N/A"}}]
[null,null,{"$f":"VLOOKUP(B248,lists!$F$2:$G$17,2,FALSE)","v":{"$error":"#N/A"}},null,null,null,null,null,"",{"$f":"VLOOKUP(I248,lists!$A$2:$B$1335,2,FALSE)","v":{"$error":"#N/A"}},null,{"$f":"VLOOKUP(K248,lists!$F$2:$G$17,2,FALSE)","v":{"$error":"#N/A"}},null,null,null,{"$f":"VLOOKUP(O248,lists!$A$2:$B$1335,2,FALSE)","v":{"$error":"#N/A"}},null,"",{"$f":"VLOOKUP(R248,lists!$A$2:$B$575,2,FALSE)","v":{"$error":"#N/A"}}]
[null,null,{"$f":"VLOOKUP(B249,lists!$F$2:$G$17,2,FALSE)","v":{"$error":"#N/A"}},null,null,null,null,null,"",{"$f":"VLOOKUP(I249,lists!$A$2:$B$1335,2,FALSE)","v":{"$error":"#N/A"}},null,{"$f":"VLOOKUP(K249,lists!$F$2:$G$17,2,FALSE)","v":{"$error":"#N/A"}},null,null,null,{"$f":"VLOOKUP(O249,lists!$A$2:$B$1335,2,FALSE)","v":{"$error":"#N/A"}},null,"",{"$f":"VLOOKUP(R249,lists!$A$2:$B$575,2,FALSE)","v":{"$error":"#N/A"}}]
[null,null,{"$f":"VLOOKUP(B250,lists!$F$2:$G$17,2,FALSE)","v":{"$error":"#N/A"}},null,null,null,null,null,"",{"$f":"VLOOKUP(I250,lists!$A$2:$B$1335,2,FALSE)","v":{"$error":"#N/A"}},null,{"$f":"VLOOKUP(K250,lists!$F$2:$G$17,2,FALSE)","v":{"$error":"#N/A"}},null,null,null,{"$f":"VLOOKUP(O250,lists!$A$2:$B$1335,2,FALSE)","v":{"$error":"#N/A"}},null,"",{"$f":"VLOOKUP(R250,lists!$A$2:$B$575,2,FALSE)","v":{"$error":"#N/A"}}]
[null,null,{"$f":"VLOOKUP(B251,lists!$F$2:$G$17,2,FALSE)","v":{"$error":"#N/A"}},null,null,null,null,null,"",{"$f":"VLOOKUP(I251,lists!$A$2:$B$1335,2,FALSE)","v":{"$error":"#N/A"}},null,{"$f":"VLOOKUP(K251,lists!$F$2:$G$17,2,FALSE)","v":{"$error":"#N/A"}},null,null,null,{"$f":"VLOOKUP(O251,lists!$A$2:$B$1335,2,FALSE)","v":{"$error":"#N/A"}},null,"",{"$f":"VLOOKUP(R251,lists!$A$2:$B$575,2,FALSE)","v":{"$error":"#N/A"}}]
[null,null,{"$f":"VLOOKUP(B252,lists!$F$2:$G$17,2,FALSE)","v":{"$error":"#N/A"}},null,null,null,null,null,"",{"$f":"VLOOKUP(I252,lists!$A$2:$B$1335,2,FALSE)","v":{"$error":"#N/A"}},null,{"$f":"VLOOKUP(K252,lists!$F$2:$G$17,2,FALSE)","v":{"$error":"#N/A"}},null,null,null,{"$f":"VLOOKUP(O252,lists!$A$2:$B$1335,2,FALSE)","v":{"$error":"#N/A"}},null,"",{"$f":"VLOOKUP(R252,lists!$A$2:$B$575,2,FALSE)","v":{"$error":"#N/A"}}]
[null,null,{"$f":"VLOOKUP(B253,lists!$F$2:$G$17,2,FALSE)","v":{"$error":"#N/A"}},null,null,null,null,null,"",{"$f":"VLOOKUP(I253,lists!$A$2:$B$1335,2,FALSE)","v":{"$error":"#N/A"}},null,{"$f":"VLOOKUP(K253,lists!$F$2:$G$17,2,FALSE)","v":{"$error":"#N/A"}},null,null,null,{"$f":"VLOOKUP(O253,lists!$A$2:$B$1335,2,FALSE)","v":{"$error":"#N/A"}},null,"",{"$f":"VLOOKUP(R253,lists!$A$2:$B$575,2,FALSE)","v":{"$error":"#N/A"}}]
[null,null,{"$f":"VLOOKUP(B254,lists!$F$2:$G$17,2,FALSE)","v":{"$error":"#N/A"}},null,null,null,null,null,"",{"$f":"VLOOKUP(I254,lists!$A$2:$B$1335,2,FALSE)","v":{"$error":"#N/A"}},null,{"$f":"VLOOKUP(K254,lists!$F$2:$G$17,2,FALSE)","v":{"$error":"#N/A"}},null,null,null,{"$f":"VLOOKUP(O254,lists!$A$2:$B$1335,2,FALSE)","v":{"$error":"#N/A"}},null,"",{"$f":"VLOOKUP(R254,lists!$A$2:$B$575,2,FALSE)","v":{"$error":"#N/A"}}]
[null,null,{"$f":"VLOOKUP(B255,lists!$F$2:$G$17,2,FALSE)","v":{"$error":"#N/A"}},null,null,null,null,null,"",{"$f":"VLOOKUP(I255,lists!$A$2:$B$1335,2,FALSE)","v":{"$error":"#N/A"}},null,{"$f":"VLOOKUP(K255,lists!$F$2:$G$17,2,FALSE)","v":{"$error":"#N/A"}},null,null,null,{"$f":"VLOOKUP(O255,lists!$A$2:$B$1335,2,FALSE)","v":{"$error":"#N/A"}},null,"",{"$f":"VLOOKUP(R255,lists!$A$2:$B$575,2,FALSE)","v":{"$error":"#N/A"}}]
[null,null,{"$f":"VLOOKUP(B256,lists!$F$2:$G$17,2,FALSE)","v":{"$error":"#N/A"}},null,null,null,null,null,"",{"$f":"VLOOKUP(I256,lists!$A$2:$B$1335,2,FALSE)","v":{"$error":"#N/A"}},null,{"$f":"VLOOKUP(K256,lists!$F$2:$G$17,2,FALSE)","v":{"$error":"#N/A"}},null,null,null,{"$f":"VLOOKUP(O256,lists!$A$2:$B$1335,2,FALSE)","v":{"$error":"#N/A"}},null,"",{"$f":"VLOOKUP(R256,lists!$A$2:$B$575,2,FALSE)","v":{"$error":"#N/A"}}]
[null,null,{"$f":"VLOOKUP(B257,lists!$F$2:$G$17,2,FALSE)","v":{"$error":"#N/A"}},null,null,null,null,null,"",{"$f":"VLOOKUP(I257,lists!$A$2:$B$1335,2,FALSE)","v":{"$error":"#N/A"}},null,{"$f":"VLOOKUP(K257,lists!$F$2:$G$17,2,FALSE)","v":{"$error":"#N/A"}},null,null,null,{"$f":"VLOOKUP(O257,lists!$A$2:$B$1335,2,FALSE)","v":{"$error":"#N/A"}},null,"",{"$f":"VLOOKUP(R257,lists!$A$2:$B$575,2,FALSE)","v":{"$error":"#N/A"}}]
[null,null,{"$f":"VLOOKUP(B258,lists!$F$2:$G$17,2,FALSE)","v":{"$error":"#N/A"}},null,null,null,null,null,"",{"$f":"VLOOKUP(I258,lists!$A$2:$B$1335,2,FALSE)","v":{"$error":"#N/A"}},null,{"$f":"VLOOKUP(K258,lists!$F$2:$G$17,2,FALSE)","v":{"$error":"#N/A"}},null,null,null,{"$f":"VLOOKUP(O258,lists!$A$2:$B$1335,2,FALSE)","v":{"$error":"#N/A"}},null,"",{"$f":"VLOOKUP(R258,lists!$A$2:$B$575,2,FALSE)","v":{"$error":"#N/A"}}]
[null,null,{"$f":"VLOOKUP(B259,lists!$F$2:$G$17,2,FALSE)","v":{"$error":"#N/A"}},null,null,null,null,null,"",{"$f":"VLOOKUP(I259,lists!$A$2:$B$1335,2,FALSE)","v":{"$error":"#N/A"}},null,{"$f":"VLOOKUP(K259,lists!$F$2:$G$17,2,FALSE)","v":{"$error":"#N/A"}},null,null,null,{"$f":"VLOOKUP(O259,lists!$A$2:$B$1335,2,FALSE)","v":{"$error":"#N/A"}},null,"",{"$f":"VLOOKUP(R259,lists!$A$2:$B$575,2,FALSE)","v":{"$error":"#N/A"}}]
[null,null,{"$f":"VLOOKUP(B260,lists!$F$2:$G$17,2,FALSE)","v":{"$error":"#N/A"}},null,null,null,null,null,"",{"$f":"VLOOKUP(I260,lists!$A$2:$B$1335,2,FALSE)","v":{"$error":"#N/A"}},null,{"$f":"VLOOKUP(K260,lists!$F$2:$G$17,2,FALSE)","v":{"$error":"#N/A"}},null,null,null,{"$f":"VLOOKUP(O260,lists!$A$2:$B$1335,2,FALSE)","v":{"$error":"#N/A"}},null,"",{"$f":"VLOOKUP(R260,lists!$A$2:$B$575,2,FALSE)","v":{"$error":"#N/A"}}]
[null,null,{"$f":"VLOOKUP(B261,lists!$F$2:$G$17,2,FALSE)","v":{"$error":"#N/A"}},null,null,null,null,null,"",{"$f":"VLOOKUP(I261,lists!$A$2:$B$1335,2,FALSE)","v":{"$error":"#N/A"}},null,{"$f":"VLOOKUP(K261,lists!$F$2:$G$17,2,FALSE)","v":{"$error":"#N/A"}},null,null,null,{"$f":"VLOOKUP(O261,lists!$A$2:$B$1335,2,FALSE)","v":{"$error":"#N/A"}},null,"",{"$f":"VLOOKUP(R261,lists!$A$2:$B$575,2,FALSE)","v":{"$error":"#N/A"}}]
[null,null,{"$f":"VLOOKUP(B262,lists!$F$2:$G$17,2,FALSE)","v":{"$error":"#N/A"}},null,null,null,null,null,"",{"$f":"VLOOKUP(I262,lists!$A$2:$B$1335,2,FALSE)","v":{"$error":"#N/A"}},null,{"$f":"VLOOKUP(K262,lists!$F$2:$G$17,2,FALSE)","v":{"$error":"#N/A"}},null,null,null,{"$f":"VLOOKUP(O262,lists!$A$2:$B$1335,2,FALSE)","v":{"$error":"#N/A"}},null,"",{"$f":"VLOOKUP(R262,lists!$A$2:$B$575,2,FALSE)","v":{"$error":"#N/A"}}]
[null,null,{"$f":"VLOOKUP(B263,lists!$F$2:$G$17,2,FALSE)","v":{"$error":"#N/A"}},null,null,null,null,null,"",{"$f":"VLOOKUP(I263,lists!$A$2:$B$1335,2,FALSE)","v":{"$error":"#N/A"}},null,{"$f":"VLOOKUP(K263,lists!$F$2:$G$17,2,FALSE)","v":{"$error":"#N/A"}},null,null,null,{"$f":"VLOOKUP(O263,lists!$A$2:$B$1335,2,FALSE)","v":{"$error":"#N/A"}},null,"",{"$f":"VLOOKUP(R263,lists!$A$2:$B$575,2,FALSE)","v":{"$error":"#N/A"}}]
[null,null,{"$f":"VLOOKUP(B264,lists!$F$2:$G$17,2,FALSE)","v":{"$error":"#N/A"}},null,null,null,null,null,"",{"$f":"VLOOKUP(I264,lists!$A$2:$B$1335,2,FALSE)","v":{"$error":"#N/A"}},null,{"$f":"VLOOKUP(K264,lists!$F$2:$G$17,2,FALSE)","v":{"$error":"#N/A"}},null,null,null,{"$f":"VLOOKUP(O264,lists!$A$2:$B$1335,2,FALSE)","v":{"$error":"#N/A"}},null,"",{"$f":"VLOOKUP(R264,lists!$A$2:$B$575,2,FALSE)","v":{"$error":"#N/A"}}]
[null,null,{"$f":"VLOOKUP(B265,lists!$F$2:$G$17,2,FALSE)","v":{"$error":"#N/A"}},null,null,null,null,null,"",{"$f":"VLOOKUP(I265,lists!$A$2:$B$1335,2,FALSE)","v":{"$error":"#N/A"}},null,{"$f":"VLOOKUP(K265,lists!$F$2:$G$17,2,FALSE)","v":{"$error":"#N/A"}},null,null,null,{"$f":"VLOOKUP(O265,lists!$A$2:$B$1335,2,FALSE)","v":{"$error":"#N/A"}},null,"",{"$f":"VLOOKUP(R265,lists!$A$2:$B$575,2,FALSE)","v":{"$error":"#N/A"}}]
[null,null,{"$f":"VLOOKUP(B266,lists!$F$2:$G$17,2,FALSE)","v":{"$error":"#N/A"}},null,null,null,null,null,"",{"$f":"VLOOKUP(I266,lists!$A$2:$B$1335,2,FALSE)","v":{"$error":"#N/A"}},null,{"$f":"VLOOKUP(K266,lists!$F$2:$G$17,2,FALSE)","v":{"$error":"#N/A"}},null,null,null,{"$f":"VLOOKUP(O266,lists!$A$2:$B$1335,2,FALSE)","v":{"$error":"#N/A"}},null,"",{"$f":"VLOOKUP(R266,lists!$A$2:$B$575,2,FALSE)","v":{"$error":"#N/A"}}]
[null,null,{"$f":"VLOOKUP(B267,lists!$F$2:$G$17,2,FALSE)","v":{"$error":"#N/A"}},null,null,null,null,null,"",{"$f":"VLOOKUP(I267,lists!$A$2:$B$1335,2,FALSE)","v":{"$error":"#N/A"}},null,{"$f":"VLOOKUP(K267,lists!$F$2:$G$17,2,FALSE)","v":{"$error":"#N/A"}},null,null,null,{"$f":"VLOOKUP(O267,lists!$A$2:$B$1335,2,FALSE)","v":{"$error":"#N/A"}},null,"",{"$f":"VLOOKUP(R267,lists!$A$2:$B$575,2,FALSE)","v":{"$error":"#N/A"}}]
[null,null,{"$f":"VLOOKUP(B268,lists!$F$2:$G$17,2,FALSE)","v":{"$error":"#N/A"}},null,null,null,null,null,"",{"$f":"VLOOKUP(I268,lists!$A$2:$B$1335,2,FALSE)","v":{"$error":"#N/A"}},null,{"$f":"VLOOKUP(K268,lists!$F$2:$G$17,2,FALSE)","v":{"$error":"#N/A"}},null,null,null,{"$f":"VLOOKUP(O268,lists!$A$2:$B$1335,2,FALSE)","v":{"$error":"#N/A"}},null,"",{"$f":"VLOOKUP(R268,lists!$A$2:$B$575,2,FALSE)","v":{"$error":"#N/A"}}]
[null,null,{"$f":"VLOOKUP(B269,lists!$F$2:$G$17,2,FALSE)","v":{"$error":"#N/A"}},null,null,null,null,null,"",{"$f":"VLOOKUP(I269,lists!$A$2:$B$1335,2,FALSE)","v":{"$error":"#N/A"}},null,{"$f":"VLOOKUP(K269,lists!$F$2:$G$17,2,FALSE)","v":{"$error":"#N/A"}},null,null,null,{"$f":"VLOOKUP(O269,lists!$A$2:$B$1335,2,FALSE)","v":{"$error":"#N/A"}},null,"",{"$f":"VLOOKUP(R269,lists!$A$2:$B$575,2,FALSE)","v":{"$error":"#N/A"}}]
[null,null,{"$f":"VLOOKUP(B270,lists!$F$2:$G$17,2,FALSE)","v":{"$error":"#N/A"}},null,null,null,null,null,"",{"$f":"VLOOKUP(I270,lists!$A$2:$B$1335,2,FALSE)","v":{"$error":"#N/A"}},null,{"$f":"VLOOKUP(K270,lists!$F$2:$G$17,2,FALSE)","v":{"$error":"#N/A"}},null,null,null,{"$f":"VLOOKUP(O270,lists!$A$2:$B$1335,2,FALSE)","v":{"$error":"#N/A"}},null,"",{"$f":"VLOOKUP(R270,lists!$A$2:$B$575,2,FALSE)","v":{"$error":"#N/A"}}]
[null,null,{"$f":"VLOOKUP(B271,lists!$F$2:$G$17,2,FALSE)","v":{"$error":"#N/A"}},null,null,null,null,null,"",{"$f":"VLOOKUP(I271,lists!$A$2:$B$1335,2,FALSE)","v":{"$error":"#N/A"}},null,{"$f":"VLOOKUP(K271,lists!$F$2:$G$17,2,FALSE)","v":{"$error":"#N/A"}},null,null,null,{"$f":"VLOOKUP(O271,lists!$A$2:$B$1335,2,FALSE)","v":{"$error":"#N/A"}},null,"",{"$f":"VLOOKUP(R271,lists!$A$2:$B$575,2,FALSE)","v":{"$error":"#N/A"}}]
[null,null,{"$f":"VLOOKUP(B272,lists!$F$2:$G$17,2,FALSE)","v":{"$error":"#N/A"}},null,null,null,null,null,"",{"$f":"VLOOKUP(I272,lists!$A$2:$B$1335,2,FALSE)","v":{"$error":"#N/A"}},null,{"$f":"VLOOKUP(K272,lists!$F$2:$G$17,2,FALSE)","v":{"$error":"#N/A"}},null,null,null,{"$f":"VLOOKUP(O272,lists!$A$2:$B$1335,2,FALSE)","v":{"$error":"#N/A"}},null,"",{"$f":"VLOOKUP(R272,lists!$A$2:$B$575,2,FALSE)","v":{"$error":"#N/A"}}]
[null,null,{"$f":"VLOOKUP(B273,lists!$F$2:$G$17,2,FALSE)","v":{"$error":"#N/A"}},null,null,null,null,null,"",{"$f":"VLOOKUP(I273,lists!$A$2:$B$1335,2,FALSE)","v":{"$error":"#N/A"}},null,{"$f":"VLOOKUP(K273,lists!$F$2:$G$17,2,FALSE)","v":{"$error":"#N/A"}},null,null,null,{"$f":"VLOOKUP(O273,lists!$A$2:$B$1335,2,FALSE)","v":{"$error":"#N/A"}},null,"",{"$f":"VLOOKUP(R273,lists!$A$2:$B$575,2,FALSE)","v":{"$error":"#N/A"}}]
[null,null,{"$f":"VLOOKUP(B274,lists!$F$2:$G$17,2,FALSE)","v":{"$error":"#N/A"}},null,null,null,null,null,"",{"$f":"VLOOKUP(I274,lists!$A$2:$B$1335,2,FALSE)","v":{"$error":"#N/A"}},null,{"$f":"VLOOKUP(K274,lists!$F$2:$G$17,2,FALSE)","v":{"$error":"#N/A"}},null,null,null,{"$f":"VLOOKUP(O274,lists!$A$2:$B$1335,2,FALSE)","v":{"$error":"#N/A"}},null,"",{"$f":"VLOOKUP(R274,lists!$A$2:$B$575,2,FALSE)","v":{"$error":"#N/A"}}]
[null,null,{"$f":"VLOOKUP(B275,lists!$F$2:$G$17,2,FALSE)","v":{"$error":"#N/A"}},null,null,null,null,null,"",{"$f":"VLOOKUP(I275,lists!$A$2:$B$1335,2,FALSE)","v":{"$error":"#N/A"}},null,{"$f":"VLOOKUP(K275,lists!$F$2:$G$17,2,FALSE)","v":{"$error":"#N/A"}},null,null,null,{"$f":"VLOOKUP(O275,lists!$A$2:$B$1335,2,FALSE)","v":{"$error":"#N/A"}},null,"",{"$f":"VLOOKUP(R275,lists!$A$2:$B$575,2,FALSE)","v":{"$error":"#N/A"}}]
[null,null,{"$f":"VLOOKUP(B276,lists!$F$2:$G$17,2,FALSE)","v":{"$error":"#N/A"}},null,null,null,null,null,"",{"$f":"VLOOKUP(I276,lists!$A$2:$B$1335,2,FALSE)","v":{"$error":"#N/A"}},null,{"$f":"VLOOKUP(K276,lists!$F$2:$G$17,2,FALSE)","v":{"$error":"#N/A"}},null,null,null,{"$f":"VLOOKUP(O276,lists!$A$2:$B$1335,2,FALSE)","v":{"$error":"#N/A"}},null,"",{"$f":"VLOOKUP(R276,lists!$A$2:$B$575,2,FALSE)","v":{"$error":"#N/A"}}]
[null,null,{"$f":"VLOOKUP(B277,lists!$F$2:$G$17,2,FALSE)","v":{"$error":"#N/A"}},null,null,null,null,null,"",{"$f":"VLOOKUP(I277,lists!$A$2:$B$1335,2,FALSE)","v":{"$error":"#N/A"}},null,{"$f":"VLOOKUP(K277,lists!$F$2:$G$17,2,FALSE)","v":{"$error":"#N/A"}},null,null,null,{"$f":"VLOOKUP(O277,lists!$A$2:$B$1335,2,FALSE)","v":{"$error":"#N/A"}},null,"",{"$f":"VLOOKUP(R277,lists!$A$2:$B$575,2,FALSE)","v":{"$error":"#N/A"}}]
[null,null,{"$f":"VLOOKUP(B278,lists!$F$2:$G$17,2,FALSE)","v":{"$error":"#N/A"}},null,null,null,null,null,"",{"$f":"VLOOKUP(I278,lists!$A$2:$B$1335,2,FALSE)","v":{"$error":"#N/A"}},null,{"$f":"VLOOKUP(K278,lists!$F$2:$G$17,2,FALSE)","v":{"$error":"#N/A"}},null,null,null,{"$f":"VLOOKUP(O278,lists!$A$2:$B$1335,2,FALSE)","v":{"$error":"#N/A"}},null,"",{"$f":"VLOOKUP(R278,lists!$A$2:$B$575,2,FALSE)","v":{"$error":"#N/A"}}]
[null,null,{"$f":"VLOOKUP(B279,lists!$F$2:$G$17,2,FALSE)","v":{"$error":"#N/A"}},null,null,null,null,null,"",{"$f":"VLOOKUP(I279,lists!$A$2:$B$1335,2,FALSE)","v":{"$error":"#N/A"}},null,{"$f":"VLOOKUP(K279,lists!$F$2:$G$17,2,FALSE)","v":{"$error":"#N/A"}},null,null,null,{"$f":"VLOOKUP(O279,lists!$A$2:$B$1335,2,FALSE)","v":{"$error":"#N/A"}},null,"",{"$f":"VLOOKUP(R279,lists!$A$2:$B$575,2,FALSE)","v":{"$error":"#N/A"}}]
[null,null,{"$f":"VLOOKUP(B280,lists!$F$2:$G$17,2,FALSE)","v":{"$error":"#N/A"}},null,null,null,null,null,"",{"$f":"VLOOKUP(I280,lists!$A$2:$B$1335,2,FALSE)","v":{"$error":"#N/A"}},null,{"$f":"VLOOKUP(K280,lists!$F$2:$G$17,2,FALSE)","v":{"$error":"#N/A"}},null,null,null,{"$f":"VLOOKUP(O280,lists!$A$2:$B$1335,2,FALSE)","v":{"$error":"#N/A"}},null,"",{"$f":"VLOOKUP(R280,lists!$A$2:$B$575,2,FALSE)","v":{"$error":"#N/A"}}]
[null,null,{"$f":"VLOOKUP(B281,lists!$F$2:$G$17,2,FALSE)","v":{"$error":"#N/A"}},null,null,null,null,null,"",{"$f":"VLOOKUP(I281,lists!$A$2:$B$1335,2,FALSE)","v":{"$error":"#N/A"}},null,{"$f":"VLOOKUP(K281,lists!$F$2:$G$17,2,FALSE)","v":{"$error":"#N/A"}},null,null,null,{"$f":"VLOOKUP(O281,lists!$A$2:$B$1335,2,FALSE)","v":{"$error":"#N/A"}},null,"",{"$f":"VLOOKUP(R281,lists!$A$2:$B$575,2,FALSE)","v":{"$error":"#N/A"}}]
[null,null,{"$f":"VLOOKUP(B282,lists!$F$2:$G$17,2,FALSE)","v":{"$error":"#N/A"}},null,null,null,null,null,"",{"$f":"VLOOKUP(I282,lists!$A$2:$B$1335,2,FALSE)","v":{"$error":"#N/A"}},null,{"$f":"VLOOKUP(K282,lists!$F$2:$G$17,2,FALSE)","v":{"$error":"#N/A"}},null,null,null,{"$f":"VLOOKUP(O282,lists!$A$2:$B$1335,2,FALSE)","v":{"$error":"#N/A"}},null,"",{"$f":"VLOOKUP(R282,lists!$A$2:$B$575,2,FALSE)","v":{"$error":"#N/A"}}]
[null,null,{"$f":"VLOOKUP(B283,lists!$F$2:$G$17,2,FALSE)","v":{"$error":"#N/A"}},null,null,null,null,null,"",{"$f":"VLOOKUP(I283,lists!$A$2:$B$1335,2,FALSE)","v":{"$error":"#N/A"}},null,{"$f":"VLOOKUP(K283,lists!$F$2:$G$17,2,FALSE)","v":{"$error":"#N/A"}},null,null,null,{"$f":"VLOOKUP(O283,lists!$A$2:$B$1335,2,FALSE)","v":{"$error":"#N/A"}},null,"",{"$f":"VLOOKUP(R283,lists!$A$2:$B$575,2,FALSE)","v":{"$error":"#N/A"}}]
[null,null,{"$f":"VLOOKUP(B284,lists!$F$2:$G$17,2,FALSE)","v":{"$error":"#N/A"}},null,null,null,null,null,"",{"$f":"VLOOKUP(I284,lists!$A$2:$B$1335,2,FALSE)","v":{"$error":"#N/A"}},null,{"$f":"VLOOKUP(K284,lists!$F$2:$G$17,2,FALSE)","v":{"$error":"#N/A"}},null,null,null,{"$f":"VLOOKUP(O284,lists!$A$2:$B$1335,2,FALSE)","v":{"$error":"#N/A"}},null,"",{"$f":"VLOOKUP(R284,lists!$A$2:$B$575,2,FALSE)","v":{"$error":"#N/A"}}]
[null,null,{"$f":"VLOOKUP(B285,lists!$F$2:$G$17,2,FALSE)","v":{"$error":"#N/A"}},null,null,null,null,null,"",{"$f":"VLOOKUP(I285,lists!$A$2:$B$1335,2,FALSE)","v":{"$error":"#N/A"}},null,{"$f":"VLOOKUP(K285,lists!$F$2:$G$17,2,FALSE)","v":{"$error":"#N/A"}},null,null,null,{"$f":"VLOOKUP(O285,lists!$A$2:$B$1335,2,FALSE)","v":{"$error":"#N/A"}},null,"",{"$f":"VLOOKUP(R285,lists!$A$2:$B$575,2,FALSE)","v":{"$error":"#N/A"}}]
[null,null,{"$f":"VLOOKUP(B286,lists!$F$2:$G$17,2,FALSE)","v":{"$error":"#N/A"}},null,null,null,null,null,"",{"$f":"VLOOKUP(I286,lists!$A$2:$B$1335,2,FALSE)","v":{"$error":"#N/A"}},null,{"$f":"VLOOKUP(K286,lists!$F$2:$G$17,2,FALSE)","v":{"$error":"#N/A"}},null,null,null,{"$f":"VLOOKUP(O286,lists!$A$2:$B$1335,2,FALSE)","v":{"$error":"#N/A"}},null,"",{"$f":"VLOOKUP(R286,lists!$A$2:$B$575,2,FALSE)","v":{"$error":"#N/A"}}]
[null,null,{"$f":"VLOOKUP(B287,lists!$F$2:$G$17,2,FALSE)","v":{"$error":"#N/A"}},null,null,null,null,null,"",{"$f":"VLOOKUP(I287,lists!$A$2:$B$1335,2,FALSE)","v":{"$error":"#N/A"}},null,{"$f":"VLOOKUP(K287,lists!$F$2:$G$17,2,FALSE)","v":{"$error":"#N/A"}},null,null,null,{"$f":"VLOOKUP(O287,lists!$A$2:$B$1335,2,FALSE)","v":{"$error":"#N/A"}},null,"",{"$f":"VLOOKUP(R287,lists!$A$2:$B$575,2,FALSE)","v":{"$error":"#N/A"}}]
[null,null,{"$f":"VLOOKUP(B288,lists!$F$2:$G$17,2,FALSE)","v":{"$error":"#N/A"}},null,null,null,null,null,"",{"$f":"VLOOKUP(I288,lists!$A$2:$B$1335,2,FALSE)","v":{"$error":"#N/A"}},null,{"$f":"VLOOKUP(K288,lists!$F$2:$G$17,2,FALSE)","v":{"$error":"#N/A"}},null,null,null,{"$f":"VLOOKUP(O288,lists!$A$2:$B$1335,2,FALSE)","v":{"$error":"#N/A"}},null,"",{"$f":"VLOOKUP(R288,lists!$A$2:$B$575,2,FALSE)","v":{"$error":"#N/A"}}]
[null,null,{"$f":"VLOOKUP(B289,lists!$F$2:$G$17,2,FALSE)","v":{"$error":"#N/A"}},null,null,null,null,null,"",{"$f":"VLOOKUP(I289,lists!$A$2:$B$1335,2,FALSE)","v":{"$error":"#N/A"}},null,{"$f":"VLOOKUP(K289,lists!$F$2:$G$17,2,FALSE)","v":{"$error":"#N/A"}},null,null,null,{"$f":"VLOOKUP(O289,lists!$A$2:$B$1335,2,FALSE)","v":{"$error":"#N/A"}},null,"",{"$f":"VLOOKUP(R289,lists!$A$2:$B$575,2,FALSE)","v":{"$error":"#N/A"}}]
[null,null,{"$f":"VLOOKUP(B290,lists!$F$2:$G$17,2,FALSE)","v":{"$error":"#N/A"}},null,null,null,null,null,"",{"$f":"VLOOKUP(I290,lists!$A$2:$B$1335,2,FALSE)","v":{"$error":"#N/A"}},null,{"$f":"VLOOKUP(K290,lists!$F$2:$G$17,2,FALSE)","v":{"$error":"#N/A"}},null,null,null,{"$f":"VLOOKUP(O290,lists!$A$2:$B$1335,2,FALSE)","v":{"$error":"#N/A"}},null,"",{"$f":"VLOOKUP(R290,lists!$A$2:$B$575,2,FALSE)","v":{"$error":"#N/A"}}]
[null,null,{"$f":"VLOOKUP(B291,lists!$F$2:$G$17,2,FALSE)","v":{"$error":"#N/A"}},null,null,null,null,null,"",{"$f":"VLOOKUP(I291,lists!$A$2:$B$1335,2,FALSE)","v":{"$error":"#N/A"}},null,{"$f":"VLOOKUP(K291,lists!$F$2:$G$17,2,FALSE)","v":{"$error":"#N/A"}},null,null,null,{"$f":"VLOOKUP(O291,lists!$A$2:$B$1335,2,FALSE)","v":{"$error":"#N/A"}},null,"",{"$f":"VLOOKUP(R291,lists!$A$2:$B$575,2,FALSE)","v":{"$error":"#N/A"}}]
[null,null,{"$f":"VLOOKUP(B292,lists!$F$2:$G$17,2,FALSE)","v":{"$error":"#N/A"}},null,null,null,null,null,"",{"$f":"VLOOKUP(I292,lists!$A$2:$B$1335,2,FALSE)","v":{"$error":"#N/A"}},null,{"$f":"VLOOKUP(K292,lists!$F$2:$G$17,2,FALSE)","v":{"$error":"#N/A"}},null,null,null,{"$f":"VLOOKUP(O292,lists!$A$2:$B$1335,2,FALSE)","v":{"$error":"#N/A"}},null,"",{"$f":"VLOOKUP(R292,lists!$A$2:$B$575,2,FALSE)","v":{"$error":"#N/A"}}]
[null,null,{"$f":"VLOOKUP(B293,lists!$F$2:$G$17,2,FALSE)","v":{"$error":"#N/A"}},null,null,null,null,null,"",{"$f":"VLOOKUP(I293,lists!$A$2:$B$1335,2,FALSE)","v":{"$error":"#N/A"}},null,{"$f":"VLOOKUP(K293,lists!$F$2:$G$17,2,FALSE)","v":{"$error":"#N/A"}},null,null,null,{"$f":"VLOOKUP(O293,lists!$A$2:$B$1335,2,FALSE)","v":{"$error":"#N/A"}},null,"",{"$f":"VLOOKUP(R293,lists!$A$2:$B$575,2,FALSE)","v":{"$error":"#N/A"}}]
[null,null,{"$f":"VLOOKUP(B294,lists!$F$2:$G$17,2,FALSE)","v":{"$error":"#N/A"}},null,null,null,null,null,"",{"$f":"VLOOKUP(I294,lists!$A$2:$B$1335,2,FALSE)","v":{"$error":"#N/A"}},null,{"$f":"VLOOKUP(K294,lists!$F$2:$G$17,2,FALSE)","v":{"$error":"#N/A"}},null,null,null,{"$f":"VLOOKUP(O294,lists!$A$2:$B$1335,2,FALSE)","v":{"$error":"#N/A"}},null,"",{"$f":"VLOOKUP(R294,lists!$A$2:$B$575,2,FALSE)","v":{"$error":"#N/A"}}]
[null,null,{"$f":"VLOOKUP(B295,lists!$F$2:$G$17,2,FALSE)","v":{"$error":"#N/A"}},null,null,null,null,null,"",{"$f":"VLOOKUP(I295,lists!$A$2:$B$1335,2,FALSE)","v":{"$error":"#N/A"}},null,{"$f":"VLOOKUP(K295,lists!$F$2:$G$17,2,FALSE)","v":{"$error":"#N/A"}},null,null,null,{"$f":"VLOOKUP(O295,lists!$A$2:$B$1335,2,FALSE)","v":{"$error":"#N/A"}},null,"",{"$f":"VLOOKUP(R295,lists!$A$2:$B$575,2,FALSE)","v":{"$error":"#N/A"}}]
[null,null,{"$f":"VLOOKUP(B296,lists!$F$2:$G$17,2,FALSE)","v":{"$error":"#N/A"}},null,null,null,null,null,"",{"$f":"VLOOKUP(I296,lists!$A$2:$B$1335,2,FALSE)","v":{"$error":"#N/A"}},null,{"$f":"VLOOKUP(K296,lists!$F$2:$G$17,2,FALSE)","v":{"$error":"#N/A"}},null,null,null,{"$f":"VLOOKUP(O296,lists!$A$2:$B$1335,2,FALSE)","v":{"$error":"#N/A"}},null,"",{"$f":"VLOOKUP(R296,lists!$A$2:$B$575,2,FALSE)","v":{"$error":"#N/A"}}]
[null,null,{"$f":"VLOOKUP(B297,lists!$F$2:$G$17,2,FALSE)","v":{"$error":"#N/A"}},null,null,null,null,null,"",{"$f":"VLOOKUP(I297,lists!$A$2:$B$1335,2,FALSE)","v":{"$error":"#N/A"}},null,{"$f":"VLOOKUP(K297,lists!$F$2:$G$17,2,FALSE)","v":{"$error":"#N/A"}},null,null,null,{"$f":"VLOOKUP(O297,lists!$A$2:$B$1335,2,FALSE)","v":{"$error":"#N/A"}},null,"",{"$f":"VLOOKUP(R297,lists!$A$2:$B$575,2,FALSE)","v":{"$error":"#N/A"}}]
[null,null,{"$f":"VLOOKUP(B298,lists!$F$2:$G$17,2,FALSE)","v":{"$error":"#N/A"}},null,null,null,null,null,"",{"$f":"VLOOKUP(I298,lists!$A$2:$B$1335,2,FALSE)","v":{"$error":"#N/A"}},null,{"$f":"VLOOKUP(K298,lists!$F$2:$G$17,2,FALSE)","v":{"$error":"#N/A"}},null,null,null,{"$f":"VLOOKUP(O298,lists!$A$2:$B$1335,2,FALSE)","v":{"$error":"#N/A"}},null,"",{"$f":"VLOOKUP(R298,lists!$A$2:$B$575,2,FALSE)","v":{"$error":"#N/A"}}]
[null,null,{"$f":"VLOOKUP(B299,lists!$F$2:$G$17,2,FALSE)","v":{"$error":"#N/A"}},null,null,null,null,null,"",{"$f":"VLOOKUP(I299,lists!$A$2:$B$1335,2,FALSE)","v":{"$error":"#N/A"}},null,{"$f":"VLOOKUP(K299,lists!$F$2:$G$17,2,FALSE)","v":{"$error":"#N/A"}},null,null,null,{"$f":"VLOOKUP(O299,lists!$A$2:$B$1335,2,FALSE)","v":{"$error":"#N/A"}},null,"",{"$f":"VLOOKUP(R299,lists!$A$2:$B$575,2,FALSE)","v":{"$error":"#N/A"}}]
[null,null,{"$f":"VLOOKUP(B300,lists!$F$2:$G$17,2,FALSE)","v":{"$error":"#N/A"}},null,null,null,null,null,"",{"$f":"VLOOKUP(I300,lists!$A$2:$B$1335,2,FALSE)","v":{"$error":"#N/A"}},null,{"$f":"VLOOKUP(K300,lists!$F$2:$G$17,2,FALSE)","v":{"$error":"#N/A"}},null,null,null,{"$f":"VLOOKUP(O300,lists!$A$2:$B$1335,2,FALSE)","v":{"$error":"#N/A"}},null,"",{"$f":"VLOOKUP(R300,lists!$A$2:$B$575,2,FALSE)","v":{"$error":"#N/A"}}]
[null,null,{"$f":"VLOOKUP(B301,lists!$F$2:$G$17,2,FALSE)","v":{"$error":"#N/A"}},null,null,null,null,null,"",{"$f":"VLOOKUP(I301,lists!$A$2:$B$1335,2,FALSE)","v":{"$error":"#N/A"}},null,{"$f":"VLOOKUP(K301,lists!$F$2:$G$17,2,FALSE)","v":{"$error":"#N/A"}},null,null,null,{"$f":"VLOOKUP(O301,lists!$A$2:$B$1335,2,FALSE)","v":{"$error":"#N/A"}},null,"",{"$f":"VLOOKUP(R301,lists!$A$2:$B$575,2,FALSE)","v":{"$error":"#N/A"}}]
[null,null,{"$f":"VLOOKUP(B302,lists!$F$2:$G$17,2,FALSE)","v":{"$error":"#N/A"}},null,null,null,null,null,"",{"$f":"VLOOKUP(I302,lists!$A$2:$B$1335,2,FALSE)","v":{"$error":"#N/A"}},null,{"$f":"VLOOKUP(K302,lists!$F$2:$G$17,2,FALSE)","v":{"$error":"#N/A"}},null,null,null,{"$f":"VLOOKUP(O302,lists!$A$2:$B$1335,2,FALSE)","v":{"$error":"#N/A"}},null,"",{"$f":"VLOOKUP(R302,lists!$A$2:$B$575,2,FALSE)","v":{"$error":"#N/A"}}]
[null,null,{"$f":"VLOOKUP(B303,lists!$F$2:$G$17,2,FALSE)","v":{"$error":"#N/A"}},null,null,null,null,null,"",{"$f":"VLOOKUP(I303,lists!$A$2:$B$1335,2,FALSE)","v":{"$error":"#N/A"}},null,{"$f":"VLOOKUP(K303,lists!$F$2:$G$17,2,FALSE)","v":{"$error":"#N/A"}},null,null,null,{"$f":"VLOOKUP(O303,lists!$A$2:$B$1335,2,FALSE)","v":{"$error":"#N/A"}},null,"",{"$f":"VLOOKUP(R303,lists!$A$2:$B$575,2,FALSE)","v":{"$error":"#N/A"}}]
[null,null,{"$f":"VLOOKUP(B304,lists!$F$2:$G$17,2,FALSE)","v":{"$error":"#N/A"}},null,null,null,null,null,"",{"$f":"VLOOKUP(I304,lists!$A$2:$B$1335,2,FALSE)","v":{"$error":"#N/A"}},null,{"$f":"VLOOKUP(K304,lists!$F$2:$G$17,2,FALSE)","v":{"$error":"#N/A"}},null,null,null,{"$f":"VLOOKUP(O304,lists!$A$2:$B$1335,2,FALSE)","v":{"$error":"#N/A"}},null,"",{"$f":"VLOOKUP(R304,lists!$A$2:$B$575,2,FALSE)","v":{"$error":"#N/A"}}]
[null,null,{"$f":"VLOOKUP(B305,lists!$F$2:$G$17,2,FALSE)","v":{"$error":"#N/A"}},null,null,null,null,null,"",{"$f":"VLOOKUP(I305,lists!$A$2:$B$1335,2,FALSE)","v":{"$error":"#N/A"}},null,{"$f":"VLOOKUP(K305,lists!$F$2:$G$17,2,FALSE)","v":{"$error":"#N/A"}},null,null,null,{"$f":"VLOOKUP(O305,lists!$A$2:$B$1335,2,FALSE)","v":{"$error":"#N/A"}},null,"",{"$f":"VLOOKUP(R305,lists!$A$2:$B$575,2,FALSE)","v":{"$error":"#N/A"}}]
[null,null,{"$f":"VLOOKUP(B306,lists!$F$2:$G$17,2,FALSE)","v":{"$error":"#N/A"}},null,null,null,null,null,"",{"$f":"VLOOKUP(I306,lists!$A$2:$B$1335,2,FALSE)","v":{"$error":"#N/A"}},null,{"$f":"VLOOKUP(K306,lists!$F$2:$G$17,2,FALSE)","v":{"$error":"#N/A"}},null,null,null,{"$f":"VLOOKUP(O306,lists!$A$2:$B$1335,2,FALSE)","v":{"$error":"#N/A"}},null,"",{"$f":"VLOOKUP(R306,lists!$A$2:$B$575,2,FALSE)","v":{"$error":"#N/A"}}]
[null,null,{"$f":"VLOOKUP(B307,lists!$F$2:$G$17,2,FALSE)","v":{"$error":"#N/A"}},null,null,null,null,null,"",{"$f":"VLOOKUP(I307,lists!$A$2:$B$1335,2,FALSE)","v":{"$error":"#N/A"}},null,{"$f":"VLOOKUP(K307,lists!$F$2:$G$17,2,FALSE)","v":{"$error":"#N/A"}},null,null,null,{"$f":"VLOOKUP(O307,lists!$A$2:$B$1335,2,FALSE)","v":{"$error":"#N/A"}},null,"",{"$f":"VLOOKUP(R307,lists!$A$2:$B$575,2,FALSE)","v":{"$error":"#N/A"}}]
[null,null,{"$f":"VLOOKUP(B308,lists!$F$2:$G$17,2,FALSE)","v":{"$error":"#N/A"}},null,null,null,null,null,"",{"$f":"VLOOKUP(I308,lists!$A$2:$B$1335,2,FALSE)","v":{"$error":"#N/A"}},null,{"$f":"VLOOKUP(K308,lists!$F$2:$G$17,2,FALSE)","v":{"$error":"#N/A"}},null,null,null,{"$f":"VLOOKUP(O308,lists!$A$2:$B$1335,2,FALSE)","v":{"$error":"#N/A"}},null,"",{"$f":"VLOOKUP(R308,lists!$A$2:$B$575,2,FALSE)","v":{"$error":"#N/A"}}]
[null,null,{"$f":"VLOOKUP(B309,lists!$F$2:$G$17,2,FALSE)","v":{"$error":"#N/A"}},null,null,null,null,null,"",{"$f":"VLOOKUP(I309,lists!$A$2:$B$1335,2,FALSE)","v":{"$error":"#N/A"}},null,{"$f":"VLOOKUP(K309,lists!$F$2:$G$17,2,FALSE)","v":{"$error":"#N/A"}},null,null,null,{"$f":"VLOOKUP(O309,lists!$A$2:$B$1335,2,FALSE)","v":{"$error":"#N/A"}},null,"",{"$f":"VLOOKUP(R309,lists!$A$2:$B$575,2,FALSE)","v":{"$error":"#N/A"}}]
[null,null,{"$f":"VLOOKUP(B310,lists!$F$2:$G$17,2,FALSE)","v":{"$error":"#N/A"}},null,null,null,null,null,"",{"$f":"VLOOKUP(I310,lists!$A$2:$B$1335,2,FALSE)","v":{"$error":"#N/A"}},null,{"$f":"VLOOKUP(K310,lists!$F$2:$G$17,2,FALSE)","v":{"$error":"#N/A"}},null,null,null,{"$f":"VLOOKUP(O310,lists!$A$2:$B$1335,2,FALSE)","v":{"$error":"#N/A"}},null,"",{"$f":"VLOOKUP(R310,lists!$A$2:$B$575,2,FALSE)","v":{"$error":"#N/A"}}]
[null,null,{"$f":"VLOOKUP(B311,lists!$F$2:$G$17,2,FALSE)","v":{"$error":"#N/A"}},null,null,null,null,null,"",{"$f":"VLOOKUP(I311,lists!$A$2:$B$1335,2,FALSE)","v":{"$error":"#N/A"}},null,{"$f":"VLOOKUP(K311,lists!$F$2:$G$17,2,FALSE)","v":{"$error":"#N/A"}},null,null,null,{"$f":"VLOOKUP(O311,lists!$A$2:$B$1335,2,FALSE)","v":{"$error":"#N/A"}},null,"",{"$f":"VLOOKUP(R311,lists!$A$2:$B$575,2,FALSE)","v":{"$error":"#N/A"}}]
[null,null,{"$f":"VLOOKUP(B312,lists!$F$2:$G$17,2,FALSE)","v":{"$error":"#N/A"}},null,null,null,null,null,"",{"$f":"VLOOKUP(I312,lists!$A$2:$B$1335,2,FALSE)","v":{"$error":"#N/A"}},null,{"$f":"VLOOKUP(K312,lists!$F$2:$G$17,2,FALSE)","v":{"$error":"#N/A"}},null,null,null,{"$f":"VLOOKUP(O312,lists!$A$2:$B$1335,2,FALSE)","v":{"$error":"#N/A"}},null,"",{"$f":"VLOOKUP(R312,lists!$A$2:$B$575,2,FALSE)","v":{"$error":"#N/A"}}]
[null,null,{"$f":"VLOOKUP(B313,lists!$F$2:$G$17,2,FALSE)","v":{"$error":"#N/A"}},null,null,null,null,null,"",{"$f":"VLOOKUP(I313,lists!$A$2:$B$1335,2,FALSE)","v":{"$error":"#N/A"}},null,{"$f":"VLOOKUP(K313,lists!$F$2:$G$17,2,FALSE)","v":{"$error":"#N/A"}},null,null,null,{"$f":"VLOOKUP(O313,lists!$A$2:$B$1335,2,FALSE)","v":{"$error":"#N/A"}},null,"",{"$f":"VLOOKUP(R313,lists!$A$2:$B$575,2,FALSE)","v":{"$error":"#N/A"}}]
[null,null,{"$f":"VLOOKUP(B314,lists!$F$2:$G$17,2,FALSE)","v":{"$error":"#N/A"}},null,null,null,null,null,"",{"$f":"VLOOKUP(I314,lists!$A$2:$B$1335,2,FALSE)","v":{"$error":"#N/A"}},null,{"$f":"VLOOKUP(K314,lists!$F$2:$G$17,2,FALSE)","v":{"$error":"#N/A"}},null,null,null,{"$f":"VLOOKUP(O314,lists!$A$2:$B$1335,2,FALSE)","v":{"$error":"#N/A"}},null,"",{"$f":"VLOOKUP(R314,lists!$A$2:$B$575,2,FALSE)","v":{"$error":"#N/A"}}]
[null,null,{"$f":"VLOOKUP(B315,lists!$F$2:$G$17,2,FALSE)","v":{"$error":"#N/A"}},null,null,null,null,null,"",{"$f":"VLOOKUP(I315,lists!$A$2:$B$1335,2,FALSE)","v":{"$error":"#N/A"}},null,{"$f":"VLOOKUP(K315,lists!$F$2:$G$17,2,FALSE)","v":{"$error":"#N/A"}},null,null,null,{"$f":"VLOOKUP(O315,lists!$A$2:$B$1335,2,FALSE)","v":{"$error":"#N/A"}},null,"",{"$f":"VLOOKUP(R315,lists!$A$2:$B$575,2,FALSE)","v":{"$error":"#N/A"}}]
[null,null,{"$f":"VLOOKUP(B316,lists!$F$2:$G$17,2,FALSE)","v":{"$error":"#N/A"}},null,null,null,null,null,"",{"$f":"VLOOKUP(I316,lists!$A$2:$B$1335,2,FALSE)","v":{"$error":"#N/A"}},null,{"$f":"VLOOKUP(K316,lists!$F$2:$G$17,2,FALSE)","v":{"$error":"#N/A"}},null,null,null,{"$f":"VLOOKUP(O316,lists!$A$2:$B$1335,2,FALSE)","v":{"$error":"#N/A"}},null,"",{"$f":"VLOOKUP(R316,lists!$A$2:$B$575,2,FALSE)","v":{"$error":"#N/A"}}]
[null,null,{"$f":"VLOOKUP(B317,lists!$F$2:$G$17,2,FALSE)","v":{"$error":"#N/A"}},null,null,null,null,null,"",{"$f":"VLOOKUP(I317,lists!$A$2:$B$1335,2,FALSE)","v":{"$error":"#N/A"}},null,{"$f":"VLOOKUP(K317,lists!$F$2:$G$17,2,FALSE)","v":{"$error":"#N/A"}},null,null,"",{"$f":"VLOOKUP(O317,lists!$A$2:$B$1335,2,FALSE)","v":{"$error":"#N/A"}},null,"",{"$f":"VLOOKUP(R317,lists!$A$2:$B$575,2,FALSE)","v":{"$error":"#N/A"}}]
[null,null,{"$f":"VLOOKUP(B318,lists!$F$2:$G$17,2,FALSE)","v":{"$error":"#N/A"}},null,null,null,null,null,"",{"$f":"VLOOKUP(I318,lists!$A$2:$B$1335,2,FALSE)","v":{"$error":"#N/A"}},null,{"$f":"VLOOKUP(K318,lists!$F$2:$G$17,2,FALSE)","v":{"$error":"#N/A"}},null,null,"",{"$f":"VLOOKUP(O318,lists!$A$2:$B$1335,2,FALSE)","v":{"$error":"#N/A"}},null,"",{"$f":"VLOOKUP(R318,lists!$A$2:$B$575,2,FALSE)","v":{"$error":"#N/A"}}]
[null,null,{"$f":"VLOOKUP(B319,lists!$F$2:$G$17,2,FALSE)","v":{"$error":"#N/A"}},null,null,null,null,null,"",{"$f":"VLOOKUP(I319,lists!$A$2:$B$1335,2,FALSE)","v":{"$error":"#N/A"}},null,{"$f":"VLOOKUP(K319,lists!$F$2:$G$17,2,FALSE)","v":{"$error":"#N/A"}},null,null,"",{"$f":"VLOOKUP(O319,lists!$A$2:$B$1335,2,FALSE)","v":{"$error":"#N/A"}},null,"",{"$f":"VLOOKUP(R319,lists!$A$2:$B$575,2,FALSE)","v":{"$error":"#N/A"}}]
[null,null,{"$f":"VLOOKUP(B320,lists!$F$2:$G$17,2,FALSE)","v":{"$error":"#N/A"}},null,null,null,null,null,"",{"$f":"VLOOKUP(I320,lists!$A$2:$B$1335,2,FALSE)","v":{"$error":"#N/A"}},null,{"$f":"VLOOKUP(K320,lists!$F$2:$G$17,2,FALSE)","v":{"$error":"#N/A"}},null,null,"",{"$f":"VLOOKUP(O320,lists!$A$2:$B$1335,2,FALSE)","v":{"$error":"#N/A"}},null,"",{"$f":"VLOOKUP(R320,lists!$A$2:$B$575,2,FALSE)","v":{"$error":"#N/A"}}]
[null,null,{"$f":"VLOOKUP(B321,lists!$F$2:$G$17,2,FALSE)","v":{"$error":"#N/A"}},null,null,null,null,null,"",{"$f":"VLOOKUP(I321,lists!$A$2:$B$1335,2,FALSE)","v":{"$error":"#N/A"}},null,{"$f":"VLOOKUP(K321,lists!$F$2:$G$17,2,FALSE)","v":{"$error":"#N/A"}},null,null,"",{"$f":"VLOOKUP(O321,lists!$A$2:$B$1335,2,FALSE)","v":{"$error":"#N/A"}},null,"",{"$f":"VLOOKUP(R321,lists!$A$2:$B$575,2,FALSE)","v":{"$error":"#N/A"}}]
[null,null,{"$f":"VLOOKUP(B322,lists!$F$2:$G$17,2,FALSE)","v":{"$error":"#N/A"}},null,null,null,null,null,"",{"$f":"VLOOKUP(I322,lists!$A$2:$B$1335,2,FALSE)","v":{"$error":"#N/A"}},null,{"$f":"VLOOKUP(K322,lists!$F$2:$G$17,2,FALSE)","v":{"$error":"#N/A"}},null,null,"",{"$f":"VLOOKUP(O322,lists!$A$2:$B$1335,2,FALSE)","v":{"$error":"#N/A"}},null,"",{"$f":"VLOOKUP(R322,lists!$A$2:$B$575,2,FALSE)","v":{"$error":"#N/A"}}]
[null,null,{"$f":"VLOOKUP(B323,lists!$F$2:$G$17,2,FALSE)","v":{"$error":"#N/A"}},null,null,null,null,null,"",{"$f":"VLOOKUP(I323,lists!$A$2:$B$1335,2,FALSE)","v":{"$error":"#N/A"}},null,{"$f":"VLOOKUP(K323,lists!$F$2:$G$17,2,FALSE)","v":{"$error":"#N/A"}},null,null,"",{"$f":"VLOOKUP(O323,lists!$A$2:$B$1335,2,FALSE)","v":{"$error":"#N/A"}},null,"",{"$f":"VLOOKUP(R323,lists!$A$2:$B$575,2,FALSE)","v":{"$error":"#N/A"}}]
[null,null,{"$f":"VLOOKUP(B324,lists!$F$2:$G$17,2,FALSE)","v":{"$error":"#N/A"}},null,null,null,null,null,"",{"$f":"VLOOKUP(I324,lists!$A$2:$B$1335,2,FALSE)","v":{"$error":"#N/A"}},null,{"$f":"VLOOKUP(K324,lists!$F$2:$G$17,2,FALSE)","v":{"$error":"#N/A"}},null,null,"",{"$f":"VLOOKUP(O324,lists!$A$2:$B$1335,2,FALSE)","v":{"$error":"#N/A"}},null,"",{"$f":"VLOOKUP(R324,lists!$A$2:$B$575,2,FALSE)","v":{"$error":"#N/A"}}]
[null,null,{"$f":"VLOOKUP(B325,lists!$F$2:$G$17,2,FALSE)","v":{"$error":"#N/A"}},null,null,null,null,null,"",{"$f":"VLOOKUP(I325,lists!$A$2:$B$1335,2,FALSE)","v":{"$error":"#N/A"}},null,{"$f":"VLOOKUP(K325,lists!$F$2:$G$17,2,FALSE)","v":{"$error":"#N/A"}},null,null,"",{"$f":"VLOOKUP(O325,lists!$A$2:$B$1335,2,FALSE)","v":{"$error":"#N/A"}},null,"",{"$f":"VLOOKUP(R325,lists!$A$2:$B$575,2,FALSE)","v":{"$error":"#N/A"}}]
[null,null,{"$f":"VLOOKUP(B326,lists!$F$2:$G$17,2,FALSE)","v":{"$error":"#N/A"}},null,null,null,null,null,"",{"$f":"VLOOKUP(I326,lists!$A$2:$B$1335,2,FALSE)","v":{"$error":"#N/A"}},null,{"$f":"VLOOKUP(K326,lists!$F$2:$G$17,2,FALSE)","v":{"$error":"#N/A"}},null,null,"",{"$f":"VLOOKUP(O326,lists!$A$2:$B$1335,2,FALSE)","v":{"$error":"#N/A"}},null,"",{"$f":"VLOOKUP(R326,lists!$A$2:$B$575,2,FALSE)","v":{"$error":"#N/A"}}]
[null,null,{"$f":"VLOOKUP(B327,lists!$F$2:$G$17,2,FALSE)","v":{"$error":"#N/A"}},null,null,null,null,null,"",{"$f":"VLOOKUP(I327,lists!$A$2:$B$1335,2,FALSE)","v":{"$error":"#N/A"}},null,{"$f":"VLOOKUP(K327,lists!$F$2:$G$17,2,FALSE)","v":{"$error":"#N/A"}},null,null,"",{"$f":"VLOOKUP(O327,lists!$A$2:$B$1335,2,FALSE)","v":{"$error":"#N/A"}},null,"",{"$f":"VLOOKUP(R327,lists!$A$2:$B$575,2,FALSE)","v":{"$error":"#N/A"}}]
[null,null,{"$f":"VLOOKUP(B328,lists!$F$2:$G$17,2,FALSE)","v":{"$error":"#N/A"}},null,null,null,null,null,"",{"$f":"VLOOKUP(I328,lists!$A$2:$B$1335,2,FALSE)","v":{"$error":"#N/A"}},null,{"$f":"VLOOKUP(K328,lists!$F$2:$G$17,2,FALSE)","v":{"$error":"#N/A"}},null,null,"",{"$f":"VLOOKUP(O328,lists!$A$2:$B$1335,2,FALSE)","v":{"$error":"#N/A"}},null,"",{"$f":"VLOOKUP(R328,lists!$A$2:$B$575,2,FALSE)","v":{"$error":"#N/A"}}]
[null,null,{"$f":"VLOOKUP(B329,lists!$F$2:$G$17,2,FALSE)","v":{"$error":"#N/A"}},null,null,null,null,null,"",{"$f":"VLOOKUP(I329,lists!$A$2:$B$1335,2,FALSE)","v":{"$error":"#N/A"}},null,{"$f":"VLOOKUP(K329,lists!$F$2:$G$17,2,FALSE)","v":{"$error":"#N/A"}},null,null,"",{"$f":"VLOOKUP(O329,lists!$A$2:$B$1335,2,FALSE)","v":{"$error":"#N/A"}},null,"",{"$f":"VLOOKUP(R329,lists!$A$2:$B$575,2,FALSE)","v":{"$error":"#N/A"}}]
[null,null,{"$f":"VLOOKUP(B330,lists!$F$2:$G$17,2,FALSE)","v":{"$error":"#N/A"}},null,null,null,null,null,"",{"$f":"VLOOKUP(I330,lists!$A$2:$B$1335,2,FALSE)","v":{"$error":"#N/A"}},null,{"$f":"VLOOKUP(K330,lists!$F$2:$G$17,2,FALSE)","v":{"$error":"#N/A"}},null,null,"",{"$f":"VLOOKUP(O330,lists!$A$2:$B$1335,2,FALSE)","v":{"$error":"#N/A"}},null,"",{"$f":"VLOOKUP(R330,lists!$A$2:$B$575,2,FALSE)","v":{"$error":"#N/A"}}]
[null,null,{"$f":"VLOOKUP(B331,lists!$F$2:$G$17,2,FALSE)","v":{"$error":"#N/A"}},null,null,null,null,null,"",{"$f":"VLOOKUP(I331,lists!$A$2:$B$1335,2,FALSE)","v":{"$error":"#N/A"}},null,{"$f":"VLOOKUP(K331,lists!$F$2:$G$17,2,FALSE)","v":{"$error":"#N/A"}},null,null,"",{"$f":"VLOOKUP(O331,lists!$A$2:$B$1335,2,FALSE)","v":{"$error":"#N/A"}},null,"",{"$f":"VLOOKUP(R331,lists!$A$2:$B$575,2,FALSE)","v":{"$error":"#N/A"}}]
[null,null,{"$f":"VLOOKUP(B332,lists!$F$2:$G$17,2,FALSE)","v":{"$error":"#N/A"}},null,null,null,null,null,"",{"$f":"VLOOKUP(I332,lists!$A$2:$B$1335,2,FALSE)","v":{"$error":"#N/A"}},null,{"$f":"VLOOKUP(K332,lists!$F$2:$G$17,2,FALSE)","v":{"$error":"#N/A"}},null,null,"",{"$f":"VLOOKUP(O332,lists!$A$2:$B$1335,2,FALSE)","v":{"$error":"#N/A"}},null,"",{"$f":"VLOOKUP(R332,lists!$A$2:$B$575,2,FALSE)","v":{"$error":"#N/A"}}]
[null,null,{"$f":"VLOOKUP(B333,lists!$F$2:$G$17,2,FALSE)","v":{"$error":"#N/A"}},null,null,null,null,null,"",{"$f":"VLOOKUP(I333,lists!$A$2:$B$1335,2,FALSE)","v":{"$error":"#N/A"}},null,{"$f":"VLOOKUP(K333,lists!$F$2:$G$17,2,FALSE)","v":{"$error":"#N/A"}},null,null,"",{"$f":"VLOOKUP(O333,lists!$A$2:$B$1335,2,FALSE)","v":{"$error":"#N/A"}},null,"",{"$f":"VLOOKUP(R333,lists!$A$2:$B$575,2,FALSE)","v":{"$error":"#N/A"}}]
[null,null,{"$f":"VLOOKUP(B334,lists!$F$2:$G$17,2,FALSE)","v":{"$error":"#N/A"}},null,null,null,null,null,"",{"$f":"VLOOKUP(I334,lists!$A$2:$B$1335,2,FALSE)","v":{"$error":"#N/A"}},null,{"$f":"VLOOKUP(K334,lists!$F$2:$G$17,2,FALSE)","v":{"$error":"#N/A"}},null,null,"",{"$f":"VLOOKUP(O334,lists!$A$2:$B$1335,2,FALSE)","v":{"$error":"#N/A"}},null,"",{"$f":"VLOOKUP(R334,lists!$A$2:$B$575,2,FALSE)","v":{"$error":"#N/A"}}]
[null,null,{"$f":"VLOOKUP(B335,lists!$F$2:$G$17,2,FALSE)","v":{"$error":"#N/A"}},null,null,null,null,null,"",{"$f":"VLOOKUP(I335,lists!$A$2:$B$1335,2,FALSE)","v":{"$error":"#N/A"}},null,{"$f":"VLOOKUP(K335,lists!$F$2:$G$17,2,FALSE)","v":{"$error":"#N/A"}},null,null,"",{"$f":"VLOOKUP(O335,lists!$A$2:$B$1335,2,FALSE)","v":{"$error":"#N/A"}},null,"",{"$f":"VLOOKUP(R335,lists!$A$2:$B$575,2,FALSE)","v":{"$error":"#N/A"}}]
[null,null,{"$f":"VLOOKUP(B336,lists!$F$2:$G$17,2,FALSE)","v":{"$error":"#N/A"}},null,null,null,null,null,"",{"$f":"VLOOKUP(I336,lists!$A$2:$B$1335,2,FALSE)","v":{"$error":"#N/A"}},null,{"$f":"VLOOKUP(K336,lists!$F$2:$G$17,2,FALSE)","v":{"$error":"#N/A"}},null,null,"",{"$f":"VLOOKUP(O336,lists!$A$2:$B$1335,2,FALSE)","v":{"$error":"#N/A"}},null,"",{"$f":"VLOOKUP(R336,lists!$A$2:$B$575,2,FALSE)","v":{"$error":"#N/A"}}]
[null,null,{"$f":"VLOOKUP(B337,lists!$F$2:$G$17,2,FALSE)","v":{"$error":"#N/A"}},null,null,null,null,null,"",{"$f":"VLOOKUP(I337,lists!$A$2:$B$1335,2,FALSE)","v":{"$error":"#N/A"}},null,{"$f":"VLOOKUP(K337,lists!$F$2:$G$17,2,FALSE)","v":{"$error":"#N/A"}},null,null,"",{"$f":"VLOOKUP(O337,lists!$A$2:$B$1335,2,FALSE)","v":{"$error":"#N/A"}},null,"",{"$f":"VLOOKUP(R337,lists!$A$2:$B$575,2,FALSE)","v":{"$error":"#N/A"}}]
[null,null,{"$f":"VLOOKUP(B338,lists!$F$2:$G$17,2,FALSE)","v":{"$error":"#N/A"}},null,null,null,null,null,"",{"$f":"VLOOKUP(I338,lists!$A$2:$B$1335,2,FALSE)","v":{"$error":"#N/A"}},null,{"$f":"VLOOKUP(K338,lists!$F$2:$G$17,2,FALSE)","v":{"$error":"#N/A"}},null,null,"",{"$f":"VLOOKUP(O338,lists!$A$2:$B$1335,2,FALSE)","v":{"$error":"#N/A"}},null,"",{"$f":"VLOOKUP(R338,lists!$A$2:$B$575,2,FALSE)","v":{"$error":"#N/A"}}]
[null,null,{"$f":"VLOOKUP(B339,lists!$F$2:$G$17,2,FALSE)","v":{"$error":"#N/A"}},null,null,null,null,null,"",{"$f":"VLOOKUP(I339,lists!$A$2:$B$1335,2,FALSE)","v":{"$error":"#N/A"}},null,{"$f":"VLOOKUP(K339,lists!$F$2:$G$17,2,FALSE)","v":{"$error":"#N/A"}},null,null,"",{"$f":"VLOOKUP(O339,lists!$A$2:$B$1335,2,FALSE)","v":{"$error":"#N/A"}},null,"",{"$f":"VLOOKUP(R339,lists!$A$2:$B$575,2,FALSE)","v":{"$error":"#N/A"}}]
[null,null,{"$f":"VLOOKUP(B340,lists!$F$2:$G$17,2,FALSE)","v":{"$error":"#N/A"}},null,null,null,null,null,"",{"$f":"VLOOKUP(I340,lists!$A$2:$B$1335,2,FALSE)","v":{"$error":"#N/A"}},null,{"$f":"VLOOKUP(K340,lists!$F$2:$G$17,2,FALSE)","v":{"$error":"#N/A"}},null,null,"",{"$f":"VLOOKUP(O340,lists!$A$2:$B$1335,2,FALSE)","v":{"$error":"#N/A"}},null,"",{"$f":"VLOOKUP(R340,lists!$A$2:$B$575,2,FALSE)","v":{"$error":"#N/A"}}]
[null,null,{"$f":"VLOOKUP(B341,lists!$F$2:$G$17,2,FALSE)","v":{"$error":"#N/A"}},null,null,null,null,null,"",{"$f":"VLOOKUP(I341,lists!$A$2:$B$1335,2,FALSE)","v":{"$error":"#N/A"}},null,{"$f":"VLOOKUP(K341,lists!$F$2:$G$17,2,FALSE)","v":{"$error":"#N/A"}},null,null,"",{"$f":"VLOOKUP(O341,lists!$A$2:$B$1335,2,FALSE)","v":{"$error":"#N/A"}},null,"",{"$f":"VLOOKUP(R341,lists!$A$2:$B$575,2,FALSE)","v":{"$error":"#N/A"}}]
[null,null,{"$f":"VLOOKUP(B342,lists!$F$2:$G$17,2,FALSE)","v":{"$error":"#N/A"}},null,null,null,null,null,"",{"$f":"VLOOKUP(I342,lists!$A$2:$B$1335,2,FALSE)","v":{"$error":"#N/A"}},null,{"$f":"VLOOKUP(K342,lists!$F$2:$G$17,2,FALSE)","v":{"$error":"#N/A"}},null,null,"",{"$f":"VLOOKUP(O342,lists!$A$2:$B$1335,2,FALSE)","v":{"$error":"#N/A"}},null,"",{"$f":"VLOOKUP(R342,lists!$A$2:$B$575,2,FALSE)","v":{"$error":"#N/A"}}]
[null,null,{"$f":"VLOOKUP(B343,lists!$F$2:$G$17,2,FALSE)","v":{"$error":"#N/A"}},null,null,null,null,null,"",{"$f":"VLOOKUP(I343,lists!$A$2:$B$1335,2,FALSE)","v":{"$error":"#N/A"}},null,{"$f":"VLOOKUP(K343,lists!$F$2:$G$17,2,FALSE)","v":{"$error":"#N/A"}},null,null,"",{"$f":"VLOOKUP(O343,lists!$A$2:$B$1335,2,FALSE)","v":{"$error":"#N/A"}},null,"",{"$f":"VLOOKUP(R343,lists!$A$2:$B$575,2,FALSE)","v":{"$error":"#N/A"}}]
[null,null,{"$f":"VLOOKUP(B344,lists!$F$2:$G$17,2,FALSE)","v":{"$error":"#N/A"}},null,null,null,null,null,"",{"$f":"VLOOKUP(I344,lists!$A$2:$B$1335,2,FALSE)","v":{"$error":"#N/A"}},null,{"$f":"VLOOKUP(K344,lists!$F$2:$G$17,2,FALSE)","v":{"$error":"#N/A"}},null,null,"",{"$f":"VLOOKUP(O344,lists!$A$2:$B$1335,2,FALSE)","v":{"$error":"#N/A"}},null,"",{"$f":"VLOOKUP(R344,lists!$A$2:$B$575,2,FALSE)","v":{"$error":"#N/A"}}]
[null,null,{"$f":"VLOOKUP(B345,lists!$F$2:$G$17,2,FALSE)","v":{"$error":"#N/A"}},null,null,null,null,null,"",{"$f":"VLOOKUP(I345,lists!$A$2:$B$1335,2,FALSE)","v":{"$error":"#N/A"}},null,{"$f":"VLOOKUP(K345,lists!$F$2:$G$17,2,FALSE)","v":{"$error":"#N/A"}},null,null,"",{"$f":"VLOOKUP(O345,lists!$A$2:$B$1335,2,FALSE)","v":{"$error":"#N/A"}},null,"",{"$f":"VLOOKUP(R345,lists!$A$2:$B$575,2,FALSE)","v":{"$error":"#N/A"}}]
[null,null,{"$f":"VLOOKUP(B346,lists!$F$2:$G$17,2,FALSE)","v":{"$error":"#N/A"}},null,null,null,null,null,"",{"$f":"VLOOKUP(I346,lists!$A$2:$B$1335,2,FALSE)","v":{"$error":"#N/A"}},null,{"$f":"VLOOKUP(K346,lists!$F$2:$G$17,2,FALSE)","v":{"$error":"#N/A"}},null,null,"",{"$f":"VLOOKUP(O346,lists!$A$2:$B$1335,2,FALSE)","v":{"$error":"#N/A"}},null,"",{"$f":"VLOOKUP(R346,lists!$A$2:$B$575,2,FALSE)","v":{"$error":"#N/A"}}]
[null,null,{"$f":"VLOOKUP(B347,lists!$F$2:$G$17,2,FALSE)","v":{"$error":"#N/A"}},null,null,null,null,null,"",{"$f":"VLOOKUP(I347,lists!$A$2:$B$1335,2,FALSE)","v":{"$error":"#N/A"}},null,{"$f":"VLOOKUP(K347,lists!$F$2:$G$17,2,FALSE)","v":{"$error":"#N/A"}},null,null,"",{"$f":"VLOOKUP(O347,lists!$A$2:$B$1335,2,FALSE)","v":{"$error":"#N/A"}},null,"",{"$f":"VLOOKUP(R347,lists!$A$2:$B$575,2,FALSE)","v":{"$error":"#N/A"}}]
[null,null,{"$f":"VLOOKUP(B348,lists!$F$2:$G$17,2,FALSE)","v":{"$error":"#N/A"}},null,null,null,null,null,"",{"$f":"VLOOKUP(I348,lists!$A$2:$B$1335,2,FALSE)","v":{"$error":"#N/A"}},null,{"$f":"VLOOKUP(K348,lists!$F$2:$G$17,2,FALSE)","v":{"$error":"#N/A"}},null,null,"",{"$f":"VLOOKUP(O348,lists!$A$2:$B$1335,2,FALSE)","v":{"$error":"#N/A"}},null,"",{"$f":"VLOOKUP(R348,lists!$A$2:$B$575,2,FALSE)","v":{"$error":"#N/A"}}]
[null,null,{"$f":"VLOOKUP(B349,lists!$F$2:$G$17,2,FALSE)","v":{"$error":"#N/A"}},null,null,null,null,null,"",{"$f":"VLOOKUP(I349,lists!$A$2:$B$1335,2,FALSE)","v":{"$error":"#N/A"}},null,{"$f":"VLOOKUP(K349,lists!$F$2:$G$17,2,FALSE)","v":{"$error":"#N/A"}},null,null,"",{"$f":"VLOOKUP(O349,lists!$A$2:$B$1335,2,FALSE)","v":{"$error":"#N/A"}},null,"",{"$f":"VLOOKUP(R349,lists!$A$2:$B$575,2,FALSE)","v":{"$error":"#N/A"}}]
[null,null,{"$f":"VLOOKUP(B350,lists!$F$2:$G$17,2,FALSE)","v":{"$error":"#N/A"}},null,null,null,null,null,"",{"$f":"VLOOKUP(I350,lists!$A$2:$B$1335,2,FALSE)","v":{"$error":"#N/A"}},null,{"$f":"VLOOKUP(K350,lists!$F$2:$G$17,2,FALSE)","v":{"$error":"#N/A"}},null,null,"",{"$f":"VLOOKUP(O350,lists!$A$2:$B$1335,2,FALSE)","v":{"$error":"#N/A"}},null,"",{"$f":"VLOOKUP(R350,lists!$A$2:$B$575,2,FALSE)","v":{"$error":"#N/A"}}]
[null,null,{"$f":"VLOOKUP(B351,lists!$F$2:$G$17,2,FALSE)","v":{"$error":"#N/A"}},null,null,null,null,null,"",{"$f":"VLOOKUP(I351,lists!$A$2:$B$1335,2,FALSE)","v":{"$error":"#N/A"}},null,{"$f":"VLOOKUP(K351,lists!$F$2:$G$17,2,FALSE)","v":{"$error":"#N/A"}},null,null,"",{"$f":"VLOOKUP(O351,lists!$A$2:$B$1335,2,FALSE)","v":{"$error":"#N/A"}},null,"",{"$f":"VLOOKUP(R351,lists!$A$2:$B$575,2,FALSE)","v":{"$error":"#N/A"}}]
[null,null,{"$f":"VLOOKUP(B352,lists!$F$2:$G$17,2,FALSE)","v":{"$error":"#N/A"}},null,null,null,null,null,"",{"$f":"VLOOKUP(I352,lists!$A$2:$B$1335,2,FALSE)","v":{"$error":"#N/A"}},null,{"$f":"VLOOKUP(K352,lists!$F$2:$G$17,2,FALSE)","v":{"$error":"#N/A"}},null,null,"",{"$f":"VLOOKUP(O352,lists!$A$2:$B$1335,2,FALSE)","v":{"$error":"#N/A"}},null,"",{"$f":"VLOOKUP(R352,lists!$A$2:$B$575,2,FALSE)","v":{"$error":"#N/A"}}]
[null,null,{"$f":"VLOOKUP(B353,lists!$F$2:$G$17,2,FALSE)","v":{"$error":"#N/A"}},null,null,null,null,null,"",{"$f":"VLOOKUP(I353,lists!$A$2:$B$1335,2,FALSE)","v":{"$error":"#N/A"}},null,{"$f":"VLOOKUP(K353,lists!$F$2:$G$17,2,FALSE)","v":{"$error":"#N/A"}},null,null,"",{"$f":"VLOOKUP(O353,lists!$A$2:$B$1335,2,FALSE)","v":{"$error":"#N/A"}},null,"",{"$f":"VLOOKUP(R353,lists!$A$2:$B$575,2,FALSE)","v":{"$error":"#N/A"}}]
[null,null,{"$f":"VLOOKUP(B354,lists!$F$2:$G$17,2,FALSE)","v":{"$error":"#N/A"}},null,null,null,null,null,"",{"$f":"VLOOKUP(I354,lists!$A$2:$B$1335,2,FALSE)","v":{"$error":"#N/A"}},null,{"$f":"VLOOKUP(K354,lists!$F$2:$G$17,2,FALSE)","v":{"$error":"#N/A"}},null,null,"",{"$f":"VLOOKUP(O354,lists!$A$2:$B$1335,2,FALSE)","v":{"$error":"#N/A"}},null,"",{"$f":"VLOOKUP(R354,lists!$A$2:$B$575,2,FALSE)","v":{"$error":"#N/A"}}]
[null,null,{"$f":"VLOOKUP(B355,lists!$F$2:$G$17,2,FALSE)","v":{"$error":"#N/A"}},null,null,null,null,null,"",{"$f":"VLOOKUP(I355,lists!$A$2:$B$1335,2,FALSE)","v":{"$error":"#N/A"}},null,{"$f":"VLOOKUP(K355,lists!$F$2:$G$17,2,FALSE)","v":{"$error":"#N/A"}},null,null,"",{"$f":"VLOOKUP(O355,lists!$A$2:$B$1335,2,FALSE)","v":{"$error":"#N/A"}},null,"",{"$f":"VLOOKUP(R355,lists!$A$2:$B$575,2,FALSE)","v":{"$error":"#N/A"}}]
[null,null,{"$f":"VLOOKUP(B356,lists!$F$2:$G$17,2,FALSE)","v":{"$error":"#N/A"}},null,null,null,null,null,"",{"$f":"VLOOKUP(I356,lists!$A$2:$B$1335,2,FALSE)","v":{"$error":"#N/A"}},null,{"$f":"VLOOKUP(K356,lists!$F$2:$G$17,2,FALSE)","v":{"$error":"#N/A"}},null,null,"",{"$f":"VLOOKUP(O356,lists!$A$2:$B$1335,2,FALSE)","v":{"$error":"#N/A"}},null,"",{"$f":"VLOOKUP(R356,lists!$A$2:$B$575,2,FALSE)","v":{"$error":"#N/A"}}]
[null,null,{"$f":"VLOOKUP(B357,lists!$F$2:$G$17,2,FALSE)","v":{"$error":"#N/A"}},null,null,null,null,null,"",{"$f":"VLOOKUP(I357,lists!$A$2:$B$1335,2,FALSE)","v":{"$error":"#N/A"}},null,{"$f":"VLOOKUP(K357,lists!$F$2:$G$17,2,FALSE)","v":{"$error":"#N/A"}},null,null,"",{"$f":"VLOOKUP(O357,lists!$A$2:$B$1335,2,FALSE)","v":{"$error":"#N/A"}},null,"",{"$f":"VLOOKUP(R357,lists!$A$2:$B$575,2,FALSE)","v":{"$error":"#N/A"}}]
[null,null,{"$f":"VLOOKUP(B358,lists!$F$2:$G$17,2,FALSE)","v":{"$error":"#N/A"}},null,null,null,null,null,"",{"$f":"VLOOKUP(I358,lists!$A$2:$B$1335,2,FALSE)","v":{"$error":"#N/A"}},null,{"$f":"VLOOKUP(K358,lists!$F$2:$G$17,2,FALSE)","v":{"$error":"#N/A"}},null,null,"",{"$f":"VLOOKUP(O358,lists!$A$2:$B$1335,2,FALSE)","v":{"$error":"#N/A"}},null,"",{"$f":"VLOOKUP(R358,lists!$A$2:$B$575,2,FALSE)","v":{"$error":"#N/A"}}]
[null,null,{"$f":"VLOOKUP(B359,lists!$F$2:$G$17,2,FALSE)","v":{"$error":"#N/A"}},null,null,null,null,null,"",{"$f":"VLOOKUP(I359,lists!$A$2:$B$1335,2,FALSE)","v":{"$error":"#N/A"}},null,{"$f":"VLOOKUP(K359,lists!$F$2:$G$17,2,FALSE)","v":{"$error":"#N/A"}},null,null,"",{"$f":"VLOOKUP(O359,lists!$A$2:$B$1335,2,FALSE)","v":{"$error":"#N/A"}},null,"",{"$f":"VLOOKUP(R359,lists!$A$2:$B$575,2,FALSE)","v":{"$error":"#N/A"}}]
[null,null,{"$f":"VLOOKUP(B360,lists!$F$2:$G$17,2,FALSE)","v":{"$error":"#N/A"}},null,null,null,null,null,"",{"$f":"VLOOKUP(I360,lists!$A$2:$B$1335,2,FALSE)","v":{"$error":"#N/A"}},null,{"$f":"VLOOKUP(K360,lists!$F$2:$G$17,2,FALSE)","v":{"$error":"#N/A"}},null,null,"",{"$f":"VLOOKUP(O360,lists!$A$2:$B$1335,2,FALSE)","v":{"$error":"#N/A"}},null,"",{"$f":"VLOOKUP(R360,lists!$A$2:$B$575,2,FALSE)","v":{"$error":"#N/A"}}]
[null,null,{"$f":"VLOOKUP(B361,lists!$F$2:$G$17,2,FALSE)","v":{"$error":"#N/A"}},null,null,null,null,null,"",{"$f":"VLOOKUP(I361,lists!$A$2:$B$1335,2,FALSE)","v":{"$error":"#N/A"}},null,{"$f":"VLOOKUP(K361,lists!$F$2:$G$17,2,FALSE)","v":{"$error":"#N/A"}},null,null,"",{"$f":"VLOOKUP(O361,lists!$A$2:$B$1335,2,FALSE)","v":{"$error":"#N/A"}},null,"",{"$f":"VLOOKUP(R361,lists!$A$2:$B$575,2,FALSE)","v":{"$error":"#N/A"}}]
[null,null,{"$f":"VLOOKUP(B362,lists!$F$2:$G$17,2,FALSE)","v":{"$error":"#N/A"}},null,null,null,null,null,"",{"$f":"VLOOKUP(I362,lists!$A$2:$B$1335,2,FALSE)","v":{"$error":"#N/A"}},null,{"$f":"VLOOKUP(K362,lists!$F$2:$G$17,2,FALSE)","v":{"$error":"#N/A"}},null,null,"",{"$f":"VLOOKUP(O362,lists!$A$2:$B$1335,2,FALSE)","v":{"$error":"#N/A"}},null,"",{"$f":"VLOOKUP(R362,lists!$A$2:$B$575,2,FALSE)","v":{"$error":"#N/A"}}]
[null,null,{"$f":"VLOOKUP(B363,lists!$F$2:$G$17,2,FALSE)","v":{"$error":"#N/A"}},null,null,null,null,null,"",{"$f":"VLOOKUP(I363,lists!$A$2:$B$1335,2,FALSE)","v":{"$error":"#N/A"}},null,{"$f":"VLOOKUP(K363,lists!$F$2:$G$17,2,FALSE)","v":{"$error":"#N/A"}},null,null,"",{"$f":"VLOOKUP(O363,lists!$A$2:$B$1335,2,FALSE)","v":{"$error":"#N/A"}},null,"",{"$f":"VLOOKUP(R363,lists!$A$2:$B$575,2,FALSE)","v":{"$error":"#N/A"}}]
[null,null,{"$f":"VLOOKUP(B364,lists!$F$2:$G$17,2,FALSE)","v":{"$error":"#N/A"}},null,null,null,null,null,"",{"$f":"VLOOKUP(I364,lists!$A$2:$B$1335,2,FALSE)","v":{"$error":"#N/A"}},null,{"$f":"VLOOKUP(K364,lists!$F$2:$G$17,2,FALSE)","v":{"$error":"#N/A"}},null,null,"",{"$f":"VLOOKUP(O364,lists!$A$2:$B$1335,2,FALSE)","v":{"$error":"#N/A"}},null,"",{"$f":"VLOOKUP(R364,lists!$A$2:$B$575,2,FALSE)","v":{"$error":"#N/A"}}]
[null,null,{"$f":"VLOOKUP(B365,lists!$F$2:$G$17,2,FALSE)","v":{"$error":"#N/A"}},null,null,null,null,null,"",{"$f":"VLOOKUP(I365,lists!$A$2:$B$1335,2,FALSE)","v":{"$error":"#N/A"}},null,{"$f":"VLOOKUP(K365,lists!$F$2:$G$17,2,FALSE)","v":{"$error":"#N/A"}},null,null,"",{"$f":"VLOOKUP(O365,lists!$A$2:$B$1335,2,FALSE)","v":{"$error":"#N/A"}},null,"",{"$f":"VLOOKUP(R365,lists!$A$2:$B$575,2,FALSE)","v":{"$error":"#N/A"}}]
[null,null,{"$f":"VLOOKUP(B366,lists!$F$2:$G$17,2,FALSE)","v":{"$error":"#N/A"}},null,null,null,null,null,"",{"$f":"VLOOKUP(I366,lists!$A$2:$B$1335,2,FALSE)","v":{"$error":"#N/A"}},null,{"$f":"VLOOKUP(K366,lists!$F$2:$G$17,2,FALSE)","v":{"$error":"#N/A"}},null,null,"",{"$f":"VLOOKUP(O366,lists!$A$2:$B$1335,2,FALSE)","v":{"$error":"#N/A"}},null,"",{"$f":"VLOOKUP(R366,lists!$A$2:$B$575,2,FALSE)","v":{"$error":"#N/A"}}]
[null,null,{"$f":"VLOOKUP(B367,lists!$F$2:$G$17,2,FALSE)","v":{"$error":"#N/A"}},null,null,null,null,null,"",{"$f":"VLOOKUP(I367,lists!$A$2:$B$1335,2,FALSE)","v":{"$error":"#N/A"}},null,{"$f":"VLOOKUP(K367,lists!$F$2:$G$17,2,FALSE)","v":{"$error":"#N/A"}},null,null,"",{"$f":"VLOOKUP(O367,lists!$A$2:$B$1335,2,FALSE)","v":{"$error":"#N/A"}},null,"",{"$f":"VLOOKUP(R367,lists!$A$2:$B$575,2,FALSE)","v":{"$error":"#N/A"}}]
[null,null,{"$f":"VLOOKUP(B368,lists!$F$2:$G$17,2,FALSE)","v":{"$error":"#N/A"}},null,null,null,null,null,"",{"$f":"VLOOKUP(I368,lists!$A$2:$B$1335,2,FALSE)","v":{"$error":"#N/A"}},null,{"$f":"VLOOKUP(K368,lists!$F$2:$G$17,2,FALSE)","v":{"$error":"#N/A"}},null,null,"",{"$f":"VLOOKUP(O368,lists!$A$2:$B$1335,2,FALSE)","v":{"$error":"#N/A"}},null,"",{"$f":"VLOOKUP(R368,lists!$A$2:$B$575,2,FALSE)","v":{"$error":"#N/A"}}]
[null,null,{"$f":"VLOOKUP(B369,lists!$F$2:$G$17,2,FALSE)","v":{"$error":"#N/A"}},null,null,null,null,null,"",{"$f":"VLOOKUP(I369,lists!$A$2:$B$1335,2,FALSE)","v":{"$error":"#N/A"}},null,{"$f":"VLOOKUP(K369,lists!$F$2:$G$17,2,FALSE)","v":{"$error":"#N/A"}},null,null,"",{"$f":"VLOOKUP(O369,lists!$A$2:$B$1335,2,FALSE)","v":{"$error":"#N/A"}},null,"",{"$f":"VLOOKUP(R369,lists!$A$2:$B$575,2,FALSE)","v":{"$error":"#N/A"}}]
[null,null,{"$f":"VLOOKUP(B370,lists!$F$2:$G$17,2,FALSE)","v":{"$error":"#N/A"}},null,null,null,null,null,"",{"$f":"VLOOKUP(I370,lists!$A$2:$B$1335,2,FALSE)","v":{"$error":"#N/A"}},null,{"$f":"VLOOKUP(K370,lists!$F$2:$G$17,2,FALSE)","v":{"$error":"#N/A"}},null,null,"",{"$f":"VLOOKUP(O370,lists!$A$2:$B$1335,2,FALSE)","v":{"$error":"#N/A"}},null,"",{"$f":"VLOOKUP(R370,lists!$A$2:$B$575,2,FALSE)","v":{"$error":"#N/A"}}]
[null,null,{"$f":"VLOOKUP(B371,lists!$F$2:$G$17,2,FALSE)","v":{"$error":"#N/A"}},null,null,null,null,null,"",{"$f":"VLOOKUP(I371,lists!$A$2:$B$1335,2,FALSE)","v":{"$error":"#N/A"}},null,{"$f":"VLOOKUP(K371,lists!$F$2:$G$17,2,FALSE)","v":{"$error":"#N/A"}},null,null,"",{"$f":"VLOOKUP(O371,lists!$A$2:$B$1335,2,FALSE)","v":{"$error":"#N/A"}},null,"",{"$f":"VLOOKUP(R371,lists!$A$2:$B$575,2,FALSE)","v":{"$error":"#N/A"}}]
[null,null,{"$f":"VLOOKUP(B372,lists!$F$2:$G$17,2,FALSE)","v":{"$error":"#N/A"}},null,null,null,null,null,"",{"$f":"VLOOKUP(I372,lists!$A$2:$B$1335,2,FALSE)","v":{"$error":"#N/A"}},null,{"$f":"VLOOKUP(K372,lists!$F$2:$G$17,2,FALSE)","v":{"$error":"#N/A"}},null,null,"",{"$f":"VLOOKUP(O372,lists!$A$2:$B$1335,2,FALSE)","v":{"$error":"#N/A"}},null,"",{"$f":"VLOOKUP(R372,lists!$A$2:$B$575,2,FALSE)","v":{"$error":"#N/A"}}]
[null,null,{"$f":"VLOOKUP(B373,lists!$F$2:$G$17,2,FALSE)","v":{"$error":"#N/A"}},null,null,null,null,null,"",{"$f":"VLOOKUP(I373,lists!$A$2:$B$1335,2,FALSE)","v":{"$error":"#N/A"}},null,{"$f":"VLOOKUP(K373,lists!$F$2:$G$17,2,FALSE)","v":{"$error":"#N/A"}},null,null,"",{"$f":"VLOOKUP(O373,lists!$A$2:$B$1335,2,FALSE)","v":{"$error":"#N/A"}},null,"",{"$f":"VLOOKUP(R373,lists!$A$2:$B$575,2,FALSE)","v":{"$error":"#N/A"}}]
[null,null,{"$f":"VLOOKUP(B374,lists!$F$2:$G$17,2,FALSE)","v":{"$error":"#N/A"}},null,null,null,null,null,"",{"$f":"VLOOKUP(I374,lists!$A$2:$B$1335,2,FALSE)","v":{"$error":"#N/A"}},null,{"$f":"VLOOKUP(K374,lists!$F$2:$G$17,2,FALSE)","v":{"$error":"#N/A"}},null,null,"",{"$f":"VLOOKUP(O374,lists!$A$2:$B$1335,2,FALSE)","v":{"$error":"#N/A"}},null,"",{"$f":"VLOOKUP(R374,lists!$A$2:$B$575,2,FALSE)","v":{"$error":"#N/A"}}]
[null,null,{"$f":"VLOOKUP(B375,lists!$F$2:$G$17,2,FALSE)","v":{"$error":"#N/A"}},null,null,null,null,null,"",{"$f":"VLOOKUP(I375,lists!$A$2:$B$1335,2,FALSE)","v":{"$error":"#N/A"}},null,{"$f":"VLOOKUP(K375,lists!$F$2:$G$17,2,FALSE)","v":{"$error":"#N/A"}},null,null,"",{"$f":"VLOOKUP(O375,lists!$A$2:$B$1335,2,FALSE)","v":{"$error":"#N/A"}},null,"",{"$f":"VLOOKUP(R375,lists!$A$2:$B$575,2,FALSE)","v":{"$error":"#N/A"}}]
[null,null,{"$f":"VLOOKUP(B376,lists!$F$2:$G$17,2,FALSE)","v":{"$error":"#N/A"}},null,null,null,null,null,"",{"$f":"VLOOKUP(I376,lists!$A$2:$B$1335,2,FALSE)","v":{"$error":"#N/A"}},null,{"$f":"VLOOKUP(K376,lists!$F$2:$G$17,2,FALSE)","v":{"$error":"#N/A"}},null,null,"",{"$f":"VLOOKUP(O376,lists!$A$2:$B$1335,2,FALSE)","v":{"$error":"#N/A"}},null,"",{"$f":"VLOOKUP(R376,lists!$A$2:$B$575,2,FALSE)","v":{"$error":"#N/A"}}]
[null,null,{"$f":"VLOOKUP(B377,lists!$F$2:$G$17,2,FALSE)","v":{"$error":"#N/A"}},null,null,null,null,null,"",{"$f":"VLOOKUP(I377,lists!$A$2:$B$1335,2,FALSE)","v":{"$error":"#N/A"}},null,{"$f":"VLOOKUP(K377,lists!$F$2:$G$17,2,FALSE)","v":{"$error":"#N/A"}},null,null,"",{"$f":"VLOOKUP(O377,lists!$A$2:$B$1335,2,FALSE)","v":{"$error":"#N/A"}},null,"",{"$f":"VLOOKUP(R377,lists!$A$2:$B$575,2,FALSE)","v":{"$error":"#N/A"}}]
[null,null,{"$f":"VLOOKUP(B378,lists!$F$2:$G$17,2,FALSE)","v":{"$error":"#N/A"}},null,null,null,null,null,"",{"$f":"VLOOKUP(I378,lists!$A$2:$B$1335,2,FALSE)","v":{"$error":"#N/A"}},null,{"$f":"VLOOKUP(K378,lists!$F$2:$G$17,2,FALSE)","v":{"$error":"#N/A"}},null,null,"",{"$f":"VLOOKUP(O378,lists!$A$2:$B$1335,2,FALSE)","v":{"$error":"#N/A"}},null,"",{"$f":"VLOOKUP(R378,lists!$A$2:$B$575,2,FALSE)","v":{"$error":"#N/A"}}]
[null,null,{"$f":"VLOOKUP(B379,lists!$F$2:$G$17,2,FALSE)","v":{"$error":"#N/A"}},null,null,null,null,null,"",{"$f":"VLOOKUP(I379,lists!$A$2:$B$1335,2,FALSE)","v":{"$error":"#N/A"}},null,{"$f":"VLOOKUP(K379,lists!$F$2:$G$17,2,FALSE)","v":{"$error":"#N/A"}},null,null,"",{"$f":"VLOOKUP(O379,lists!$A$2:$B$1335,2,FALSE)","v":{"$error":"#N/A"}},null,"",{"$f":"VLOOKUP(R379,lists!$A$2:$B$575,2,FALSE)","v":{"$error":"#N/A"}}]
[null,null,{"$f":"VLOOKUP(B380,lists!$F$2:$G$17,2,FALSE)","v":{"$error":"#N/A"}},null,null,null,null,null,"",{"$f":"VLOOKUP(I380,lists!$A$2:$B$1335,2,FALSE)","v":{"$error":"#N/A"}},null,{"$f":"VLOOKUP(K380,lists!$F$2:$G$17,2,FALSE)","v":{"$error":"#N/A"}},null,null,"",{"$f":"VLOOKUP(O380,lists!$A$2:$B$1335,2,FALSE)","v":{"$error":"#N/A"}},null,"",{"$f":"VLOOKUP(R380,lists!$A$2:$B$575,2,FALSE)","v":{"$error":"#N/A"}}]
[null,null,{"$f":"VLOOKUP(B381,lists!$F$2:$G$17,2,FALSE)","v":{"$error":"#N/A"}},null,null,null,null,null,"",{"$f":"VLOOKUP(I381,lists!$A$2:$B$1335,2,FALSE)","v":{"$error":"#N/A"}},null,{"$f":"VLOOKUP(K381,lists!$F$2:$G$17,2,FALSE)","v":{"$error":"#N/A"}},null,null,"",{"$f":"VLOOKUP(O381,lists!$A$2:$B$1335,2,FALSE)","v":{"$error":"#N/A"}},null,"",{"$f":"VLOOKUP(R381,lists!$A$2:$B$575,2,FALSE)","v":{"$error":"#N/A"}}]
[null,null,{"$f":"VLOOKUP(B382,lists!$F$2:$G$17,2,FALSE)","v":{"$error":"#N/A"}},null,null,null,null,null,"",{"$f":"VLOOKUP(I382,lists!$A$2:$B$1335,2,FALSE)","v":{"$error":"#N/A"}},null,{"$f":"VLOOKUP(K382,lists!$F$2:$G$17,2,FALSE)","v":{"$error":"#N/A"}},null,null,"",{"$f":"VLOOKUP(O382,lists!$A$2:$B$1335,2,FALSE)","v":{"$error":"#N/A"}},null,"",{"$f":"VLOOKUP(R382,lists!$A$2:$B$575,2,FALSE)","v":{"$error":"#N/A"}}]
[null,null,{"$f":"VLOOKUP(B383,lists!$F$2:$G$17,2,FALSE)","v":{"$error":"#N/A"}},null,null,null,null,null,"",{"$f":"VLOOKUP(I383,lists!$A$2:$B$1335,2,FALSE)","v":{"$error":"#N/A"}},null,{"$f":"VLOOKUP(K383,lists!$F$2:$G$17,2,FALSE)","v":{"$error":"#N/A"}},null,null,"",{"$f":"VLOOKUP(O383,lists!$A$2:$B$1335,2,FALSE)","v":{"$error":"#N/A"}},null,"",{"$f":"VLOOKUP(R383,lists!$A$2:$B$575,2,FALSE)","v":{"$error":"#N/A"}}]
[null,null,{"$f":"VLOOKUP(B384,lists!$F$2:$G$17,2,FALSE)","v":{"$error":"#N/A"}},null,null,null,null,null,"",{"$f":"VLOOKUP(I384,lists!$A$2:$B$1335,2,FALSE)","v":{"$error":"#N/A"}},null,{"$f":"VLOOKUP(K384,lists!$F$2:$G$17,2,FALSE)","v":{"$error":"#N/A"}},null,null,"",{"$f":"VLOOKUP(O384,lists!$A$2:$B$1335,2,FALSE)","v":{"$error":"#N/A"}},null,"",{"$f":"VLOOKUP(R384,lists!$A$2:$B$575,2,FALSE)","v":{"$error":"#N/A"}}]
[null,null,{"$f":"VLOOKUP(B385,lists!$F$2:$G$17,2,FALSE)","v":{"$error":"#N/A"}},null,null,null,null,null,"",{"$f":"VLOOKUP(I385,lists!$A$2:$B$1335,2,FALSE)","v":{"$error":"#N/A"}},null,{"$f":"VLOOKUP(K385,lists!$F$2:$G$17,2,FALSE)","v":{"$error":"#N/A"}},null,null,"",{"$f":"VLOOKUP(O385,lists!$A$2:$B$1335,2,FALSE)","v":{"$error":"#N/A"}},null,"",{"$f":"VLOOKUP(R385,lists!$A$2:$B$575,2,FALSE)","v":{"$error":"#N/A"}}]
[null,null,{"$f":"VLOOKUP(B386,lists!$F$2:$G$17,2,FALSE)","v":{"$error":"#N/A"}},null,null,null,null,null,"",{"$f":"VLOOKUP(I386,lists!$A$2:$B$1335,2,FALSE)","v":{"$error":"#N/A"}},null,{"$f":"VLOOKUP(K386,lists!$F$2:$G$17,2,FALSE)","v":{"$error":"#N/A"}},null,null,"",{"$f":"VLOOKUP(O386,lists!$A$2:$B$1335,2,FALSE)","v":{"$error":"#N/A"}},null,"",{"$f":"VLOOKUP(R386,lists!$A$2:$B$575,2,FALSE)","v":{"$error":"#N/A"}}]
[null,null,{"$f":"VLOOKUP(B387,lists!$F$2:$G$17,2,FALSE)","v":{"$error":"#N/A"}},null,null,null,null,null,"",{"$f":"VLOOKUP(I387,lists!$A$2:$B$1335,2,FALSE)","v":{"$error":"#N/A"}},null,{"$f":"VLOOKUP(K387,lists!$F$2:$G$17,2,FALSE)","v":{"$error":"#N/A"}},null,null,"",{"$f":"VLOOKUP(O387,lists!$A$2:$B$1335,2,FALSE)","v":{"$error":"#N/A"}},null,"",{"$f":"VLOOKUP(R387,lists!$A$2:$B$575,2,FALSE)","v":{"$error":"#N/A"}}]
[null,null,{"$f":"VLOOKUP(B388,lists!$F$2:$G$17,2,FALSE)","v":{"$error":"#N/A"}},null,null,null,null,null,"",{"$f":"VLOOKUP(I388,lists!$A$2:$B$1335,2,FALSE)","v":{"$error":"#N/A"}},null,{"$f":"VLOOKUP(K388,lists!$F$2:$G$17,2,FALSE)","v":{"$error":"#N/A"}},null,null,"",{"$f":"VLOOKUP(O388,lists!$A$2:$B$1335,2,FALSE)","v":{"$error":"#N/A"}},null,"",{"$f":"VLOOKUP(R388,lists!$A$2:$B$575,2,FALSE)","v":{"$error":"#N/A"}}]
[null,null,{"$f":"VLOOKUP(B389,lists!$F$2:$G$17,2,FALSE)","v":{"$error":"#N/A"}},null,null,null,null,null,"",{"$f":"VLOOKUP(I389,lists!$A$2:$B$1335,2,FALSE)","v":{"$error":"#N/A"}},null,{"$f":"VLOOKUP(K389,lists!$F$2:$G$17,2,FALSE)","v":{"$error":"#N/A"}},null,null,"",{"$f":"VLOOKUP(O389,lists!$A$2:$B$1335,2,FALSE)","v":{"$error":"#N/A"}},null,"",{"$f":"VLOOKUP(R389,lists!$A$2:$B$575,2,FALSE)","v":{"$error":"#N/A"}}]
[null,null,{"$f":"VLOOKUP(B390,lists!$F$2:$G$17,2,FALSE)","v":{"$error":"#N/A"}},null,null,null,null,null,"",{"$f":"VLOOKUP(I390,lists!$A$2:$B$1335,2,FALSE)","v":{"$error":"#N/A"}},null,{"$f":"VLOOKUP(K390,lists!$F$2:$G$17,2,FALSE)","v":{"$error":"#N/A"}},null,null,"",{"$f":"VLOOKUP(O390,lists!$A$2:$B$1335,2,FALSE)","v":{"$error":"#N/A"}},null,"",{"$f":"VLOOKUP(R390,lists!$A$2:$B$575,2,FALSE)","v":{"$error":"#N/A"}}]
[null,null,{"$f":"VLOOKUP(B391,lists!$F$2:$G$17,2,FALSE)","v":{"$error":"#N/A"}},null,null,null,null,null,"",{"$f":"VLOOKUP(I391,lists!$A$2:$B$1335,2,FALSE)","v":{"$error":"#N/A"}},null,{"$f":"VLOOKUP(K391,lists!$F$2:$G$17,2,FALSE)","v":{"$error":"#N/A"}},null,null,"",{"$f":"VLOOKUP(O391,lists!$A$2:$B$1335,2,FALSE)","v":{"$error":"#N/A"}},null,"",{"$f":"VLOOKUP(R391,lists!$A$2:$B$575,2,FALSE)","v":{"$error":"#N/A"}}]
[null,null,{"$f":"VLOOKUP(B392,lists!$F$2:$G$17,2,FALSE)","v":{"$error":"#N/A"}},null,null,null,null,null,"",{"$f":"VLOOKUP(I392,lists!$A$2:$B$1335,2,FALSE)","v":{"$error":"#N/A"}},null,{"$f":"VLOOKUP(K392,lists!$F$2:$G$17,2,FALSE)","v":{"$error":"#N/A"}},null,null,"",{"$f":"VLOOKUP(O392,lists!$A$2:$B$1335,2,FALSE)","v":{"$error":"#N/A"}},null,"",{"$f":"VLOOKUP(R392,lists!$A$2:$B$575,2,FALSE)","v":{"$error":"#N/A"}}]
[null,null,{"$f":"VLOOKUP(B393,lists!$F$2:$G$17,2,FALSE)","v":{"$error":"#N/A"}},null,null,null,null,null,"",{"$f":"VLOOKUP(I393,lists!$A$2:$B$1335,2,FALSE)","v":{"$error":"#N/A"}},null,{"$f":"VLOOKUP(K393,lists!$F$2:$G$17,2,FALSE)","v":{"$error":"#N/A"}},null,null,"",{"$f":"VLOOKUP(O393,lists!$A$2:$B$1335,2,FALSE)","v":{"$error":"#N/A"}},null,"",{"$f":"VLOOKUP(R393,lists!$A$2:$B$575,2,FALSE)","v":{"$error":"#N/A"}}]
[null,null,{"$f":"VLOOKUP(B394,lists!$F$2:$G$17,2,FALSE)","v":{"$error":"#N/A"}},null,null,null,null,null,"",{"$f":"VLOOKUP(I394,lists!$A$2:$B$1335,2,FALSE)","v":{"$error":"#N/A"}},null,{"$f":"VLOOKUP(K394,lists!$F$2:$G$17,2,FALSE)","v":{"$error":"#N/A"}},null,null,"",{"$f":"VLOOKUP(O394,lists!$A$2:$B$1335,2,FALSE)","v":{"$error":"#N/A"}},null,"",{"$f":"VLOOKUP(R394,lists!$A$2:$B$575,2,FALSE)","v":{"$error":"#N/A"}}]
[null,null,{"$f":"VLOOKUP(B395,lists!$F$2:$G$17,2,FALSE)","v":{"$error":"#N/A"}},null,null,null,null,null,"",{"$f":"VLOOKUP(I395,lists!$A$2:$B$1335,2,FALSE)","v":{"$error":"#N/A"}},null,{"$f":"VLOOKUP(K395,lists!$F$2:$G$17,2,FALSE)","v":{"$error":"#N/A"}},null,null,"",{"$f":"VLOOKUP(O395,lists!$A$2:$B$1335,2,FALSE)","v":{"$error":"#N/A"}},null,"",{"$f":"VLOOKUP(R395,lists!$A$2:$B$575,2,FALSE)","v":{"$error":"#N/A"}}]
[null,null,{"$f":"VLOOKUP(B396,lists!$F$2:$G$17,2,FALSE)","v":{"$error":"#N/A"}},null,null,null,null,null,"",{"$f":"VLOOKUP(I396,lists!$A$2:$B$1335,2,FALSE)","v":{"$error":"#N/A"}},null,{"$f":"VLOOKUP(K396,lists!$F$2:$G$17,2,FALSE)","v":{"$error":"#N/A"}},null,null,"",{"$f":"VLOOKUP(O396,lists!$A$2:$B$1335,2,FALSE)","v":{"$error":"#N/A"}},null,"",{"$f":"VLOOKUP(R396,lists!$A$2:$B$575,2,FALSE)","v":{"$error":"#N/A"}}]
[null,null,{"$f":"VLOOKUP(B397,lists!$F$2:$G$17,2,FALSE)","v":{"$error":"#N/A"}},null,null,null,null,null,"",{"$f":"VLOOKUP(I397,lists!$A$2:$B$1335,2,FALSE)","v":{"$error":"#N/A"}},null,{"$f":"VLOOKUP(K397,lists!$F$2:$G$17,2,FALSE)","v":{"$error":"#N/A"}},null,null,"",{"$f":"VLOOKUP(O397,lists!$A$2:$B$1335,2,FALSE)","v":{"$error":"#N/A"}},null,"",{"$f":"VLOOKUP(R397,lists!$A$2:$B$575,2,FALSE)","v":{"$error":"#N/A"}}]
[null,null,{"$f":"VLOOKUP(B398,lists!$F$2:$G$17,2,FALSE)","v":{"$error":"#N/A"}},null,null,null,null,null,"",{"$f":"VLOOKUP(I398,lists!$A$2:$B$1335,2,FALSE)","v":{"$error":"#N/A"}},null,{"$f":"VLOOKUP(K398,lists!$F$2:$G$17,2,FALSE)","v":{"$error":"#N/A"}},null,null,"",{"$f":"VLOOKUP(O398,lists!$A$2:$B$1335,2,FALSE)","v":{"$error":"#N/A"}},null,"",{"$f":"VLOOKUP(R398,lists!$A$2:$B$575,2,FALSE)","v":{"$error":"#N/A"}}]
[null,null,{"$f":"VLOOKUP(B399,lists!$F$2:$G$17,2,FALSE)","v":{"$error":"#N/A"}},null,null,null,null,null,"",{"$f":"VLOOKUP(I399,lists!$A$2:$B$1335,2,FALSE)","v":{"$error":"#N/A"}},null,{"$f":"VLOOKUP(K399,lists!$F$2:$G$17,2,FALSE)","v":{"$error":"#N/A"}},null,null,"",{"$f":"VLOOKUP(O399,lists!$A$2:$B$1335,2,FALSE)","v":{"$error":"#N/A"}},null,"",{"$f":"VLOOKUP(R399,lists!$A$2:$B$575,2,FALSE)","v":{"$error":"#N/A"}}]
[null,null,{"$f":"VLOOKUP(B400,lists!$F$2:$G$17,2,FALSE)","v":{"$error":"#N/A"}},null,null,null,null,null,"",{"$f":"VLOOKUP(I400,lists!$A$2:$B$1335,2,FALSE)","v":{"$error":"#N/A"}},null,{"$f":"VLOOKUP(K400,lists!$F$2:$G$17,2,FALSE)","v":{"$error":"#N/A"}},null,null,"",{"$f":"VLOOKUP(O400,lists!$A$2:$B$1335,2,FALSE)","v":{"$error":"#N/A"}},null,"",{"$f":"VLOOKUP(R400,lists!$A$2:$B$575,2,FALSE)","v":{"$error":"#N/A"}}]
[null,null,{"$f":"VLOOKUP(B401,lists!$F$2:$G$17,2,FALSE)","v":{"$error":"#N/A"}},null,null,null,null,null,"",{"$f":"VLOOKUP(I401,lists!$A$2:$B$1335,2,FALSE)","v":{"$error":"#N/A"}},null,{"$f":"VLOOKUP(K401,lists!$F$2:$G$17,2,FALSE)","v":{"$error":"#N/A"}},null,null,"",{"$f":"VLOOKUP(O401,lists!$A$2:$B$1335,2,FALSE)","v":{"$error":"#N/A"}},null,"",{"$f":"VLOOKUP(R401,lists!$A$2:$B$575,2,FALSE)","v":{"$error":"#N/A"}}]
[null,null,{"$f":"VLOOKUP(B402,lists!$F$2:$G$17,2,FALSE)","v":{"$error":"#N/A"}},null,null,null,null,null,"",{"$f":"VLOOKUP(I402,lists!$A$2:$B$1335,2,FALSE)","v":{"$error":"#N/A"}},null,{"$f":"VLOOKUP(K402,lists!$F$2:$G$17,2,FALSE)","v":{"$error":"#N/A"}},null,null,"",{"$f":"VLOOKUP(O402,lists!$A$2:$B$1335,2,FALSE)","v":{"$error":"#N/A"}},null,"",{"$f":"VLOOKUP(R402,lists!$A$2:$B$575,2,FALSE)","v":{"$error":"#N/A"}}]
[null,null,{"$f":"VLOOKUP(B403,lists!$F$2:$G$17,2,FALSE)","v":{"$error":"#N/A"}},null,null,null,null,null,"",{"$f":"VLOOKUP(I403,lists!$A$2:$B$1335,2,FALSE)","v":{"$error":"#N/A"}},null,{"$f":"VLOOKUP(K403,lists!$F$2:$G$17,2,FALSE)","v":{"$error":"#N/A"}},null,null,"",{"$f":"VLOOKUP(O403,lists!$A$2:$B$1335,2,FALSE)","v":{"$error":"#N/A"}},null,"",{"$f":"VLOOKUP(R403,lists!$A$2:$B$575,2,FALSE)","v":{"$error":"#N/A"}}]
[null,null,{"$f":"VLOOKUP(B404,lists!$F$2:$G$17,2,FALSE)","v":{"$error":"#N/A"}},null,null,null,null,null,"",{"$f":"VLOOKUP(I404,lists!$A$2:$B$1335,2,FALSE)","v":{"$error":"#N/A"}},null,{"$f":"VLOOKUP(K404,lists!$F$2:$G$17,2,FALSE)","v":{"$error":"#N/A"}},null,null,"",{"$f":"VLOOKUP(O404,lists!$A$2:$B$1335,2,FALSE)","v":{"$error":"#N/A"}},null,"",{"$f":"VLOOKUP(R404,lists!$A$2:$B$575,2,FALSE)","v":{"$error":"#N/A"}}]
[null,null,{"$f":"VLOOKUP(B405,lists!$F$2:$G$17,2,FALSE)","v":{"$error":"#N/A"}},null,null,null,null,null,"",{"$f":"VLOOKUP(I405,lists!$A$2:$B$1335,2,FALSE)","v":{"$error":"#N/A"}},null,{"$f":"VLOOKUP(K405,lists!$F$2:$G$17,2,FALSE)","v":{"$error":"#N/A"}},null,null,"",{"$f":"VLOOKUP(O405,lists!$A$2:$B$1335,2,FALSE)","v":{"$error":"#N/A"}},null,"",{"$f":"VLOOKUP(R405,lists!$A$2:$B$575,2,FALSE)","v":{"$error":"#N/A"}}]
[null,null,{"$f":"VLOOKUP(B406,lists!$F$2:$G$17,2,FALSE)","v":{"$error":"#N/A"}},null,null,null,null,null,"",{"$f":"VLOOKUP(I406,lists!$A$2:$B$1335,2,FALSE)","v":{"$error":"#N/A"}},null,{"$f":"VLOOKUP(K406,lists!$F$2:$G$17,2,FALSE)","v":{"$error":"#N/A"}},null,null,"",{"$f":"VLOOKUP(O406,lists!$A$2:$B$1335,2,FALSE)","v":{"$error":"#N/A"}},null,"",{"$f":"VLOOKUP(R406,lists!$A$2:$B$575,2,FALSE)","v":{"$error":"#N/A"}}]
[null,null,{"$f":"VLOOKUP(B407,lists!$F$2:$G$17,2,FALSE)","v":{"$error":"#N/A"}},null,null,null,null,null,"",{"$f":"VLOOKUP(I407,lists!$A$2:$B$1335,2,FALSE)","v":{"$error":"#N/A"}},null,{"$f":"VLOOKUP(K407,lists!$F$2:$G$17,2,FALSE)","v":{"$error":"#N/A"}},null,null,"",{"$f":"VLOOKUP(O407,lists!$A$2:$B$1335,2,FALSE)","v":{"$error":"#N/A"}},null,"",{"$f":"VLOOKUP(R407,lists!$A$2:$B$575,2,FALSE)","v":{"$error":"#N/A"}}]
[null,null,{"$f":"VLOOKUP(B408,lists!$F$2:$G$17,2,FALSE)","v":{"$error":"#N/A"}},null,null,null,null,null,"",{"$f":"VLOOKUP(I408,lists!$A$2:$B$1335,2,FALSE)","v":{"$error":"#N/A"}},null,{"$f":"VLOOKUP(K408,lists!$F$2:$G$17,2,FALSE)","v":{"$error":"#N/A"}},null,null,"",{"$f":"VLOOKUP(O408,lists!$A$2:$B$1335,2,FALSE)","v":{"$error":"#N/A"}},null,"",{"$f":"VLOOKUP(R408,lists!$A$2:$B$575,2,FALSE)","v":{"$error":"#N/A"}}]
[null,null,{"$f":"VLOOKUP(B409,lists!$F$2:$G$17,2,FALSE)","v":{"$error":"#N/A"}},null,null,null,null,null,"",{"$f":"VLOOKUP(I409,lists!$A$2:$B$1335,2,FALSE)","v":{"$error":"#N/A"}},null,{"$f":"VLOOKUP(K409,lists!$F$2:$G$17,2,FALSE)","v":{"$error":"#N/A"}},null,null,"",{"$f":"VLOOKUP(O409,lists!$A$2:$B$1335,2,FALSE)","v":{"$error":"#N/A"}},null,"",{"$f":"VLOOKUP(R409,lists!$A$2:$B$575,2,FALSE)","v":{"$error":"#N/A"}}]
[null,null,{"$f":"VLOOKUP(B410,lists!$F$2:$G$17,2,FALSE)","v":{"$error":"#N/A"}},null,null,null,null,null,"",{"$f":"VLOOKUP(I410,lists!$A$2:$B$1335,2,FALSE)","v":{"$error":"#N/A"}},null,{"$f":"VLOOKUP(K410,lists!$F$2:$G$17,2,FALSE)","v":{"$error":"#N/A"}},null,null,"",{"$f":"VLOOKUP(O410,lists!$A$2:$B$1335,2,FALSE)","v":{"$error":"#N/A"}},null,"",{"$f":"VLOOKUP(R410,lists!$A$2:$B$575,2,FALSE)","v":{"$error":"#N/A"}}]
[null,null,{"$f":"VLOOKUP(B411,lists!$F$2:$G$17,2,FALSE)","v":{"$error":"#N/A"}},null,null,null,null,null,"",{"$f":"VLOOKUP(I411,lists!$A$2:$B$1335,2,FALSE)","v":{"$error":"#N/A"}},null,{"$f":"VLOOKUP(K411,lists!$F$2:$G$17,2,FALSE)","v":{"$error":"#N/A"}},null,null,"",{"$f":"VLOOKUP(O411,lists!$A$2:$B$1335,2,FALSE)","v":{"$error":"#N/A"}},null,"",{"$f":"VLOOKUP(R411,lists!$A$2:$B$575,2,FALSE)","v":{"$error":"#N/A"}}]
[null,null,{"$f":"VLOOKUP(B412,lists!$F$2:$G$17,2,FALSE)","v":{"$error":"#N/A"}},null,null,null,null,null,"",{"$f":"VLOOKUP(I412,lists!$A$2:$B$1335,2,FALSE)","v":{"$error":"#N/A"}},null,{"$f":"VLOOKUP(K412,lists!$F$2:$G$17,2,FALSE)","v":{"$error":"#N/A"}},null,null,"",{"$f":"VLOOKUP(O412,lists!$A$2:$B$1335,2,FALSE)","v":{"$error":"#N/A"}},null,"",{"$f":"VLOOKUP(R412,lists!$A$2:$B$575,2,FALSE)","v":{"$error":"#N/A"}}]
[null,null,{"$f":"VLOOKUP(B413,lists!$F$2:$G$17,2,FALSE)","v":{"$error":"#N/A"}},null,null,null,null,null,"",{"$f":"VLOOKUP(I413,lists!$A$2:$B$1335,2,FALSE)","v":{"$error":"#N/A"}},null,{"$f":"VLOOKUP(K413,lists!$F$2:$G$17,2,FALSE)","v":{"$error":"#N/A"}},null,null,"",{"$f":"VLOOKUP(O413,lists!$A$2:$B$1335,2,FALSE)","v":{"$error":"#N/A"}},null,"",{"$f":"VLOOKUP(R413,lists!$A$2:$B$575,2,FALSE)","v":{"$error":"#N/A"}}]
[null,null,{"$f":"VLOOKUP(B414,lists!$F$2:$G$17,2,FALSE)","v":{"$error":"#N/A"}},null,null,null,null,null,"",{"$f":"VLOOKUP(I414,lists!$A$2:$B$1335,2,FALSE)","v":{"$error":"#N/A"}},null,{"$f":"VLOOKUP(K414,lists!$F$2:$G$17,2,FALSE)","v":{"$error":"#N/A"}},null,null,"",{"$f":"VLOOKUP(O414,lists!$A$2:$B$1335,2,FALSE)","v":{"$error":"#N/A"}},null,"",{"$f":"VLOOKUP(R414,lists!$A$2:$B$575,2,FALSE)","v":{"$error":"#N/A"}}]
[null,null,{"$f":"VLOOKUP(B415,lists!$F$2:$G$17,2,FALSE)","v":{"$error":"#N/A"}},null,null,null,null,null,"",{"$f":"VLOOKUP(I415,lists!$A$2:$B$1335,2,FALSE)","v":{"$error":"#N/A"}},null,{"$f":"VLOOKUP(K415,lists!$F$2:$G$17,2,FALSE)","v":{"$error":"#N/A"}},null,null,"",{"$f":"VLOOKUP(O415,lists!$A$2:$B$1335,2,FALSE)","v":{"$error":"#N/A"}},null,"",{"$f":"VLOOKUP(R415,lists!$A$2:$B$575,2,FALSE)","v":{"$error":"#N/A"}}]
[null,null,{"$f":"VLOOKUP(B416,lists!$F$2:$G$17,2,FALSE)","v":{"$error":"#N/A"}},null,null,null,null,null,"",{"$f":"VLOOKUP(I416,lists!$A$2:$B$1335,2,FALSE)","v":{"$error":"#N/A"}},null,{"$f":"VLOOKUP(K416,lists!$F$2:$G$17,2,FALSE)","v":{"$error":"#N/A"}},null,null,"",{"$f":"VLOOKUP(O416,lists!$A$2:$B$1335,2,FALSE)","v":{"$error":"#N/A"}},null,"",{"$f":"VLOOKUP(R416,lists!$A$2:$B$575,2,FALSE)","v":{"$error":"#N/A"}}]
[null,null,{"$f":"VLOOKUP(B417,lists!$F$2:$G$17,2,FALSE)","v":{"$error":"#N/A"}},null,null,null,null,null,"",{"$f":"VLOOKUP(I417,lists!$A$2:$B$1335,2,FALSE)","v":{"$error":"#N/A"}},null,{"$f":"VLOOKUP(K417,lists!$F$2:$G$17,2,FALSE)","v":{"$error":"#N/A"}},null,null,"",{"$f":"VLOOKUP(O417,lists!$A$2:$B$1335,2,FALSE)","v":{"$error":"#N/A"}},null,"",{"$f":"VLOOKUP(R417,lists!$A$2:$B$575,2,FALSE)","v":{"$error":"#N/A"}}]
[null,null,{"$f":"VLOOKUP(B418,lists!$F$2:$G$17,2,FALSE)","v":{"$error":"#N/A"}},null,null,null,null,null,"",{"$f":"VLOOKUP(I418,lists!$A$2:$B$1335,2,FALSE)","v":{"$error":"#N/A"}},null,{"$f":"VLOOKUP(K418,lists!$F$2:$G$17,2,FALSE)","v":{"$error":"#N/A"}},null,null,"",{"$f":"VLOOKUP(O418,lists!$A$2:$B$1335,2,FALSE)","v":{"$error":"#N/A"}},null,"",{"$f":"VLOOKUP(R418,lists!$A$2:$B$575,2,FALSE)","v":{"$error":"#N/A"}}]
[null,null,{"$f":"VLOOKUP(B419,lists!$F$2:$G$17,2,FALSE)","v":{"$error":"#N/A"}},null,null,null,null,null,"",{"$f":"VLOOKUP(I419,lists!$A$2:$B$1335,2,FALSE)","v":{"$error":"#N/A"}},null,{"$f":"VLOOKUP(K419,lists!$F$2:$G$17,2,FALSE)","v":{"$error":"#N/A"}},null,null,"",{"$f":"VLOOKUP(O419,lists!$A$2:$B$1335,2,FALSE)","v":{"$error":"#N/A"}},null,"",{"$f":"VLOOKUP(R419,lists!$A$2:$B$575,2,FALSE)","v":{"$error":"#N/A"}}]
[null,null,{"$f":"VLOOKUP(B420,lists!$F$2:$G$17,2,FALSE)","v":{"$error":"#N/A"}},null,null,null,null,null,"",{"$f":"VLOOKUP(I420,lists!$A$2:$B$1335,2,FALSE)","v":{"$error":"#N/A"}},null,{"$f":"VLOOKUP(K420,lists!$F$2:$G$17,2,FALSE)","v":{"$error":"#N/A"}},null,null,"",{"$f":"VLOOKUP(O420,lists!$A$2:$B$1335,2,FALSE)","v":{"$error":"#N/A"}},null,"",{"$f":"VLOOKUP(R420,lists!$A$2:$B$575,2,FALSE)","v":{"$error":"#N/A"}}]
[null,null,{"$f":"VLOOKUP(B421,lists!$F$2:$G$17,2,FALSE)","v":{"$error":"#N/A"}},null,null,null,null,null,"",{"$f":"VLOOKUP(I421,lists!$A$2:$B$1335,2,FALSE)","v":{"$error":"#N/A"}},null,{"$f":"VLOOKUP(K421,lists!$F$2:$G$17,2,FALSE)","v":{"$error":"#N/A"}},null,null,"",{"$f":"VLOOKUP(O421,lists!$A$2:$B$1335,2,FALSE)","v":{"$error":"#N/A"}},null,"",{"$f":"VLOOKUP(R421,lists!$A$2:$B$575,2,FALSE)","v":{"$error":"#N/A"}}]
[null,null,{"$f":"VLOOKUP(B422,lists!$F$2:$G$17,2,FALSE)","v":{"$error":"#N/A"}},null,null,null,null,null,"",{"$f":"VLOOKUP(I422,lists!$A$2:$B$1335,2,FALSE)","v":{"$error":"#N/A"}},null,{"$f":"VLOOKUP(K422,lists!$F$2:$G$17,2,FALSE)","v":{"$error":"#N/A"}},null,null,"",{"$f":"VLOOKUP(O422,lists!$A$2:$B$1335,2,FALSE)","v":{"$error":"#N/A"}},null,"",{"$f":"VLOOKUP(R422,lists!$A$2:$B$575,2,FALSE)","v":{"$error":"#N/A"}}]
[null,null,{"$f":"VLOOKUP(B423,lists!$F$2:$G$17,2,FALSE)","v":{"$error":"#N/A"}},null,null,null,null,null,"",{"$f":"VLOOKUP(I423,lists!$A$2:$B$1335,2,FALSE)","v":{"$error":"#N/A"}},null,{"$f":"VLOOKUP(K423,lists!$F$2:$G$17,2,FALSE)","v":{"$error":"#N/A"}},null,null,"",{"$f":"VLOOKUP(O423,lists!$A$2:$B$1335,2,FALSE)","v":{"$error":"#N/A"}},null,"",{"$f":"VLOOKUP(R423,lists!$A$2:$B$575,2,FALSE)","v":{"$error":"#N/A"}}]
[null,null,{"$f":"VLOOKUP(B424,lists!$F$2:$G$17,2,FALSE)","v":{"$error":"#N/A"}},null,null,null,null,null,"",{"$f":"VLOOKUP(I424,lists!$A$2:$B$1335,2,FALSE)","v":{"$error":"#N/A"}},null,{"$f":"VLOOKUP(K424,lists!$F$2:$G$17,2,FALSE)","v":{"$error":"#N/A"}},null,null,"",{"$f":"VLOOKUP(O424,lists!$A$2:$B$1335,2,FALSE)","v":{"$error":"#N/A"}},null,"",{"$f":"VLOOKUP(R424,lists!$A$2:$B$575,2,FALSE)","v":{"$error":"#N/A"}}]
[null,null,{"$f":"VLOOKUP(B425,lists!$F$2:$G$17,2,FALSE)","v":{"$error":"#N/A"}},null,null,null,null,null,"",{"$f":"VLOOKUP(I425,lists!$A$2:$B$1335,2,FALSE)","v":{"$error":"#N/A"}},null,{"$f":"VLOOKUP(K425,lists!$F$2:$G$17,2,FALSE)","v":{"$error":"#N/A"}},null,null,"",{"$f":"VLOOKUP(O425,lists!$A$2:$B$1335,2,FALSE)","v":{"$error":"#N/A"}},null,"",{"$f":"VLOOKUP(R425,lists!$A$2:$B$575,2,FALSE)","v":{"$error":"#N/A"}}]
[null,null,{"$f":"VLOOKUP(B426,lists!$F$2:$G$17,2,FALSE)","v":{"$error":"#N/A"}},null,null,null,null,null,"",{"$f":"VLOOKUP(I426,lists!$A$2:$B$1335,2,FALSE)","v":{"$error":"#N/A"}},null,{"$f":"VLOOKUP(K426,lists!$F$2:$G$17,2,FALSE)","v":{"$error":"#N/A"}},null,null,"",{"$f":"VLOOKUP(O426,lists!$A$2:$B$1335,2,FALSE)","v":{"$error":"#N/A"}},null,"",{"$f":"VLOOKUP(R426,lists!$A$2:$B$575,2,FALSE)","v":{"$error":"#N/A"}}]
[null,null,{"$f":"VLOOKUP(B427,lists!$F$2:$G$17,2,FALSE)","v":{"$error":"#N/A"}},null,null,null,null,null,"",{"$f":"VLOOKUP(I427,lists!$A$2:$B$1335,2,FALSE)","v":{"$error":"#N/A"}},null,{"$f":"VLOOKUP(K427,lists!$F$2:$G$17,2,FALSE)","v":{"$error":"#N/A"}},null,null,"",{"$f":"VLOOKUP(O427,lists!$A$2:$B$1335,2,FALSE)","v":{"$error":"#N/A"}},null,"",{"$f":"VLOOKUP(R427,lists!$A$2:$B$575,2,FALSE)","v":{"$error":"#N/A"}}]
[null,null,{"$f":"VLOOKUP(B428,lists!$F$2:$G$17,2,FALSE)","v":{"$error":"#N/A"}},null,null,null,null,null,"",{"$f":"VLOOKUP(I428,lists!$A$2:$B$1335,2,FALSE)","v":{"$error":"#N/A"}},null,{"$f":"VLOOKUP(K428,lists!$F$2:$G$17,2,FALSE)","v":{"$error":"#N/A"}},null,null,"",{"$f":"VLOOKUP(O428,lists!$A$2:$B$1335,2,FALSE)","v":{"$error":"#N/A"}},null,"",{"$f":"VLOOKUP(R428,lists!$A$2:$B$575,2,FALSE)","v":{"$error":"#N/A"}}]
[null,null,{"$f":"VLOOKUP(B429,lists!$F$2:$G$17,2,FALSE)","v":{"$error":"#N/A"}},null,null,null,null,null,"",{"$f":"VLOOKUP(I429,lists!$A$2:$B$1335,2,FALSE)","v":{"$error":"#N/A"}},null,{"$f":"VLOOKUP(K429,lists!$F$2:$G$17,2,FALSE)","v":{"$error":"#N/A"}},null,null,"",{"$f":"VLOOKUP(O429,lists!$A$2:$B$1335,2,FALSE)","v":{"$error":"#N/A"}},null,"",{"$f":"VLOOKUP(R429,lists!$A$2:$B$575,2,FALSE)","v":{"$error":"#N/A"}}]
[null,null,{"$f":"VLOOKUP(B430,lists!$F$2:$G$17,2,FALSE)","v":{"$error":"#N/A"}},null,null,null,null,null,"",{"$f":"VLOOKUP(I430,lists!$A$2:$B$1335,2,FALSE)","v":{"$error":"#N/A"}},null,{"$f":"VLOOKUP(K430,lists!$F$2:$G$17,2,FALSE)","v":{"$error":"#N/A"}},null,null,"",{"$f":"VLOOKUP(O430,lists!$A$2:$B$1335,2,FALSE)","v":{"$error":"#N/A"}},null,"",{"$f":"VLOOKUP(R430,lists!$A$2:$B$575,2,FALSE)","v":{"$error":"#N/A"}}]
[null,null,{"$f":"VLOOKUP(B431,lists!$F$2:$G$17,2,FALSE)","v":{"$error":"#N/A"}},null,null,null,null,null,"",{"$f":"VLOOKUP(I431,lists!$A$2:$B$1335,2,FALSE)","v":{"$error":"#N/A"}},null,{"$f":"VLOOKUP(K431,lists!$F$2:$G$17,2,FALSE)","v":{"$error":"#N/A"}},null,null,"",{"$f":"VLOOKUP(O431,lists!$A$2:$B$1335,2,FALSE)","v":{"$error":"#N/A"}},null,"",{"$f":"VLOOKUP(R431,lists!$A$2:$B$575,2,FALSE)","v":{"$error":"#N/A"}}]
[null,null,{"$f":"VLOOKUP(B432,lists!$F$2:$G$17,2,FALSE)","v":{"$error":"#N/A"}},null,null,null,null,null,"",{"$f":"VLOOKUP(I432,lists!$A$2:$B$1335,2,FALSE)","v":{"$error":"#N/A"}},null,{"$f":"VLOOKUP(K432,lists!$F$2:$G$17,2,FALSE)","v":{"$error":"#N/A"}},null,null,"",{"$f":"VLOOKUP(O432,lists!$A$2:$B$1335,2,FALSE)","v":{"$error":"#N/A"}},null,"",{"$f":"VLOOKUP(R432,lists!$A$2:$B$575,2,FALSE)","v":{"$error":"#N/A"}}]
[null,null,{"$f":"VLOOKUP(B433,lists!$F$2:$G$17,2,FALSE)","v":{"$error":"#N/A"}},null,null,null,null,null,"",{"$f":"VLOOKUP(I433,lists!$A$2:$B$1335,2,FALSE)","v":{"$error":"#N/A"}},null,{"$f":"VLOOKUP(K433,lists!$F$2:$G$17,2,FALSE)","v":{"$error":"#N/A"}},null,null,"",{"$f":"VLOOKUP(O433,lists!$A$2:$B$1335,2,FALSE)","v":{"$error":"#N/A"}},null,"",{"$f":"VLOOKUP(R433,lists!$A$2:$B$575,2,FALSE)","v":{"$error":"#N/A"}}]
[null,null,{"$f":"VLOOKUP(B434,lists!$F$2:$G$17,2,FALSE)","v":{"$error":"#N/A"}},null,null,null,null,null,"",{"$f":"VLOOKUP(I434,lists!$A$2:$B$1335,2,FALSE)","v":{"$error":"#N/A"}},null,{"$f":"VLOOKUP(K434,lists!$F$2:$G$17,2,FALSE)","v":{"$error":"#N/A"}},null,null,"",{"$f":"VLOOKUP(O434,lists!$A$2:$B$1335,2,FALSE)","v":{"$error":"#N/A"}},null,"",{"$f":"VLOOKUP(R434,lists!$A$2:$B$575,2,FALSE)","v":{"$error":"#N/A"}}]
[null,null,{"$f":"VLOOKUP(B435,lists!$F$2:$G$17,2,FALSE)","v":{"$error":"#N/A"}},null,null,null,null,null,"",{"$f":"VLOOKUP(I435,lists!$A$2:$B$1335,2,FALSE)","v":{"$error":"#N/A"}},null,{"$f":"VLOOKUP(K435,lists!$F$2:$G$17,2,FALSE)","v":{"$error":"#N/A"}},null,null,"",{"$f":"VLOOKUP(O435,lists!$A$2:$B$1335,2,FALSE)","v":{"$error":"#N/A"}},null,"",{"$f":"VLOOKUP(R435,lists!$A$2:$B$575,2,FALSE)","v":{"$error":"#N/A"}}]
[null,null,{"$f":"VLOOKUP(B436,lists!$F$2:$G$17,2,FALSE)","v":{"$error":"#N/A"}},null,null,null,null,null,"",{"$f":"VLOOKUP(I436,lists!$A$2:$B$1335,2,FALSE)","v":{"$error":"#N/A"}},null,{"$f":"VLOOKUP(K436,lists!$F$2:$G$17,2,FALSE)","v":{"$error":"#N/A"}},null,null,"",{"$f":"VLOOKUP(O436,lists!$A$2:$B$1335,2,FALSE)","v":{"$error":"#N/A"}},null,"",{"$f":"VLOOKUP(R436,lists!$A$2:$B$575,2,FALSE)","v":{"$error":"#N/A"}}]
[null,null,{"$f":"VLOOKUP(B437,lists!$F$2:$G$17,2,FALSE)","v":{"$error":"#N/A"}},null,null,null,null,null,"",{"$f":"VLOOKUP(I437,lists!$A$2:$B$1335,2,FALSE)","v":{"$error":"#N/A"}},null,{"$f":"VLOOKUP(K437,lists!$F$2:$G$17,2,FALSE)","v":{"$error":"#N/A"}},null,null,"",{"$f":"VLOOKUP(O437,lists!$A$2:$B$1335,2,FALSE)","v":{"$error":"#N/A"}},null,"",{"$f":"VLOOKUP(R437,lists!$A$2:$B$575,2,FALSE)","v":{"$error":"#N/A"}}]
[null,null,{"$f":"VLOOKUP(B438,lists!$F$2:$G$17,2,FALSE)","v":{"$error":"#N/A"}},null,null,null,null,null,"",{"$f":"VLOOKUP(I438,lists!$A$2:$B$1335,2,FALSE)","v":{"$error":"#N/A"}},null,{"$f":"VLOOKUP(K438,lists!$F$2:$G$17,2,FALSE)","v":{"$error":"#N/A"}},null,null,"",{"$f":"VLOOKUP(O438,lists!$A$2:$B$1335,2,FALSE)","v":{"$error":"#N/A"}},null,"",{"$f":"VLOOKUP(R438,lists!$A$2:$B$575,2,FALSE)","v":{"$error":"#N/A"}}]
[null,null,{"$f":"VLOOKUP(B439,lists!$F$2:$G$17,2,FALSE)","v":{"$error":"#N/A"}},null,null,null,null,null,"",{"$f":"VLOOKUP(I439,lists!$A$2:$B$1335,2,FALSE)","v":{"$error":"#N/A"}},null,{"$f":"VLOOKUP(K439,lists!$F$2:$G$17,2,FALSE)","v":{"$error":"#N/A"}},null,null,"",{"$f":"VLOOKUP(O439,lists!$A$2:$B$1335,2,FALSE)","v":{"$error":"#N/A"}},null,"",{"$f":"VLOOKUP(R439,lists!$A$2:$B$575,2,FALSE)","v":{"$error":"#N/A"}}]
[null,null,{"$f":"VLOOKUP(B440,lists!$F$2:$G$17,2,FALSE)","v":{"$error":"#N/A"}},null,null,null,null,null,"",{"$f":"VLOOKUP(I440,lists!$A$2:$B$1335,2,FALSE)","v":{"$error":"#N/A"}},null,{"$f":"VLOOKUP(K440,lists!$F$2:$G$17,2,FALSE)","v":{"$error":"#N/A"}},null,null,"",{"$f":"VLOOKUP(O440,lists!$A$2:$B$1335,2,FALSE)","v":{"$error":"#N/A"}},null,"",{"$f":"VLOOKUP(R440,lists!$A$2:$B$575,2,FALSE)","v":{"$error":"#N/A"}}]
[null,null,{"$f":"VLOOKUP(B441,lists!$F$2:$G$17,2,FALSE)","v":{"$error":"#N/A"}},null,null,null,null,null,"",{"$f":"VLOOKUP(I441,lists!$A$2:$B$1335,2,FALSE)","v":{"$error":"#N/A"}},null,{"$f":"VLOOKUP(K441,lists!$F$2:$G$17,2,FALSE)","v":{"$error":"#N/A"}},null,null,"",{"$f":"VLOOKUP(O441,lists!$A$2:$B$1335,2,FALSE)","v":{"$error":"#N/A"}},null,"",{"$f":"VLOOKUP(R441,lists!$A$2:$B$575,2,FALSE)","v":{"$error":"#N/A"}}]
[null,null,{"$f":"VLOOKUP(B442,lists!$F$2:$G$17,2,FALSE)","v":{"$error":"#N/A"}},null,null,null,null,null,"",{"$f":"VLOOKUP(I442,lists!$A$2:$B$1335,2,FALSE)","v":{"$error":"#N/A"}},null,{"$f":"VLOOKUP(K442,lists!$F$2:$G$17,2,FALSE)","v":{"$error":"#N/A"}},null,null,"",{"$f":"VLOOKUP(O442,lists!$A$2:$B$1335,2,FALSE)","v":{"$error":"#N/A"}},null,"",{"$f":"VLOOKUP(R442,lists!$A$2:$B$575,2,FALSE)","v":{"$error":"#N/A"}}]
[null,null,{"$f":"VLOOKUP(B443,lists!$F$2:$G$17,2,FALSE)","v":{"$error":"#N/A"}},null,null,null,null,null,"",{"$f":"VLOOKUP(I443,lists!$A$2:$B$1335,2,FALSE)","v":{"$error":"#N/A"}},null,{"$f":"VLOOKUP(K443,lists!$F$2:$G$17,2,FALSE)","v":{"$error":"#N/A"}},null,null,"",{"$f":"VLOOKUP(O443,lists!$A$2:$B$1335,2,FALSE)","v":{"$error":"#N/A"}},null,"",{"$f":"VLOOKUP(R443,lists!$A$2:$B$575,2,FALSE)","v":{"$error":"#N/A"}}]
[null,null,{"$f":"VLOOKUP(B444,lists!$F$2:$G$17,2,FALSE)","v":{"$error":"#N/A"}},null,null,null,null,null,"",{"$f":"VLOOKUP(I444,lists!$A$2:$B$1335,2,FALSE)","v":{"$error":"#N/A"}},null,{"$f":"VLOOKUP(K444,lists!$F$2:$G$17,2,FALSE)","v":{"$error":"#N/A"}},null,null,"",{"$f":"VLOOKUP(O444,lists!$A$2:$B$1335,2,FALSE)","v":{"$error":"#N/A"}},null,"",{"$f":"VLOOKUP(R444,lists!$A$2:$B$575,2,FALSE)","v":{"$error":"#N/A"}}]
[null,null,{"$f":"VLOOKUP(B445,lists!$F$2:$G$17,2,FALSE)","v":{"$error":"#N/A"}},null,null,null,null,null,"",{"$f":"VLOOKUP(I445,lists!$A$2:$B$1335,2,FALSE)","v":{"$error":"#N/A"}},null,{"$f":"VLOOKUP(K445,lists!$F$2:$G$17,2,FALSE)","v":{"$error":"#N/A"}},null,null,"",{"$f":"VLOOKUP(O445,lists!$A$2:$B$1335,2,FALSE)","v":{"$error":"#N/A"}},null,"",{"$f":"VLOOKUP(R445,lists!$A$2:$B$575,2,FALSE)","v":{"$error":"#N/A"}}]
[null,null,{"$f":"VLOOKUP(B446,lists!$F$2:$G$17,2,FALSE)","v":{"$error":"#N/A"}},null,null,null,null,null,"",{"$f":"VLOOKUP(I446,lists!$A$2:$B$1335,2,FALSE)","v":{"$error":"#N/A"}},null,{"$f":"VLOOKUP(K446,lists!$F$2:$G$17,2,FALSE)","v":{"$error":"#N/A"}},null,null,"",{"$f":"VLOOKUP(O446,lists!$A$2:$B$1335,2,FALSE)","v":{"$error":"#N/A"}},null,"",{"$f":"VLOOKUP(R446,lists!$A$2:$B$575,2,FALSE)","v":{"$error":"#N/A"}}]
[null,null,{"$f":"VLOOKUP(B447,lists!$F$2:$G$17,2,FALSE)","v":{"$error":"#N/A"}},null,null,null,null,null,"",{"$f":"VLOOKUP(I447,lists!$A$2:$B$1335,2,FALSE)","v":{"$error":"#N/A"}},null,{"$f":"VLOOKUP(K447,lists!$F$2:$G$17,2,FALSE)","v":{"$error":"#N/A"}},null,null,"",{"$f":"VLOOKUP(O447,lists!$A$2:$B$1335,2,FALSE)","v":{"$error":"#N/A"}},null,"",{"$f":"VLOOKUP(R447,lists!$A$2:$B$575,2,FALSE)","v":{"$error":"#N/A"}}]
[null,null,{"$f":"VLOOKUP(B448,lists!$F$2:$G$17,2,FALSE)","v":{"$error":"#N/A"}},null,null,null,null,null,"",{"$f":"VLOOKUP(I448,lists!$A$2:$B$1335,2,FALSE)","v":{"$error":"#N/A"}},null,{"$f":"VLOOKUP(K448,lists!$F$2:$G$17,2,FALSE)","v":{"$error":"#N/A"}},null,null,"",{"$f":"VLOOKUP(O448,lists!$A$2:$B$1335,2,FALSE)","v":{"$error":"#N/A"}},null,"",{"$f":"VLOOKUP(R448,lists!$A$2:$B$575,2,FALSE)","v":{"$error":"#N/A"}}]
[null,null,{"$f":"VLOOKUP(B449,lists!$F$2:$G$17,2,FALSE)","v":{"$error":"#N/A"}},null,null,null,null,null,"",{"$f":"VLOOKUP(I449,lists!$A$2:$B$1335,2,FALSE)","v":{"$error":"#N/A"}},null,{"$f":"VLOOKUP(K449,lists!$F$2:$G$17,2,FALSE)","v":{"$error":"#N/A"}},null,null,"",{"$f":"VLOOKUP(O449,lists!$A$2:$B$1335,2,FALSE)","v":{"$error":"#N/A"}},null,"",{"$f":"VLOOKUP(R449,lists!$A$2:$B$575,2,FALSE)","v":{"$error":"#N/A"}}]
[null,null,{"$f":"VLOOKUP(B450,lists!$F$2:$G$17,2,FALSE)","v":{"$error":"#N/A"}},null,null,null,null,null,"",{"$f":"VLOOKUP(I450,lists!$A$2:$B$1335,2,FALSE)","v":{"$error":"#N/A"}},null,{"$f":"VLOOKUP(K450,lists!$F$2:$G$17,2,FALSE)","v":{"$error":"#N/A"}},null,null,"",{"$f":"VLOOKUP(O450,lists!$A$2:$B$1335,2,FALSE)","v":{"$error":"#N/A"}},null,"",{"$f":"VLOOKUP(R450,lists!$A$2:$B$575,2,FALSE)","v":{"$error":"#N/A"}}]
[null,null,{"$f":"VLOOKUP(B451,lists!$F$2:$G$17,2,FALSE)","v":{"$error":"#N/A"}},null,null,null,null,null,"",{"$f":"VLOOKUP(I451,lists!$A$2:$B$1335,2,FALSE)","v":{"$error":"#N/A"}},null,{"$f":"VLOOKUP(K451,lists!$F$2:$G$17,2,FALSE)","v":{"$error":"#N/A"}},null,null,"",{"$f":"VLOOKUP(O451,lists!$A$2:$B$1335,2,FALSE)","v":{"$error":"#N/A"}},null,"",{"$f":"VLOOKUP(R451,lists!$A$2:$B$575,2,FALSE)","v":{"$error":"#N/A"}}]
[null,null,{"$f":"VLOOKUP(B452,lists!$F$2:$G$17,2,FALSE)","v":{"$error":"#N/A"}},null,null,null,null,null,"",{"$f":"VLOOKUP(I452,lists!$A$2:$B$1335,2,FALSE)","v":{"$error":"#N/A"}},null,{"$f":"VLOOKUP(K452,lists!$F$2:$G$17,2,FALSE)","v":{"$error":"#N/A"}},null,null,"",{"$f":"VLOOKUP(O452,lists!$A$2:$B$1335,2,FALSE)","v":{"$error":"#N/A"}},null,"",{"$f":"VLOOKUP(R452,lists!$A$2:$B$575,2,FALSE)","v":{"$error":"#N/A"}}]
[null,null,{"$f":"VLOOKUP(B453,lists!$F$2:$G$17,2,FALSE)","v":{"$error":"#N/A"}},null,null,null,null,null,"",{"$f":"VLOOKUP(I453,lists!$A$2:$B$1335,2,FALSE)","v":{"$error":"#N/A"}},null,{"$f":"VLOOKUP(K453,lists!$F$2:$G$17,2,FALSE)","v":{"$error":"#N/A"}},null,null,"",{"$f":"VLOOKUP(O453,lists!$A$2:$B$1335,2,FALSE)","v":{"$error":"#N/A"}},null,"",{"$f":"VLOOKUP(R453,lists!$A$2:$B$575,2,FALSE)","v":{"$error":"#N/A"}}]
[null,null,{"$f":"VLOOKUP(B454,lists!$F$2:$G$17,2,FALSE)","v":{"$error":"#N/A"}},null,null,null,null,null,"",{"$f":"VLOOKUP(I454,lists!$A$2:$B$1335,2,FALSE)","v":{"$error":"#N/A"}},null,{"$f":"VLOOKUP(K454,lists!$F$2:$G$17,2,FALSE)","v":{"$error":"#N/A"}},null,null,"",{"$f":"VLOOKUP(O454,lists!$A$2:$B$1335,2,FALSE)","v":{"$error":"#N/A"}},null,"",{"$f":"VLOOKUP(R454,lists!$A$2:$B$575,2,FALSE)","v":{"$error":"#N/A"}}]
[null,null,{"$f":"VLOOKUP(B455,lists!$F$2:$G$17,2,FALSE)","v":{"$error":"#N/A"}},null,null,null,null,null,"",{"$f":"VLOOKUP(I455,lists!$A$2:$B$1335,2,FALSE)","v":{"$error":"#N/A"}},null,{"$f":"VLOOKUP(K455,lists!$F$2:$G$17,2,FALSE)","v":{"$error":"#N/A"}},null,null,"",{"$f":"VLOOKUP(O455,lists!$A$2:$B$1335,2,FALSE)","v":{"$error":"#N/A"}},null,"",{"$f":"VLOOKUP(R455,lists!$A$2:$B$575,2,FALSE)","v":{"$error":"#N/A"}}]
[null,null,{"$f":"VLOOKUP(B456,lists!$F$2:$G$17,2,FALSE)","v":{"$error":"#N/A"}},null,null,null,null,null,"",{"$f":"VLOOKUP(I456,lists!$A$2:$B$1335,2,FALSE)","v":{"$error":"#N/A"}},null,{"$f":"VLOOKUP(K456,lists!$F$2:$G$17,2,FALSE)","v":{"$error":"#N/A"}},null,null,"",{"$f":"VLOOKUP(O456,lists!$A$2:$B$1335,2,FALSE)","v":{"$error":"#N/A"}},null,"",{"$f":"VLOOKUP(R456,lists!$A$2:$B$575,2,FALSE)","v":{"$error":"#N/A"}}]
[null,null,{"$f":"VLOOKUP(B457,lists!$F$2:$G$17,2,FALSE)","v":{"$error":"#N/A"}},null,null,null,null,null,"",{"$f":"VLOOKUP(I457,lists!$A$2:$B$1335,2,FALSE)","v":{"$error":"#N/A"}},null,{"$f":"VLOOKUP(K457,lists!$F$2:$G$17,2,FALSE)","v":{"$error":"#N/A"}},null,null,"",{"$f":"VLOOKUP(O457,lists!$A$2:$B$1335,2,FALSE)","v":{"$error":"#N/A"}},null,"",{"$f":"VLOOKUP(R457,lists!$A$2:$B$575,2,FALSE)","v":{"$error":"#N/A"}}]
[null,null,{"$f":"VLOOKUP(B458,lists!$F$2:$G$17,2,FALSE)","v":{"$error":"#N/A"}},null,null,null,null,null,"",{"$f":"VLOOKUP(I458,lists!$A$2:$B$1335,2,FALSE)","v":{"$error":"#N/A"}},null,{"$f":"VLOOKUP(K458,lists!$F$2:$G$17,2,FALSE)","v":{"$error":"#N/A"}},null,null,"",{"$f":"VLOOKUP(O458,lists!$A$2:$B$1335,2,FALSE)","v":{"$error":"#N/A"}},null,"",{"$f":"VLOOKUP(R458,lists!$A$2:$B$575,2,FALSE)","v":{"$error":"#N/A"}}]
[null,null,{"$f":"VLOOKUP(B459,lists!$F$2:$G$17,2,FALSE)","v":{"$error":"#N/A"}},null,null,null,null,null,"",{"$f":"VLOOKUP(I459,lists!$A$2:$B$1335,2,FALSE)","v":{"$error":"#N/A"}},null,{"$f":"VLOOKUP(K459,lists!$F$2:$G$17,2,FALSE)","v":{"$error":"#N/A"}},null,null,"",{"$f":"VLOOKUP(O459,lists!$A$2:$B$1335,2,FALSE)","v":{"$error":"#N/A"}},null,"",{"$f":"VLOOKUP(R459,lists!$A$2:$B$575,2,FALSE)","v":{"$error":"#N/A"}}]
[null,null,{"$f":"VLOOKUP(B460,lists!$F$2:$G$17,2,FALSE)","v":{"$error":"#N/A"}},null,null,null,null,null,"",{"$f":"VLOOKUP(I460,lists!$A$2:$B$1335,2,FALSE)","v":{"$error":"#N/A"}},null,{"$f":"VLOOKUP(K460,lists!$F$2:$G$17,2,FALSE)","v":{"$error":"#N/A"}},null,null,"",{"$f":"VLOOKUP(O460,lists!$A$2:$B$1335,2,FALSE)","v":{"$error":"#N/A"}},null,"",{"$f":"VLOOKUP(R460,lists!$A$2:$B$575,2,FALSE)","v":{"$error":"#N/A"}}]
[null,null,{"$f":"VLOOKUP(B461,lists!$F$2:$G$17,2,FALSE)","v":{"$error":"#N/A"}},null,null,null,null,null,"",{"$f":"VLOOKUP(I461,lists!$A$2:$B$1335,2,FALSE)","v":{"$error":"#N/A"}},null,{"$f":"VLOOKUP(K461,lists!$F$2:$G$17,2,FALSE)","v":{"$error":"#N/A"}},null,null,"",{"$f":"VLOOKUP(O461,lists!$A$2:$B$1335,2,FALSE)","v":{"$error":"#N/A"}},null,"",{"$f":"VLOOKUP(R461,lists!$A$2:$B$575,2,FALSE)","v":{"$error":"#N/A"}}]
[null,null,{"$f":"VLOOKUP(B462,lists!$F$2:$G$17,2,FALSE)","v":{"$error":"#N/A"}},null,null,null,null,null,"",{"$f":"VLOOKUP(I462,lists!$A$2:$B$1335,2,FALSE)","v":{"$error":"#N/A"}},null,{"$f":"VLOOKUP(K462,lists!$F$2:$G$17,2,FALSE)","v":{"$error":"#N/A"}},null,null,"",{"$f":"VLOOKUP(O462,lists!$A$2:$B$1335,2,FALSE)","v":{"$error":"#N/A"}},null,"",{"$f":"VLOOKUP(R462,lists!$A$2:$B$575,2,FALSE)","v":{"$error":"#N/A"}}]
[null,null,{"$f":"VLOOKUP(B463,lists!$F$2:$G$17,2,FALSE)","v":{"$error":"#N/A"}},null,null,null,null,null,"",{"$f":"VLOOKUP(I463,lists!$A$2:$B$1335,2,FALSE)","v":{"$error":"#N/A"}},null,{"$f":"VLOOKUP(K463,lists!$F$2:$G$17,2,FALSE)","v":{"$error":"#N/A"}},null,null,"",{"$f":"VLOOKUP(O463,lists!$A$2:$B$1335,2,FALSE)","v":{"$error":"#N/A"}},null,"",{"$f":"VLOOKUP(R463,lists!$A$2:$B$575,2,FALSE)","v":{"$error":"#N/A"}}]
[null,null,{"$f":"VLOOKUP(B464,lists!$F$2:$G$17,2,FALSE)","v":{"$error":"#N/A"}},null,null,null,null,null,"",{"$f":"VLOOKUP(I464,lists!$A$2:$B$1335,2,FALSE)","v":{"$error":"#N/A"}},null,{"$f":"VLOOKUP(K464,lists!$F$2:$G$17,2,FALSE)","v":{"$error":"#N/A"}},null,null,"",{"$f":"VLOOKUP(O464,lists!$A$2:$B$1335,2,FALSE)","v":{"$error":"#N/A"}},null,"",{"$f":"VLOOKUP(R464,lists!$A$2:$B$575,2,FALSE)","v":{"$error":"#N/A"}}]
[null,null,{"$f":"VLOOKUP(B465,lists!$F$2:$G$17,2,FALSE)","v":{"$error":"#N/A"}},null,null,null,null,null,"",{"$f":"VLOOKUP(I465,lists!$A$2:$B$1335,2,FALSE)","v":{"$error":"#N/A"}},null,{"$f":"VLOOKUP(K465,lists!$F$2:$G$17,2,FALSE)","v":{"$error":"#N/A"}},null,null,"",{"$f":"VLOOKUP(O465,lists!$A$2:$B$1335,2,FALSE)","v":{"$error":"#N/A"}},null,"",{"$f":"VLOOKUP(R465,lists!$A$2:$B$575,2,FALSE)","v":{"$error":"#N/A"}}]
[null,null,{"$f":"VLOOKUP(B466,lists!$F$2:$G$17,2,FALSE)","v":{"$error":"#N/A"}},null,null,null,null,null,"",{"$f":"VLOOKUP(I466,lists!$A$2:$B$1335,2,FALSE)","v":{"$error":"#N/A"}},null,{"$f":"VLOOKUP(K466,lists!$F$2:$G$17,2,FALSE)","v":{"$error":"#N/A"}},null,null,"",{"$f":"VLOOKUP(O466,lists!$A$2:$B$1335,2,FALSE)","v":{"$error":"#N/A"}},null,"",{"$f":"VLOOKUP(R466,lists!$A$2:$B$575,2,FALSE)","v":{"$error":"#N/A"}}]
[null,null,{"$f":"VLOOKUP(B467,lists!$F$2:$G$17,2,FALSE)","v":{"$error":"#N/A"}},null,null,null,null,null,"",{"$f":"VLOOKUP(I467,lists!$A$2:$B$1335,2,FALSE)","v":{"$error":"#N/A"}},null,{"$f":"VLOOKUP(K467,lists!$F$2:$G$17,2,FALSE)","v":{"$error":"#N/A"}},null,null,"",{"$f":"VLOOKUP(O467,lists!$A$2:$B$1335,2,FALSE)","v":{"$error":"#N/A"}},null,"",{"$f":"VLOOKUP(R467,lists!$A$2:$B$575,2,FALSE)","v":{"$error":"#N/A"}}]
[null,null,{"$f":"VLOOKUP(B468,lists!$F$2:$G$17,2,FALSE)","v":{"$error":"#N/A"}},null,null,null,null,null,"",{"$f":"VLOOKUP(I468,lists!$A$2:$B$1335,2,FALSE)","v":{"$error":"#N/A"}},null,{"$f":"VLOOKUP(K468,lists!$F$2:$G$17,2,FALSE)","v":{"$error":"#N/A"}},null,null,"",{"$f":"VLOOKUP(O468,lists!$A$2:$B$1335,2,FALSE)","v":{"$error":"#N/A"}},null,"",{"$f":"VLOOKUP(R468,lists!$A$2:$B$575,2,FALSE)","v":{"$error":"#N/A"}}]
[null,null,{"$f":"VLOOKUP(B469,lists!$F$2:$G$17,2,FALSE)","v":{"$error":"#N/A"}},null,null,null,null,null,"",{"$f":"VLOOKUP(I469,lists!$A$2:$B$1335,2,FALSE)","v":{"$error":"#N/A"}},null,{"$f":"VLOOKUP(K469,lists!$F$2:$G$17,2,FALSE)","v":{"$error":"#N/A"}},null,null,"",{"$f":"VLOOKUP(O469,lists!$A$2:$B$1335,2,FALSE)","v":{"$error":"#N/A"}},null,"",{"$f":"VLOOKUP(R469,lists!$A$2:$B$575,2,FALSE)","v":{"$error":"#N/A"}}]
[null,null,{"$f":"VLOOKUP(B470,lists!$F$2:$G$17,2,FALSE)","v":{"$error":"#N/A"}},null,null,null,null,null,"",{"$f":"VLOOKUP(I470,lists!$A$2:$B$1335,2,FALSE)","v":{"$error":"#N/A"}},null,{"$f":"VLOOKUP(K470,lists!$F$2:$G$17,2,FALSE)","v":{"$error":"#N/A"}},null,null,"",{"$f":"VLOOKUP(O470,lists!$A$2:$B$1335,2,FALSE)","v":{"$error":"#N/A"}},null,"",{"$f":"VLOOKUP(R470,lists!$A$2:$B$575,2,FALSE)","v":{"$error":"#N/A"}}]
[null,null,{"$f":"VLOOKUP(B471,lists!$F$2:$G$17,2,FALSE)","v":{"$error":"#N/A"}},null,null,null,null,null,"",{"$f":"VLOOKUP(I471,lists!$A$2:$B$1335,2,FALSE)","v":{"$error":"#N/A"}},null,{"$f":"VLOOKUP(K471,lists!$F$2:$G$17,2,FALSE)","v":{"$error":"#N/A"}},null,null,"",{"$f":"VLOOKUP(O471,lists!$A$2:$B$1335,2,FALSE)","v":{"$error":"#N/A"}},null,"",{"$f":"VLOOKUP(R471,lists!$A$2:$B$575,2,FALSE)","v":{"$error":"#N/A"}}]
[null,null,{"$f":"VLOOKUP(B472,lists!$F$2:$G$17,2,FALSE)","v":{"$error":"#N/A"}},null,null,null,null,null,"",{"$f":"VLOOKUP(I472,lists!$A$2:$B$1335,2,FALSE)","v":{"$error":"#N/A"}},null,{"$f":"VLOOKUP(K472,lists!$F$2:$G$17,2,FALSE)","v":{"$error":"#N/A"}},null,null,"",{"$f":"VLOOKUP(O472,lists!$A$2:$B$1335,2,FALSE)","v":{"$error":"#N/A"}},null,"",{"$f":"VLOOKUP(R472,lists!$A$2:$B$575,2,FALSE)","v":{"$error":"#N/A"}}]
[null,null,{"$f":"VLOOKUP(B473,lists!$F$2:$G$17,2,FALSE)","v":{"$error":"#N/A"}},null,null,null,null,null,"",{"$f":"VLOOKUP(I473,lists!$A$2:$B$1335,2,FALSE)","v":{"$error":"#N/A"}},null,{"$f":"VLOOKUP(K473,lists!$F$2:$G$17,2,FALSE)","v":{"$error":"#N/A"}},null,null,"",{"$f":"VLOOKUP(O473,lists!$A$2:$B$1335,2,FALSE)","v":{"$error":"#N/A"}},null,"",{"$f":"VLOOKUP(R473,lists!$A$2:$B$575,2,FALSE)","v":{"$error":"#N/A"}}]
[null,null,{"$f":"VLOOKUP(B474,lists!$F$2:$G$17,2,FALSE)","v":{"$error":"#N/A"}},null,null,null,null,null,"",{"$f":"VLOOKUP(I474,lists!$A$2:$B$1335,2,FALSE)","v":{"$error":"#N/A"}},null,{"$f":"VLOOKUP(K474,lists!$F$2:$G$17,2,FALSE)","v":{"$error":"#N/A"}},null,null,"",{"$f":"VLOOKUP(O474,lists!$A$2:$B$1335,2,FALSE)","v":{"$error":"#N/A"}},null,"",{"$f":"VLOOKUP(R474,lists!$A$2:$B$575,2,FALSE)","v":{"$error":"#N/A"}}]
[null,null,{"$f":"VLOOKUP(B475,lists!$F$2:$G$17,2,FALSE)","v":{"$error":"#N/A"}},null,null,null,null,null,"",{"$f":"VLOOKUP(I475,lists!$A$2:$B$1335,2,FALSE)","v":{"$error":"#N/A"}},null,{"$f":"VLOOKUP(K475,lists!$F$2:$G$17,2,FALSE)","v":{"$error":"#N/A"}},null,null,"",{"$f":"VLOOKUP(O475,lists!$A$2:$B$1335,2,FALSE)","v":{"$error":"#N/A"}},null,"",{"$f":"VLOOKUP(R475,lists!$A$2:$B$575,2,FALSE)","v":{"$error":"#N/A"}}]
[null,null,{"$f":"VLOOKUP(B476,lists!$F$2:$G$17,2,FALSE)","v":{"$error":"#N/A"}},null,null,null,null,null,"",{"$f":"VLOOKUP(I476,lists!$A$2:$B$1335,2,FALSE)","v":{"$error":"#N/A"}},null,{"$f":"VLOOKUP(K476,lists!$F$2:$G$17,2,FALSE)","v":{"$error":"#N/A"}},null,null,"",{"$f":"VLOOKUP(O476,lists!$A$2:$B$1335,2,FALSE)","v":{"$error":"#N/A"}},null,"",{"$f":"VLOOKUP(R476,lists!$A$2:$B$575,2,FALSE)","v":{"$error":"#N/A"}}]
[null,null,{"$f":"VLOOKUP(B477,lists!$F$2:$G$17,2,FALSE)","v":{"$error":"#N/A"}},null,null,null,null,null,"",{"$f":"VLOOKUP(I477,lists!$A$2:$B$1335,2,FALSE)","v":{"$error":"#N/A"}},null,{"$f":"VLOOKUP(K477,lists!$F$2:$G$17,2,FALSE)","v":{"$error":"#N/A"}},null,null,"",{"$f":"VLOOKUP(O477,lists!$A$2:$B$1335,2,FALSE)","v":{"$error":"#N/A"}},null,"",{"$f":"VLOOKUP(R477,lists!$A$2:$B$575,2,FALSE)","v":{"$error":"#N/A"}}]
[null,null,{"$f":"VLOOKUP(B478,lists!$F$2:$G$17,2,FALSE)","v":{"$error":"#N/A"}},null,null,null,null,null,"",{"$f":"VLOOKUP(I478,lists!$A$2:$B$1335,2,FALSE)","v":{"$error":"#N/A"}},null,{"$f":"VLOOKUP(K478,lists!$F$2:$G$17,2,FALSE)","v":{"$error":"#N/A"}},null,null,"",{"$f":"VLOOKUP(O478,lists!$A$2:$B$1335,2,FALSE)","v":{"$error":"#N/A"}},null,"",{"$f":"VLOOKUP(R478,lists!$A$2:$B$575,2,FALSE)","v":{"$error":"#N/A"}}]
[null,null,{"$f":"VLOOKUP(B479,lists!$F$2:$G$17,2,FALSE)","v":{"$error":"#N/A"}},null,null,null,null,null,"",{"$f":"VLOOKUP(I479,lists!$A$2:$B$1335,2,FALSE)","v":{"$error":"#N/A"}},null,{"$f":"VLOOKUP(K479,lists!$F$2:$G$17,2,FALSE)","v":{"$error":"#N/A"}},null,null,"",{"$f":"VLOOKUP(O479,lists!$A$2:$B$1335,2,FALSE)","v":{"$error":"#N/A"}},null,"",{"$f":"VLOOKUP(R479,lists!$A$2:$B$575,2,FALSE)","v":{"$error":"#N/A"}}]
[null,null,{"$f":"VLOOKUP(B480,lists!$F$2:$G$17,2,FALSE)","v":{"$error":"#N/A"}},null,null,null,null,null,"",{"$f":"VLOOKUP(I480,lists!$A$2:$B$1335,2,FALSE)","v":{"$error":"#N/A"}},null,{"$f":"VLOOKUP(K480,lists!$F$2:$G$17,2,FALSE)","v":{"$error":"#N/A"}},null,null,"",{"$f":"VLOOKUP(O480,lists!$A$2:$B$1335,2,FALSE)","v":{"$error":"#N/A"}},null,"",{"$f":"VLOOKUP(R480,lists!$A$2:$B$575,2,FALSE)","v":{"$error":"#N/A"}}]
[null,null,{"$f":"VLOOKUP(B481,lists!$F$2:$G$17,2,FALSE)","v":{"$error":"#N/A"}},null,null,null,null,null,"",{"$f":"VLOOKUP(I481,lists!$A$2:$B$1335,2,FALSE)","v":{"$error":"#N/A"}},null,{"$f":"VLOOKUP(K481,lists!$F$2:$G$17,2,FALSE)","v":{"$error":"#N/A"}},null,null,"",{"$f":"VLOOKUP(O481,lists!$A$2:$B$1335,2,FALSE)","v":{"$error":"#N/A"}},null,"",{"$f":"VLOOKUP(R481,lists!$A$2:$B$575,2,FALSE)","v":{"$error":"#N/A"}}]
[null,null,{"$f":"VLOOKUP(B482,lists!$F$2:$G$17,2,FALSE)","v":{"$error":"#N/A"}},null,null,null,null,null,"",{"$f":"VLOOKUP(I482,lists!$A$2:$B$1335,2,FALSE)","v":{"$error":"#N/A"}},null,{"$f":"VLOOKUP(K482,lists!$F$2:$G$17,2,FALSE)","v":{"$error":"#N/A"}},null,null,"",{"$f":"VLOOKUP(O482,lists!$A$2:$B$1335,2,FALSE)","v":{"$error":"#N/A"}},null,"",{"$f":"VLOOKUP(R482,lists!$A$2:$B$575,2,FALSE)","v":{"$error":"#N/A"}}]
[null,null,{"$f":"VLOOKUP(B483,lists!$F$2:$G$17,2,FALSE)","v":{"$error":"#N/A"}},null,null,null,null,null,"",{"$f":"VLOOKUP(I483,lists!$A$2:$B$1335,2,FALSE)","v":{"$error":"#N/A"}},null,{"$f":"VLOOKUP(K483,lists!$F$2:$G$17,2,FALSE)","v":{"$error":"#N/A"}},null,null,"",{"$f":"VLOOKUP(O483,lists!$A$2:$B$1335,2,FALSE)","v":{"$error":"#N/A"}},null,"",{"$f":"VLOOKUP(R483,lists!$A$2:$B$575,2,FALSE)","v":{"$error":"#N/A"}}]
[null,null,{"$f":"VLOOKUP(B484,lists!$F$2:$G$17,2,FALSE)","v":{"$error":"#N/A"}},null,null,null,null,null,"",{"$f":"VLOOKUP(I484,lists!$A$2:$B$1335,2,FALSE)","v":{"$error":"#N/A"}},null,{"$f":"VLOOKUP(K484,lists!$F$2:$G$17,2,FALSE)","v":{"$error":"#N/A"}},null,null,"",{"$f":"VLOOKUP(O484,lists!$A$2:$B$1335,2,FALSE)","v":{"$error":"#N/A"}},null,"",{"$f":"VLOOKUP(R484,lists!$A$2:$B$575,2,FALSE)","v":{"$error":"#N/A"}}]
[null,null,{"$f":"VLOOKUP(B485,lists!$F$2:$G$17,2,FALSE)","v":{"$error":"#N/A"}},null,null,null,null,null,"",{"$f":"VLOOKUP(I485,lists!$A$2:$B$1335,2,FALSE)","v":{"$error":"#N/A"}},null,{"$f":"VLOOKUP(K485,lists!$F$2:$G$17,2,FALSE)","v":{"$error":"#N/A"}},null,null,"",{"$f":"VLOOKUP(O485,lists!$A$2:$B$1335,2,FALSE)","v":{"$error":"#N/A"}},null,"",{"$f":"VLOOKUP(R485,lists!$A$2:$B$575,2,FALSE)","v":{"$error":"#N/A"}}]
[null,null,{"$f":"VLOOKUP(B486,lists!$F$2:$G$17,2,FALSE)","v":{"$error":"#N/A"}},null,null,null,null,null,"",{"$f":"VLOOKUP(I486,lists!$A$2:$B$1335,2,FALSE)","v":{"$error":"#N/A"}},null,{"$f":"VLOOKUP(K486,lists!$F$2:$G$17,2,FALSE)","v":{"$error":"#N/A"}},null,null,"",{"$f":"VLOOKUP(O486,lists!$A$2:$B$1335,2,FALSE)","v":{"$error":"#N/A"}},null,"",{"$f":"VLOOKUP(R486,lists!$A$2:$B$575,2,FALSE)","v":{"$error":"#N/A"}}]
[null,null,{"$f":"VLOOKUP(B487,lists!$F$2:$G$17,2,FALSE)","v":{"$error":"#N/A"}},null,null,null,null,null,"",{"$f":"VLOOKUP(I487,lists!$A$2:$B$1335,2,FALSE)","v":{"$error":"#N/A"}},null,{"$f":"VLOOKUP(K487,lists!$F$2:$G$17,2,FALSE)","v":{"$error":"#N/A"}},null,null,"",{"$f":"VLOOKUP(O487,lists!$A$2:$B$1335,2,FALSE)","v":{"$error":"#N/A"}},null,"",{"$f":"VLOOKUP(R487,lists!$A$2:$B$575,2,FALSE)","v":{"$error":"#N/A"}}]
[null,null,{"$f":"VLOOKUP(B488,lists!$F$2:$G$17,2,FALSE)","v":{"$error":"#N/A"}},null,null,null,null,null,"",{"$f":"VLOOKUP(I488,lists!$A$2:$B$1335,2,FALSE)","v":{"$error":"#N/A"}},null,{"$f":"VLOOKUP(K488,lists!$F$2:$G$17,2,FALSE)","v":{"$error":"#N/A"}},null,null,"",{"$f":"VLOOKUP(O488,lists!$A$2:$B$1335,2,FALSE)","v":{"$error":"#N/A"}},null,"",{"$f":"VLOOKUP(R488,lists!$A$2:$B$575,2,FALSE)","v":{"$error":"#N/A"}}]
[null,null,{"$f":"VLOOKUP(B489,lists!$F$2:$G$17,2,FALSE)","v":{"$error":"#N/A"}},null,null,null,null,null,"",{"$f":"VLOOKUP(I489,lists!$A$2:$B$1335,2,FALSE)","v":{"$error":"#N/A"}},null,{"$f":"VLOOKUP(K489,lists!$F$2:$G$17,2,FALSE)","v":{"$error":"#N/A"}},null,null,"",{"$f":"VLOOKUP(O489,lists!$A$2:$B$1335,2,FALSE)","v":{"$error":"#N/A"}},null,"",{"$f":"VLOOKUP(R489,lists!$A$2:$B$575,2,FALSE)","v":{"$error":"#N/A"}}]
[null,null,{"$f":"VLOOKUP(B490,lists!$F$2:$G$17,2,FALSE)","v":{"$error":"#N/A"}},null,null,null,null,null,"",{"$f":"VLOOKUP(I490,lists!$A$2:$B$1335,2,FALSE)","v":{"$error":"#N/A"}},null,{"$f":"VLOOKUP(K490,lists!$F$2:$G$17,2,FALSE)","v":{"$error":"#N/A"}},null,null,"",{"$f":"VLOOKUP(O490,lists!$A$2:$B$1335,2,FALSE)","v":{"$error":"#N/A"}},null,"",{"$f":"VLOOKUP(R490,lists!$A$2:$B$575,2,FALSE)","v":{"$error":"#N/A"}}]
[null,null,{"$f":"VLOOKUP(B491,lists!$F$2:$G$17,2,FALSE)","v":{"$error":"#N/A"}},null,null,null,null,null,"",{"$f":"VLOOKUP(I491,lists!$A$2:$B$1335,2,FALSE)","v":{"$error":"#N/A"}},null,{"$f":"VLOOKUP(K491,lists!$F$2:$G$17,2,FALSE)","v":{"$error":"#N/A"}},null,null,"",{"$f":"VLOOKUP(O491,lists!$A$2:$B$1335,2,FALSE)","v":{"$error":"#N/A"}},null,"",{"$f":"VLOOKUP(R491,lists!$A$2:$B$575,2,FALSE)","v":{"$error":"#N/A"}}]
[null,null,{"$f":"VLOOKUP(B492,lists!$F$2:$G$17,2,FALSE)","v":{"$error":"#N/A"}},null,null,null,null,null,"",{"$f":"VLOOKUP(I492,lists!$A$2:$B$1335,2,FALSE)","v":{"$error":"#N/A"}},null,{"$f":"VLOOKUP(K492,lists!$F$2:$G$17,2,FALSE)","v":{"$error":"#N/A"}},null,null,"",{"$f":"VLOOKUP(O492,lists!$A$2:$B$1335,2,FALSE)","v":{"$error":"#N/A"}},null,"",{"$f":"VLOOKUP(R492,lists!$A$2:$B$575,2,FALSE)","v":{"$error":"#N/A"}}]
[null,null,{"$f":"VLOOKUP(B493,lists!$F$2:$G$17,2,FALSE)","v":{"$error":"#N/A"}},null,null,null,null,null,"",{"$f":"VLOOKUP(I493,lists!$A$2:$B$1335,2,FALSE)","v":{"$error":"#N/A"}},null,{"$f":"VLOOKUP(K493,lists!$F$2:$G$17,2,FALSE)","v":{"$error":"#N/A"}},null,null,"",{"$f":"VLOOKUP(O493,lists!$A$2:$B$1335,2,FALSE)","v":{"$error":"#N/A"}},null,"",{"$f":"VLOOKUP(R493,lists!$A$2:$B$575,2,FALSE)","v":{"$error":"#N/A"}}]
[null,null,{"$f":"VLOOKUP(B494,lists!$F$2:$G$17,2,FALSE)","v":{"$error":"#N/A"}},null,null,null,null,null,"",{"$f":"VLOOKUP(I494,lists!$A$2:$B$1335,2,FALSE)","v":{"$error":"#N/A"}},null,{"$f":"VLOOKUP(K494,lists!$F$2:$G$17,2,FALSE)","v":{"$error":"#N/A"}},null,null,"",{"$f":"VLOOKUP(O494,lists!$A$2:$B$1335,2,FALSE)","v":{"$error":"#N/A"}},null,"",{"$f":"VLOOKUP(R494,lists!$A$2:$B$575,2,FALSE)","v":{"$error":"#N/A"}}]
[null,null,{"$f":"VLOOKUP(B495,lists!$F$2:$G$17,2,FALSE)","v":{"$error":"#N/A"}},null,null,null,null,null,"",{"$f":"VLOOKUP(I495,lists!$A$2:$B$1335,2,FALSE)","v":{"$error":"#N/A"}},null,{"$f":"VLOOKUP(K495,lists!$F$2:$G$17,2,FALSE)","v":{"$error":"#N/A"}},null,null,"",{"$f":"VLOOKUP(O495,lists!$A$2:$B$1335,2,FALSE)","v":{"$error":"#N/A"}},null,"",{"$f":"VLOOKUP(R495,lists!$A$2:$B$575,2,FALSE)","v":{"$error":"#N/A"}}]
[null,null,{"$f":"VLOOKUP(B496,lists!$F$2:$G$17,2,FALSE)","v":{"$error":"#N/A"}},null,null,null,null,null,"",{"$f":"VLOOKUP(I496,lists!$A$2:$B$1335,2,FALSE)","v":{"$error":"#N/A"}},null,{"$f":"VLOOKUP(K496,lists!$F$2:$G$17,2,FALSE)","v":{"$error":"#N/A"}},null,null,"",{"$f":"VLOOKUP(O496,lists!$A$2:$B$1335,2,FALSE)","v":{"$error":"#N/A"}},null,"",{"$f":"VLOOKUP(R496,lists!$A$2:$B$575,2,FALSE)","v":{"$error":"#N/A"}}]
[null,null,{"$f":"VLOOKUP(B497,lists!$F$2:$G$17,2,FALSE)","v":{"$error":"#N/A"}},null,null,null,null,null,"",{"$f":"VLOOKUP(I497,lists!$A$2:$B$1335,2,FALSE)","v":{"$error":"#N/A"}},null,{"$f":"VLOOKUP(K497,lists!$F$2:$G$17,2,FALSE)","v":{"$error":"#N/A"}},null,null,"",{"$f":"VLOOKUP(O497,lists!$A$2:$B$1335,2,FALSE)","v":{"$error":"#N/A"}},null,"",{"$f":"VLOOKUP(R497,lists!$A$2:$B$575,2,FALSE)","v":{"$error":"#N/A"}}]
[null,null,{"$f":"VLOOKUP(B498,lists!$F$2:$G$17,2,FALSE)","v":{"$error":"#N/A"}},null,null,null,null,null,"",{"$f":"VLOOKUP(I498,lists!$A$2:$B$1335,2,FALSE)","v":{"$error":"#N/A"}},null,{"$f":"VLOOKUP(K498,lists!$F$2:$G$17,2,FALSE)","v":{"$error":"#N/A"}},null,null,"",{"$f":"VLOOKUP(O498,lists!$A$2:$B$1335,2,FALSE)","v":{"$error":"#N/A"}},null,"",{"$f":"VLOOKUP(R498,lists!$A$2:$B$575,2,FALSE)","v":{"$error":"#N/A"}}]
[null,null,{"$f":"VLOOKUP(B499,lists!$F$2:$G$17,2,FALSE)","v":{"$error":"#N/A"}},null,null,null,null,null,"",{"$f":"VLOOKUP(I499,lists!$A$2:$B$1335,2,FALSE)","v":{"$error":"#N/A"}},null,{"$f":"VLOOKUP(K499,lists!$F$2:$G$17,2,FALSE)","v":{"$error":"#N/A"}},null,null,"",{"$f":"VLOOKUP(O499,lists!$A$2:$B$1335,2,FALSE)","v":{"$error":"#N/A"}},null,"",{"$f":"VLOOKUP(R499,lists!$A$2:$B$575,2,FALSE)","v":{"$error":"#N/A"}}]
[null,null,{"$f":"VLOOKUP(B500,lists!$F$2:$G$17,2,FALSE)","v":{"$error":"#N/A"}},null,null,null,null,null,"",{"$f":"VLOOKUP(I500,lists!$A$2:$B$1335,2,FALSE)","v":{"$error":"#N/A"}},null,{"$f":"VLOOKUP(K500,lists!$F$2:$G$17,2,FALSE)","v":{"$error":"#N/A"}},null,null,"",{"$f":"VLOOKUP(O500,lists!$A$2:$B$1335,2,FALSE)","v":{"$error":"#N/A"}},null,"",{"$f":"VLOOKUP(R500,lists!$A$2:$B$575,2,FALSE)","v":{"$error":"#N/A"}}]
[null,null,{"$f":"VLOOKUP(B501,lists!$F$2:$G$17,2,FALSE)","v":{"$error":"#N/A"}},null,null,null,null,null,"",{"$f":"VLOOKUP(I501,lists!$A$2:$B$1335,2,FALSE)","v":{"$error":"#N/A"}},null,{"$f":"VLOOKUP(K501,lists!$F$2:$G$17,2,FALSE)","v":{"$error":"#N/A"}},null,null,"",{"$f":"VLOOKUP(O501,lists!$A$2:$B$1335,2,FALSE)","v":{"$error":"#N/A"}},null,"",{"$f":"VLOOKUP(R501,lists!$A$2:$B$575,2,FALSE)","v":{"$error":"#N/A"}}]
[null,null,{"$f":"VLOOKUP(B502,lists!$F$2:$G$17,2,FALSE)","v":{"$error":"#N/A"}},null,null,null,null,null,"",{"$f":"VLOOKUP(I502,lists!$A$2:$B$1335,2,FALSE)","v":{"$error":"#N/A"}},null,{"$f":"VLOOKUP(K502,lists!$F$2:$G$17,2,FALSE)","v":{"$error":"#N/A"}},null,null,"",{"$f":"VLOOKUP(O502,lists!$A$2:$B$1335,2,FALSE)","v":{"$error":"#N/A"}},null,"",{"$f":"VLOOKUP(R502,lists!$A$2:$B$575,2,FALSE)","v":{"$error":"#N/A"}}]
[null,null,{"$f":"VLOOKUP(B503,lists!$F$2:$G$17,2,FALSE)","v":{"$error":"#N/A"}},null,null,null,null,null,"",{"$f":"VLOOKUP(I503,lists!$A$2:$B$1335,2,FALSE)","v":{"$error":"#N/A"}},null,{"$f":"VLOOKUP(K503,lists!$F$2:$G$17,2,FALSE)","v":{"$error":"#N/A"}},null,null,"",{"$f":"VLOOKUP(O503,lists!$A$2:$B$1335,2,FALSE)","v":{"$error":"#N/A"}},null,"",{"$f":"VLOOKUP(R503,lists!$A$2:$B$575,2,FALSE)","v":{"$error":"#N/A"}}]
[null,null,{"$f":"VLOOKUP(B504,lists!$F$2:$G$17,2,FALSE)","v":{"$error":"#N/A"}},null,null,null,null,null,"",{"$f":"VLOOKUP(I504,lists!$A$2:$B$1335,2,FALSE)","v":{"$error":"#N/A"}},null,{"$f":"VLOOKUP(K504,lists!$F$2:$G$17,2,FALSE)","v":{"$error":"#N/A"}},null,null,"",{"$f":"VLOOKUP(O504,lists!$A$2:$B$1335,2,FALSE)","v":{"$error":"#N/A"}},null,"",{"$f":"VLOOKUP(R504,lists!$A$2:$B$575,2,FALSE)","v":{"$error":"#N/A"}}]
[null,null,{"$f":"VLOOKUP(B505,lists!$F$2:$G$17,2,FALSE)","v":{"$error":"#N/A"}},null,null,null,null,null,"",{"$f":"VLOOKUP(I505,lists!$A$2:$B$1335,2,FALSE)","v":{"$error":"#N/A"}},null,{"$f":"VLOOKUP(K505,lists!$F$2:$G$17,2,FALSE)","v":{"$error":"#N/A"}},null,null,"",{"$f":"VLOOKUP(O505,lists!$A$2:$B$1335,2,FALSE)","v":{"$error":"#N/A"}},null,"",{"$f":"VLOOKUP(R505,lists!$A$2:$B$575,2,FALSE)","v":{"$error":"#N/A"}}]
[null,null,{"$f":"VLOOKUP(B506,lists!$F$2:$G$17,2,FALSE)","v":{"$error":"#N/A"}},null,null,null,null,null,"",{"$f":"VLOOKUP(I506,lists!$A$2:$B$1335,2,FALSE)","v":{"$error":"#N/A"}},null,{"$f":"VLOOKUP(K506,lists!$F$2:$G$17,2,FALSE)","v":{"$error":"#N/A"}},null,null,"",{"$f":"VLOOKUP(O506,lists!$A$2:$B$1335,2,FALSE)","v":{"$error":"#N/A"}},null,"",{"$f":"VLOOKUP(R506,lists!$A$2:$B$575,2,FALSE)","v":{"$error":"#N/A"}}]
[null,null,{"$f":"VLOOKUP(B507,lists!$F$2:$G$17,2,FALSE)","v":{"$error":"#N/A"}},null,null,null,null,null,"",{"$f":"VLOOKUP(I507,lists!$A$2:$B$1335,2,FALSE)","v":{"$error":"#N/A"}},null,{"$f":"VLOOKUP(K507,lists!$F$2:$G$17,2,FALSE)","v":{"$error":"#N/A"}},null,null,"",{"$f":"VLOOKUP(O507,lists!$A$2:$B$1335,2,FALSE)","v":{"$error":"#N/A"}},null,"",{"$f":"VLOOKUP(R507,lists!$A$2:$B$575,2,FALSE)","v":{"$error":"#N/A"}}]
[null,null,{"$f":"VLOOKUP(B508,lists!$F$2:$G$17,2,FALSE)","v":{"$error":"#N/A"}},null,null,null,null,null,"",{"$f":"VLOOKUP(I508,lists!$A$2:$B$1335,2,FALSE)","v":{"$error":"#N/A"}},null,{"$f":"VLOOKUP(K508,lists!$F$2:$G$17,2,FALSE)","v":{"$error":"#N/A"}},null,null,"",{"$f":"VLOOKUP(O508,lists!$A$2:$B$1335,2,FALSE)","v":{"$error":"#N/A"}},null,"",{"$f":"VLOOKUP(R508,lists!$A$2:$B$575,2,FALSE)","v":{"$error":"#N/A"}}]
[null,null,{"$f":"VLOOKUP(B509,lists!$F$2:$G$17,2,FALSE)","v":{"$error":"#N/A"}},null,null,null,null,null,"",{"$f":"VLOOKUP(I509,lists!$A$2:$B$1335,2,FALSE)","v":{"$error":"#N/A"}},null,{"$f":"VLOOKUP(K509,lists!$F$2:$G$17,2,FALSE)","v":{"$error":"#N/A"}},null,null,"",{"$f":"VLOOKUP(O509,lists!$A$2:$B$1335,2,FALSE)","v":{"$error":"#N/A"}},null,"",{"$f":"VLOOKUP(R509,lists!$A$2:$B$575,2,FALSE)","v":{"$error":"#N/A"}}]
[null,null,{"$f":"VLOOKUP(B510,lists!$F$2:$G$17,2,FALSE)","v":{"$error":"#N/A"}},null,null,null,null,null,"",{"$f":"VLOOKUP(I510,lists!$A$2:$B$1335,2,FALSE)","v":{"$error":"#N/A"}},null,{"$f":"VLOOKUP(K510,lists!$F$2:$G$17,2,FALSE)","v":{"$error":"#N/A"}},null,null,"",{"$f":"VLOOKUP(O510,lists!$A$2:$B$1335,2,FALSE)","v":{"$error":"#N/A"}},null,"",{"$f":"VLOOKUP(R510,lists!$A$2:$B$575,2,FALSE)","v":{"$error":"#N/A"}}]
[null,null,{"$f":"VLOOKUP(B511,lists!$F$2:$G$17,2,FALSE)","v":{"$error":"#N/A"}},null,null,null,null,null,"",{"$f":"VLOOKUP(I511,lists!$A$2:$B$1335,2,FALSE)","v":{"$error":"#N/A"}},null,{"$f":"VLOOKUP(K511,lists!$F$2:$G$17,2,FALSE)","v":{"$error":"#N/A"}},null,null,"",{"$f":"VLOOKUP(O511,lists!$A$2:$B$1335,2,FALSE)","v":{"$error":"#N/A"}},null,"",{"$f":"VLOOKUP(R511,lists!$A$2:$B$575,2,FALSE)","v":{"$error":"#N/A"}}]
[null,null,{"$f":"VLOOKUP(B512,lists!$F$2:$G$17,2,FALSE)","v":{"$error":"#N/A"}},null,null,null,null,null,"",{"$f":"VLOOKUP(I512,lists!$A$2:$B$1335,2,FALSE)","v":{"$error":"#N/A"}},null,{"$f":"VLOOKUP(K512,lists!$F$2:$G$17,2,FALSE)","v":{"$error":"#N/A"}},null,null,"",{"$f":"VLOOKUP(O512,lists!$A$2:$B$1335,2,FALSE)","v":{"$error":"#N/A"}},null,"",{"$f":"VLOOKUP(R512,lists!$A$2:$B$575,2,FALSE)","v":{"$error":"#N/A"}}]
[null,null,{"$f":"VLOOKUP(B513,lists!$F$2:$G$17,2,FALSE)","v":{"$error":"#N/A"}},null,null,null,null,null,"",{"$f":"VLOOKUP(I513,lists!$A$2:$B$1335,2,FALSE)","v":{"$error":"#N/A"}},null,{"$f":"VLOOKUP(K513,lists!$F$2:$G$17,2,FALSE)","v":{"$error":"#N/A"}},null,null,"",{"$f":"VLOOKUP(O513,lists!$A$2:$B$1335,2,FALSE)","v":{"$error":"#N/A"}},null,"",{"$f":"VLOOKUP(R513,lists!$A$2:$B$575,2,FALSE)","v":{"$error":"#N/A"}}]
[null,null,{"$f":"VLOOKUP(B514,lists!$F$2:$G$17,2,FALSE)","v":{"$error":"#N/A"}},null,null,null,null,null,"",{"$f":"VLOOKUP(I514,lists!$A$2:$B$1335,2,FALSE)","v":{"$error":"#N/A"}},null,{"$f":"VLOOKUP(K514,lists!$F$2:$G$17,2,FALSE)","v":{"$error":"#N/A"}},null,null,"",{"$f":"VLOOKUP(O514,lists!$A$2:$B$1335,2,FALSE)","v":{"$error":"#N/A"}},null,"",{"$f":"VLOOKUP(R514,lists!$A$2:$B$575,2,FALSE)","v":{"$error":"#N/A"}}]
[null,null,{"$f":"VLOOKUP(B515,lists!$F$2:$G$17,2,FALSE)","v":{"$error":"#N/A"}},null,null,null,null,null,"",{"$f":"VLOOKUP(I515,lists!$A$2:$B$1335,2,FALSE)","v":{"$error":"#N/A"}},null,{"$f":"VLOOKUP(K515,lists!$F$2:$G$17,2,FALSE)","v":{"$error":"#N/A"}},null,null,"",{"$f":"VLOOKUP(O515,lists!$A$2:$B$1335,2,FALSE)","v":{"$error":"#N/A"}},null,"",{"$f":"VLOOKUP(R515,lists!$A$2:$B$575,2,FALSE)","v":{"$error":"#N/A"}}]
[null,null,{"$f":"VLOOKUP(B516,lists!$F$2:$G$17,2,FALSE)","v":{"$error":"#N/A"}},null,null,null,null,null,"",{"$f":"VLOOKUP(I516,lists!$A$2:$B$1335,2,FALSE)","v":{"$error":"#N/A"}},null,{"$f":"VLOOKUP(K516,lists!$F$2:$G$17,2,FALSE)","v":{"$error":"#N/A"}},null,null,"",{"$f":"VLOOKUP(O516,lists!$A$2:$B$1335,2,FALSE)","v":{"$error":"#N/A"}},null,"",{"$f":"VLOOKUP(R516,lists!$A$2:$B$575,2,FALSE)","v":{"$error":"#N/A"}}]
[null,null,{"$f":"VLOOKUP(B517,lists!$F$2:$G$17,2,FALSE)","v":{"$error":"#N/A"}},null,null,null,null,null,"",{"$f":"VLOOKUP(I517,lists!$A$2:$B$1335,2,FALSE)","v":{"$error":"#N/A"}},null,{"$f":"VLOOKUP(K517,lists!$F$2:$G$17,2,FALSE)","v":{"$error":"#N/A"}},null,null,"",{"$f":"VLOOKUP(O517,lists!$A$2:$B$1335,2,FALSE)","v":{"$error":"#N/A"}},null,"",{"$f":"VLOOKUP(R517,lists!$A$2:$B$575,2,FALSE)","v":{"$error":"#N/A"}}]
[null,null,{"$f":"VLOOKUP(B518,lists!$F$2:$G$17,2,FALSE)","v":{"$error":"#N/A"}},null,null,null,null,null,"",{"$f":"VLOOKUP(I518,lists!$A$2:$B$1335,2,FALSE)","v":{"$error":"#N/A"}},null,{"$f":"VLOOKUP(K518,lists!$F$2:$G$17,2,FALSE)","v":{"$error":"#N/A"}},null,null,"",{"$f":"VLOOKUP(O518,lists!$A$2:$B$1335,2,FALSE)","v":{"$error":"#N/A"}},null,"",{"$f":"VLOOKUP(R518,lists!$A$2:$B$575,2,FALSE)","v":{"$error":"#N/A"}}]
[null,null,{"$f":"VLOOKUP(B519,lists!$F$2:$G$17,2,FALSE)","v":{"$error":"#N/A"}},null,null,null,null,null,"",{"$f":"VLOOKUP(I519,lists!$A$2:$B$1335,2,FALSE)","v":{"$error":"#N/A"}},null,{"$f":"VLOOKUP(K519,lists!$F$2:$G$17,2,FALSE)","v":{"$error":"#N/A"}},null,null,"",{"$f":"VLOOKUP(O519,lists!$A$2:$B$1335,2,FALSE)","v":{"$error":"#N/A"}},null,"",{"$f":"VLOOKUP(R519,lists!$A$2:$B$575,2,FALSE)","v":{"$error":"#N/A"}}]
[null,null,{"$f":"VLOOKUP(B520,lists!$F$2:$G$17,2,FALSE)","v":{"$error":"#N/A"}},null,null,null,null,null,"",{"$f":"VLOOKUP(I520,lists!$A$2:$B$1335,2,FALSE)","v":{"$error":"#N/A"}},null,{"$f":"VLOOKUP(K520,lists!$F$2:$G$17,2,FALSE)","v":{"$error":"#N/A"}},null,null,"",{"$f":"VLOOKUP(O520,lists!$A$2:$B$1335,2,FALSE)","v":{"$error":"#N/A"}},null,"",{"$f":"VLOOKUP(R520,lists!$A$2:$B$575,2,FALSE)","v":{"$error":"#N/A"}}]
[null,null,{"$f":"VLOOKUP(B521,lists!$F$2:$G$17,2,FALSE)","v":{"$error":"#N/A"}},null,null,null,null,null,"",{"$f":"VLOOKUP(I521,lists!$A$2:$B$1335,2,FALSE)","v":{"$error":"#N/A"}},null,{"$f":"VLOOKUP(K521,lists!$F$2:$G$17,2,FALSE)","v":{"$error":"#N/A"}},null,null,"",{"$f":"VLOOKUP(O521,lists!$A$2:$B$1335,2,FALSE)","v":{"$error":"#N/A"}},null,"",{"$f":"VLOOKUP(R521,lists!$A$2:$B$575,2,FALSE)","v":{"$error":"#N/A"}}]
[null,null,{"$f":"VLOOKUP(B522,lists!$F$2:$G$17,2,FALSE)","v":{"$error":"#N/A"}},null,null,null,null,null,"",{"$f":"VLOOKUP(I522,lists!$A$2:$B$1335,2,FALSE)","v":{"$error":"#N/A"}},null,{"$f":"VLOOKUP(K522,lists!$F$2:$G$17,2,FALSE)","v":{"$error":"#N/A"}},null,null,"",{"$f":"VLOOKUP(O522,lists!$A$2:$B$1335,2,FALSE)","v":{"$error":"#N/A"}},null,"",{"$f":"VLOOKUP(R522,lists!$A$2:$B$575,2,FALSE)","v":{"$error":"#N/A"}}]
[null,null,{"$f":"VLOOKUP(B523,lists!$F$2:$G$17,2,FALSE)","v":{"$error":"#N/A"}},null,null,null,null,null,"",{"$f":"VLOOKUP(I523,lists!$A$2:$B$1335,2,FALSE)","v":{"$error":"#N/A"}},null,{"$f":"VLOOKUP(K523,lists!$F$2:$G$17,2,FALSE)","v":{"$error":"#N/A"}},null,null,"",{"$f":"VLOOKUP(O523,lists!$A$2:$B$1335,2,FALSE)","v":{"$error":"#N/A"}},null,"",{"$f":"VLOOKUP(R523,lists!$A$2:$B$575,2,FALSE)","v":{"$error":"#N/A"}}]
[null,null,{"$f":"VLOOKUP(B524,lists!$F$2:$G$17,2,FALSE)","v":{"$error":"#N/A"}},null,null,null,null,null,"",{"$f":"VLOOKUP(I524,lists!$A$2:$B$1335,2,FALSE)","v":{"$error":"#N/A"}},null,{"$f":"VLOOKUP(K524,lists!$F$2:$G$17,2,FALSE)","v":{"$error":"#N/A"}},null,null,"",{"$f":"VLOOKUP(O524,lists!$A$2:$B$1335,2,FALSE)","v":{"$error":"#N/A"}},null,"",{"$f":"VLOOKUP(R524,lists!$A$2:$B$575,2,FALSE)","v":{"$error":"#N/A"}}]
[null,null,{"$f":"VLOOKUP(B525,lists!$F$2:$G$17,2,FALSE)","v":{"$error":"#N/A"}},null,null,null,null,null,"",{"$f":"VLOOKUP(I525,lists!$A$2:$B$1335,2,FALSE)","v":{"$error":"#N/A"}},null,{"$f":"VLOOKUP(K525,lists!$F$2:$G$17,2,FALSE)","v":{"$error":"#N/A"}},null,null,"",{"$f":"VLOOKUP(O525,lists!$A$2:$B$1335,2,FALSE)","v":{"$error":"#N/A"}},null,"",{"$f":"VLOOKUP(R525,lists!$A$2:$B$575,2,FALSE)","v":{"$error":"#N/A"}}]
[null,null,{"$f":"VLOOKUP(B526,lists!$F$2:$G$17,2,FALSE)","v":{"$error":"#N/A"}},null,null,null,null,null,"",{"$f":"VLOOKUP(I526,lists!$A$2:$B$1335,2,FALSE)","v":{"$error":"#N/A"}},null,{"$f":"VLOOKUP(K526,lists!$F$2:$G$17,2,FALSE)","v":{"$error":"#N/A"}},null,null,"",{"$f":"VLOOKUP(O526,lists!$A$2:$B$1335,2,FALSE)","v":{"$error":"#N/A"}},null,"",{"$f":"VLOOKUP(R526,lists!$A$2:$B$575,2,FALSE)","v":{"$error":"#N/A"}}]
[null,null,{"$f":"VLOOKUP(B527,lists!$F$2:$G$17,2,FALSE)","v":{"$error":"#N/A"}},null,null,null,null,null,"",{"$f":"VLOOKUP(I527,lists!$A$2:$B$1335,2,FALSE)","v":{"$error":"#N/A"}},null,{"$f":"VLOOKUP(K527,lists!$F$2:$G$17,2,FALSE)","v":{"$error":"#N/A"}},null,null,"",{"$f":"VLOOKUP(O527,lists!$A$2:$B$1335,2,FALSE)","v":{"$error":"#N/A"}},null,"",{"$f":"VLOOKUP(R527,lists!$A$2:$B$575,2,FALSE)","v":{"$error":"#N/A"}}]
[null,null,{"$f":"VLOOKUP(B528,lists!$F$2:$G$17,2,FALSE)","v":{"$error":"#N/A"}},null,null,null,null,null,"",{"$f":"VLOOKUP(I528,lists!$A$2:$B$1335,2,FALSE)","v":{"$error":"#N/A"}},null,{"$f":"VLOOKUP(K528,lists!$F$2:$G$17,2,FALSE)","v":{"$error":"#N/A"}},null,null,"",{"$f":"VLOOKUP(O528,lists!$A$2:$B$1335,2,FALSE)","v":{"$error":"#N/A"}},null,"",{"$f":"VLOOKUP(R528,lists!$A$2:$B$575,2,FALSE)","v":{"$error":"#N/A"}}]
[null,null,{"$f":"VLOOKUP(B529,lists!$F$2:$G$17,2,FALSE)","v":{"$error":"#N/A"}},null,null,null,null,null,"",{"$f":"VLOOKUP(I529,lists!$A$2:$B$1335,2,FALSE)","v":{"$error":"#N/A"}},null,{"$f":"VLOOKUP(K529,lists!$F$2:$G$17,2,FALSE)","v":{"$error":"#N/A"}},null,null,"",{"$f":"VLOOKUP(O529,lists!$A$2:$B$1335,2,FALSE)","v":{"$error":"#N/A"}},null,"",{"$f":"VLOOKUP(R529,lists!$A$2:$B$575,2,FALSE)","v":{"$error":"#N/A"}}]
[null,null,{"$f":"VLOOKUP(B530,lists!$F$2:$G$17,2,FALSE)","v":{"$error":"#N/A"}},null,null,null,null,null,"",{"$f":"VLOOKUP(I530,lists!$A$2:$B$1335,2,FALSE)","v":{"$error":"#N/A"}},null,{"$f":"VLOOKUP(K530,lists!$F$2:$G$17,2,FALSE)","v":{"$error":"#N/A"}},null,null,"",{"$f":"VLOOKUP(O530,lists!$A$2:$B$1335,2,FALSE)","v":{"$error":"#N/A"}},null,"",{"$f":"VLOOKUP(R530,lists!$A$2:$B$575,2,FALSE)","v":{"$error":"#N/A"}}]
[null,null,{"$f":"VLOOKUP(B531,lists!$F$2:$G$17,2,FALSE)","v":{"$error":"#N/A"}},null,null,null,null,null,"",{"$f":"VLOOKUP(I531,lists!$A$2:$B$1335,2,FALSE)","v":{"$error":"#N/A"}},null,{"$f":"VLOOKUP(K531,lists!$F$2:$G$17,2,FALSE)","v":{"$error":"#N/A"}},null,null,"",{"$f":"VLOOKUP(O531,lists!$A$2:$B$1335,2,FALSE)","v":{"$error":"#N/A"}},null,"",{"$f":"VLOOKUP(R531,lists!$A$2:$B$575,2,FALSE)","v":{"$error":"#N/A"}}]
[null,null,{"$f":"VLOOKUP(B532,lists!$F$2:$G$17,2,FALSE)","v":{"$error":"#N/A"}},null,null,null,null,null,"",{"$f":"VLOOKUP(I532,lists!$A$2:$B$1335,2,FALSE)","v":{"$error":"#N/A"}},null,{"$f":"VLOOKUP(K532,lists!$F$2:$G$17,2,FALSE)","v":{"$error":"#N/A"}},null,null,"",{"$f":"VLOOKUP(O532,lists!$A$2:$B$1335,2,FALSE)","v":{"$error":"#N/A"}},null,"",{"$f":"VLOOKUP(R532,lists!$A$2:$B$575,2,FALSE)","v":{"$error":"#N/A"}}]
[null,null,{"$f":"VLOOKUP(B533,lists!$F$2:$G$17,2,FALSE)","v":{"$error":"#N/A"}},null,null,null,null,null,"",{"$f":"VLOOKUP(I533,lists!$A$2:$B$1335,2,FALSE)","v":{"$error":"#N/A"}},null,{"$f":"VLOOKUP(K533,lists!$F$2:$G$17,2,FALSE)","v":{"$error":"#N/A"}},null,null,"",{"$f":"VLOOKUP(O533,lists!$A$2:$B$1335,2,FALSE)","v":{"$error":"#N/A"}},null,"",{"$f":"VLOOKUP(R533,lists!$A$2:$B$575,2,FALSE)","v":{"$error":"#N/A"}}]
[null,null,{"$f":"VLOOKUP(B534,lists!$F$2:$G$17,2,FALSE)","v":{"$error":"#N/A"}},null,null,null,null,null,"",{"$f":"VLOOKUP(I534,lists!$A$2:$B$1335,2,FALSE)","v":{"$error":"#N/A"}},null,{"$f":"VLOOKUP(K534,lists!$F$2:$G$17,2,FALSE)","v":{"$error":"#N/A"}},null,null,"",{"$f":"VLOOKUP(O534,lists!$A$2:$B$1335,2,FALSE)","v":{"$error":"#N/A"}},null,"",{"$f":"VLOOKUP(R534,lists!$A$2:$B$575,2,FALSE)","v":{"$error":"#N/A"}}]
[null,null,{"$f":"VLOOKUP(B535,lists!$F$2:$G$17,2,FALSE)","v":{"$error":"#N/A"}},null,null,null,null,null,"",{"$f":"VLOOKUP(I535,lists!$A$2:$B$1335,2,FALSE)","v":{"$error":"#N/A"}},null,{"$f":"VLOOKUP(K535,lists!$F$2:$G$17,2,FALSE)","v":{"$error":"#N/A"}},null,null,"",{"$f":"VLOOKUP(O535,lists!$A$2:$B$1335,2,FALSE)","v":{"$error":"#N/A"}},null,"",{"$f":"VLOOKUP(R535,lists!$A$2:$B$575,2,FALSE)","v":{"$error":"#N/A"}}]
[null,null,{"$f":"VLOOKUP(B536,lists!$F$2:$G$17,2,FALSE)","v":{"$error":"#N/A"}},null,null,null,null,null,"",{"$f":"VLOOKUP(I536,lists!$A$2:$B$1335,2,FALSE)","v":{"$error":"#N/A"}},null,{"$f":"VLOOKUP(K536,lists!$F$2:$G$17,2,FALSE)","v":{"$error":"#N/A"}},null,null,"",{"$f":"VLOOKUP(O536,lists!$A$2:$B$1335,2,FALSE)","v":{"$error":"#N/A"}},null,"",{"$f":"VLOOKUP(R536,lists!$A$2:$B$575,2,FALSE)","v":{"$error":"#N/A"}}]
[null,null,{"$f":"VLOOKUP(B537,lists!$F$2:$G$17,2,FALSE)","v":{"$error":"#N/A"}},null,null,null,null,null,"",{"$f":"VLOOKUP(I537,lists!$A$2:$B$1335,2,FALSE)","v":{"$error":"#N/A"}},null,{"$f":"VLOOKUP(K537,lists!$F$2:$G$17,2,FALSE)","v":{"$error":"#N/A"}},null,null,"",{"$f":"VLOOKUP(O537,lists!$A$2:$B$1335,2,FALSE)","v":{"$error":"#N/A"}},null,"",{"$f":"VLOOKUP(R537,lists!$A$2:$B$575,2,FALSE)","v":{"$error":"#N/A"}}]
[null,null,{"$f":"VLOOKUP(B538,lists!$F$2:$G$17,2,FALSE)","v":{"$error":"#N/A"}},null,null,null,null,null,"",{"$f":"VLOOKUP(I538,lists!$A$2:$B$1335,2,FALSE)","v":{"$error":"#N/A"}},null,{"$f":"VLOOKUP(K538,lists!$F$2:$G$17,2,FALSE)","v":{"$error":"#N/A"}},null,null,"",{"$f":"VLOOKUP(O538,lists!$A$2:$B$1335,2,FALSE)","v":{"$error":"#N/A"}},null,"",{"$f":"VLOOKUP(R538,lists!$A$2:$B$575,2,FALSE)","v":{"$error":"#N/A"}}]
[null,null,{"$f":"VLOOKUP(B539,lists!$F$2:$G$17,2,FALSE)","v":{"$error":"#N/A"}},null,null,null,null,null,"",{"$f":"VLOOKUP(I539,lists!$A$2:$B$1335,2,FALSE)","v":{"$error":"#N/A"}},null,{"$f":"VLOOKUP(K539,lists!$F$2:$G$17,2,FALSE)","v":{"$error":"#N/A"}},null,null,"",{"$f":"VLOOKUP(O539,lists!$A$2:$B$1335,2,FALSE)","v":{"$error":"#N/A"}},null,"",{"$f":"VLOOKUP(R539,lists!$A$2:$B$575,2,FALSE)","v":{"$error":"#N/A"}}]
[null,null,{"$f":"VLOOKUP(B540,lists!$F$2:$G$17,2,FALSE)","v":{"$error":"#N/A"}},null,null,null,null,null,"",{"$f":"VLOOKUP(I540,lists!$A$2:$B$1335,2,FALSE)","v":{"$error":"#N/A"}},null,{"$f":"VLOOKUP(K540,lists!$F$2:$G$17,2,FALSE)","v":{"$error":"#N/A"}},null,null,"",{"$f":"VLOOKUP(O540,lists!$A$2:$B$1335,2,FALSE)","v":{"$error":"#N/A"}},null,"",{"$f":"VLOOKUP(R540,lists!$A$2:$B$575,2,FALSE)","v":{"$error":"#N/A"}}]
[null,null,{"$f":"VLOOKUP(B541,lists!$F$2:$G$17,2,FALSE)","v":{"$error":"#N/A"}},null,null,null,null,null,"",{"$f":"VLOOKUP(I541,lists!$A$2:$B$1335,2,FALSE)","v":{"$error":"#N/A"}},null,{"$f":"VLOOKUP(K541,lists!$F$2:$G$17,2,FALSE)","v":{"$error":"#N/A"}},null,null,"",{"$f":"VLOOKUP(O541,lists!$A$2:$B$1335,2,FALSE)","v":{"$error":"#N/A"}},null,"",{"$f":"VLOOKUP(R541,lists!$A$2:$B$575,2,FALSE)","v":{"$error":"#N/A"}}]
[null,null,{"$f":"VLOOKUP(B542,lists!$F$2:$G$17,2,FALSE)","v":{"$error":"#N/A"}},null,null,null,null,null,"",{"$f":"VLOOKUP(I542,lists!$A$2:$B$1335,2,FALSE)","v":{"$error":"#N/A"}},null,{"$f":"VLOOKUP(K542,lists!$F$2:$G$17,2,FALSE)","v":{"$error":"#N/A"}},null,null,"",{"$f":"VLOOKUP(O542,lists!$A$2:$B$1335,2,FALSE)","v":{"$error":"#N/A"}},null,"",{"$f":"VLOOKUP(R542,lists!$A$2:$B$575,2,FALSE)","v":{"$error":"#N/A"}}]
[null,null,{"$f":"VLOOKUP(B543,lists!$F$2:$G$17,2,FALSE)","v":{"$error":"#N/A"}},null,null,null,null,null,"",{"$f":"VLOOKUP(I543,lists!$A$2:$B$1335,2,FALSE)","v":{"$error":"#N/A"}},null,{"$f":"VLOOKUP(K543,lists!$F$2:$G$17,2,FALSE)","v":{"$error":"#N/A"}},null,null,"",{"$f":"VLOOKUP(O543,lists!$A$2:$B$1335,2,FALSE)","v":{"$error":"#N/A"}},null,"",{"$f":"VLOOKUP(R543,lists!$A$2:$B$575,2,FALSE)","v":{"$error":"#N/A"}}]
[null,null,{"$f":"VLOOKUP(B544,lists!$F$2:$G$17,2,FALSE)","v":{"$error":"#N/A"}},null,null,null,null,null,"",{"$f":"VLOOKUP(I544,lists!$A$2:$B$1335,2,FALSE)","v":{"$error":"#N/A"}},null,{"$f":"VLOOKUP(K544,lists!$F$2:$G$17,2,FALSE)","v":{"$error":"#N/A"}},null,null,"",{"$f":"VLOOKUP(O544,lists!$A$2:$B$1335,2,FALSE)","v":{"$error":"#N/A"}},null,"",{"$f":"VLOOKUP(R544,lists!$A$2:$B$575,2,FALSE)","v":{"$error":"#N/A"}}]
[null,null,{"$f":"VLOOKUP(B545,lists!$F$2:$G$17,2,FALSE)","v":{"$error":"#N/A"}},null,null,null,null,null,"",{"$f":"VLOOKUP(I545,lists!$A$2:$B$1335,2,FALSE)","v":{"$error":"#N/A"}},null,{"$f":"VLOOKUP(K545,lists!$F$2:$G$17,2,FALSE)","v":{"$error":"#N/A"}},null,null,"",{"$f":"VLOOKUP(O545,lists!$A$2:$B$1335,2,FALSE)","v":{"$error":"#N/A"}},null,"",{"$f":"VLOOKUP(R545,lists!$A$2:$B$575,2,FALSE)","v":{"$error":"#N/A"}}]
[null,null,{"$f":"VLOOKUP(B546,lists!$F$2:$G$17,2,FALSE)","v":{"$error":"#N/A"}},null,null,null,null,null,"",{"$f":"VLOOKUP(I546,lists!$A$2:$B$1335,2,FALSE)","v":{"$error":"#N/A"}},null,{"$f":"VLOOKUP(K546,lists!$F$2:$G$17,2,FALSE)","v":{"$error":"#N/A"}},null,null,"",{"$f":"VLOOKUP(O546,lists!$A$2:$B$1335,2,FALSE)","v":{"$error":"#N/A"}},null,"",{"$f":"VLOOKUP(R546,lists!$A$2:$B$575,2,FALSE)","v":{"$error":"#N/A"}}]
[null,null,{"$f":"VLOOKUP(B547,lists!$F$2:$G$17,2,FALSE)","v":{"$error":"#N/A"}},null,null,null,null,null,"",{"$f":"VLOOKUP(I547,lists!$A$2:$B$1335,2,FALSE)","v":{"$error":"#N/A"}},null,{"$f":"VLOOKUP(K547,lists!$F$2:$G$17,2,FALSE)","v":{"$error":"#N/A"}},null,null,"",{"$f":"VLOOKUP(O547,lists!$A$2:$B$1335,2,FALSE)","v":{"$error":"#N/A"}},null,"",{"$f":"VLOOKUP(R547,lists!$A$2:$B$575,2,FALSE)","v":{"$error":"#N/A"}}]
[null,null,{"$f":"VLOOKUP(B548,lists!$F$2:$G$17,2,FALSE)","v":{"$error":"#N/A"}},null,null,null,null,null,"",{"$f":"VLOOKUP(I548,lists!$A$2:$B$1335,2,FALSE)","v":{"$error":"#N/A"}},null,{"$f":"VLOOKUP(K548,lists!$F$2:$G$17,2,FALSE)","v":{"$error":"#N/A"}},null,null,"",{"$f":"VLOOKUP(O548,lists!$A$2:$B$1335,2,FALSE)","v":{"$error":"#N/A"}},null,"",{"$f":"VLOOKUP(R548,lists!$A$2:$B$575,2,FALSE)","v":{"$error":"#N/A"}}]
[null,null,{"$f":"VLOOKUP(B549,lists!$F$2:$G$17,2,FALSE)","v":{"$error":"#N/A"}},null,null,null,null,null,"",{"$f":"VLOOKUP(I549,lists!$A$2:$B$1335,2,FALSE)","v":{"$error":"#N/A"}},null,{"$f":"VLOOKUP(K549,lists!$F$2:$G$17,2,FALSE)","v":{"$error":"#N/A"}},null,null,"",{"$f":"VLOOKUP(O549,lists!$A$2:$B$1335,2,FALSE)","v":{"$error":"#N/A"}},null,"",{"$f":"VLOOKUP(R549,lists!$A$2:$B$575,2,FALSE)","v":{"$error":"#N/A"}}]
[null,null,{"$f":"VLOOKUP(B550,lists!$F$2:$G$17,2,FALSE)","v":{"$error":"#N/A"}},null,null,null,null,null,"",{"$f":"VLOOKUP(I550,lists!$A$2:$B$1335,2,FALSE)","v":{"$error":"#N/A"}},null,{"$f":"VLOOKUP(K550,lists!$F$2:$G$17,2,FALSE)","v":{"$error":"#N/A"}},null,null,"",{"$f":"VLOOKUP(O550,lists!$A$2:$B$1335,2,FALSE)","v":{"$error":"#N/A"}},null,"",{"$f":"VLOOKUP(R550,lists!$A$2:$B$575,2,FALSE)","v":{"$error":"#N/A"}}]
[null,null,{"$f":"VLOOKUP(B551,lists!$F$2:$G$17,2,FALSE)","v":{"$error":"#N/A"}},null,null,null,null,null,"",{"$f":"VLOOKUP(I551,lists!$A$2:$B$1335,2,FALSE)","v":{"$error":"#N/A"}},null,{"$f":"VLOOKUP(K551,lists!$F$2:$G$17,2,FALSE)","v":{"$error":"#N/A"}},null,null,"",{"$f":"VLOOKUP(O551,lists!$A$2:$B$1335,2,FALSE)","v":{"$error":"#N/A"}},null,"",{"$f":"VLOOKUP(R551,lists!$A$2:$B$575,2,FALSE)","v":{"$error":"#N/A"}}]
[null,null,{"$f":"VLOOKUP(B552,lists!$F$2:$G$17,2,FALSE)","v":{"$error":"#N/A"}},null,null,null,null,null,"",{"$f":"VLOOKUP(I552,lists!$A$2:$B$1335,2,FALSE)","v":{"$error":"#N/A"}},null,{"$f":"VLOOKUP(K552,lists!$F$2:$G$17,2,FALSE)","v":{"$error":"#N/A"}},null,null,"",{"$f":"VLOOKUP(O552,lists!$A$2:$B$1335,2,FALSE)","v":{"$error":"#N/A"}},null,"",{"$f":"VLOOKUP(R552,lists!$A$2:$B$575,2,FALSE)","v":{"$error":"#N/A"}}]
[null,null,{"$f":"VLOOKUP(B553,lists!$F$2:$G$17,2,FALSE)","v":{"$error":"#N/A"}},null,null,null,null,null,"",{"$f":"VLOOKUP(I553,lists!$A$2:$B$1335,2,FALSE)","v":{"$error":"#N/A"}},null,{"$f":"VLOOKUP(K553,lists!$F$2:$G$17,2,FALSE)","v":{"$error":"#N/A"}},null,null,"",{"$f":"VLOOKUP(O553,lists!$A$2:$B$1335,2,FALSE)","v":{"$error":"#N/A"}},null,"",{"$f":"VLOOKUP(R553,lists!$A$2:$B$575,2,FALSE)","v":{"$error":"#N/A"}}]
[null,null,{"$f":"VLOOKUP(B554,lists!$F$2:$G$17,2,FALSE)","v":{"$error":"#N/A"}},null,null,null,null,null,"",{"$f":"VLOOKUP(I554,lists!$A$2:$B$1335,2,FALSE)","v":{"$error":"#N/A"}},null,{"$f":"VLOOKUP(K554,lists!$F$2:$G$17,2,FALSE)","v":{"$error":"#N/A"}},null,null,"",{"$f":"VLOOKUP(O554,lists!$A$2:$B$1335,2,FALSE)","v":{"$error":"#N/A"}},null,"",{"$f":"VLOOKUP(R554,lists!$A$2:$B$575,2,FALSE)","v":{"$error":"#N/A"}}]
[null,null,{"$f":"VLOOKUP(B555,lists!$F$2:$G$17,2,FALSE)","v":{"$error":"#N/A"}},null,null,null,null,null,"",{"$f":"VLOOKUP(I555,lists!$A$2:$B$1335,2,FALSE)","v":{"$error":"#N/A"}},null,{"$f":"VLOOKUP(K555,lists!$F$2:$G$17,2,FALSE)","v":{"$error":"#N/A"}},null,null,"",{"$f":"VLOOKUP(O555,lists!$A$2:$B$1335,2,FALSE)","v":{"$error":"#N/A"}},null,"",{"$f":"VLOOKUP(R555,lists!$A$2:$B$575,2,FALSE)","v":{"$error":"#N/A"}}]
[null,null,{"$f":"VLOOKUP(B556,lists!$F$2:$G$17,2,FALSE)","v":{"$error":"#N/A"}},null,null,null,null,null,"",{"$f":"VLOOKUP(I556,lists!$A$2:$B$1335,2,FALSE)","v":{"$error":"#N/A"}},null,{"$f":"VLOOKUP(K556,lists!$F$2:$G$17,2,FALSE)","v":{"$error":"#N/A"}},null,null,"",{"$f":"VLOOKUP(O556,lists!$A$2:$B$1335,2,FALSE)","v":{"$error":"#N/A"}},null,"",{"$f":"VLOOKUP(R556,lists!$A$2:$B$575,2,FALSE)","v":{"$error":"#N/A"}}]
[null,null,{"$f":"VLOOKUP(B557,lists!$F$2:$G$17,2,FALSE)","v":{"$error":"#N/A"}},null,null,null,null,null,"",{"$f":"VLOOKUP(I557,lists!$A$2:$B$1335,2,FALSE)","v":{"$error":"#N/A"}},null,{"$f":"VLOOKUP(K557,lists!$F$2:$G$17,2,FALSE)","v":{"$error":"#N/A"}},null,null,"",{"$f":"VLOOKUP(O557,lists!$A$2:$B$1335,2,FALSE)","v":{"$error":"#N/A"}},null,"",{"$f":"VLOOKUP(R557,lists!$A$2:$B$575,2,FALSE)","v":{"$error":"#N/A"}}]
[null,null,{"$f":"VLOOKUP(B558,lists!$F$2:$G$17,2,FALSE)","v":{"$error":"#N/A"}},null,null,null,null,null,"",{"$f":"VLOOKUP(I558,lists!$A$2:$B$1335,2,FALSE)","v":{"$error":"#N/A"}},null,{"$f":"VLOOKUP(K558,lists!$F$2:$G$17,2,FALSE)","v":{"$error":"#N/A"}},null,null,"",{"$f":"VLOOKUP(O558,lists!$A$2:$B$1335,2,FALSE)","v":{"$error":"#N/A"}},null,"",{"$f":"VLOOKUP(R558,lists!$A$2:$B$575,2,FALSE)","v":{"$error":"#N/A"}}]
[null,null,{"$f":"VLOOKUP(B559,lists!$F$2:$G$17,2,FALSE)","v":{"$error":"#N/A"}},null,null,null,null,null,"",{"$f":"VLOOKUP(I559,lists!$A$2:$B$1335,2,FALSE)","v":{"$error":"#N/A"}},null,{"$f":"VLOOKUP(K559,lists!$F$2:$G$17,2,FALSE)","v":{"$error":"#N/A"}},null,null,"",{"$f":"VLOOKUP(O559,lists!$A$2:$B$1335,2,FALSE)","v":{"$error":"#N/A"}},null,"",{"$f":"VLOOKUP(R559,lists!$A$2:$B$575,2,FALSE)","v":{"$error":"#N/A"}}]
[null,null,{"$f":"VLOOKUP(B560,lists!$F$2:$G$17,2,FALSE)","v":{"$error":"#N/A"}},null,null,null,null,null,"",{"$f":"VLOOKUP(I560,lists!$A$2:$B$1335,2,FALSE)","v":{"$error":"#N/A"}},null,{"$f":"VLOOKUP(K560,lists!$F$2:$G$17,2,FALSE)","v":{"$error":"#N/A"}},null,null,"",{"$f":"VLOOKUP(O560,lists!$A$2:$B$1335,2,FALSE)","v":{"$error":"#N/A"}},null,"",{"$f":"VLOOKUP(R560,lists!$A$2:$B$575,2,FALSE)","v":{"$error":"#N/A"}}]
[null,null,{"$f":"VLOOKUP(B561,lists!$F$2:$G$17,2,FALSE)","v":{"$error":"#N/A"}},null,null,null,null,null,"",{"$f":"VLOOKUP(I561,lists!$A$2:$B$1335,2,FALSE)","v":{"$error":"#N/A"}},null,{"$f":"VLOOKUP(K561,lists!$F$2:$G$17,2,FALSE)","v":{"$error":"#N/A"}},null,null,"",{"$f":"VLOOKUP(O561,lists!$A$2:$B$1335,2,FALSE)","v":{"$error":"#N/A"}},null,"",{"$f":"VLOOKUP(R561,lists!$A$2:$B$575,2,FALSE)","v":{"$error":"#N/A"}}]
[null,null,{"$f":"VLOOKUP(B562,lists!$F$2:$G$17,2,FALSE)","v":{"$error":"#N/A"}},null,null,null,null,null,"",{"$f":"VLOOKUP(I562,lists!$A$2:$B$1335,2,FALSE)","v":{"$error":"#N/A"}},null,{"$f":"VLOOKUP(K562,lists!$F$2:$G$17,2,FALSE)","v":{"$error":"#N/A"}},null,null,"",{"$f":"VLOOKUP(O562,lists!$A$2:$B$1335,2,FALSE)","v":{"$error":"#N/A"}},null,"",{"$f":"VLOOKUP(R562,lists!$A$2:$B$575,2,FALSE)","v":{"$error":"#N/A"}}]
[null,null,{"$f":"VLOOKUP(B563,lists!$F$2:$G$17,2,FALSE)","v":{"$error":"#N/A"}},null,null,null,null,null,"",{"$f":"VLOOKUP(I563,lists!$A$2:$B$1335,2,FALSE)","v":{"$error":"#N/A"}},null,{"$f":"VLOOKUP(K563,lists!$F$2:$G$17,2,FALSE)","v":{"$error":"#N/A"}},null,null,"",{"$f":"VLOOKUP(O563,lists!$A$2:$B$1335,2,FALSE)","v":{"$error":"#N/A"}},null,"",{"$f":"VLOOKUP(R563,lists!$A$2:$B$575,2,FALSE)","v":{"$error":"#N/A"}}]
[null,null,{"$f":"VLOOKUP(B564,lists!$F$2:$G$17,2,FALSE)","v":{"$error":"#N/A"}},null,null,null,null,null,"",{"$f":"VLOOKUP(I564,lists!$A$2:$B$1335,2,FALSE)","v":{"$error":"#N/A"}},null,{"$f":"VLOOKUP(K564,lists!$F$2:$G$17,2,FALSE)","v":{"$error":"#N/A"}},null,null,"",{"$f":"VLOOKUP(O564,lists!$A$2:$B$1335,2,FALSE)","v":{"$error":"#N/A"}},null,"",{"$f":"VLOOKUP(R564,lists!$A$2:$B$575,2,FALSE)","v":{"$error":"#N/A"}}]
[null,null,{"$f":"VLOOKUP(B565,lists!$F$2:$G$17,2,FALSE)","v":{"$error":"#N/A"}},null,null,null,null,null,"",{"$f":"VLOOKUP(I565,lists!$A$2:$B$1335,2,FALSE)","v":{"$error":"#N/A"}},null,{"$f":"VLOOKUP(K565,lists!$F$2:$G$17,2,FALSE)","v":{"$error":"#N/A"}},null,null,"",{"$f":"VLOOKUP(O565,lists!$A$2:$B$1335,2,FALSE)","v":{"$error":"#N/A"}},null,"",{"$f":"VLOOKUP(R565,lists!$A$2:$B$575,2,FALSE)","v":{"$error":"#N/A"}}]
[null,null,{"$f":"VLOOKUP(B566,lists!$F$2:$G$17,2,FALSE)","v":{"$error":"#N/A"}},null,null,null,null,null,"",{"$f":"VLOOKUP(I566,lists!$A$2:$B$1335,2,FALSE)","v":{"$error":"#N/A"}},null,{"$f":"VLOOKUP(K566,lists!$F$2:$G$17,2,FALSE)","v":{"$error":"#N/A"}},null,null,"",{"$f":"VLOOKUP(O566,lists!$A$2:$B$1335,2,FALSE)","v":{"$error":"#N/A"}},null,"",{"$f":"VLOOKUP(R566,lists!$A$2:$B$575,2,FALSE)","v":{"$error":"#N/A"}}]
[null,null,{"$f":"VLOOKUP(B567,lists!$F$2:$G$17,2,FALSE)","v":{"$error":"#N/A"}},null,null,null,null,null,"",{"$f":"VLOOKUP(I567,lists!$A$2:$B$1335,2,FALSE)","v":{"$error":"#N/A"}},null,{"$f":"VLOOKUP(K567,lists!$F$2:$G$17,2,FALSE)","v":{"$error":"#N/A"}},null,null,"",{"$f":"VLOOKUP(O567,lists!$A$2:$B$1335,2,FALSE)","v":{"$error":"#N/A"}},null,"",{"$f":"VLOOKUP(R567,lists!$A$2:$B$575,2,FALSE)","v":{"$error":"#N/A"}}]
[null,null,{"$f":"VLOOKUP(B568,lists!$F$2:$G$17,2,FALSE)","v":{"$error":"#N/A"}},null,null,null,null,null,"",{"$f":"VLOOKUP(I568,lists!$A$2:$B$1335,2,FALSE)","v":{"$error":"#N/A"}},null,{"$f":"VLOOKUP(K568,lists!$F$2:$G$17,2,FALSE)","v":{"$error":"#N/A"}},null,null,"",{"$f":"VLOOKUP(O568,lists!$A$2:$B$1335,2,FALSE)","v":{"$error":"#N/A"}},null,"",{"$f":"VLOOKUP(R568,lists!$A$2:$B$575,2,FALSE)","v":{"$error":"#N/A"}}]
[null,null,{"$f":"VLOOKUP(B569,lists!$F$2:$G$17,2,FALSE)","v":{"$error":"#N/A"}},null,null,null,null,null,"",{"$f":"VLOOKUP(I569,lists!$A$2:$B$1335,2,FALSE)","v":{"$error":"#N/A"}},null,{"$f":"VLOOKUP(K569,lists!$F$2:$G$17,2,FALSE)","v":{"$error":"#N/A"}},null,null,"",{"$f":"VLOOKUP(O569,lists!$A$2:$B$1335,2,FALSE)","v":{"$error":"#N/A"}},null,"",{"$f":"VLOOKUP(R569,lists!$A$2:$B$575,2,FALSE)","v":{"$error":"#N/A"}}]
[null,null,{"$f":"VLOOKUP(B570,lists!$F$2:$G$17,2,FALSE)","v":{"$error":"#N/A"}},null,null,null,null,null,"",{"$f":"VLOOKUP(I570,lists!$A$2:$B$1335,2,FALSE)","v":{"$error":"#N/A"}},null,{"$f":"VLOOKUP(K570,lists!$F$2:$G$17,2,FALSE)","v":{"$error":"#N/A"}},null,null,"",{"$f":"VLOOKUP(O570,lists!$A$2:$B$1335,2,FALSE)","v":{"$error":"#N/A"}},null,"",{"$f":"VLOOKUP(R570,lists!$A$2:$B$575,2,FALSE)","v":{"$error":"#N/A"}}]
[null,null,{"$f":"VLOOKUP(B571,lists!$F$2:$G$17,2,FALSE)","v":{"$error":"#N/A"}},null,null,null,null,null,"",{"$f":"VLOOKUP(I571,lists!$A$2:$B$1335,2,FALSE)","v":{"$error":"#N/A"}},null,{"$f":"VLOOKUP(K571,lists!$F$2:$G$17,2,FALSE)","v":{"$error":"#N/A"}},null,null,"",{"$f":"VLOOKUP(O571,lists!$A$2:$B$1335,2,FALSE)","v":{"$error":"#N/A"}},null,"",{"$f":"VLOOKUP(R571,lists!$A$2:$B$575,2,FALSE)","v":{"$error":"#N/A"}}]
[null,null,{"$f":"VLOOKUP(B572,lists!$F$2:$G$17,2,FALSE)","v":{"$error":"#N/A"}},null,null,null,null,null,"",{"$f":"VLOOKUP(I572,lists!$A$2:$B$1335,2,FALSE)","v":{"$error":"#N/A"}},null,{"$f":"VLOOKUP(K572,lists!$F$2:$G$17,2,FALSE)","v":{"$error":"#N/A"}},null,null,"",{"$f":"VLOOKUP(O572,lists!$A$2:$B$1335,2,FALSE)","v":{"$error":"#N/A"}},null,"",{"$f":"VLOOKUP(R572,lists!$A$2:$B$575,2,FALSE)","v":{"$error":"#N/A"}}]
[null,null,{"$f":"VLOOKUP(B573,lists!$F$2:$G$17,2,FALSE)","v":{"$error":"#N/A"}},null,null,null,null,null,"",{"$f":"VLOOKUP(I573,lists!$A$2:$B$1335,2,FALSE)","v":{"$error":"#N/A"}},null,{"$f":"VLOOKUP(K573,lists!$F$2:$G$17,2,FALSE)","v":{"$error":"#N/A"}},null,null,"",{"$f":"VLOOKUP(O573,lists!$A$2:$B$1335,2,FALSE)","v":{"$error":"#N/A"}},null,"",{"$f":"VLOOKUP(R573,lists!$A$2:$B$575,2,FALSE)","v":{"$error":"#N/A"}}]
[null,null,{"$f":"VLOOKUP(B574,lists!$F$2:$G$17,2,FALSE)","v":{"$error":"#N/A"}},null,null,null,null,null,"",{"$f":"VLOOKUP(I574,lists!$A$2:$B$1335,2,FALSE)","v":{"$error":"#N/A"}},null,{"$f":"VLOOKUP(K574,lists!$F$2:$G$17,2,FALSE)","v":{"$error":"#N/A"}},null,null,"",{"$f":"VLOOKUP(O574,lists!$A$2:$B$1335,2,FALSE)","v":{"$error":"#N/A"}},null,"",{"$f":"VLOOKUP(R574,lists!$A$2:$B$575,2,FALSE)","v":{"$error":"#N/A"}}]
[null,null,{"$f":"VLOOKUP(B575,lists!$F$2:$G$17,2,FALSE)","v":{"$error":"#N/A"}},null,null,null,null,null,"",{"$f":"VLOOKUP(I575,lists!$A$2:$B$1335,2,FALSE)","v":{"$error":"#N/A"}},null,{"$f":"VLOOKUP(K575,lists!$F$2:$G$17,2,FALSE)","v":{"$error":"#N/A"}},null,null,"",{"$f":"VLOOKUP(O575,lists!$A$2:$B$1335,2,FALSE)","v":{"$error":"#N/A"}},null,"",{"$f":"VLOOKUP(R575,lists!$A$2:$B$575,2,FALSE)","v":{"$error":"#N/A"}}]
[null,null,{"$f":"VLOOKUP(B576,lists!$F$2:$G$17,2,FALSE)","v":{"$error":"#N/A"}},null,null,null,null,null,"",{"$f":"VLOOKUP(I576,lists!$A$2:$B$1335,2,FALSE)","v":{"$error":"#N/A"}},null,{"$f":"VLOOKUP(K576,lists!$F$2:$G$17,2,FALSE)","v":{"$error":"#N/A"}},null,null,"",{"$f":"VLOOKUP(O576,lists!$A$2:$B$1335,2,FALSE)","v":{"$error":"#N/A"}},null,"",{"$f":"VLOOKUP(R576,lists!$A$2:$B$575,2,FALSE)","v":{"$error":"#N/A"}}]
[null,null,{"$f":"VLOOKUP(B577,lists!$F$2:$G$17,2,FALSE)","v":{"$error":"#N/A"}},null,null,null,null,null,"",{"$f":"VLOOKUP(I577,lists!$A$2:$B$1335,2,FALSE)","v":{"$error":"#N/A"}},null,{"$f":"VLOOKUP(K577,lists!$F$2:$G$17,2,FALSE)","v":{"$error":"#N/A"}},null,null,"",{"$f":"VLOOKUP(O577,lists!$A$2:$B$1335,2,FALSE)","v":{"$error":"#N/A"}},null,"",{"$f":"VLOOKUP(R577,lists!$A$2:$B$575,2,FALSE)","v":{"$error":"#N/A"}}]
[null,null,{"$f":"VLOOKUP(B578,lists!$F$2:$G$17,2,FALSE)","v":{"$error":"#N/A"}},null,null,null,null,null,"",{"$f":"VLOOKUP(I578,lists!$A$2:$B$1335,2,FALSE)","v":{"$error":"#N/A"}},null,{"$f":"VLOOKUP(K578,lists!$F$2:$G$17,2,FALSE)","v":{"$error":"#N/A"}},null,null,"",{"$f":"VLOOKUP(O578,lists!$A$2:$B$1335,2,FALSE)","v":{"$error":"#N/A"}},null,"",{"$f":"VLOOKUP(R578,lists!$A$2:$B$575,2,FALSE)","v":{"$error":"#N/A"}}]
[null,null,{"$f":"VLOOKUP(B579,lists!$F$2:$G$17,2,FALSE)","v":{"$error":"#N/A"}},null,null,null,null,null,"",{"$f":"VLOOKUP(I579,lists!$A$2:$B$1335,2,FALSE)","v":{"$error":"#N/A"}},null,{"$f":"VLOOKUP(K579,lists!$F$2:$G$17,2,FALSE)","v":{"$error":"#N/A"}},null,null,"",{"$f":"VLOOKUP(O579,lists!$A$2:$B$1335,2,FALSE)","v":{"$error":"#N/A"}},null,"",{"$f":"VLOOKUP(R579,lists!$A$2:$B$575,2,FALSE)","v":{"$error":"#N/A"}}]
[null,null,{"$f":"VLOOKUP(B580,lists!$F$2:$G$17,2,FALSE)","v":{"$error":"#N/A"}},null,null,null,null,null,"",{"$f":"VLOOKUP(I580,lists!$A$2:$B$1335,2,FALSE)","v":{"$error":"#N/A"}},null,{"$f":"VLOOKUP(K580,lists!$F$2:$G$17,2,FALSE)","v":{"$error":"#N/A"}},null,null,"",{"$f":"VLOOKUP(O580,lists!$A$2:$B$1335,2,FALSE)","v":{"$error":"#N/A"}},null,"",{"$f":"VLOOKUP(R580,lists!$A$2:$B$575,2,FALSE)","v":{"$error":"#N/A"}}]
[null,null,{"$f":"VLOOKUP(B581,lists!$F$2:$G$17,2,FALSE)","v":{"$error":"#N/A"}},null,null,null,null,null,"",{"$f":"VLOOKUP(I581,lists!$A$2:$B$1335,2,FALSE)","v":{"$error":"#N/A"}},null,{"$f":"VLOOKUP(K581,lists!$F$2:$G$17,2,FALSE)","v":{"$error":"#N/A"}},null,null,"",{"$f":"VLOOKUP(O581,lists!$A$2:$B$1335,2,FALSE)","v":{"$error":"#N/A"}},null,"",{"$f":"VLOOKUP(R581,lists!$A$2:$B$575,2,FALSE)","v":{"$error":"#N/A"}}]
[null,null,{"$f":"VLOOKUP(B582,lists!$F$2:$G$17,2,FALSE)","v":{"$error":"#N/A"}},null,null,null,null,null,"",{"$f":"VLOOKUP(I582,lists!$A$2:$B$1335,2,FALSE)","v":{"$error":"#N/A"}},null,{"$f":"VLOOKUP(K582,lists!$F$2:$G$17,2,FALSE)","v":{"$error":"#N/A"}},null,null,"",{"$f":"VLOOKUP(O582,lists!$A$2:$B$1335,2,FALSE)","v":{"$error":"#N/A"}},null,"",{"$f":"VLOOKUP(R582,lists!$A$2:$B$575,2,FALSE)","v":{"$error":"#N/A"}}]
[null,null,{"$f":"VLOOKUP(B583,lists!$F$2:$G$17,2,FALSE)","v":{"$error":"#N/A"}},null,null,null,null,null,"",{"$f":"VLOOKUP(I583,lists!$A$2:$B$1335,2,FALSE)","v":{"$error":"#N/A"}},null,{"$f":"VLOOKUP(K583,lists!$F$2:$G$17,2,FALSE)","v":{"$error":"#N/A"}},null,null,"",{"$f":"VLOOKUP(O583,lists!$A$2:$B$1335,2,FALSE)","v":{"$error":"#N/A"}},null,"",{"$f":"VLOOKUP(R583,lists!$A$2:$B$575,2,FALSE)","v":{"$error":"#N/A"}}]
[null,null,{"$f":"VLOOKUP(B584,lists!$F$2:$G$17,2,FALSE)","v":{"$error":"#N/A"}},null,null,null,null,null,"",{"$f":"VLOOKUP(I584,lists!$A$2:$B$1335,2,FALSE)","v":{"$error":"#N/A"}},null,{"$f":"VLOOKUP(K584,lists!$F$2:$G$17,2,FALSE)","v":{"$error":"#N/A"}},null,null,"",{"$f":"VLOOKUP(O584,lists!$A$2:$B$1335,2,FALSE)","v":{"$error":"#N/A"}},null,"",{"$f":"VLOOKUP(R584,lists!$A$2:$B$575,2,FALSE)","v":{"$error":"#N/A"}}]
[null,null,{"$f":"VLOOKUP(B585,lists!$F$2:$G$17,2,FALSE)","v":{"$error":"#N/A"}},null,null,null,null,null,"",{"$f":"VLOOKUP(I585,lists!$A$2:$B$1335,2,FALSE)","v":{"$error":"#N/A"}},null,{"$f":"VLOOKUP(K585,lists!$F$2:$G$17,2,FALSE)","v":{"$error":"#N/A"}},null,null,"",{"$f":"VLOOKUP(O585,lists!$A$2:$B$1335,2,FALSE)","v":{"$error":"#N/A"}},null,"",{"$f":"VLOOKUP(R585,lists!$A$2:$B$575,2,FALSE)","v":{"$error":"#N/A"}}]
[null,null,{"$f":"VLOOKUP(B586,lists!$F$2:$G$17,2,FALSE)","v":{"$error":"#N/A"}},null,null,null,null,null,"",{"$f":"VLOOKUP(I586,lists!$A$2:$B$1335,2,FALSE)","v":{"$error":"#N/A"}},null,{"$f":"VLOOKUP(K586,lists!$F$2:$G$17,2,FALSE)","v":{"$error":"#N/A"}},null,null,"",{"$f":"VLOOKUP(O586,lists!$A$2:$B$1335,2,FALSE)","v":{"$error":"#N/A"}},null,"",{"$f":"VLOOKUP(R586,lists!$A$2:$B$575,2,FALSE)","v":{"$error":"#N/A"}}]
[null,null,{"$f":"VLOOKUP(B587,lists!$F$2:$G$17,2,FALSE)","v":{"$error":"#N/A"}},null,null,null,null,null,"",{"$f":"VLOOKUP(I587,lists!$A$2:$B$1335,2,FALSE)","v":{"$error":"#N/A"}},null,{"$f":"VLOOKUP(K587,lists!$F$2:$G$17,2,FALSE)","v":{"$error":"#N/A"}},null,null,"",{"$f":"VLOOKUP(O587,lists!$A$2:$B$1335,2,FALSE)","v":{"$error":"#N/A"}},null,"",{"$f":"VLOOKUP(R587,lists!$A$2:$B$575,2,FALSE)","v":{"$error":"#N/A"}}]
[null,null,{"$f":"VLOOKUP(B588,lists!$F$2:$G$17,2,FALSE)","v":{"$error":"#N/A"}},null,null,null,null,null,"",{"$f":"VLOOKUP(I588,lists!$A$2:$B$1335,2,FALSE)","v":{"$error":"#N/A"}},null,{"$f":"VLOOKUP(K588,lists!$F$2:$G$17,2,FALSE)","v":{"$error":"#N/A"}},null,null,"",{"$f":"VLOOKUP(O588,lists!$A$2:$B$1335,2,FALSE)","v":{"$error":"#N/A"}},null,"",{"$f":"VLOOKUP(R588,lists!$A$2:$B$575,2,FALSE)","v":{"$error":"#N/A"}}]
[null,null,{"$f":"VLOOKUP(B589,lists!$F$2:$G$17,2,FALSE)","v":{"$error":"#N/A"}},null,null,null,null,null,"",{"$f":"VLOOKUP(I589,lists!$A$2:$B$1335,2,FALSE)","v":{"$error":"#N/A"}},null,{"$f":"VLOOKUP(K589,lists!$F$2:$G$17,2,FALSE)","v":{"$error":"#N/A"}},null,null,"",{"$f":"VLOOKUP(O589,lists!$A$2:$B$1335,2,FALSE)","v":{"$error":"#N/A"}},null,"",{"$f":"VLOOKUP(R589,lists!$A$2:$B$575,2,FALSE)","v":{"$error":"#N/A"}}]
[null,null,{"$f":"VLOOKUP(B590,lists!$F$2:$G$17,2,FALSE)","v":{"$error":"#N/A"}},null,null,null,null,null,"",{"$f":"VLOOKUP(I590,lists!$A$2:$B$1335,2,FALSE)","v":{"$error":"#N/A"}},null,{"$f":"VLOOKUP(K590,lists!$F$2:$G$17,2,FALSE)","v":{"$error":"#N/A"}},null,null,"",{"$f":"VLOOKUP(O590,lists!$A$2:$B$1335,2,FALSE)","v":{"$error":"#N/A"}},null,"",{"$f":"VLOOKUP(R590,lists!$A$2:$B$575,2,FALSE)","v":{"$error":"#N/A"}}]
[null,null,{"$f":"VLOOKUP(B591,lists!$F$2:$G$17,2,FALSE)","v":{"$error":"#N/A"}},null,null,null,null,null,"",{"$f":"VLOOKUP(I591,lists!$A$2:$B$1335,2,FALSE)","v":{"$error":"#N/A"}},null,{"$f":"VLOOKUP(K591,lists!$F$2:$G$17,2,FALSE)","v":{"$error":"#N/A"}},null,null,"",{"$f":"VLOOKUP(O591,lists!$A$2:$B$1335,2,FALSE)","v":{"$error":"#N/A"}},null,"",{"$f":"VLOOKUP(R591,lists!$A$2:$B$575,2,FALSE)","v":{"$error":"#N/A"}}]
[null,null,{"$f":"VLOOKUP(B592,lists!$F$2:$G$17,2,FALSE)","v":{"$error":"#N/A"}},null,null,null,null,null,"",{"$f":"VLOOKUP(I592,lists!$A$2:$B$1335,2,FALSE)","v":{"$error":"#N/A"}},null,{"$f":"VLOOKUP(K592,lists!$F$2:$G$17,2,FALSE)","v":{"$error":"#N/A"}},null,null,"",{"$f":"VLOOKUP(O592,lists!$A$2:$B$1335,2,FALSE)","v":{"$error":"#N/A"}},null,"",{"$f":"VLOOKUP(R592,lists!$A$2:$B$575,2,FALSE)","v":{"$error":"#N/A"}}]
[null,null,{"$f":"VLOOKUP(B593,lists!$F$2:$G$17,2,FALSE)","v":{"$error":"#N/A"}},null,null,null,null,null,"",{"$f":"VLOOKUP(I593,lists!$A$2:$B$1335,2,FALSE)","v":{"$error":"#N/A"}},null,{"$f":"VLOOKUP(K593,lists!$F$2:$G$17,2,FALSE)","v":{"$error":"#N/A"}},null,null,"",{"$f":"VLOOKUP(O593,lists!$A$2:$B$1335,2,FALSE)","v":{"$error":"#N/A"}},null,"",{"$f":"VLOOKUP(R593,lists!$A$2:$B$575,2,FALSE)","v":{"$error":"#N/A"}}]
[null,null,{"$f":"VLOOKUP(B594,lists!$F$2:$G$17,2,FALSE)","v":{"$error":"#N/A"}},null,null,null,null,null,"",{"$f":"VLOOKUP(I594,lists!$A$2:$B$1335,2,FALSE)","v":{"$error":"#N/A"}},null,{"$f":"VLOOKUP(K594,lists!$F$2:$G$17,2,FALSE)","v":{"$error":"#N/A"}},null,null,"",{"$f":"VLOOKUP(O594,lists!$A$2:$B$1335,2,FALSE)","v":{"$error":"#N/A"}},null,"",{"$f":"VLOOKUP(R594,lists!$A$2:$B$575,2,FALSE)","v":{"$error":"#N/A"}}]
[null,null,{"$f":"VLOOKUP(B595,lists!$F$2:$G$17,2,FALSE)","v":{"$error":"#N/A"}},null,null,null,null,null,"",{"$f":"VLOOKUP(I595,lists!$A$2:$B$1335,2,FALSE)","v":{"$error":"#N/A"}},null,{"$f":"VLOOKUP(K595,lists!$F$2:$G$17,2,FALSE)","v":{"$error":"#N/A"}},null,null,"",{"$f":"VLOOKUP(O595,lists!$A$2:$B$1335,2,FALSE)","v":{"$error":"#N/A"}},null,"",{"$f":"VLOOKUP(R595,lists!$A$2:$B$575,2,FALSE)","v":{"$error":"#N/A"}}]
[null,null,{"$f":"VLOOKUP(B596,lists!$F$2:$G$17,2,FALSE)","v":{"$error":"#N/A"}},null,null,null,null,null,"",{"$f":"VLOOKUP(I596,lists!$A$2:$B$1335,2,FALSE)","v":{"$error":"#N/A"}},null,{"$f":"VLOOKUP(K596,lists!$F$2:$G$17,2,FALSE)","v":{"$error":"#N/A"}},null,null,"",{"$f":"VLOOKUP(O596,lists!$A$2:$B$1335,2,FALSE)","v":{"$error":"#N/A"}},null,"",{"$f":"VLOOKUP(R596,lists!$A$2:$B$575,2,FALSE)","v":{"$error":"#N/A"}}]
[null,null,{"$f":"VLOOKUP(B597,lists!$F$2:$G$17,2,FALSE)","v":{"$error":"#N/A"}},null,null,null,null,null,"",{"$f":"VLOOKUP(I597,lists!$A$2:$B$1335,2,FALSE)","v":{"$error":"#N/A"}},null,{"$f":"VLOOKUP(K597,lists!$F$2:$G$17,2,FALSE)","v":{"$error":"#N/A"}},null,null,"",{"$f":"VLOOKUP(O597,lists!$A$2:$B$1335,2,FALSE)","v":{"$error":"#N/A"}},null,"",{"$f":"VLOOKUP(R597,lists!$A$2:$B$575,2,FALSE)","v":{"$error":"#N/A"}}]
[null,null,{"$f":"VLOOKUP(B598,lists!$F$2:$G$17,2,FALSE)","v":{"$error":"#N/A"}},null,null,null,null,null,"",{"$f":"VLOOKUP(I598,lists!$A$2:$B$1335,2,FALSE)","v":{"$error":"#N/A"}},null,{"$f":"VLOOKUP(K598,lists!$F$2:$G$17,2,FALSE)","v":{"$error":"#N/A"}},null,null,"",{"$f":"VLOOKUP(O598,lists!$A$2:$B$1335,2,FALSE)","v":{"$error":"#N/A"}},null,"",{"$f":"VLOOKUP(R598,lists!$A$2:$B$575,2,FALSE)","v":{"$error":"#N/A"}}]
[null,null,{"$f":"VLOOKUP(B599,lists!$F$2:$G$17,2,FALSE)","v":{"$error":"#N/A"}},null,null,null,null,null,"",{"$f":"VLOOKUP(I599,lists!$A$2:$B$1335,2,FALSE)","v":{"$error":"#N/A"}},null,{"$f":"VLOOKUP(K599,lists!$F$2:$G$17,2,FALSE)","v":{"$error":"#N/A"}},null,null,"",{"$f":"VLOOKUP(O599,lists!$A$2:$B$1335,2,FALSE)","v":{"$error":"#N/A"}},null,"",{"$f":"VLOOKUP(R599,lists!$A$2:$B$575,2,FALSE)","v":{"$error":"#N/A"}}]
[null,null,{"$f":"VLOOKUP(B600,lists!$F$2:$G$17,2,FALSE)","v":{"$error":"#N/A"}},null,null,null,null,null,"",{"$f":"VLOOKUP(I600,lists!$A$2:$B$1335,2,FALSE)","v":{"$error":"#N/A"}},null,{"$f":"VLOOKUP(K600,lists!$F$2:$G$17,2,FALSE)","v":{"$error":"#N/A"}},null,null,"",{"$f":"VLOOKUP(O600,lists!$A$2:$B$1335,2,FALSE)","v":{"$error":"#N/A"}},null,"",{"$f":"VLOOKUP(R600,lists!$A$2:$B$575,2,FALSE)","v":{"$error":"#N/A"}}]
[null,null,{"$f":"VLOOKUP(B601,lists!$F$2:$G$17,2,FALSE)","v":{"$error":"#N/A"}},null,null,null,null,null,"",{"$f":"VLOOKUP(I601,lists!$A$2:$B$1335,2,FALSE)","v":{"$error":"#N/A"}},null,{"$f":"VLOOKUP(K601,lists!$F$2:$G$17,2,FALSE)","v":{"$error":"#N/A"}},null,null,"",{"$f":"VLOOKUP(O601,lists!$A$2:$B$1335,2,FALSE)","v":{"$error":"#N/A"}},null,"",{"$f":"VLOOKUP(R601,lists!$A$2:$B$575,2,FALSE)","v":{"$error":"#N/A"}}]
[null,null,{"$f":"VLOOKUP(B602,lists!$F$2:$G$17,2,FALSE)","v":{"$error":"#N/A"}},null,null,null,null,null,"",{"$f":"VLOOKUP(I602,lists!$A$2:$B$1335,2,FALSE)","v":{"$error":"#N/A"}},null,{"$f":"VLOOKUP(K602,lists!$F$2:$G$17,2,FALSE)","v":{"$error":"#N/A"}},null,null,"",{"$f":"VLOOKUP(O602,lists!$A$2:$B$1335,2,FALSE)","v":{"$error":"#N/A"}},null,"",{"$f":"VLOOKUP(R602,lists!$A$2:$B$575,2,FALSE)","v":{"$error":"#N/A"}}]
[null,null,{"$f":"VLOOKUP(B603,lists!$F$2:$G$17,2,FALSE)","v":{"$error":"#N/A"}},null,null,null,null,null,"",{"$f":"VLOOKUP(I603,lists!$A$2:$B$1335,2,FALSE)","v":{"$error":"#N/A"}},null,{"$f":"VLOOKUP(K603,lists!$F$2:$G$17,2,FALSE)","v":{"$error":"#N/A"}},null,null,"",{"$f":"VLOOKUP(O603,lists!$A$2:$B$1335,2,FALSE)","v":{"$error":"#N/A"}},null,"",{"$f":"VLOOKUP(R603,lists!$A$2:$B$575,2,FALSE)","v":{"$error":"#N/A"}}]
[null,null,{"$f":"VLOOKUP(B604,lists!$F$2:$G$17,2,FALSE)","v":{"$error":"#N/A"}},null,null,null,null,null,"",{"$f":"VLOOKUP(I604,lists!$A$2:$B$1335,2,FALSE)","v":{"$error":"#N/A"}},null,{"$f":"VLOOKUP(K604,lists!$F$2:$G$17,2,FALSE)","v":{"$error":"#N/A"}},null,null,"",{"$f":"VLOOKUP(O604,lists!$A$2:$B$1335,2,FALSE)","v":{"$error":"#N/A"}},null,"",{"$f":"VLOOKUP(R604,lists!$A$2:$B$575,2,FALSE)","v":{"$error":"#N/A"}}]
[null,null,{"$f":"VLOOKUP(B605,lists!$F$2:$G$17,2,FALSE)","v":{"$error":"#N/A"}},null,null,null,null,null,"",{"$f":"VLOOKUP(I605,lists!$A$2:$B$1335,2,FALSE)","v":{"$error":"#N/A"}},null,{"$f":"VLOOKUP(K605,lists!$F$2:$G$17,2,FALSE)","v":{"$error":"#N/A"}},null,null,"",{"$f":"VLOOKUP(O605,lists!$A$2:$B$1335,2,FALSE)","v":{"$error":"#N/A"}},null,"",{"$f":"VLOOKUP(R605,lists!$A$2:$B$575,2,FALSE)","v":{"$error":"#N/A"}}]
[null,null,{"$f":"VLOOKUP(B606,lists!$F$2:$G$17,2,FALSE)","v":{"$error":"#N/A"}},null,null,null,null,null,"",{"$f":"VLOOKUP(I606,lists!$A$2:$B$1335,2,FALSE)","v":{"$error":"#N/A"}},null,{"$f":"VLOOKUP(K606,lists!$F$2:$G$17,2,FALSE)","v":{"$error":"#N/A"}},null,null,"",{"$f":"VLOOKUP(O606,lists!$A$2:$B$1335,2,FALSE)","v":{"$error":"#N/A"}},null,"",{"$f":"VLOOKUP(R606,lists!$A$2:$B$575,2,FALSE)","v":{"$error":"#N/A"}}]
[null,null,{"$f":"VLOOKUP(B607,lists!$F$2:$G$17,2,FALSE)","v":{"$error":"#N/A"}},null,null,null,null,null,"",{"$f":"VLOOKUP(I607,lists!$A$2:$B$1335,2,FALSE)","v":{"$error":"#N/A"}},null,{"$f":"VLOOKUP(K607,lists!$F$2:$G$17,2,FALSE)","v":{"$error":"#N/A"}},null,null,"",{"$f":"VLOOKUP(O607,lists!$A$2:$B$1335,2,FALSE)","v":{"$error":"#N/A"}},null,"",{"$f":"VLOOKUP(R607,lists!$A$2:$B$575,2,FALSE)","v":{"$error":"#N/A"}}]
[null,null,{"$f":"VLOOKUP(B608,lists!$F$2:$G$17,2,FALSE)","v":{"$error":"#N/A"}},null,null,null,null,null,"",{"$f":"VLOOKUP(I608,lists!$A$2:$B$1335,2,FALSE)","v":{"$error":"#N/A"}},null,{"$f":"VLOOKUP(K608,lists!$F$2:$G$17,2,FALSE)","v":{"$error":"#N/A"}},null,null,"",{"$f":"VLOOKUP(O608,lists!$A$2:$B$1335,2,FALSE)","v":{"$error":"#N/A"}},null,"",{"$f":"VLOOKUP(R608,lists!$A$2:$B$575,2,FALSE)","v":{"$error":"#N/A"}}]
[null,null,{"$f":"VLOOKUP(B609,lists!$F$2:$G$17,2,FALSE)","v":{"$error":"#N/A"}},null,null,null,null,null,"",{"$f":"VLOOKUP(I609,lists!$A$2:$B$1335,2,FALSE)","v":{"$error":"#N/A"}},null,{"$f":"VLOOKUP(K609,lists!$F$2:$G$17,2,FALSE)","v":{"$error":"#N/A"}},null,null,"",{"$f":"VLOOKUP(O609,lists!$A$2:$B$1335,2,FALSE)","v":{"$error":"#N/A"}},null,"",{"$f":"VLOOKUP(R609,lists!$A$2:$B$575,2,FALSE)","v":{"$error":"#N/A"}}]
[null,null,{"$f":"VLOOKUP(B610,lists!$F$2:$G$17,2,FALSE)","v":{"$error":"#N/A"}},null,null,null,null,null,"",{"$f":"VLOOKUP(I610,lists!$A$2:$B$1335,2,FALSE)","v":{"$error":"#N/A"}},null,{"$f":"VLOOKUP(K610,lists!$F$2:$G$17,2,FALSE)","v":{"$error":"#N/A"}},null,null,"",{"$f":"VLOOKUP(O610,lists!$A$2:$B$1335,2,FALSE)","v":{"$error":"#N/A"}},null,"",{"$f":"VLOOKUP(R610,lists!$A$2:$B$575,2,FALSE)","v":{"$error":"#N/A"}}]
[null,null,{"$f":"VLOOKUP(B611,lists!$F$2:$G$17,2,FALSE)","v":{"$error":"#N/A"}},null,null,null,null,null,"",{"$f":"VLOOKUP(I611,lists!$A$2:$B$1335,2,FALSE)","v":{"$error":"#N/A"}},null,{"$f":"VLOOKUP(K611,lists!$F$2:$G$17,2,FALSE)","v":{"$error":"#N/A"}},null,null,"",{"$f":"VLOOKUP(O611,lists!$A$2:$B$1335,2,FALSE)","v":{"$error":"#N/A"}},null,"",{"$f":"VLOOKUP(R611,lists!$A$2:$B$575,2,FALSE)","v":{"$error":"#N/A"}}]
[null,null,{"$f":"VLOOKUP(B612,lists!$F$2:$G$17,2,FALSE)","v":{"$error":"#N/A"}},null,null,null,null,null,"",{"$f":"VLOOKUP(I612,lists!$A$2:$B$1335,2,FALSE)","v":{"$error":"#N/A"}},null,{"$f":"VLOOKUP(K612,lists!$F$2:$G$17,2,FALSE)","v":{"$error":"#N/A"}},null,null,"",{"$f":"VLOOKUP(O612,lists!$A$2:$B$1335,2,FALSE)","v":{"$error":"#N/A"}},null,"",{"$f":"VLOOKUP(R612,lists!$A$2:$B$575,2,FALSE)","v":{"$error":"#N/A"}}]
[null,null,{"$f":"VLOOKUP(B613,lists!$F$2:$G$17,2,FALSE)","v":{"$error":"#N/A"}},null,null,null,null,null,"",{"$f":"VLOOKUP(I613,lists!$A$2:$B$1335,2,FALSE)","v":{"$error":"#N/A"}},null,{"$f":"VLOOKUP(K613,lists!$F$2:$G$17,2,FALSE)","v":{"$error":"#N/A"}},null,null,"",{"$f":"VLOOKUP(O613,lists!$A$2:$B$1335,2,FALSE)","v":{"$error":"#N/A"}},null,"",{"$f":"VLOOKUP(R613,lists!$A$2:$B$575,2,FALSE)","v":{"$error":"#N/A"}}]
[null,null,{"$f":"VLOOKUP(B614,lists!$F$2:$G$17,2,FALSE)","v":{"$error":"#N/A"}},null,null,null,null,null,"",{"$f":"VLOOKUP(I614,lists!$A$2:$B$1335,2,FALSE)","v":{"$error":"#N/A"}},null,{"$f":"VLOOKUP(K614,lists!$F$2:$G$17,2,FALSE)","v":{"$error":"#N/A"}},null,null,"",{"$f":"VLOOKUP(O614,lists!$A$2:$B$1335,2,FALSE)","v":{"$error":"#N/A"}},null,"",{"$f":"VLOOKUP(R614,lists!$A$2:$B$575,2,FALSE)","v":{"$error":"#N/A"}}]
[null,null,{"$f":"VLOOKUP(B615,lists!$F$2:$G$17,2,FALSE)","v":{"$error":"#N/A"}},null,null,null,null,null,"",{"$f":"VLOOKUP(I615,lists!$A$2:$B$1335,2,FALSE)","v":{"$error":"#N/A"}},null,{"$f":"VLOOKUP(K615,lists!$F$2:$G$17,2,FALSE)","v":{"$error":"#N/A"}},null,null,"",{"$f":"VLOOKUP(O615,lists!$A$2:$B$1335,2,FALSE)","v":{"$error":"#N/A"}},null,"",{"$f":"VLOOKUP(R615,lists!$A$2:$B$575,2,FALSE)","v":{"$error":"#N/A"}}]
[null,null,{"$f":"VLOOKUP(B616,lists!$F$2:$G$17,2,FALSE)","v":{"$error":"#N/A"}},null,null,null,null,null,"",{"$f":"VLOOKUP(I616,lists!$A$2:$B$1335,2,FALSE)","v":{"$error":"#N/A"}},null,{"$f":"VLOOKUP(K616,lists!$F$2:$G$17,2,FALSE)","v":{"$error":"#N/A"}},null,null,"",{"$f":"VLOOKUP(O616,lists!$A$2:$B$1335,2,FALSE)","v":{"$error":"#N/A"}},null,"",{"$f":"VLOOKUP(R616,lists!$A$2:$B$575,2,FALSE)","v":{"$error":"#N/A"}}]
[null,null,{"$f":"VLOOKUP(B617,lists!$F$2:$G$17,2,FALSE)","v":{"$error":"#N/A"}},null,null,null,null,null,"",{"$f":"VLOOKUP(I617,lists!$A$2:$B$1335,2,FALSE)","v":{"$error":"#N/A"}},null,{"$f":"VLOOKUP(K617,lists!$F$2:$G$17,2,FALSE)","v":{"$error":"#N/A"}},null,null,"",{"$f":"VLOOKUP(O617,lists!$A$2:$B$1335,2,FALSE)","v":{"$error":"#N/A"}},null,"",{"$f":"VLOOKUP(R617,lists!$A$2:$B$575,2,FALSE)","v":{"$error":"#N/A"}}]
[null,null,{"$f":"VLOOKUP(B618,lists!$F$2:$G$17,2,FALSE)","v":{"$error":"#N/A"}},null,null,null,null,null,"",{"$f":"VLOOKUP(I618,lists!$A$2:$B$1335,2,FALSE)","v":{"$error":"#N/A"}},null,{"$f":"VLOOKUP(K618,lists!$F$2:$G$17,2,FALSE)","v":{"$error":"#N/A"}},null,null,"",{"$f":"VLOOKUP(O618,lists!$A$2:$B$1335,2,FALSE)","v":{"$error":"#N/A"}},null,"",{"$f":"VLOOKUP(R618,lists!$A$2:$B$575,2,FALSE)","v":{"$error":"#N/A"}}]
[null,null,{"$f":"VLOOKUP(B619,lists!$F$2:$G$17,2,FALSE)","v":{"$error":"#N/A"}},null,null,null,null,null,"",{"$f":"VLOOKUP(I619,lists!$A$2:$B$1335,2,FALSE)","v":{"$error":"#N/A"}},null,{"$f":"VLOOKUP(K619,lists!$F$2:$G$17,2,FALSE)","v":{"$error":"#N/A"}},null,null,"",{"$f":"VLOOKUP(O619,lists!$A$2:$B$1335,2,FALSE)","v":{"$error":"#N/A"}},null,"",{"$f":"VLOOKUP(R619,lists!$A$2:$B$575,2,FALSE)","v":{"$error":"#N/A"}}]
[null,null,{"$f":"VLOOKUP(B620,lists!$F$2:$G$17,2,FALSE)","v":{"$error":"#N/A"}},null,null,null,null,null,"",{"$f":"VLOOKUP(I620,lists!$A$2:$B$1335,2,FALSE)","v":{"$error":"#N/A"}},null,{"$f":"VLOOKUP(K620,lists!$F$2:$G$17,2,FALSE)","v":{"$error":"#N/A"}},null,null,"",{"$f":"VLOOKUP(O620,lists!$A$2:$B$1335,2,FALSE)","v":{"$error":"#N/A"}},null,"",{"$f":"VLOOKUP(R620,lists!$A$2:$B$575,2,FALSE)","v":{"$error":"#N/A"}}]
[null,null,{"$f":"VLOOKUP(B621,lists!$F$2:$G$17,2,FALSE)","v":{"$error":"#N/A"}},null,null,null,null,null,"",{"$f":"VLOOKUP(I621,lists!$A$2:$B$1335,2,FALSE)","v":{"$error":"#N/A"}},null,{"$f":"VLOOKUP(K621,lists!$F$2:$G$17,2,FALSE)","v":{"$error":"#N/A"}},null,null,"",{"$f":"VLOOKUP(O621,lists!$A$2:$B$1335,2,FALSE)","v":{"$error":"#N/A"}},null,"",{"$f":"VLOOKUP(R621,lists!$A$2:$B$575,2,FALSE)","v":{"$error":"#N/A"}}]
[null,null,{"$f":"VLOOKUP(B622,lists!$F$2:$G$17,2,FALSE)","v":{"$error":"#N/A"}},null,null,null,null,null,"",{"$f":"VLOOKUP(I622,lists!$A$2:$B$1335,2,FALSE)","v":{"$error":"#N/A"}},null,{"$f":"VLOOKUP(K622,lists!$F$2:$G$17,2,FALSE)","v":{"$error":"#N/A"}},null,null,"",{"$f":"VLOOKUP(O622,lists!$A$2:$B$1335,2,FALSE)","v":{"$error":"#N/A"}},null,"",{"$f":"VLOOKUP(R622,lists!$A$2:$B$575,2,FALSE)","v":{"$error":"#N/A"}}]
[null,null,{"$f":"VLOOKUP(B623,lists!$F$2:$G$17,2,FALSE)","v":{"$error":"#N/A"}},null,null,null,null,null,"",{"$f":"VLOOKUP(I623,lists!$A$2:$B$1335,2,FALSE)","v":{"$error":"#N/A"}},null,{"$f":"VLOOKUP(K623,lists!$F$2:$G$17,2,FALSE)","v":{"$error":"#N/A"}},null,null,"",{"$f":"VLOOKUP(O623,lists!$A$2:$B$1335,2,FALSE)","v":{"$error":"#N/A"}},null,"",{"$f":"VLOOKUP(R623,lists!$A$2:$B$575,2,FALSE)","v":{"$error":"#N/A"}}]
[null,null,{"$f":"VLOOKUP(B624,lists!$F$2:$G$17,2,FALSE)","v":{"$error":"#N/A"}},null,null,null,null,null,"",{"$f":"VLOOKUP(I624,lists!$A$2:$B$1335,2,FALSE)","v":{"$error":"#N/A"}},null,{"$f":"VLOOKUP(K624,lists!$F$2:$G$17,2,FALSE)","v":{"$error":"#N/A"}},null,null,"",{"$f":"VLOOKUP(O624,lists!$A$2:$B$1335,2,FALSE)","v":{"$error":"#N/A"}},null,"",{"$f":"VLOOKUP(R624,lists!$A$2:$B$575,2,FALSE)","v":{"$error":"#N/A"}}]
[null,null,{"$f":"VLOOKUP(B625,lists!$F$2:$G$17,2,FALSE)","v":{"$error":"#N/A"}},null,null,null,null,null,"",{"$f":"VLOOKUP(I625,lists!$A$2:$B$1335,2,FALSE)","v":{"$error":"#N/A"}},null,{"$f":"VLOOKUP(K625,lists!$F$2:$G$17,2,FALSE)","v":{"$error":"#N/A"}},null,null,"",{"$f":"VLOOKUP(O625,lists!$A$2:$B$1335,2,FALSE)","v":{"$error":"#N/A"}},null,"",{"$f":"VLOOKUP(R625,lists!$A$2:$B$575,2,FALSE)","v":{"$error":"#N/A"}}]
[null,null,{"$f":"VLOOKUP(B626,lists!$F$2:$G$17,2,FALSE)","v":{"$error":"#N/A"}},null,null,null,null,null,"",{"$f":"VLOOKUP(I626,lists!$A$2:$B$1335,2,FALSE)","v":{"$error":"#N/A"}},null,{"$f":"VLOOKUP(K626,lists!$F$2:$G$17,2,FALSE)","v":{"$error":"#N/A"}},null,null,"",{"$f":"VLOOKUP(O626,lists!$A$2:$B$1335,2,FALSE)","v":{"$error":"#N/A"}},null,"",{"$f":"VLOOKUP(R626,lists!$A$2:$B$575,2,FALSE)","v":{"$error":"#N/A"}}]
[null,null,{"$f":"VLOOKUP(B627,lists!$F$2:$G$17,2,FALSE)","v":{"$error":"#N/A"}},null,null,null,null,null,"",{"$f":"VLOOKUP(I627,lists!$A$2:$B$1335,2,FALSE)","v":{"$error":"#N/A"}},null,{"$f":"VLOOKUP(K627,lists!$F$2:$G$17,2,FALSE)","v":{"$error":"#N/A"}},null,null,"",{"$f":"VLOOKUP(O627,lists!$A$2:$B$1335,2,FALSE)","v":{"$error":"#N/A"}},null,"",{"$f":"VLOOKUP(R627,lists!$A$2:$B$575,2,FALSE)","v":{"$error":"#N/A"}}]
[null,null,{"$f":"VLOOKUP(B628,lists!$F$2:$G$17,2,FALSE)","v":{"$error":"#N/A"}},null,null,null,null,null,"",{"$f":"VLOOKUP(I628,lists!$A$2:$B$1335,2,FALSE)","v":{"$error":"#N/A"}},null,{"$f":"VLOOKUP(K628,lists!$F$2:$G$17,2,FALSE)","v":{"$error":"#N/A"}},null,null,"",{"$f":"VLOOKUP(O628,lists!$A$2:$B$1335,2,FALSE)","v":{"$error":"#N/A"}},null,"",{"$f":"VLOOKUP(R628,lists!$A$2:$B$575,2,FALSE)","v":{"$error":"#N/A"}}]
[null,null,{"$f":"VLOOKUP(B629,lists!$F$2:$G$17,2,FALSE)","v":{"$error":"#N/A"}},null,null,null,null,null,"",{"$f":"VLOOKUP(I629,lists!$A$2:$B$1335,2,FALSE)","v":{"$error":"#N/A"}},null,{"$f":"VLOOKUP(K629,lists!$F$2:$G$17,2,FALSE)","v":{"$error":"#N/A"}},null,null,"",{"$f":"VLOOKUP(O629,lists!$A$2:$B$1335,2,FALSE)","v":{"$error":"#N/A"}},null,"",{"$f":"VLOOKUP(R629,lists!$A$2:$B$575,2,FALSE)","v":{"$error":"#N/A"}}]
[null,null,{"$f":"VLOOKUP(B630,lists!$F$2:$G$17,2,FALSE)","v":{"$error":"#N/A"}},null,null,null,null,null,"",{"$f":"VLOOKUP(I630,lists!$A$2:$B$1335,2,FALSE)","v":{"$error":"#N/A"}},null,{"$f":"VLOOKUP(K630,lists!$F$2:$G$17,2,FALSE)","v":{"$error":"#N/A"}},null,null,"",{"$f":"VLOOKUP(O630,lists!$A$2:$B$1335,2,FALSE)","v":{"$error":"#N/A"}},null,"",{"$f":"VLOOKUP(R630,lists!$A$2:$B$575,2,FALSE)","v":{"$error":"#N/A"}}]
[null,null,{"$f":"VLOOKUP(B631,lists!$F$2:$G$17,2,FALSE)","v":{"$error":"#N/A"}},null,null,null,null,null,"",{"$f":"VLOOKUP(I631,lists!$A$2:$B$1335,2,FALSE)","v":{"$error":"#N/A"}},null,{"$f":"VLOOKUP(K631,lists!$F$2:$G$17,2,FALSE)","v":{"$error":"#N/A"}},null,null,"",{"$f":"VLOOKUP(O631,lists!$A$2:$B$1335,2,FALSE)","v":{"$error":"#N/A"}},null,"",{"$f":"VLOOKUP(R631,lists!$A$2:$B$575,2,FALSE)","v":{"$error":"#N/A"}}]
[null,null,{"$f":"VLOOKUP(B632,lists!$F$2:$G$17,2,FALSE)","v":{"$error":"#N/A"}},null,null,null,null,null,"",{"$f":"VLOOKUP(I632,lists!$A$2:$B$1335,2,FALSE)","v":{"$error":"#N/A"}},null,{"$f":"VLOOKUP(K632,lists!$F$2:$G$17,2,FALSE)","v":{"$error":"#N/A"}},null,null,"",{"$f":"VLOOKUP(O632,lists!$A$2:$B$1335,2,FALSE)","v":{"$error":"#N/A"}},null,"",{"$f":"VLOOKUP(R632,lists!$A$2:$B$575,2,FALSE)","v":{"$error":"#N/A"}}]
[null,null,{"$f":"VLOOKUP(B633,lists!$F$2:$G$17,2,FALSE)","v":{"$error":"#N/A"}},null,null,null,null,null,"",{"$f":"VLOOKUP(I633,lists!$A$2:$B$1335,2,FALSE)","v":{"$error":"#N/A"}},null,{"$f":"VLOOKUP(K633,lists!$F$2:$G$17,2,FALSE)","v":{"$error":"#N/A"}},null,null,"",{"$f":"VLOOKUP(O633,lists!$A$2:$B$1335,2,FALSE)","v":{"$error":"#N/A"}},null,"",{"$f":"VLOOKUP(R633,lists!$A$2:$B$575,2,FALSE)","v":{"$error":"#N/A"}}]
[null,null,{"$f":"VLOOKUP(B634,lists!$F$2:$G$17,2,FALSE)","v":{"$error":"#N/A"}},null,null,null,null,null,"",{"$f":"VLOOKUP(I634,lists!$A$2:$B$1335,2,FALSE)","v":{"$error":"#N/A"}},null,{"$f":"VLOOKUP(K634,lists!$F$2:$G$17,2,FALSE)","v":{"$error":"#N/A"}},null,null,"",{"$f":"VLOOKUP(O634,lists!$A$2:$B$1335,2,FALSE)","v":{"$error":"#N/A"}},null,"",{"$f":"VLOOKUP(R634,lists!$A$2:$B$575,2,FALSE)","v":{"$error":"#N/A"}}]
[null,null,{"$f":"VLOOKUP(B635,lists!$F$2:$G$17,2,FALSE)","v":{"$error":"#N/A"}},null,null,null,null,null,"",{"$f":"VLOOKUP(I635,lists!$A$2:$B$1335,2,FALSE)","v":{"$error":"#N/A"}},null,{"$f":"VLOOKUP(K635,lists!$F$2:$G$17,2,FALSE)","v":{"$error":"#N/A"}},null,null,"",{"$f":"VLOOKUP(O635,lists!$A$2:$B$1335,2,FALSE)","v":{"$error":"#N/A"}},null,"",{"$f":"VLOOKUP(R635,lists!$A$2:$B$575,2,FALSE)","v":{"$error":"#N/A"}}]
[null,null,{"$f":"VLOOKUP(B636,lists!$F$2:$G$17,2,FALSE)","v":{"$error":"#N/A"}},null,null,null,null,null,"",{"$f":"VLOOKUP(I636,lists!$A$2:$B$1335,2,FALSE)","v":{"$error":"#N/A"}},null,{"$f":"VLOOKUP(K636,lists!$F$2:$G$17,2,FALSE)","v":{"$error":"#N/A"}},null,null,"",{"$f":"VLOOKUP(O636,lists!$A$2:$B$1335,2,FALSE)","v":{"$error":"#N/A"}},null,"",{"$f":"VLOOKUP(R636,lists!$A$2:$B$575,2,FALSE)","v":{"$error":"#N/A"}}]
[null,null,{"$f":"VLOOKUP(B637,lists!$F$2:$G$17,2,FALSE)","v":{"$error":"#N/A"}},null,null,null,null,null,"",{"$f":"VLOOKUP(I637,lists!$A$2:$B$1335,2,FALSE)","v":{"$error":"#N/A"}},null,{"$f":"VLOOKUP(K637,lists!$F$2:$G$17,2,FALSE)","v":{"$error":"#N/A"}},null,null,"",{"$f":"VLOOKUP(O637,lists!$A$2:$B$1335,2,FALSE)","v":{"$error":"#N/A"}},null,"",{"$f":"VLOOKUP(R637,lists!$A$2:$B$575,2,FALSE)","v":{"$error":"#N/A"}}]
[null,null,{"$f":"VLOOKUP(B638,lists!$F$2:$G$17,2,FALSE)","v":{"$error":"#N/A"}},null,null,null,null,null,"",{"$f":"VLOOKUP(I638,lists!$A$2:$B$1335,2,FALSE)","v":{"$error":"#N/A"}},null,{"$f":"VLOOKUP(K638,lists!$F$2:$G$17,2,FALSE)","v":{"$error":"#N/A"}},null,null,"",{"$f":"VLOOKUP(O638,lists!$A$2:$B$1335,2,FALSE)","v":{"$error":"#N/A"}},null,"",{"$f":"VLOOKUP(R638,lists!$A$2:$B$575,2,FALSE)","v":{"$error":"#N/A"}}]
[null,null,{"$f":"VLOOKUP(B639,lists!$F$2:$G$17,2,FALSE)","v":{"$error":"#N/A"}},null,null,null,null,null,"",{"$f":"VLOOKUP(I639,lists!$A$2:$B$1335,2,FALSE)","v":{"$error":"#N/A"}},null,{"$f":"VLOOKUP(K639,lists!$F$2:$G$17,2,FALSE)","v":{"$error":"#N/A"}},null,null,"",{"$f":"VLOOKUP(O639,lists!$A$2:$B$1335,2,FALSE)","v":{"$error":"#N/A"}},null,"",{"$f":"VLOOKUP(R639,lists!$A$2:$B$575,2,FALSE)","v":{"$error":"#N/A"}}]
[null,null,{"$f":"VLOOKUP(B640,lists!$F$2:$G$17,2,FALSE)","v":{"$error":"#N/A"}},null,null,null,null,null,"",{"$f":"VLOOKUP(I640,lists!$A$2:$B$1335,2,FALSE)","v":{"$error":"#N/A"}},null,{"$f":"VLOOKUP(K640,lists!$F$2:$G$17,2,FALSE)","v":{"$error":"#N/A"}},null,null,"",{"$f":"VLOOKUP(O640,lists!$A$2:$B$1335,2,FALSE)","v":{"$error":"#N/A"}},null,"",{"$f":"VLOOKUP(R640,lists!$A$2:$B$575,2,FALSE)","v":{"$error":"#N/A"}}]
[null,null,{"$f":"VLOOKUP(B641,lists!$F$2:$G$17,2,FALSE)","v":{"$error":"#N/A"}},null,null,null,null,null,"",{"$f":"VLOOKUP(I641,lists!$A$2:$B$1335,2,FALSE)","v":{"$error":"#N/A"}},null,{"$f":"VLOOKUP(K641,lists!$F$2:$G$17,2,FALSE)","v":{"$error":"#N/A"}},null,null,"",{"$f":"VLOOKUP(O641,lists!$A$2:$B$1335,2,FALSE)","v":{"$error":"#N/A"}},null,"",{"$f":"VLOOKUP(R641,lists!$A$2:$B$575,2,FALSE)","v":{"$error":"#N/A"}}]
[null,null,{"$f":"VLOOKUP(B642,lists!$F$2:$G$17,2,FALSE)","v":{"$error":"#N/A"}},null,null,null,null,null,"",{"$f":"VLOOKUP(I642,lists!$A$2:$B$1335,2,FALSE)","v":{"$error":"#N/A"}},null,{"$f":"VLOOKUP(K642,lists!$F$2:$G$17,2,FALSE)","v":{"$error":"#N/A"}},null,null,"",{"$f":"VLOOKUP(O642,lists!$A$2:$B$1335,2,FALSE)","v":{"$error":"#N/A"}},null,"",{"$f":"VLOOKUP(R642,lists!$A$2:$B$575,2,FALSE)","v":{"$error":"#N/A"}}]
[null,null,{"$f":"VLOOKUP(B643,lists!$F$2:$G$17,2,FALSE)","v":{"$error":"#N/A"}},null,null,null,null,null,"",{"$f":"VLOOKUP(I643,lists!$A$2:$B$1335,2,FALSE)","v":{"$error":"#N/A"}},null,{"$f":"VLOOKUP(K643,lists!$F$2:$G$17,2,FALSE)","v":{"$error":"#N/A"}},null,null,"",{"$f":"VLOOKUP(O643,lists!$A$2:$B$1335,2,FALSE)","v":{"$error":"#N/A"}},null,"",{"$f":"VLOOKUP(R643,lists!$A$2:$B$575,2,FALSE)","v":{"$error":"#N/A"}}]
[null,null,{"$f":"VLOOKUP(B644,lists!$F$2:$G$17,2,FALSE)","v":{"$error":"#N/A"}},null,null,null,null,null,"",{"$f":"VLOOKUP(I644,lists!$A$2:$B$1335,2,FALSE)","v":{"$error":"#N/A"}},null,{"$f":"VLOOKUP(K644,lists!$F$2:$G$17,2,FALSE)","v":{"$error":"#N/A"}},null,null,"",{"$f":"VLOOKUP(O644,lists!$A$2:$B$1335,2,FALSE)","v":{"$error":"#N/A"}},null,"",{"$f":"VLOOKUP(R644,lists!$A$2:$B$575,2,FALSE)","v":{"$error":"#N/A"}}]
[null,null,{"$f":"VLOOKUP(B645,lists!$F$2:$G$17,2,FALSE)","v":{"$error":"#N/A"}},null,null,null,null,null,"",{"$f":"VLOOKUP(I645,lists!$A$2:$B$1335,2,FALSE)","v":{"$error":"#N/A"}},null,{"$f":"VLOOKUP(K645,lists!$F$2:$G$17,2,FALSE)","v":{"$error":"#N/A"}},null,null,"",{"$f":"VLOOKUP(O645,lists!$A$2:$B$1335,2,FALSE)","v":{"$error":"#N/A"}},null,"",{"$f":"VLOOKUP(R645,lists!$A$2:$B$575,2,FALSE)","v":{"$error":"#N/A"}}]
[null,null,{"$f":"VLOOKUP(B646,lists!$F$2:$G$17,2,FALSE)","v":{"$error":"#N/A"}},null,null,null,null,null,"",{"$f":"VLOOKUP(I646,lists!$A$2:$B$1335,2,FALSE)","v":{"$error":"#N/A"}},null,{"$f":"VLOOKUP(K646,lists!$F$2:$G$17,2,FALSE)","v":{"$error":"#N/A"}},null,null,"",{"$f":"VLOOKUP(O646,lists!$A$2:$B$1335,2,FALSE)","v":{"$error":"#N/A"}},null,"",{"$f":"VLOOKUP(R646,lists!$A$2:$B$575,2,FALSE)","v":{"$error":"#N/A"}}]
[null,null,{"$f":"VLOOKUP(B647,lists!$F$2:$G$17,2,FALSE)","v":{"$error":"#N/A"}},null,null,null,null,null,"",{"$f":"VLOOKUP(I647,lists!$A$2:$B$1335,2,FALSE)","v":{"$error":"#N/A"}},null,{"$f":"VLOOKUP(K647,lists!$F$2:$G$17,2,FALSE)","v":{"$error":"#N/A"}},null,null,"",{"$f":"VLOOKUP(O647,lists!$A$2:$B$1335,2,FALSE)","v":{"$error":"#N/A"}},null,"",{"$f":"VLOOKUP(R647,lists!$A$2:$B$575,2,FALSE)","v":{"$error":"#N/A"}}]
[null,null,{"$f":"VLOOKUP(B648,lists!$F$2:$G$17,2,FALSE)","v":{"$error":"#N/A"}},null,null,null,null,null,"",{"$f":"VLOOKUP(I648,lists!$A$2:$B$1335,2,FALSE)","v":{"$error":"#N/A"}},null,{"$f":"VLOOKUP(K648,lists!$F$2:$G$17,2,FALSE)","v":{"$error":"#N/A"}},null,null,"",{"$f":"VLOOKUP(O648,lists!$A$2:$B$1335,2,FALSE)","v":{"$error":"#N/A"}},null,"",{"$f":"VLOOKUP(R648,lists!$A$2:$B$575,2,FALSE)","v":{"$error":"#N/A"}}]
[null,null,{"$f":"VLOOKUP(B649,lists!$F$2:$G$17,2,FALSE)","v":{"$error":"#N/A"}},null,null,null,null,null,"",{"$f":"VLOOKUP(I649,lists!$A$2:$B$1335,2,FALSE)","v":{"$error":"#N/A"}},null,{"$f":"VLOOKUP(K649,lists!$F$2:$G$17,2,FALSE)","v":{"$error":"#N/A"}},null,null,"",{"$f":"VLOOKUP(O649,lists!$A$2:$B$1335,2,FALSE)","v":{"$error":"#N/A"}},null,"",{"$f":"VLOOKUP(R649,lists!$A$2:$B$575,2,FALSE)","v":{"$error":"#N/A"}}]
[null,null,{"$f":"VLOOKUP(B650,lists!$F$2:$G$17,2,FALSE)","v":{"$error":"#N/A"}},null,null,null,null,null,"",{"$f":"VLOOKUP(I650,lists!$A$2:$B$1335,2,FALSE)","v":{"$error":"#N/A"}},null,{"$f":"VLOOKUP(K650,lists!$F$2:$G$17,2,FALSE)","v":{"$error":"#N/A"}},null,null,"",{"$f":"VLOOKUP(O650,lists!$A$2:$B$1335,2,FALSE)","v":{"$error":"#N/A"}},null,"",{"$f":"VLOOKUP(R650,lists!$A$2:$B$575,2,FALSE)","v":{"$error":"#N/A"}}]
[null,null,{"$f":"VLOOKUP(B651,lists!$F$2:$G$17,2,FALSE)","v":{"$error":"#N/A"}},null,null,null,null,null,"",{"$f":"VLOOKUP(I651,lists!$A$2:$B$1335,2,FALSE)","v":{"$error":"#N/A"}},null,{"$f":"VLOOKUP(K651,lists!$F$2:$G$17,2,FALSE)","v":{"$error":"#N/A"}},null,null,"",{"$f":"VLOOKUP(O651,lists!$A$2:$B$1335,2,FALSE)","v":{"$error":"#N/A"}},null,"",{"$f":"VLOOKUP(R651,lists!$A$2:$B$575,2,FALSE)","v":{"$error":"#N/A"}}]
[null,null,{"$f":"VLOOKUP(B652,lists!$F$2:$G$17,2,FALSE)","v":{"$error":"#N/A"}},null,null,null,null,null,"",{"$f":"VLOOKUP(I652,lists!$A$2:$B$1335,2,FALSE)","v":{"$error":"#N/A"}},null,{"$f":"VLOOKUP(K652,lists!$F$2:$G$17,2,FALSE)","v":{"$error":"#N/A"}},null,null,"",{"$f":"VLOOKUP(O652,lists!$A$2:$B$1335,2,FALSE)","v":{"$error":"#N/A"}},null,"",{"$f":"VLOOKUP(R652,lists!$A$2:$B$575,2,FALSE)","v":{"$error":"#N/A"}}]
[null,null,{"$f":"VLOOKUP(B653,lists!$F$2:$G$17,2,FALSE)","v":{"$error":"#N/A"}},null,null,null,null,null,"",{"$f":"VLOOKUP(I653,lists!$A$2:$B$1335,2,FALSE)","v":{"$error":"#N/A"}},null,{"$f":"VLOOKUP(K653,lists!$F$2:$G$17,2,FALSE)","v":{"$error":"#N/A"}},null,null,"",{"$f":"VLOOKUP(O653,lists!$A$2:$B$1335,2,FALSE)","v":{"$error":"#N/A"}},null,"",{"$f":"VLOOKUP(R653,lists!$A$2:$B$575,2,FALSE)","v":{"$error":"#N/A"}}]
[null,null,{"$f":"VLOOKUP(B654,lists!$F$2:$G$17,2,FALSE)","v":{"$error":"#N/A"}},null,null,null,null,null,"",{"$f":"VLOOKUP(I654,lists!$A$2:$B$1335,2,FALSE)","v":{"$error":"#N/A"}},null,{"$f":"VLOOKUP(K654,lists!$F$2:$G$17,2,FALSE)","v":{"$error":"#N/A"}},null,null,"",{"$f":"VLOOKUP(O654,lists!$A$2:$B$1335,2,FALSE)","v":{"$error":"#N/A"}},null,"",{"$f":"VLOOKUP(R654,lists!$A$2:$B$575,2,FALSE)","v":{"$error":"#N/A"}}]
[null,null,{"$f":"VLOOKUP(B655,lists!$F$2:$G$17,2,FALSE)","v":{"$error":"#N/A"}},null,null,null,null,null,"",{"$f":"VLOOKUP(I655,lists!$A$2:$B$1335,2,FALSE)","v":{"$error":"#N/A"}},null,{"$f":"VLOOKUP(K655,lists!$F$2:$G$17,2,FALSE)","v":{"$error":"#N/A"}},null,null,"",{"$f":"VLOOKUP(O655,lists!$A$2:$B$1335,2,FALSE)","v":{"$error":"#N/A"}},null,"",{"$f":"VLOOKUP(R655,lists!$A$2:$B$575,2,FALSE)","v":{"$error":"#N/A"}}]
[null,null,{"$f":"VLOOKUP(B656,lists!$F$2:$G$17,2,FALSE)","v":{"$error":"#N/A"}},null,null,null,null,null,"",{"$f":"VLOOKUP(I656,lists!$A$2:$B$1335,2,FALSE)","v":{"$error":"#N/A"}},null,{"$f":"VLOOKUP(K656,lists!$F$2:$G$17,2,FALSE)","v":{"$error":"#N/A"}},null,null,"",{"$f":"VLOOKUP(O656,lists!$A$2:$B$1335,2,FALSE)","v":{"$error":"#N/A"}},null,"",{"$f":"VLOOKUP(R656,lists!$A$2:$B$575,2,FALSE)","v":{"$error":"#N/A"}}]
[null,null,{"$f":"VLOOKUP(B657,lists!$F$2:$G$17,2,FALSE)","v":{"$error":"#N/A"}},null,null,null,null,null,"",{"$f":"VLOOKUP(I657,lists!$A$2:$B$1335,2,FALSE)","v":{"$error":"#N/A"}},null,{"$f":"VLOOKUP(K657,lists!$F$2:$G$17,2,FALSE)","v":{"$error":"#N/A"}},null,null,"",{"$f":"VLOOKUP(O657,lists!$A$2:$B$1335,2,FALSE)","v":{"$error":"#N/A"}},null,"",{"$f":"VLOOKUP(R657,lists!$A$2:$B$575,2,FALSE)","v":{"$error":"#N/A"}}]
[null,null,{"$f":"VLOOKUP(B658,lists!$F$2:$G$17,2,FALSE)","v":{"$error":"#N/A"}},null,null,null,null,null,"",{"$f":"VLOOKUP(I658,lists!$A$2:$B$1335,2,FALSE)","v":{"$error":"#N/A"}},null,{"$f":"VLOOKUP(K658,lists!$F$2:$G$17,2,FALSE)","v":{"$error":"#N/A"}},null,null,"",{"$f":"VLOOKUP(O658,lists!$A$2:$B$1335,2,FALSE)","v":{"$error":"#N/A"}},null,"",{"$f":"VLOOKUP(R658,lists!$A$2:$B$575,2,FALSE)","v":{"$error":"#N/A"}}]
[null,null,{"$f":"VLOOKUP(B659,lists!$F$2:$G$17,2,FALSE)","v":{"$error":"#N/A"}},null,null,null,null,null,"",{"$f":"VLOOKUP(I659,lists!$A$2:$B$1335,2,FALSE)","v":{"$error":"#N/A"}},null,{"$f":"VLOOKUP(K659,lists!$F$2:$G$17,2,FALSE)","v":{"$error":"#N/A"}},null,null,"",{"$f":"VLOOKUP(O659,lists!$A$2:$B$1335,2,FALSE)","v":{"$error":"#N/A"}},null,"",{"$f":"VLOOKUP(R659,lists!$A$2:$B$575,2,FALSE)","v":{"$error":"#N/A"}}]
[null,null,{"$f":"VLOOKUP(B660,lists!$F$2:$G$17,2,FALSE)","v":{"$error":"#N/A"}},null,null,null,null,null,"",{"$f":"VLOOKUP(I660,lists!$A$2:$B$1335,2,FALSE)","v":{"$error":"#N/A"}},null,{"$f":"VLOOKUP(K660,lists!$F$2:$G$17,2,FALSE)","v":{"$error":"#N/A"}},null,null,"",{"$f":"VLOOKUP(O660,lists!$A$2:$B$1335,2,FALSE)","v":{"$error":"#N/A"}},null,"",{"$f":"VLOOKUP(R660,lists!$A$2:$B$575,2,FALSE)","v":{"$error":"#N/A"}}]
[null,null,{"$f":"VLOOKUP(B661,lists!$F$2:$G$17,2,FALSE)","v":{"$error":"#N/A"}},null,null,null,null,null,"",{"$f":"VLOOKUP(I661,lists!$A$2:$B$1335,2,FALSE)","v":{"$error":"#N/A"}},null,{"$f":"VLOOKUP(K661,lists!$F$2:$G$17,2,FALSE)","v":{"$error":"#N/A"}},null,null,"",{"$f":"VLOOKUP(O661,lists!$A$2:$B$1335,2,FALSE)","v":{"$error":"#N/A"}},null,"",{"$f":"VLOOKUP(R661,lists!$A$2:$B$575,2,FALSE)","v":{"$error":"#N/A"}}]
[null,null,{"$f":"VLOOKUP(B662,lists!$F$2:$G$17,2,FALSE)","v":{"$error":"#N/A"}},null,null,null,null,null,"",{"$f":"VLOOKUP(I662,lists!$A$2:$B$1335,2,FALSE)","v":{"$error":"#N/A"}},null,{"$f":"VLOOKUP(K662,lists!$F$2:$G$17,2,FALSE)","v":{"$error":"#N/A"}},null,null,"",{"$f":"VLOOKUP(O662,lists!$A$2:$B$1335,2,FALSE)","v":{"$error":"#N/A"}},null,"",{"$f":"VLOOKUP(R662,lists!$A$2:$B$575,2,FALSE)","v":{"$error":"#N/A"}}]
[null,null,{"$f":"VLOOKUP(B663,lists!$F$2:$G$17,2,FALSE)","v":{"$error":"#N/A"}},null,null,null,null,null,"",{"$f":"VLOOKUP(I663,lists!$A$2:$B$1335,2,FALSE)","v":{"$error":"#N/A"}},null,{"$f":"VLOOKUP(K663,lists!$F$2:$G$17,2,FALSE)","v":{"$error":"#N/A"}},null,null,"",{"$f":"VLOOKUP(O663,lists!$A$2:$B$1335,2,FALSE)","v":{"$error":"#N/A"}},null,"",{"$f":"VLOOKUP(R663,lists!$A$2:$B$575,2,FALSE)","v":{"$error":"#N/A"}}]
[null,null,{"$f":"VLOOKUP(B664,lists!$F$2:$G$17,2,FALSE)","v":{"$error":"#N/A"}},null,null,null,null,null,"",{"$f":"VLOOKUP(I664,lists!$A$2:$B$1335,2,FALSE)","v":{"$error":"#N/A"}},null,{"$f":"VLOOKUP(K664,lists!$F$2:$G$17,2,FALSE)","v":{"$error":"#N/A"}},null,null,"",{"$f":"VLOOKUP(O664,lists!$A$2:$B$1335,2,FALSE)","v":{"$error":"#N/A"}},null,"",{"$f":"VLOOKUP(R664,lists!$A$2:$B$575,2,FALSE)","v":{"$error":"#N/A"}}]
[null,null,{"$f":"VLOOKUP(B665,lists!$F$2:$G$17,2,FALSE)","v":{"$error":"#N/A"}},null,null,null,null,null,"",{"$f":"VLOOKUP(I665,lists!$A$2:$B$1335,2,FALSE)","v":{"$error":"#N/A"}},null,{"$f":"VLOOKUP(K665,lists!$F$2:$G$17,2,FALSE)","v":{"$error":"#N/A"}},null,null,"",{"$f":"VLOOKUP(O665,lists!$A$2:$B$1335,2,FALSE)","v":{"$error":"#N/A"}},null,"",{"$f":"VLOOKUP(R665,lists!$A$2:$B$575,2,FALSE)","v":{"$error":"#N/A"}}]
[null,null,{"$f":"VLOOKUP(B666,lists!$F$2:$G$17,2,FALSE)","v":{"$error":"#N/A"}},null,null,null,null,null,"",{"$f":"VLOOKUP(I666,lists!$A$2:$B$1335,2,FALSE)","v":{"$error":"#N/A"}},null,{"$f":"VLOOKUP(K666,lists!$F$2:$G$17,2,FALSE)","v":{"$error":"#N/A"}},null,null,"",{"$f":"VLOOKUP(O666,lists!$A$2:$B$1335,2,FALSE)","v":{"$error":"#N/A"}},null,"",{"$f":"VLOOKUP(R666,lists!$A$2:$B$575,2,FALSE)","v":{"$error":"#N/A"}}]
[null,null,{"$f":"VLOOKUP(B667,lists!$F$2:$G$17,2,FALSE)","v":{"$error":"#N/A"}},null,null,null,null,null,"",{"$f":"VLOOKUP(I667,lists!$A$2:$B$1335,2,FALSE)","v":{"$error":"#N/A"}},null,{"$f":"VLOOKUP(K667,lists!$F$2:$G$17,2,FALSE)","v":{"$error":"#N/A"}},null,null,"",{"$f":"VLOOKUP(O667,lists!$A$2:$B$1335,2,FALSE)","v":{"$error":"#N/A"}},null,"",{"$f":"VLOOKUP(R667,lists!$A$2:$B$575,2,FALSE)","v":{"$error":"#N/A"}}]
[null,null,{"$f":"VLOOKUP(B668,lists!$F$2:$G$17,2,FALSE)","v":{"$error":"#N/A"}},null,null,null,null,null,"",{"$f":"VLOOKUP(I668,lists!$A$2:$B$1335,2,FALSE)","v":{"$error":"#N/A"}},null,{"$f":"VLOOKUP(K668,lists!$F$2:$G$17,2,FALSE)","v":{"$error":"#N/A"}},null,null,"",{"$f":"VLOOKUP(O668,lists!$A$2:$B$1335,2,FALSE)","v":{"$error":"#N/A"}},null,"",{"$f":"VLOOKUP(R668,lists!$A$2:$B$575,2,FALSE)","v":{"$error":"#N/A"}}]
[null,null,{"$f":"VLOOKUP(B669,lists!$F$2:$G$17,2,FALSE)","v":{"$error":"#N/A"}},null,null,null,null,null,"",{"$f":"VLOOKUP(I669,lists!$A$2:$B$1335,2,FALSE)","v":{"$error":"#N/A"}},null,{"$f":"VLOOKUP(K669,lists!$F$2:$G$17,2,FALSE)","v":{"$error":"#N/A"}},null,null,"",{"$f":"VLOOKUP(O669,lists!$A$2:$B$1335,2,FALSE)","v":{"$error":"#N/A"}},null,"",{"$f":"VLOOKUP(R669,lists!$A$2:$B$575,2,FALSE)","v":{"$error":"#N/A"}}]
[null,null,{"$f":"VLOOKUP(B670,lists!$F$2:$G$17,2,FALSE)","v":{"$error":"#N/A"}},null,null,null,null,null,"",{"$f":"VLOOKUP(I670,lists!$A$2:$B$1335,2,FALSE)","v":{"$error":"#N/A"}},null,{"$f":"VLOOKUP(K670,lists!$F$2:$G$17,2,FALSE)","v":{"$error":"#N/A"}},null,null,"",{"$f":"VLOOKUP(O670,lists!$A$2:$B$1335,2,FALSE)","v":{"$error":"#N/A"}},null,"",{"$f":"VLOOKUP(R670,lists!$A$2:$B$575,2,FALSE)","v":{"$error":"#N/A"}}]
[null,null,{"$f":"VLOOKUP(B671,lists!$F$2:$G$17,2,FALSE)","v":{"$error":"#N/A"}},null,null,null,null,null,"",{"$f":"VLOOKUP(I671,lists!$A$2:$B$1335,2,FALSE)","v":{"$error":"#N/A"}},null,{"$f":"VLOOKUP(K671,lists!$F$2:$G$17,2,FALSE)","v":{"$error":"#N/A"}},null,null,"",{"$f":"VLOOKUP(O671,lists!$A$2:$B$1335,2,FALSE)","v":{"$error":"#N/A"}},null,"",{"$f":"VLOOKUP(R671,lists!$A$2:$B$575,2,FALSE)","v":{"$error":"#N/A"}}]
[null,null,{"$f":"VLOOKUP(B672,lists!$F$2:$G$17,2,FALSE)","v":{"$error":"#N/A"}},null,null,null,null,null,"",{"$f":"VLOOKUP(I672,lists!$A$2:$B$1335,2,FALSE)","v":{"$error":"#N/A"}},null,{"$f":"VLOOKUP(K672,lists!$F$2:$G$17,2,FALSE)","v":{"$error":"#N/A"}},null,null,"",{"$f":"VLOOKUP(O672,lists!$A$2:$B$1335,2,FALSE)","v":{"$error":"#N/A"}},null,"",{"$f":"VLOOKUP(R672,lists!$A$2:$B$575,2,FALSE)","v":{"$error":"#N/A"}}]
[null,null,{"$f":"VLOOKUP(B673,lists!$F$2:$G$17,2,FALSE)","v":{"$error":"#N/A"}},null,null,null,null,null,"",{"$f":"VLOOKUP(I673,lists!$A$2:$B$1335,2,FALSE)","v":{"$error":"#N/A"}},null,{"$f":"VLOOKUP(K673,lists!$F$2:$G$17,2,FALSE)","v":{"$error":"#N/A"}},null,null,"",{"$f":"VLOOKUP(O673,lists!$A$2:$B$1335,2,FALSE)","v":{"$error":"#N/A"}},null,"",{"$f":"VLOOKUP(R673,lists!$A$2:$B$575,2,FALSE)","v":{"$error":"#N/A"}}]
[null,null,{"$f":"VLOOKUP(B674,lists!$F$2:$G$17,2,FALSE)","v":{"$error":"#N/A"}},null,null,null,null,null,"",{"$f":"VLOOKUP(I674,lists!$A$2:$B$1335,2,FALSE)","v":{"$error":"#N/A"}},null,{"$f":"VLOOKUP(K674,lists!$F$2:$G$17,2,FALSE)","v":{"$error":"#N/A"}},null,null,"",{"$f":"VLOOKUP(O674,lists!$A$2:$B$1335,2,FALSE)","v":{"$error":"#N/A"}},null,"",{"$f":"VLOOKUP(R674,lists!$A$2:$B$575,2,FALSE)","v":{"$error":"#N/A"}}]
[null,null,{"$f":"VLOOKUP(B675,lists!$F$2:$G$17,2,FALSE)","v":{"$error":"#N/A"}},null,null,null,null,null,"",{"$f":"VLOOKUP(I675,lists!$A$2:$B$1335,2,FALSE)","v":{"$error":"#N/A"}},null,{"$f":"VLOOKUP(K675,lists!$F$2:$G$17,2,FALSE)","v":{"$error":"#N/A"}},null,null,"",{"$f":"VLOOKUP(O675,lists!$A$2:$B$1335,2,FALSE)","v":{"$error":"#N/A"}},null,"",{"$f":"VLOOKUP(R675,lists!$A$2:$B$575,2,FALSE)","v":{"$error":"#N/A"}}]
[null,null,{"$f":"VLOOKUP(B676,lists!$F$2:$G$17,2,FALSE)","v":{"$error":"#N/A"}},null,null,null,null,null,"",{"$f":"VLOOKUP(I676,lists!$A$2:$B$1335,2,FALSE)","v":{"$error":"#N/A"}},null,{"$f":"VLOOKUP(K676,lists!$F$2:$G$17,2,FALSE)","v":{"$error":"#N/A"}},null,null,"",{"$f":"VLOOKUP(O676,lists!$A$2:$B$1335,2,FALSE)","v":{"$error":"#N/A"}},null,"",{"$f":"VLOOKUP(R676,lists!$A$2:$B$575,2,FALSE)","v":{"$error":"#N/A"}}]
[null,null,{"$f":"VLOOKUP(B677,lists!$F$2:$G$17,2,FALSE)","v":{"$error":"#N/A"}},null,null,null,null,null,"",{"$f":"VLOOKUP(I677,lists!$A$2:$B$1335,2,FALSE)","v":{"$error":"#N/A"}},null,{"$f":"VLOOKUP(K677,lists!$F$2:$G$17,2,FALSE)","v":{"$error":"#N/A"}},null,null,"",{"$f":"VLOOKUP(O677,lists!$A$2:$B$1335,2,FALSE)","v":{"$error":"#N/A"}},null,"",{"$f":"VLOOKUP(R677,lists!$A$2:$B$575,2,FALSE)","v":{"$error":"#N/A"}}]
[null,null,{"$f":"VLOOKUP(B678,lists!$F$2:$G$17,2,FALSE)","v":{"$error":"#N/A"}},null,null,null,null,null,"",{"$f":"VLOOKUP(I678,lists!$A$2:$B$1335,2,FALSE)","v":{"$error":"#N/A"}},null,{"$f":"VLOOKUP(K678,lists!$F$2:$G$17,2,FALSE)","v":{"$error":"#N/A"}},null,null,"",{"$f":"VLOOKUP(O678,lists!$A$2:$B$1335,2,FALSE)","v":{"$error":"#N/A"}},null,"",{"$f":"VLOOKUP(R678,lists!$A$2:$B$575,2,FALSE)","v":{"$error":"#N/A"}}]
[null,null,{"$f":"VLOOKUP(B679,lists!$F$2:$G$17,2,FALSE)","v":{"$error":"#N/A"}},null,null,null,null,null,"",{"$f":"VLOOKUP(I679,lists!$A$2:$B$1335,2,FALSE)","v":{"$error":"#N/A"}},null,{"$f":"VLOOKUP(K679,lists!$F$2:$G$17,2,FALSE)","v":{"$error":"#N/A"}},null,null,"",{"$f":"VLOOKUP(O679,lists!$A$2:$B$1335,2,FALSE)","v":{"$error":"#N/A"}},null,"",{"$f":"VLOOKUP(R679,lists!$A$2:$B$575,2,FALSE)","v":{"$error":"#N/A"}}]
[null,null,{"$f":"VLOOKUP(B680,lists!$F$2:$G$17,2,FALSE)","v":{"$error":"#N/A"}},null,null,null,null,null,"",{"$f":"VLOOKUP(I680,lists!$A$2:$B$1335,2,FALSE)","v":{"$error":"#N/A"}},null,{"$f":"VLOOKUP(K680,lists!$F$2:$G$17,2,FALSE)","v":{"$error":"#N/A"}},null,null,"",{"$f":"VLOOKUP(O680,lists!$A$2:$B$1335,2,FALSE)","v":{"$error":"#N/A"}},null,"",{"$f":"VLOOKUP(R680,lists!$A$2:$B$575,2,FALSE)","v":{"$error":"#N/A"}}]
[null,null,{"$f":"VLOOKUP(B681,lists!$F$2:$G$17,2,FALSE)","v":{"$error":"#N/A"}},null,null,null,null,null,"",{"$f":"VLOOKUP(I681,lists!$A$2:$B$1335,2,FALSE)","v":{"$error":"#N/A"}},null,{"$f":"VLOOKUP(K681,lists!$F$2:$G$17,2,FALSE)","v":{"$error":"#N/A"}},null,null,"",{"$f":"VLOOKUP(O681,lists!$A$2:$B$1335,2,FALSE)","v":{"$error":"#N/A"}},null,"",{"$f":"VLOOKUP(R681,lists!$A$2:$B$575,2,FALSE)","v":{"$error":"#N/A"}}]
[null,null,{"$f":"VLOOKUP(B682,lists!$F$2:$G$17,2,FALSE)","v":{"$error":"#N/A"}},null,null,null,null,null,"",{"$f":"VLOOKUP(I682,lists!$A$2:$B$1335,2,FALSE)","v":{"$error":"#N/A"}},null,{"$f":"VLOOKUP(K682,lists!$F$2:$G$17,2,FALSE)","v":{"$error":"#N/A"}},null,null,"",{"$f":"VLOOKUP(O682,lists!$A$2:$B$1335,2,FALSE)","v":{"$error":"#N/A"}},null,"",{"$f":"VLOOKUP(R682,lists!$A$2:$B$575,2,FALSE)","v":{"$error":"#N/A"}}]
[null,null,{"$f":"VLOOKUP(B683,lists!$F$2:$G$17,2,FALSE)","v":{"$error":"#N/A"}},null,null,null,null,null,"",{"$f":"VLOOKUP(I683,lists!$A$2:$B$1335,2,FALSE)","v":{"$error":"#N/A"}},null,{"$f":"VLOOKUP(K683,lists!$F$2:$G$17,2,FALSE)","v":{"$error":"#N/A"}},null,null,"",{"$f":"VLOOKUP(O683,lists!$A$2:$B$1335,2,FALSE)","v":{"$error":"#N/A"}},null,"",{"$f":"VLOOKUP(R683,lists!$A$2:$B$575,2,FALSE)","v":{"$error":"#N/A"}}]
[null,null,{"$f":"VLOOKUP(B684,lists!$F$2:$G$17,2,FALSE)","v":{"$error":"#N/A"}},null,null,null,null,null,"",{"$f":"VLOOKUP(I684,lists!$A$2:$B$1335,2,FALSE)","v":{"$error":"#N/A"}},null,{"$f":"VLOOKUP(K684,lists!$F$2:$G$17,2,FALSE)","v":{"$error":"#N/A"}},null,null,"",{"$f":"VLOOKUP(O684,lists!$A$2:$B$1335,2,FALSE)","v":{"$error":"#N/A"}},null,"",{"$f":"VLOOKUP(R684,lists!$A$2:$B$575,2,FALSE)","v":{"$error":"#N/A"}}]
[null,null,{"$f":"VLOOKUP(B685,lists!$F$2:$G$17,2,FALSE)","v":{"$error":"#N/A"}},null,null,null,null,null,"",{"$f":"VLOOKUP(I685,lists!$A$2:$B$1335,2,FALSE)","v":{"$error":"#N/A"}},null,{"$f":"VLOOKUP(K685,lists!$F$2:$G$17,2,FALSE)","v":{"$error":"#N/A"}},null,null,"",{"$f":"VLOOKUP(O685,lists!$A$2:$B$1335,2,FALSE)","v":{"$error":"#N/A"}},null,"",{"$f":"VLOOKUP(R685,lists!$A$2:$B$575,2,FALSE)","v":{"$error":"#N/A"}}]
[null,null,{"$f":"VLOOKUP(B686,lists!$F$2:$G$17,2,FALSE)","v":{"$error":"#N/A"}},null,null,null,null,null,"",{"$f":"VLOOKUP(I686,lists!$A$2:$B$1335,2,FALSE)","v":{"$error":"#N/A"}},null,{"$f":"VLOOKUP(K686,lists!$F$2:$G$17,2,FALSE)","v":{"$error":"#N/A"}},null,null,"",{"$f":"VLOOKUP(O686,lists!$A$2:$B$1335,2,FALSE)","v":{"$error":"#N/A"}},null,"",{"$f":"VLOOKUP(R686,lists!$A$2:$B$575,2,FALSE)","v":{"$error":"#N/A"}}]
[null,null,{"$f":"VLOOKUP(B687,lists!$F$2:$G$17,2,FALSE)","v":{"$error":"#N/A"}},null,null,null,null,null,"",{"$f":"VLOOKUP(I687,lists!$A$2:$B$1335,2,FALSE)","v":{"$error":"#N/A"}},null,{"$f":"VLOOKUP(K687,lists!$F$2:$G$17,2,FALSE)","v":{"$error":"#N/A"}},null,null,"",{"$f":"VLOOKUP(O687,lists!$A$2:$B$1335,2,FALSE)","v":{"$error":"#N/A"}},null,"",{"$f":"VLOOKUP(R687,lists!$A$2:$B$575,2,FALSE)","v":{"$error":"#N/A"}}]
[null,null,{"$f":"VLOOKUP(B688,lists!$F$2:$G$17,2,FALSE)","v":{"$error":"#N/A"}},null,null,null,null,null,"",{"$f":"VLOOKUP(I688,lists!$A$2:$B$1335,2,FALSE)","v":{"$error":"#N/A"}},null,{"$f":"VLOOKUP(K688,lists!$F$2:$G$17,2,FALSE)","v":{"$error":"#N/A"}},null,null,"",{"$f":"VLOOKUP(O688,lists!$A$2:$B$1335,2,FALSE)","v":{"$error":"#N/A"}},null,"",{"$f":"VLOOKUP(R688,lists!$A$2:$B$575,2,FALSE)","v":{"$error":"#N/A"}}]
[null,null,{"$f":"VLOOKUP(B689,lists!$F$2:$G$17,2,FALSE)","v":{"$error":"#N/A"}},null,null,null,null,null,"",{"$f":"VLOOKUP(I689,lists!$A$2:$B$1335,2,FALSE)","v":{"$error":"#N/A"}},null,{"$f":"VLOOKUP(K689,lists!$F$2:$G$17,2,FALSE)","v":{"$error":"#N/A"}},null,null,"",{"$f":"VLOOKUP(O689,lists!$A$2:$B$1335,2,FALSE)","v":{"$error":"#N/A"}},null,"",{"$f":"VLOOKUP(R689,lists!$A$2:$B$575,2,FALSE)","v":{"$error":"#N/A"}}]
[null,null,{"$f":"VLOOKUP(B690,lists!$F$2:$G$17,2,FALSE)","v":{"$error":"#N/A"}},null,null,null,null,null,"",{"$f":"VLOOKUP(I690,lists!$A$2:$B$1335,2,FALSE)","v":{"$error":"#N/A"}},null,{"$f":"VLOOKUP(K690,lists!$F$2:$G$17,2,FALSE)","v":{"$error":"#N/A"}},null,null,"",{"$f":"VLOOKUP(O690,lists!$A$2:$B$1335,2,FALSE)","v":{"$error":"#N/A"}},null,"",{"$f":"VLOOKUP(R690,lists!$A$2:$B$575,2,FALSE)","v":{"$error":"#N/A"}}]
[null,null,{"$f":"VLOOKUP(B691,lists!$F$2:$G$17,2,FALSE)","v":{"$error":"#N/A"}},null,null,null,null,null,"",{"$f":"VLOOKUP(I691,lists!$A$2:$B$1335,2,FALSE)","v":{"$error":"#N/A"}},null,{"$f":"VLOOKUP(K691,lists!$F$2:$G$17,2,FALSE)","v":{"$error":"#N/A"}},null,null,"",{"$f":"VLOOKUP(O691,lists!$A$2:$B$1335,2,FALSE)","v":{"$error":"#N/A"}},null,"",{"$f":"VLOOKUP(R691,lists!$A$2:$B$575,2,FALSE)","v":{"$error":"#N/A"}}]
[null,null,{"$f":"VLOOKUP(B692,lists!$F$2:$G$17,2,FALSE)","v":{"$error":"#N/A"}},null,null,null,null,null,"",{"$f":"VLOOKUP(I692,lists!$A$2:$B$1335,2,FALSE)","v":{"$error":"#N/A"}},null,{"$f":"VLOOKUP(K692,lists!$F$2:$G$17,2,FALSE)","v":{"$error":"#N/A"}},null,null,"",{"$f":"VLOOKUP(O692,lists!$A$2:$B$1335,2,FALSE)","v":{"$error":"#N/A"}},null,"",{"$f":"VLOOKUP(R692,lists!$A$2:$B$575,2,FALSE)","v":{"$error":"#N/A"}}]
[null,null,{"$f":"VLOOKUP(B693,lists!$F$2:$G$17,2,FALSE)","v":{"$error":"#N/A"}},null,null,null,null,null,"",{"$f":"VLOOKUP(I693,lists!$A$2:$B$1335,2,FALSE)","v":{"$error":"#N/A"}},null,{"$f":"VLOOKUP(K693,lists!$F$2:$G$17,2,FALSE)","v":{"$error":"#N/A"}},null,null,"",{"$f":"VLOOKUP(O693,lists!$A$2:$B$1335,2,FALSE)","v":{"$error":"#N/A"}},null,"",{"$f":"VLOOKUP(R693,lists!$A$2:$B$575,2,FALSE)","v":{"$error":"#N/A"}}]
[null,null,{"$f":"VLOOKUP(B694,lists!$F$2:$G$17,2,FALSE)","v":{"$error":"#N/A"}},null,null,null,null,null,"",{"$f":"VLOOKUP(I694,lists!$A$2:$B$1335,2,FALSE)","v":{"$error":"#N/A"}},null,{"$f":"VLOOKUP(K694,lists!$F$2:$G$17,2,FALSE)","v":{"$error":"#N/A"}},null,null,"",{"$f":"VLOOKUP(O694,lists!$A$2:$B$1335,2,FALSE)","v":{"$error":"#N/A"}},null,"",{"$f":"VLOOKUP(R694,lists!$A$2:$B$575,2,FALSE)","v":{"$error":"#N/A"}}]
[null,null,{"$f":"VLOOKUP(B695,lists!$F$2:$G$17,2,FALSE)","v":{"$error":"#N/A"}},null,null,null,null,null,"",{"$f":"VLOOKUP(I695,lists!$A$2:$B$1335,2,FALSE)","v":{"$error":"#N/A"}},null,{"$f":"VLOOKUP(K695,lists!$F$2:$G$17,2,FALSE)","v":{"$error":"#N/A"}},null,null,"",{"$f":"VLOOKUP(O695,lists!$A$2:$B$1335,2,FALSE)","v":{"$error":"#N/A"}},null,"",{"$f":"VLOOKUP(R695,lists!$A$2:$B$575,2,FALSE)","v":{"$error":"#N/A"}}]
[null,null,{"$f":"VLOOKUP(B696,lists!$F$2:$G$17,2,FALSE)","v":{"$error":"#N/A"}},null,null,null,null,null,"",{"$f":"VLOOKUP(I696,lists!$A$2:$B$1335,2,FALSE)","v":{"$error":"#N/A"}},null,{"$f":"VLOOKUP(K696,lists!$F$2:$G$17,2,FALSE)","v":{"$error":"#N/A"}},null,null,"",{"$f":"VLOOKUP(O696,lists!$A$2:$B$1335,2,FALSE)","v":{"$error":"#N/A"}},null,"",{"$f":"VLOOKUP(R696,lists!$A$2:$B$575,2,FALSE)","v":{"$error":"#N/A"}}]
[null,null,{"$f":"VLOOKUP(B697,lists!$F$2:$G$17,2,FALSE)","v":{"$error":"#N/A"}},null,null,null,null,null,"",{"$f":"VLOOKUP(I697,lists!$A$2:$B$1335,2,FALSE)","v":{"$error":"#N/A"}},null,{"$f":"VLOOKUP(K697,lists!$F$2:$G$17,2,FALSE)","v":{"$error":"#N/A"}},null,null,"",{"$f":"VLOOKUP(O697,lists!$A$2:$B$1335,2,FALSE)","v":{"$error":"#N/A"}},null,"",{"$f":"VLOOKUP(R697,lists!$A$2:$B$575,2,FALSE)","v":{"$error":"#N/A"}}]
[null,null,{"$f":"VLOOKUP(B698,lists!$F$2:$G$17,2,FALSE)","v":{"$error":"#N/A"}},null,null,null,null,null,"",{"$f":"VLOOKUP(I698,lists!$A$2:$B$1335,2,FALSE)","v":{"$error":"#N/A"}},null,{"$f":"VLOOKUP(K698,lists!$F$2:$G$17,2,FALSE)","v":{"$error":"#N/A"}},null,null,"",{"$f":"VLOOKUP(O698,lists!$A$2:$B$1335,2,FALSE)","v":{"$error":"#N/A"}},null,"",{"$f":"VLOOKUP(R698,lists!$A$2:$B$575,2,FALSE)","v":{"$error":"#N/A"}}]
[null,null,{"$f":"VLOOKUP(B699,lists!$F$2:$G$17,2,FALSE)","v":{"$error":"#N/A"}},null,null,null,null,null,"",{"$f":"VLOOKUP(I699,lists!$A$2:$B$1335,2,FALSE)","v":{"$error":"#N/A"}},null,{"$f":"VLOOKUP(K699,lists!$F$2:$G$17,2,FALSE)","v":{"$error":"#N/A"}},null,null,"",{"$f":"VLOOKUP(O699,lists!$A$2:$B$1335,2,FALSE)","v":{"$error":"#N/A"}},null,"",{"$f":"VLOOKUP(R699,lists!$A$2:$B$575,2,FALSE)","v":{"$error":"#N/A"}}]
[null,null,{"$f":"VLOOKUP(B700,lists!$F$2:$G$17,2,FALSE)","v":{"$error":"#N/A"}},null,null,null,null,null,"",{"$f":"VLOOKUP(I700,lists!$A$2:$B$1335,2,FALSE)","v":{"$error":"#N/A"}},null,{"$f":"VLOOKUP(K700,lists!$F$2:$G$17,2,FALSE)","v":{"$error":"#N/A"}},null,null,"",{"$f":"VLOOKUP(O700,lists!$A$2:$B$1335,2,FALSE)","v":{"$error":"#N/A"}},null,"",{"$f":"VLOOKUP(R700,lists!$A$2:$B$575,2,FALSE)","v":{"$error":"#N/A"}}]
[null,null,{"$f":"VLOOKUP(B701,lists!$F$2:$G$17,2,FALSE)","v":{"$error":"#N/A"}},null,null,null,null,null,"",{"$f":"VLOOKUP(I701,lists!$A$2:$B$1335,2,FALSE)","v":{"$error":"#N/A"}},null,{"$f":"VLOOKUP(K701,lists!$F$2:$G$17,2,FALSE)","v":{"$error":"#N/A"}},null,null,"",{"$f":"VLOOKUP(O701,lists!$A$2:$B$1335,2,FALSE)","v":{"$error":"#N/A"}},null,"",{"$f":"VLOOKUP(R701,lists!$A$2:$B$575,2,FALSE)","v":{"$error":"#N/A"}}]
[null,null,{"$f":"VLOOKUP(B702,lists!$F$2:$G$17,2,FALSE)","v":{"$error":"#N/A"}},null,null,null,null,null,"",{"$f":"VLOOKUP(I702,lists!$A$2:$B$1335,2,FALSE)","v":{"$error":"#N/A"}},null,{"$f":"VLOOKUP(K702,lists!$F$2:$G$17,2,FALSE)","v":{"$error":"#N/A"}},null,null,"",{"$f":"VLOOKUP(O702,lists!$A$2:$B$1335,2,FALSE)","v":{"$error":"#N/A"}},null,"",{"$f":"VLOOKUP(R702,lists!$A$2:$B$575,2,FALSE)","v":{"$error":"#N/A"}}]
[null,null,{"$f":"VLOOKUP(B703,lists!$F$2:$G$17,2,FALSE)","v":{"$error":"#N/A"}},null,null,null,null,null,"",{"$f":"VLOOKUP(I703,lists!$A$2:$B$1335,2,FALSE)","v":{"$error":"#N/A"}},null,{"$f":"VLOOKUP(K703,lists!$F$2:$G$17,2,FALSE)","v":{"$error":"#N/A"}},null,null,"",{"$f":"VLOOKUP(O703,lists!$A$2:$B$1335,2,FALSE)","v":{"$error":"#N/A"}},null,"",{"$f":"VLOOKUP(R703,lists!$A$2:$B$575,2,FALSE)","v":{"$error":"#N/A"}}]
[null,null,{"$f":"VLOOKUP(B704,lists!$F$2:$G$17,2,FALSE)","v":{"$error":"#N/A"}},null,null,null,null,null,"",{"$f":"VLOOKUP(I704,lists!$A$2:$B$1335,2,FALSE)","v":{"$error":"#N/A"}},null,{"$f":"VLOOKUP(K704,lists!$F$2:$G$17,2,FALSE)","v":{"$error":"#N/A"}},null,null,"",{"$f":"VLOOKUP(O704,lists!$A$2:$B$1335,2,FALSE)","v":{"$error":"#N/A"}},null,"",{"$f":"VLOOKUP(R704,lists!$A$2:$B$575,2,FALSE)","v":{"$error":"#N/A"}}]
[null,null,{"$f":"VLOOKUP(B705,lists!$F$2:$G$17,2,FALSE)","v":{"$error":"#N/A"}},null,null,null,null,null,"",{"$f":"VLOOKUP(I705,lists!$A$2:$B$1335,2,FALSE)","v":{"$error":"#N/A"}},null,{"$f":"VLOOKUP(K705,lists!$F$2:$G$17,2,FALSE)","v":{"$error":"#N/A"}},null,null,"",{"$f":"VLOOKUP(O705,lists!$A$2:$B$1335,2,FALSE)","v":{"$error":"#N/A"}},null,"",{"$f":"VLOOKUP(R705,lists!$A$2:$B$575,2,FALSE)","v":{"$error":"#N/A"}}]
[null,null,{"$f":"VLOOKUP(B706,lists!$F$2:$G$17,2,FALSE)","v":{"$error":"#N/A"}},null,null,null,null,null,"",{"$f":"VLOOKUP(I706,lists!$A$2:$B$1335,2,FALSE)","v":{"$error":"#N/A"}},null,{"$f":"VLOOKUP(K706,lists!$F$2:$G$17,2,FALSE)","v":{"$error":"#N/A"}},null,null,"",{"$f":"VLOOKUP(O706,lists!$A$2:$B$1335,2,FALSE)","v":{"$error":"#N/A"}},null,"",{"$f":"VLOOKUP(R706,lists!$A$2:$B$575,2,FALSE)","v":{"$error":"#N/A"}}]
[null,null,{"$f":"VLOOKUP(B707,lists!$F$2:$G$17,2,FALSE)","v":{"$error":"#N/A"}},null,null,null,null,null,"",{"$f":"VLOOKUP(I707,lists!$A$2:$B$1335,2,FALSE)","v":{"$error":"#N/A"}},null,{"$f":"VLOOKUP(K707,lists!$F$2:$G$17,2,FALSE)","v":{"$error":"#N/A"}},null,null,"",{"$f":"VLOOKUP(O707,lists!$A$2:$B$1335,2,FALSE)","v":{"$error":"#N/A"}},null,"",{"$f":"VLOOKUP(R707,lists!$A$2:$B$575,2,FALSE)","v":{"$error":"#N/A"}}]
[null,null,{"$f":"VLOOKUP(B708,lists!$F$2:$G$17,2,FALSE)","v":{"$error":"#N/A"}},null,null,null,null,null,"",{"$f":"VLOOKUP(I708,lists!$A$2:$B$1335,2,FALSE)","v":{"$error":"#N/A"}},null,{"$f":"VLOOKUP(K708,lists!$F$2:$G$17,2,FALSE)","v":{"$error":"#N/A"}},null,null,"",{"$f":"VLOOKUP(O708,lists!$A$2:$B$1335,2,FALSE)","v":{"$error":"#N/A"}},null,"",{"$f":"VLOOKUP(R708,lists!$A$2:$B$575,2,FALSE)","v":{"$error":"#N/A"}}]
[null,null,{"$f":"VLOOKUP(B709,lists!$F$2:$G$17,2,FALSE)","v":{"$error":"#N/A"}},null,null,null,null,null,"",{"$f":"VLOOKUP(I709,lists!$A$2:$B$1335,2,FALSE)","v":{"$error":"#N/A"}},null,{"$f":"VLOOKUP(K709,lists!$F$2:$G$17,2,FALSE)","v":{"$error":"#N/A"}},null,null,"",{"$f":"VLOOKUP(O709,lists!$A$2:$B$1335,2,FALSE)","v":{"$error":"#N/A"}},null,"",{"$f":"VLOOKUP(R709,lists!$A$2:$B$575,2,FALSE)","v":{"$error":"#N/A"}}]
[null,null,{"$f":"VLOOKUP(B710,lists!$F$2:$G$17,2,FALSE)","v":{"$error":"#N/A"}},null,null,null,null,null,"",{"$f":"VLOOKUP(I710,lists!$A$2:$B$1335,2,FALSE)","v":{"$error":"#N/A"}},null,{"$f":"VLOOKUP(K710,lists!$F$2:$G$17,2,FALSE)","v":{"$error":"#N/A"}},null,null,"",{"$f":"VLOOKUP(O710,lists!$A$2:$B$1335,2,FALSE)","v":{"$error":"#N/A"}},null,"",{"$f":"VLOOKUP(R710,lists!$A$2:$B$575,2,FALSE)","v":{"$error":"#N/A"}}]
[null,null,{"$f":"VLOOKUP(B711,lists!$F$2:$G$17,2,FALSE)","v":{"$error":"#N/A"}},null,null,null,null,null,"",{"$f":"VLOOKUP(I711,lists!$A$2:$B$1335,2,FALSE)","v":{"$error":"#N/A"}},null,{"$f":"VLOOKUP(K711,lists!$F$2:$G$17,2,FALSE)","v":{"$error":"#N/A"}},null,null,"",{"$f":"VLOOKUP(O711,lists!$A$2:$B$1335,2,FALSE)","v":{"$error":"#N/A"}},null,"",{"$f":"VLOOKUP(R711,lists!$A$2:$B$575,2,FALSE)","v":{"$error":"#N/A"}}]
[null,null,{"$f":"VLOOKUP(B712,lists!$F$2:$G$17,2,FALSE)","v":{"$error":"#N/A"}},null,null,null,null,null,"",{"$f":"VLOOKUP(I712,lists!$A$2:$B$1335,2,FALSE)","v":{"$error":"#N/A"}},null,{"$f":"VLOOKUP(K712,lists!$F$2:$G$17,2,FALSE)","v":{"$error":"#N/A"}},null,null,"",{"$f":"VLOOKUP(O712,lists!$A$2:$B$1335,2,FALSE)","v":{"$error":"#N/A"}},null,"",{"$f":"VLOOKUP(R712,lists!$A$2:$B$575,2,FALSE)","v":{"$error":"#N/A"}}]
[null,null,{"$f":"VLOOKUP(B713,lists!$F$2:$G$17,2,FALSE)","v":{"$error":"#N/A"}},null,null,null,null,null,"",{"$f":"VLOOKUP(I713,lists!$A$2:$B$1335,2,FALSE)","v":{"$error":"#N/A"}},null,{"$f":"VLOOKUP(K713,lists!$F$2:$G$17,2,FALSE)","v":{"$error":"#N/A"}},null,null,"",{"$f":"VLOOKUP(O713,lists!$A$2:$B$1335,2,FALSE)","v":{"$error":"#N/A"}},null,"",{"$f":"VLOOKUP(R713,lists!$A$2:$B$575,2,FALSE)","v":{"$error":"#N/A"}}]
[null,null,{"$f":"VLOOKUP(B714,lists!$F$2:$G$17,2,FALSE)","v":{"$error":"#N/A"}},null,null,null,null,null,"",{"$f":"VLOOKUP(I714,lists!$A$2:$B$1335,2,FALSE)","v":{"$error":"#N/A"}},null,{"$f":"VLOOKUP(K714,lists!$F$2:$G$17,2,FALSE)","v":{"$error":"#N/A"}},null,null,"",{"$f":"VLOOKUP(O714,lists!$A$2:$B$1335,2,FALSE)","v":{"$error":"#N/A"}},null,"",{"$f":"VLOOKUP(R714,lists!$A$2:$B$575,2,FALSE)","v":{"$error":"#N/A"}}]
[null,null,{"$f":"VLOOKUP(B715,lists!$F$2:$G$17,2,FALSE)","v":{"$error":"#N/A"}},null,null,null,null,null,"",{"$f":"VLOOKUP(I715,lists!$A$2:$B$1335,2,FALSE)","v":{"$error":"#N/A"}},null,{"$f":"VLOOKUP(K715,lists!$F$2:$G$17,2,FALSE)","v":{"$error":"#N/A"}},null,null,"",{"$f":"VLOOKUP(O715,lists!$A$2:$B$1335,2,FALSE)","v":{"$error":"#N/A"}},null,"",{"$f":"VLOOKUP(R715,lists!$A$2:$B$575,2,FALSE)","v":{"$error":"#N/A"}}]
[null,null,{"$f":"VLOOKUP(B716,lists!$F$2:$G$17,2,FALSE)","v":{"$error":"#N/A"}},null,null,null,null,null,"",{"$f":"VLOOKUP(I716,lists!$A$2:$B$1335,2,FALSE)","v":{"$error":"#N/A"}},null,{"$f":"VLOOKUP(K716,lists!$F$2:$G$17,2,FALSE)","v":{"$error":"#N/A"}},null,null,"",{"$f":"VLOOKUP(O716,lists!$A$2:$B$1335,2,FALSE)","v":{"$error":"#N/A"}},null,"",{"$f":"VLOOKUP(R716,lists!$A$2:$B$575,2,FALSE)","v":{"$error":"#N/A"}}]
[null,null,{"$f":"VLOOKUP(B717,lists!$F$2:$G$17,2,FALSE)","v":{"$error":"#N/A"}},null,null,null,null,null,"",{"$f":"VLOOKUP(I717,lists!$A$2:$B$1335,2,FALSE)","v":{"$error":"#N/A"}},null,{"$f":"VLOOKUP(K717,lists!$F$2:$G$17,2,FALSE)","v":{"$error":"#N/A"}},null,null,"",{"$f":"VLOOKUP(O717,lists!$A$2:$B$1335,2,FALSE)","v":{"$error":"#N/A"}},null,"",{"$f":"VLOOKUP(R717,lists!$A$2:$B$575,2,FALSE)","v":{"$error":"#N/A"}}]
[null,null,{"$f":"VLOOKUP(B718,lists!$F$2:$G$17,2,FALSE)","v":{"$error":"#N/A"}},null,null,null,null,null,"",{"$f":"VLOOKUP(I718,lists!$A$2:$B$1335,2,FALSE)","v":{"$error":"#N/A"}},null,{"$f":"VLOOKUP(K718,lists!$F$2:$G$17,2,FALSE)","v":{"$error":"#N/A"}},null,null,"",{"$f":"VLOOKUP(O718,lists!$A$2:$B$1335,2,FALSE)","v":{"$error":"#N/A"}},null,"",{"$f":"VLOOKUP(R718,lists!$A$2:$B$575,2,FALSE)","v":{"$error":"#N/A"}}]
[null,null,{"$f":"VLOOKUP(B719,lists!$F$2:$G$17,2,FALSE)","v":{"$error":"#N/A"}},null,null,null,null,null,"",{"$f":"VLOOKUP(I719,lists!$A$2:$B$1335,2,FALSE)","v":{"$error":"#N/A"}},null,{"$f":"VLOOKUP(K719,lists!$F$2:$G$17,2,FALSE)","v":{"$error":"#N/A"}},null,null,"",{"$f":"VLOOKUP(O719,lists!$A$2:$B$1335,2,FALSE)","v":{"$error":"#N/A"}},null,"",{"$f":"VLOOKUP(R719,lists!$A$2:$B$575,2,FALSE)","v":{"$error":"#N/A"}}]
[null,null,{"$f":"VLOOKUP(B720,lists!$F$2:$G$17,2,FALSE)","v":{"$error":"#N/A"}},null,null,null,null,null,"",{"$f":"VLOOKUP(I720,lists!$A$2:$B$1335,2,FALSE)","v":{"$error":"#N/A"}},null,{"$f":"VLOOKUP(K720,lists!$F$2:$G$17,2,FALSE)","v":{"$error":"#N/A"}},null,null,"",{"$f":"VLOOKUP(O720,lists!$A$2:$B$1335,2,FALSE)","v":{"$error":"#N/A"}},null,"",{"$f":"VLOOKUP(R720,lists!$A$2:$B$575,2,FALSE)","v":{"$error":"#N/A"}}]
[null,null,{"$f":"VLOOKUP(B721,lists!$F$2:$G$17,2,FALSE)","v":{"$error":"#N/A"}},null,null,null,null,null,"",{"$f":"VLOOKUP(I721,lists!$A$2:$B$1335,2,FALSE)","v":{"$error":"#N/A"}},null,{"$f":"VLOOKUP(K721,lists!$F$2:$G$17,2,FALSE)","v":{"$error":"#N/A"}},null,null,"",{"$f":"VLOOKUP(O721,lists!$A$2:$B$1335,2,FALSE)","v":{"$error":"#N/A"}},null,"",{"$f":"VLOOKUP(R721,lists!$A$2:$B$575,2,FALSE)","v":{"$error":"#N/A"}}]
[null,null,{"$f":"VLOOKUP(B722,lists!$F$2:$G$17,2,FALSE)","v":{"$error":"#N/A"}},null,null,null,null,null,"",{"$f":"VLOOKUP(I722,lists!$A$2:$B$1335,2,FALSE)","v":{"$error":"#N/A"}},null,{"$f":"VLOOKUP(K722,lists!$F$2:$G$17,2,FALSE)","v":{"$error":"#N/A"}},null,null,"",{"$f":"VLOOKUP(O722,lists!$A$2:$B$1335,2,FALSE)","v":{"$error":"#N/A"}},null,"",{"$f":"VLOOKUP(R722,lists!$A$2:$B$575,2,FALSE)","v":{"$error":"#N/A"}}]
[null,null,{"$f":"VLOOKUP(B723,lists!$F$2:$G$17,2,FALSE)","v":{"$error":"#N/A"}},null,null,null,null,null,"",{"$f":"VLOOKUP(I723,lists!$A$2:$B$1335,2,FALSE)","v":{"$error":"#N/A"}},null,{"$f":"VLOOKUP(K723,lists!$F$2:$G$17,2,FALSE)","v":{"$error":"#N/A"}},null,null,"",{"$f":"VLOOKUP(O723,lists!$A$2:$B$1335,2,FALSE)","v":{"$error":"#N/A"}},null,"",{"$f":"VLOOKUP(R723,lists!$A$2:$B$575,2,FALSE)","v":{"$error":"#N/A"}}]
[null,null,{"$f":"VLOOKUP(B724,lists!$F$2:$G$17,2,FALSE)","v":{"$error":"#N/A"}},null,null,null,null,null,"",{"$f":"VLOOKUP(I724,lists!$A$2:$B$1335,2,FALSE)","v":{"$error":"#N/A"}},null,{"$f":"VLOOKUP(K724,lists!$F$2:$G$17,2,FALSE)","v":{"$error":"#N/A"}},null,null,"",{"$f":"VLOOKUP(O724,lists!$A$2:$B$1335,2,FALSE)","v":{"$error":"#N/A"}},null,"",{"$f":"VLOOKUP(R724,lists!$A$2:$B$575,2,FALSE)","v":{"$error":"#N/A"}}]
[null,null,{"$f":"VLOOKUP(B725,lists!$F$2:$G$17,2,FALSE)","v":{"$error":"#N/A"}},null,null,null,null,null,"",{"$f":"VLOOKUP(I725,lists!$A$2:$B$1335,2,FALSE)","v":{"$error":"#N/A"}},null,{"$f":"VLOOKUP(K725,lists!$F$2:$G$17,2,FALSE)","v":{"$error":"#N/A"}},null,null,"",{"$f":"VLOOKUP(O725,lists!$A$2:$B$1335,2,FALSE)","v":{"$error":"#N/A"}},null,"",{"$f":"VLOOKUP(R725,lists!$A$2:$B$575,2,FALSE)","v":{"$error":"#N/A"}}]
[null,null,{"$f":"VLOOKUP(B726,lists!$F$2:$G$17,2,FALSE)","v":{"$error":"#N/A"}},null,null,null,null,null,"",{"$f":"VLOOKUP(I726,lists!$A$2:$B$1335,2,FALSE)","v":{"$error":"#N/A"}},null,{"$f":"VLOOKUP(K726,lists!$F$2:$G$17,2,FALSE)","v":{"$error":"#N/A"}},null,null,"",{"$f":"VLOOKUP(O726,lists!$A$2:$B$1335,2,FALSE)","v":{"$error":"#N/A"}},null,"",{"$f":"VLOOKUP(R726,lists!$A$2:$B$575,2,FALSE)","v":{"$error":"#N/A"}}]
[null,null,{"$f":"VLOOKUP(B727,lists!$F$2:$G$17,2,FALSE)","v":{"$error":"#N/A"}},null,null,null,null,null,"",{"$f":"VLOOKUP(I727,lists!$A$2:$B$1335,2,FALSE)","v":{"$error":"#N/A"}},null,{"$f":"VLOOKUP(K727,lists!$F$2:$G$17,2,FALSE)","v":{"$error":"#N/A"}},null,null,"",{"$f":"VLOOKUP(O727,lists!$A$2:$B$1335,2,FALSE)","v":{"$error":"#N/A"}},null,"",{"$f":"VLOOKUP(R727,lists!$A$2:$B$575,2,FALSE)","v":{"$error":"#N/A"}}]
[null,null,{"$f":"VLOOKUP(B728,lists!$F$2:$G$17,2,FALSE)","v":{"$error":"#N/A"}},null,null,null,null,null,"",{"$f":"VLOOKUP(I728,lists!$A$2:$B$1335,2,FALSE)","v":{"$error":"#N/A"}},null,{"$f":"VLOOKUP(K728,lists!$F$2:$G$17,2,FALSE)","v":{"$error":"#N/A"}},null,null,"",{"$f":"VLOOKUP(O728,lists!$A$2:$B$1335,2,FALSE)","v":{"$error":"#N/A"}},null,"",{"$f":"VLOOKUP(R728,lists!$A$2:$B$575,2,FALSE)","v":{"$error":"#N/A"}}]
[null,null,{"$f":"VLOOKUP(B729,lists!$F$2:$G$17,2,FALSE)","v":{"$error":"#N/A"}},null,null,null,null,null,"",{"$f":"VLOOKUP(I729,lists!$A$2:$B$1335,2,FALSE)","v":{"$error":"#N/A"}},null,{"$f":"VLOOKUP(K729,lists!$F$2:$G$17,2,FALSE)","v":{"$error":"#N/A"}},null,null,"",{"$f":"VLOOKUP(O729,lists!$A$2:$B$1335,2,FALSE)","v":{"$error":"#N/A"}},null,"",{"$f":"VLOOKUP(R729,lists!$A$2:$B$575,2,FALSE)","v":{"$error":"#N/A"}}]
[null,null,{"$f":"VLOOKUP(B730,lists!$F$2:$G$17,2,FALSE)","v":{"$error":"#N/A"}},null,null,null,null,null,"",{"$f":"VLOOKUP(I730,lists!$A$2:$B$1335,2,FALSE)","v":{"$error":"#N/A"}},null,{"$f":"VLOOKUP(K730,lists!$F$2:$G$17,2,FALSE)","v":{"$error":"#N/A"}},null,null,"",{"$f":"VLOOKUP(O730,lists!$A$2:$B$1335,2,FALSE)","v":{"$error":"#N/A"}},null,"",{"$f":"VLOOKUP(R730,lists!$A$2:$B$575,2,FALSE)","v":{"$error":"#N/A"}}]
[null,null,{"$f":"VLOOKUP(B731,lists!$F$2:$G$17,2,FALSE)","v":{"$error":"#N/A"}},null,null,null,null,null,"",{"$f":"VLOOKUP(I731,lists!$A$2:$B$1335,2,FALSE)","v":{"$error":"#N/A"}},null,{"$f":"VLOOKUP(K731,lists!$F$2:$G$17,2,FALSE)","v":{"$error":"#N/A"}},null,null,"",{"$f":"VLOOKUP(O731,lists!$A$2:$B$1335,2,FALSE)","v":{"$error":"#N/A"}},null,"",{"$f":"VLOOKUP(R731,lists!$A$2:$B$575,2,FALSE)","v":{"$error":"#N/A"}}]
[null,null,{"$f":"VLOOKUP(B732,lists!$F$2:$G$17,2,FALSE)","v":{"$error":"#N/A"}},null,null,null,null,null,"",{"$f":"VLOOKUP(I732,lists!$A$2:$B$1335,2,FALSE)","v":{"$error":"#N/A"}},null,{"$f":"VLOOKUP(K732,lists!$F$2:$G$17,2,FALSE)","v":{"$error":"#N/A"}},null,null,"",{"$f":"VLOOKUP(O732,lists!$A$2:$B$1335,2,FALSE)","v":{"$error":"#N/A"}},null,"",{"$f":"VLOOKUP(R732,lists!$A$2:$B$575,2,FALSE)","v":{"$error":"#N/A"}}]
[null,null,{"$f":"VLOOKUP(B733,lists!$F$2:$G$17,2,FALSE)","v":{"$error":"#N/A"}},null,null,null,null,null,"",{"$f":"VLOOKUP(I733,lists!$A$2:$B$1335,2,FALSE)","v":{"$error":"#N/A"}},null,{"$f":"VLOOKUP(K733,lists!$F$2:$G$17,2,FALSE)","v":{"$error":"#N/A"}},null,null,"",{"$f":"VLOOKUP(O733,lists!$A$2:$B$1335,2,FALSE)","v":{"$error":"#N/A"}},null,"",{"$f":"VLOOKUP(R733,lists!$A$2:$B$575,2,FALSE)","v":{"$error":"#N/A"}}]
[null,null,{"$f":"VLOOKUP(B734,lists!$F$2:$G$17,2,FALSE)","v":{"$error":"#N/A"}},null,null,null,null,null,"",{"$f":"VLOOKUP(I734,lists!$A$2:$B$1335,2,FALSE)","v":{"$error":"#N/A"}},null,{"$f":"VLOOKUP(K734,lists!$F$2:$G$17,2,FALSE)","v":{"$error":"#N/A"}},null,null,"",{"$f":"VLOOKUP(O734,lists!$A$2:$B$1335,2,FALSE)","v":{"$error":"#N/A"}},null,"",{"$f":"VLOOKUP(R734,lists!$A$2:$B$575,2,FALSE)","v":{"$error":"#N/A"}}]
[null,null,{"$f":"VLOOKUP(B735,lists!$F$2:$G$17,2,FALSE)","v":{"$error":"#N/A"}},null,null,null,null,null,"",{"$f":"VLOOKUP(I735,lists!$A$2:$B$1335,2,FALSE)","v":{"$error":"#N/A"}},null,{"$f":"VLOOKUP(K735,lists!$F$2:$G$17,2,FALSE)","v":{"$error":"#N/A"}},null,null,"",{"$f":"VLOOKUP(O735,lists!$A$2:$B$1335,2,FALSE)","v":{"$error":"#N/A"}},null,"",{"$f":"VLOOKUP(R735,lists!$A$2:$B$575,2,FALSE)","v":{"$error":"#N/A"}}]
[null,null,{"$f":"VLOOKUP(B736,lists!$F$2:$G$17,2,FALSE)","v":{"$error":"#N/A"}},null,null,null,null,null,"",{"$f":"VLOOKUP(I736,lists!$A$2:$B$1335,2,FALSE)","v":{"$error":"#N/A"}},null,{"$f":"VLOOKUP(K736,lists!$F$2:$G$17,2,FALSE)","v":{"$error":"#N/A"}},null,null,"",{"$f":"VLOOKUP(O736,lists!$A$2:$B$1335,2,FALSE)","v":{"$error":"#N/A"}},null,"",{"$f":"VLOOKUP(R736,lists!$A$2:$B$575,2,FALSE)","v":{"$error":"#N/A"}}]
[null,null,{"$f":"VLOOKUP(B737,lists!$F$2:$G$17,2,FALSE)","v":{"$error":"#N/A"}},null,null,null,null,null,"",{"$f":"VLOOKUP(I737,lists!$A$2:$B$1335,2,FALSE)","v":{"$error":"#N/A"}},null,{"$f":"VLOOKUP(K737,lists!$F$2:$G$17,2,FALSE)","v":{"$error":"#N/A"}},null,null,"",{"$f":"VLOOKUP(O737,lists!$A$2:$B$1335,2,FALSE)","v":{"$error":"#N/A"}},null,"",{"$f":"VLOOKUP(R737,lists!$A$2:$B$575,2,FALSE)","v":{"$error":"#N/A"}}]
[null,null,{"$f":"VLOOKUP(B738,lists!$F$2:$G$17,2,FALSE)","v":{"$error":"#N/A"}},null,null,null,null,null,"",{"$f":"VLOOKUP(I738,lists!$A$2:$B$1335,2,FALSE)","v":{"$error":"#N/A"}},null,{"$f":"VLOOKUP(K738,lists!$F$2:$G$17,2,FALSE)","v":{"$error":"#N/A"}},null,null,"",{"$f":"VLOOKUP(O738,lists!$A$2:$B$1335,2,FALSE)","v":{"$error":"#N/A"}},null,"",{"$f":"VLOOKUP(R738,lists!$A$2:$B$575,2,FALSE)","v":{"$error":"#N/A"}}]
[null,null,{"$f":"VLOOKUP(B739,lists!$F$2:$G$17,2,FALSE)","v":{"$error":"#N/A"}},null,null,null,null,null,"",{"$f":"VLOOKUP(I739,lists!$A$2:$B$1335,2,FALSE)","v":{"$error":"#N/A"}},null,{"$f":"VLOOKUP(K739,lists!$F$2:$G$17,2,FALSE)","v":{"$error":"#N/A"}},null,null,"",{"$f":"VLOOKUP(O739,lists!$A$2:$B$1335,2,FALSE)","v":{"$error":"#N/A"}},null,"",{"$f":"VLOOKUP(R739,lists!$A$2:$B$575,2,FALSE)","v":{"$error":"#N/A"}}]
[null,null,{"$f":"VLOOKUP(B740,lists!$F$2:$G$17,2,FALSE)","v":{"$error":"#N/A"}},null,null,null,null,null,"",{"$f":"VLOOKUP(I740,lists!$A$2:$B$1335,2,FALSE)","v":{"$error":"#N/A"}},null,{"$f":"VLOOKUP(K740,lists!$F$2:$G$17,2,FALSE)","v":{"$error":"#N/A"}},null,null,"",{"$f":"VLOOKUP(O740,lists!$A$2:$B$1335,2,FALSE)","v":{"$error":"#N/A"}},null,"",{"$f":"VLOOKUP(R740,lists!$A$2:$B$575,2,FALSE)","v":{"$error":"#N/A"}}]
[null,null,{"$f":"VLOOKUP(B741,lists!$F$2:$G$17,2,FALSE)","v":{"$error":"#N/A"}},null,null,null,null,null,"",{"$f":"VLOOKUP(I741,lists!$A$2:$B$1335,2,FALSE)","v":{"$error":"#N/A"}},null,{"$f":"VLOOKUP(K741,lists!$F$2:$G$17,2,FALSE)","v":{"$error":"#N/A"}},null,null,"",{"$f":"VLOOKUP(O741,lists!$A$2:$B$1335,2,FALSE)","v":{"$error":"#N/A"}},null,"",{"$f":"VLOOKUP(R741,lists!$A$2:$B$575,2,FALSE)","v":{"$error":"#N/A"}}]
[null,null,{"$f":"VLOOKUP(B742,lists!$F$2:$G$17,2,FALSE)","v":{"$error":"#N/A"}},null,null,null,null,null,"",{"$f":"VLOOKUP(I742,lists!$A$2:$B$1335,2,FALSE)","v":{"$error":"#N/A"}},null,{"$f":"VLOOKUP(K742,lists!$F$2:$G$17,2,FALSE)","v":{"$error":"#N/A"}},null,null,"",{"$f":"VLOOKUP(O742,lists!$A$2:$B$1335,2,FALSE)","v":{"$error":"#N/A"}},null,"",{"$f":"VLOOKUP(R742,lists!$A$2:$B$575,2,FALSE)","v":{"$error":"#N/A"}}]
[null,null,{"$f":"VLOOKUP(B743,lists!$F$2:$G$17,2,FALSE)","v":{"$error":"#N/A"}},null,null,null,null,null,"",{"$f":"VLOOKUP(I743,lists!$A$2:$B$1335,2,FALSE)","v":{"$error":"#N/A"}},null,{"$f":"VLOOKUP(K743,lists!$F$2:$G$17,2,FALSE)","v":{"$error":"#N/A"}},null,null,"",{"$f":"VLOOKUP(O743,lists!$A$2:$B$1335,2,FALSE)","v":{"$error":"#N/A"}},null,"",{"$f":"VLOOKUP(R743,lists!$A$2:$B$575,2,FALSE)","v":{"$error":"#N/A"}}]
[null,null,{"$f":"VLOOKUP(B744,lists!$F$2:$G$17,2,FALSE)","v":{"$error":"#N/A"}},null,null,null,null,null,"",{"$f":"VLOOKUP(I744,lists!$A$2:$B$1335,2,FALSE)","v":{"$error":"#N/A"}},null,{"$f":"VLOOKUP(K744,lists!$F$2:$G$17,2,FALSE)","v":{"$error":"#N/A"}},null,null,"",{"$f":"VLOOKUP(O744,lists!$A$2:$B$1335,2,FALSE)","v":{"$error":"#N/A"}},null,"",{"$f":"VLOOKUP(R744,lists!$A$2:$B$575,2,FALSE)","v":{"$error":"#N/A"}}]
[null,null,{"$f":"VLOOKUP(B745,lists!$F$2:$G$17,2,FALSE)","v":{"$error":"#N/A"}},null,null,null,null,null,"",{"$f":"VLOOKUP(I745,lists!$A$2:$B$1335,2,FALSE)","v":{"$error":"#N/A"}},null,{"$f":"VLOOKUP(K745,lists!$F$2:$G$17,2,FALSE)","v":{"$error":"#N/A"}},null,null,"",{"$f":"VLOOKUP(O745,lists!$A$2:$B$1335,2,FALSE)","v":{"$error":"#N/A"}},null,"",{"$f":"VLOOKUP(R745,lists!$A$2:$B$575,2,FALSE)","v":{"$error":"#N/A"}}]
[null,null,{"$f":"VLOOKUP(B746,lists!$F$2:$G$17,2,FALSE)","v":{"$error":"#N/A"}},null,null,null,null,null,"",{"$f":"VLOOKUP(I746,lists!$A$2:$B$1335,2,FALSE)","v":{"$error":"#N/A"}},null,{"$f":"VLOOKUP(K746,lists!$F$2:$G$17,2,FALSE)","v":{"$error":"#N/A"}},null,null,"",{"$f":"VLOOKUP(O746,lists!$A$2:$B$1335,2,FALSE)","v":{"$error":"#N/A"}},null,"",{"$f":"VLOOKUP(R746,lists!$A$2:$B$575,2,FALSE)","v":{"$error":"#N/A"}}]
[null,null,{"$f":"VLOOKUP(B747,lists!$F$2:$G$17,2,FALSE)","v":{"$error":"#N/A"}},null,null,null,null,null,"",{"$f":"VLOOKUP(I747,lists!$A$2:$B$1335,2,FALSE)","v":{"$error":"#N/A"}},null,{"$f":"VLOOKUP(K747,lists!$F$2:$G$17,2,FALSE)","v":{"$error":"#N/A"}},null,null,"",{"$f":"VLOOKUP(O747,lists!$A$2:$B$1335,2,FALSE)","v":{"$error":"#N/A"}},null,"",{"$f":"VLOOKUP(R747,lists!$A$2:$B$575,2,FALSE)","v":{"$error":"#N/A"}}]
[null,null,{"$f":"VLOOKUP(B748,lists!$F$2:$G$17,2,FALSE)","v":{"$error":"#N/A"}},null,null,null,null,null,"",{"$f":"VLOOKUP(I748,lists!$A$2:$B$1335,2,FALSE)","v":{"$error":"#N/A"}},null,{"$f":"VLOOKUP(K748,lists!$F$2:$G$17,2,FALSE)","v":{"$error":"#N/A"}},null,null,"",{"$f":"VLOOKUP(O748,lists!$A$2:$B$1335,2,FALSE)","v":{"$error":"#N/A"}},null,"",{"$f":"VLOOKUP(R748,lists!$A$2:$B$575,2,FALSE)","v":{"$error":"#N/A"}}]
[null,null,{"$f":"VLOOKUP(B749,lists!$F$2:$G$17,2,FALSE)","v":{"$error":"#N/A"}},null,null,null,null,null,"",{"$f":"VLOOKUP(I749,lists!$A$2:$B$1335,2,FALSE)","v":{"$error":"#N/A"}},null,{"$f":"VLOOKUP(K749,lists!$F$2:$G$17,2,FALSE)","v":{"$error":"#N/A"}},null,null,"",{"$f":"VLOOKUP(O749,lists!$A$2:$B$1335,2,FALSE)","v":{"$error":"#N/A"}},null,"",{"$f":"VLOOKUP(R749,lists!$A$2:$B$575,2,FALSE)","v":{"$error":"#N/A"}}]
[null,null,{"$f":"VLOOKUP(B750,lists!$F$2:$G$17,2,FALSE)","v":{"$error":"#N/A"}},null,null,null,null,null,"",{"$f":"VLOOKUP(I750,lists!$A$2:$B$1335,2,FALSE)","v":{"$error":"#N/A"}},null,{"$f":"VLOOKUP(K750,lists!$F$2:$G$17,2,FALSE)","v":{"$error":"#N/A"}},null,null,"",{"$f":"VLOOKUP(O750,lists!$A$2:$B$1335,2,FALSE)","v":{"$error":"#N/A"}},null,"",{"$f":"VLOOKUP(R750,lists!$A$2:$B$575,2,FALSE)","v":{"$error":"#N/A"}}]
[null,null,{"$f":"VLOOKUP(B751,lists!$F$2:$G$17,2,FALSE)","v":{"$error":"#N/A"}},null,null,null,null,null,"",{"$f":"VLOOKUP(I751,lists!$A$2:$B$1335,2,FALSE)","v":{"$error":"#N/A"}},null,{"$f":"VLOOKUP(K751,lists!$F$2:$G$17,2,FALSE)","v":{"$error":"#N/A"}},null,null,"",{"$f":"VLOOKUP(O751,lists!$A$2:$B$1335,2,FALSE)","v":{"$error":"#N/A"}},null,"",{"$f":"VLOOKUP(R751,lists!$A$2:$B$575,2,FALSE)","v":{"$error":"#N/A"}}]
[null,null,{"$f":"VLOOKUP(B752,lists!$F$2:$G$17,2,FALSE)","v":{"$error":"#N/A"}},null,null,null,null,null,"",{"$f":"VLOOKUP(I752,lists!$A$2:$B$1335,2,FALSE)","v":{"$error":"#N/A"}},null,{"$f":"VLOOKUP(K752,lists!$F$2:$G$17,2,FALSE)","v":{"$error":"#N/A"}},null,null,"",{"$f":"VLOOKUP(O752,lists!$A$2:$B$1335,2,FALSE)","v":{"$error":"#N/A"}},null,"",{"$f":"VLOOKUP(R752,lists!$A$2:$B$575,2,FALSE)","v":{"$error":"#N/A"}}]
[null,null,{"$f":"VLOOKUP(B753,lists!$F$2:$G$17,2,FALSE)","v":{"$error":"#N/A"}},null,null,null,null,null,"",{"$f":"VLOOKUP(I753,lists!$A$2:$B$1335,2,FALSE)","v":{"$error":"#N/A"}},null,{"$f":"VLOOKUP(K753,lists!$F$2:$G$17,2,FALSE)","v":{"$error":"#N/A"}},null,null,"",{"$f":"VLOOKUP(O753,lists!$A$2:$B$1335,2,FALSE)","v":{"$error":"#N/A"}},null,"",{"$f":"VLOOKUP(R753,lists!$A$2:$B$575,2,FALSE)","v":{"$error":"#N/A"}}]
[null,null,{"$f":"VLOOKUP(B754,lists!$F$2:$G$17,2,FALSE)","v":{"$error":"#N/A"}},null,null,null,null,null,"",{"$f":"VLOOKUP(I754,lists!$A$2:$B$1335,2,FALSE)","v":{"$error":"#N/A"}},null,{"$f":"VLOOKUP(K754,lists!$F$2:$G$17,2,FALSE)","v":{"$error":"#N/A"}},null,null,"",{"$f":"VLOOKUP(O754,lists!$A$2:$B$1335,2,FALSE)","v":{"$error":"#N/A"}},null,"",{"$f":"VLOOKUP(R754,lists!$A$2:$B$575,2,FALSE)","v":{"$error":"#N/A"}}]
[null,null,{"$f":"VLOOKUP(B755,lists!$F$2:$G$17,2,FALSE)","v":{"$error":"#N/A"}},null,null,null,null,null,"",{"$f":"VLOOKUP(I755,lists!$A$2:$B$1335,2,FALSE)","v":{"$error":"#N/A"}},null,{"$f":"VLOOKUP(K755,lists!$F$2:$G$17,2,FALSE)","v":{"$error":"#N/A"}},null,null,"",{"$f":"VLOOKUP(O755,lists!$A$2:$B$1335,2,FALSE)","v":{"$error":"#N/A"}},null,"",{"$f":"VLOOKUP(R755,lists!$A$2:$B$575,2,FALSE)","v":{"$error":"#N/A"}}]
[null,null,{"$f":"VLOOKUP(B756,lists!$F$2:$G$17,2,FALSE)","v":{"$error":"#N/A"}},null,null,null,null,null,"",{"$f":"VLOOKUP(I756,lists!$A$2:$B$1335,2,FALSE)","v":{"$error":"#N/A"}},null,{"$f":"VLOOKUP(K756,lists!$F$2:$G$17,2,FALSE)","v":{"$error":"#N/A"}},null,null,"",{"$f":"VLOOKUP(O756,lists!$A$2:$B$1335,2,FALSE)","v":{"$error":"#N/A"}},null,"",{"$f":"VLOOKUP(R756,lists!$A$2:$B$575,2,FALSE)","v":{"$error":"#N/A"}}]
[null,null,{"$f":"VLOOKUP(B757,lists!$F$2:$G$17,2,FALSE)","v":{"$error":"#N/A"}},null,null,null,null,null,"",{"$f":"VLOOKUP(I757,lists!$A$2:$B$1335,2,FALSE)","v":{"$error":"#N/A"}},null,{"$f":"VLOOKUP(K757,lists!$F$2:$G$17,2,FALSE)","v":{"$error":"#N/A"}},null,null,"",{"$f":"VLOOKUP(O757,lists!$A$2:$B$1335,2,FALSE)","v":{"$error":"#N/A"}},null,"",{"$f":"VLOOKUP(R757,lists!$A$2:$B$575,2,FALSE)","v":{"$error":"#N/A"}}]
[null,null,{"$f":"VLOOKUP(B758,lists!$F$2:$G$17,2,FALSE)","v":{"$error":"#N/A"}},null,null,null,null,null,"",{"$f":"VLOOKUP(I758,lists!$A$2:$B$1335,2,FALSE)","v":{"$error":"#N/A"}},null,{"$f":"VLOOKUP(K758,lists!$F$2:$G$17,2,FALSE)","v":{"$error":"#N/A"}},null,null,"",{"$f":"VLOOKUP(O758,lists!$A$2:$B$1335,2,FALSE)","v":{"$error":"#N/A"}},null,"",{"$f":"VLOOKUP(R758,lists!$A$2:$B$575,2,FALSE)","v":{"$error":"#N/A"}}]
[null,null,{"$f":"VLOOKUP(B759,lists!$F$2:$G$17,2,FALSE)","v":{"$error":"#N/A"}},null,null,null,null,null,"",{"$f":"VLOOKUP(I759,lists!$A$2:$B$1335,2,FALSE)","v":{"$error":"#N/A"}},null,{"$f":"VLOOKUP(K759,lists!$F$2:$G$17,2,FALSE)","v":{"$error":"#N/A"}},null,null,"",{"$f":"VLOOKUP(O759,lists!$A$2:$B$1335,2,FALSE)","v":{"$error":"#N/A"}},null,"",{"$f":"VLOOKUP(R759,lists!$A$2:$B$575,2,FALSE)","v":{"$error":"#N/A"}}]
[null,null,{"$f":"VLOOKUP(B760,lists!$F$2:$G$17,2,FALSE)","v":{"$error":"#N/A"}},null,null,null,null,null,"",{"$f":"VLOOKUP(I760,lists!$A$2:$B$1335,2,FALSE)","v":{"$error":"#N/A"}},null,{"$f":"VLOOKUP(K760,lists!$F$2:$G$17,2,FALSE)","v":{"$error":"#N/A"}},null,null,"",{"$f":"VLOOKUP(O760,lists!$A$2:$B$1335,2,FALSE)","v":{"$error":"#N/A"}},null,"",{"$f":"VLOOKUP(R760,lists!$A$2:$B$575,2,FALSE)","v":{"$error":"#N/A"}}]
[null,null,{"$f":"VLOOKUP(B761,lists!$F$2:$G$17,2,FALSE)","v":{"$error":"#N/A"}},null,null,null,null,null,"",{"$f":"VLOOKUP(I761,lists!$A$2:$B$1335,2,FALSE)","v":{"$error":"#N/A"}},null,{"$f":"VLOOKUP(K761,lists!$F$2:$G$17,2,FALSE)","v":{"$error":"#N/A"}},null,null,"",{"$f":"VLOOKUP(O761,lists!$A$2:$B$1335,2,FALSE)","v":{"$error":"#N/A"}},null,"",{"$f":"VLOOKUP(R761,lists!$A$2:$B$575,2,FALSE)","v":{"$error":"#N/A"}}]
[null,null,{"$f":"VLOOKUP(B762,lists!$F$2:$G$17,2,FALSE)","v":{"$error":"#N/A"}},null,null,null,null,null,"",{"$f":"VLOOKUP(I762,lists!$A$2:$B$1335,2,FALSE)","v":{"$error":"#N/A"}},null,{"$f":"VLOOKUP(K762,lists!$F$2:$G$17,2,FALSE)","v":{"$error":"#N/A"}},null,null,"",{"$f":"VLOOKUP(O762,lists!$A$2:$B$1335,2,FALSE)","v":{"$error":"#N/A"}},null,"",{"$f":"VLOOKUP(R762,lists!$A$2:$B$575,2,FALSE)","v":{"$error":"#N/A"}}]
[null,null,{"$f":"VLOOKUP(B763,lists!$F$2:$G$17,2,FALSE)","v":{"$error":"#N/A"}},null,null,null,null,null,"",{"$f":"VLOOKUP(I763,lists!$A$2:$B$1335,2,FALSE)","v":{"$error":"#N/A"}},null,{"$f":"VLOOKUP(K763,lists!$F$2:$G$17,2,FALSE)","v":{"$error":"#N/A"}},null,null,"",{"$f":"VLOOKUP(O763,lists!$A$2:$B$1335,2,FALSE)","v":{"$error":"#N/A"}},null,"",{"$f":"VLOOKUP(R763,lists!$A$2:$B$575,2,FALSE)","v":{"$error":"#N/A"}}]
[null,null,{"$f":"VLOOKUP(B764,lists!$F$2:$G$17,2,FALSE)","v":{"$error":"#N/A"}},null,null,null,null,null,"",{"$f":"VLOOKUP(I764,lists!$A$2:$B$1335,2,FALSE)","v":{"$error":"#N/A"}},null,{"$f":"VLOOKUP(K764,lists!$F$2:$G$17,2,FALSE)","v":{"$error":"#N/A"}},null,null,"",{"$f":"VLOOKUP(O764,lists!$A$2:$B$1335,2,FALSE)","v":{"$error":"#N/A"}},null,"",{"$f":"VLOOKUP(R764,lists!$A$2:$B$575,2,FALSE)","v":{"$error":"#N/A"}}]
[null,null,{"$f":"VLOOKUP(B765,lists!$F$2:$G$17,2,FALSE)","v":{"$error":"#N/A"}},null,null,null,null,null,"",{"$f":"VLOOKUP(I765,lists!$A$2:$B$1335,2,FALSE)","v":{"$error":"#N/A"}},null,{"$f":"VLOOKUP(K765,lists!$F$2:$G$17,2,FALSE)","v":{"$error":"#N/A"}},null,null,"",{"$f":"VLOOKUP(O765,lists!$A$2:$B$1335,2,FALSE)","v":{"$error":"#N/A"}},null,"",{"$f":"VLOOKUP(R765,lists!$A$2:$B$575,2,FALSE)","v":{"$error":"#N/A"}}]
[null,null,{"$f":"VLOOKUP(B766,lists!$F$2:$G$17,2,FALSE)","v":{"$error":"#N/A"}},null,null,null,null,null,"",{"$f":"VLOOKUP(I766,lists!$A$2:$B$1335,2,FALSE)","v":{"$error":"#N/A"}},null,{"$f":"VLOOKUP(K766,lists!$F$2:$G$17,2,FALSE)","v":{"$error":"#N/A"}},null,null,"",{"$f":"VLOOKUP(O766,lists!$A$2:$B$1335,2,FALSE)","v":{"$error":"#N/A"}},null,"",{"$f":"VLOOKUP(R766,lists!$A$2:$B$575,2,FALSE)","v":{"$error":"#N/A"}}]
[null,null,{"$f":"VLOOKUP(B767,lists!$F$2:$G$17,2,FALSE)","v":{"$error":"#N/A"}},null,null,null,null,null,"",{"$f":"VLOOKUP(I767,lists!$A$2:$B$1335,2,FALSE)","v":{"$error":"#N/A"}},null,{"$f":"VLOOKUP(K767,lists!$F$2:$G$17,2,FALSE)","v":{"$error":"#N/A"}},null,null,"",{"$f":"VLOOKUP(O767,lists!$A$2:$B$1335,2,FALSE)","v":{"$error":"#N/A"}},null,"",{"$f":"VLOOKUP(R767,lists!$A$2:$B$575,2,FALSE)","v":{"$error":"#N/A"}}]
[null,null,{"$f":"VLOOKUP(B768,lists!$F$2:$G$17,2,FALSE)","v":{"$error":"#N/A"}},null,null,null,null,null,"",{"$f":"VLOOKUP(I768,lists!$A$2:$B$1335,2,FALSE)","v":{"$error":"#N/A"}},null,{"$f":"VLOOKUP(K768,lists!$F$2:$G$17,2,FALSE)","v":{"$error":"#N/A"}},null,null,"",{"$f":"VLOOKUP(O768,lists!$A$2:$B$1335,2,FALSE)","v":{"$error":"#N/A"}},null,"",{"$f":"VLOOKUP(R768,lists!$A$2:$B$575,2,FALSE)","v":{"$error":"#N/A"}}]
[null,null,{"$f":"VLOOKUP(B769,lists!$F$2:$G$17,2,FALSE)","v":{"$error":"#N/A"}},null,null,null,null,null,"",{"$f":"VLOOKUP(I769,lists!$A$2:$B$1335,2,FALSE)","v":{"$error":"#N/A"}},null,{"$f":"VLOOKUP(K769,lists!$F$2:$G$17,2,FALSE)","v":{"$error":"#N/A"}},null,null,"",{"$f":"VLOOKUP(O769,lists!$A$2:$B$1335,2,FALSE)","v":{"$error":"#N/A"}},null,"",{"$f":"VLOOKUP(R769,lists!$A$2:$B$575,2,FALSE)","v":{"$error":"#N/A"}}]
[null,null,{"$f":"VLOOKUP(B770,lists!$F$2:$G$17,2,FALSE)","v":{"$error":"#N/A"}},null,null,null,null,null,"",{"$f":"VLOOKUP(I770,lists!$A$2:$B$1335,2,FALSE)","v":{"$error":"#N/A"}},null,{"$f":"VLOOKUP(K770,lists!$F$2:$G$17,2,FALSE)","v":{"$error":"#N/A"}},null,null,"",{"$f":"VLOOKUP(O770,lists!$A$2:$B$1335,2,FALSE)","v":{"$error":"#N/A"}},null,"",{"$f":"VLOOKUP(R770,lists!$A$2:$B$575,2,FALSE)","v":{"$error":"#N/A"}}]
[null,null,{"$f":"VLOOKUP(B771,lists!$F$2:$G$17,2,FALSE)","v":{"$error":"#N/A"}},null,null,null,null,null,"",{"$f":"VLOOKUP(I771,lists!$A$2:$B$1335,2,FALSE)","v":{"$error":"#N/A"}},null,{"$f":"VLOOKUP(K771,lists!$F$2:$G$17,2,FALSE)","v":{"$error":"#N/A"}},null,null,"",{"$f":"VLOOKUP(O771,lists!$A$2:$B$1335,2,FALSE)","v":{"$error":"#N/A"}},null,"",{"$f":"VLOOKUP(R771,lists!$A$2:$B$575,2,FALSE)","v":{"$error":"#N/A"}}]
[null,null,{"$f":"VLOOKUP(B772,lists!$F$2:$G$17,2,FALSE)","v":{"$error":"#N/A"}},null,null,null,null,null,"",{"$f":"VLOOKUP(I772,lists!$A$2:$B$1335,2,FALSE)","v":{"$error":"#N/A"}},null,{"$f":"VLOOKUP(K772,lists!$F$2:$G$17,2,FALSE)","v":{"$error":"#N/A"}},null,null,"",{"$f":"VLOOKUP(O772,lists!$A$2:$B$1335,2,FALSE)","v":{"$error":"#N/A"}},null,"",{"$f":"VLOOKUP(R772,lists!$A$2:$B$575,2,FALSE)","v":{"$error":"#N/A"}}]
[null,null,{"$f":"VLOOKUP(B773,lists!$F$2:$G$17,2,FALSE)","v":{"$error":"#N/A"}},null,null,null,null,null,"",{"$f":"VLOOKUP(I773,lists!$A$2:$B$1335,2,FALSE)","v":{"$error":"#N/A"}},null,{"$f":"VLOOKUP(K773,lists!$F$2:$G$17,2,FALSE)","v":{"$error":"#N/A"}},null,null,"",{"$f":"VLOOKUP(O773,lists!$A$2:$B$1335,2,FALSE)","v":{"$error":"#N/A"}},null,"",{"$f":"VLOOKUP(R773,lists!$A$2:$B$575,2,FALSE)","v":{"$error":"#N/A"}}]
[null,null,{"$f":"VLOOKUP(B774,lists!$F$2:$G$17,2,FALSE)","v":{"$error":"#N/A"}},null,null,null,null,null,"",{"$f":"VLOOKUP(I774,lists!$A$2:$B$1335,2,FALSE)","v":{"$error":"#N/A"}},null,{"$f":"VLOOKUP(K774,lists!$F$2:$G$17,2,FALSE)","v":{"$error":"#N/A"}},null,null,"",{"$f":"VLOOKUP(O774,lists!$A$2:$B$1335,2,FALSE)","v":{"$error":"#N/A"}},null,"",{"$f":"VLOOKUP(R774,lists!$A$2:$B$575,2,FALSE)","v":{"$error":"#N/A"}}]
[null,null,{"$f":"VLOOKUP(B775,lists!$F$2:$G$17,2,FALSE)","v":{"$error":"#N/A"}},null,null,null,null,null,"",{"$f":"VLOOKUP(I775,lists!$A$2:$B$1335,2,FALSE)","v":{"$error":"#N/A"}},null,{"$f":"VLOOKUP(K775,lists!$F$2:$G$17,2,FALSE)","v":{"$error":"#N/A"}},null,null,"",{"$f":"VLOOKUP(O775,lists!$A$2:$B$1335,2,FALSE)","v":{"$error":"#N/A"}},null,"",{"$f":"VLOOKUP(R775,lists!$A$2:$B$575,2,FALSE)","v":{"$error":"#N/A"}}]
[null,null,{"$f":"VLOOKUP(B776,lists!$F$2:$G$17,2,FALSE)","v":{"$error":"#N/A"}},null,null,null,null,null,"",{"$f":"VLOOKUP(I776,lists!$A$2:$B$1335,2,FALSE)","v":{"$error":"#N/A"}},null,{"$f":"VLOOKUP(K776,lists!$F$2:$G$17,2,FALSE)","v":{"$error":"#N/A"}},null,null,"",{"$f":"VLOOKUP(O776,lists!$A$2:$B$1335,2,FALSE)","v":{"$error":"#N/A"}},null,"",{"$f":"VLOOKUP(R776,lists!$A$2:$B$575,2,FALSE)","v":{"$error":"#N/A"}}]
[null,null,{"$f":"VLOOKUP(B777,lists!$F$2:$G$17,2,FALSE)","v":{"$error":"#N/A"}},null,null,null,null,null,"",{"$f":"VLOOKUP(I777,lists!$A$2:$B$1335,2,FALSE)","v":{"$error":"#N/A"}},null,{"$f":"VLOOKUP(K777,lists!$F$2:$G$17,2,FALSE)","v":{"$error":"#N/A"}},null,null,"",{"$f":"VLOOKUP(O777,lists!$A$2:$B$1335,2,FALSE)","v":{"$error":"#N/A"}},null,"",{"$f":"VLOOKUP(R777,lists!$A$2:$B$575,2,FALSE)","v":{"$error":"#N/A"}}]
[null,null,{"$f":"VLOOKUP(B778,lists!$F$2:$G$17,2,FALSE)","v":{"$error":"#N/A"}},null,null,null,null,null,"",{"$f":"VLOOKUP(I778,lists!$A$2:$B$1335,2,FALSE)","v":{"$error":"#N/A"}},null,{"$f":"VLOOKUP(K778,lists!$F$2:$G$17,2,FALSE)","v":{"$error":"#N/A"}},null,null,"",{"$f":"VLOOKUP(O778,lists!$A$2:$B$1335,2,FALSE)","v":{"$error":"#N/A"}},null,"",{"$f":"VLOOKUP(R778,lists!$A$2:$B$575,2,FALSE)","v":{"$error":"#N/A"}}]
[null,null,{"$f":"VLOOKUP(B779,lists!$F$2:$G$17,2,FALSE)","v":{"$error":"#N/A"}},null,null,null,null,null,"",{"$f":"VLOOKUP(I779,lists!$A$2:$B$1335,2,FALSE)","v":{"$error":"#N/A"}},null,{"$f":"VLOOKUP(K779,lists!$F$2:$G$17,2,FALSE)","v":{"$error":"#N/A"}},null,null,"",{"$f":"VLOOKUP(O779,lists!$A$2:$B$1335,2,FALSE)","v":{"$error":"#N/A"}},null,"",{"$f":"VLOOKUP(R779,lists!$A$2:$B$575,2,FALSE)","v":{"$error":"#N/A"}}]
[null,null,{"$f":"VLOOKUP(B780,lists!$F$2:$G$17,2,FALSE)","v":{"$error":"#N/A"}},null,null,null,null,null,"",{"$f":"VLOOKUP(I780,lists!$A$2:$B$1335,2,FALSE)","v":{"$error":"#N/A"}},null,{"$f":"VLOOKUP(K780,lists!$F$2:$G$17,2,FALSE)","v":{"$error":"#N/A"}},null,null,"",{"$f":"VLOOKUP(O780,lists!$A$2:$B$1335,2,FALSE)","v":{"$error":"#N/A"}},null,"",{"$f":"VLOOKUP(R780,lists!$A$2:$B$575,2,FALSE)","v":{"$error":"#N/A"}}]
[null,null,{"$f":"VLOOKUP(B781,lists!$F$2:$G$17,2,FALSE)","v":{"$error":"#N/A"}},null,null,null,null,null,"",{"$f":"VLOOKUP(I781,lists!$A$2:$B$1335,2,FALSE)","v":{"$error":"#N/A"}},null,{"$f":"VLOOKUP(K781,lists!$F$2:$G$17,2,FALSE)","v":{"$error":"#N/A"}},null,null,"",{"$f":"VLOOKUP(O781,lists!$A$2:$B$1335,2,FALSE)","v":{"$error":"#N/A"}},null,"",{"$f":"VLOOKUP(R781,lists!$A$2:$B$575,2,FALSE)","v":{"$error":"#N/A"}}]
[null,null,{"$f":"VLOOKUP(B782,lists!$F$2:$G$17,2,FALSE)","v":{"$error":"#N/A"}},null,null,null,null,null,"",{"$f":"VLOOKUP(I782,lists!$A$2:$B$1335,2,FALSE)","v":{"$error":"#N/A"}},null,{"$f":"VLOOKUP(K782,lists!$F$2:$G$17,2,FALSE)","v":{"$error":"#N/A"}},null,null,"",{"$f":"VLOOKUP(O782,lists!$A$2:$B$1335,2,FALSE)","v":{"$error":"#N/A"}},null,"",{"$f":"VLOOKUP(R782,lists!$A$2:$B$575,2,FALSE)","v":{"$error":"#N/A"}}]
[null,null,{"$f":"VLOOKUP(B783,lists!$F$2:$G$17,2,FALSE)","v":{"$error":"#N/A"}},null,null,null,null,null,"",{"$f":"VLOOKUP(I783,lists!$A$2:$B$1335,2,FALSE)","v":{"$error":"#N/A"}},null,{"$f":"VLOOKUP(K783,lists!$F$2:$G$17,2,FALSE)","v":{"$error":"#N/A"}},null,null,"",{"$f":"VLOOKUP(O783,lists!$A$2:$B$1335,2,FALSE)","v":{"$error":"#N/A"}},null,"",{"$f":"VLOOKUP(R783,lists!$A$2:$B$575,2,FALSE)","v":{"$error":"#N/A"}}]
[null,null,{"$f":"VLOOKUP(B784,lists!$F$2:$G$17,2,FALSE)","v":{"$error":"#N/A"}},null,null,null,null,null,"",{"$f":"VLOOKUP(I784,lists!$A$2:$B$1335,2,FALSE)","v":{"$error":"#N/A"}},null,{"$f":"VLOOKUP(K784,lists!$F$2:$G$17,2,FALSE)","v":{"$error":"#N/A"}},null,null,"",{"$f":"VLOOKUP(O784,lists!$A$2:$B$1335,2,FALSE)","v":{"$error":"#N/A"}},null,"",{"$f":"VLOOKUP(R784,lists!$A$2:$B$575,2,FALSE)","v":{"$error":"#N/A"}}]
[null,null,{"$f":"VLOOKUP(B785,lists!$F$2:$G$17,2,FALSE)","v":{"$error":"#N/A"}},null,null,null,null,null,"",{"$f":"VLOOKUP(I785,lists!$A$2:$B$1335,2,FALSE)","v":{"$error":"#N/A"}},null,{"$f":"VLOOKUP(K785,lists!$F$2:$G$17,2,FALSE)","v":{"$error":"#N/A"}},null,null,"",{"$f":"VLOOKUP(O785,lists!$A$2:$B$1335,2,FALSE)","v":{"$error":"#N/A"}},null,"",{"$f":"VLOOKUP(R785,lists!$A$2:$B$575,2,FALSE)","v":{"$error":"#N/A"}}]
[null,null,{"$f":"VLOOKUP(B786,lists!$F$2:$G$17,2,FALSE)","v":{"$error":"#N/A"}},null,null,null,null,null,"",{"$f":"VLOOKUP(I786,lists!$A$2:$B$1335,2,FALSE)","v":{"$error":"#N/A"}},null,{"$f":"VLOOKUP(K786,lists!$F$2:$G$17,2,FALSE)","v":{"$error":"#N/A"}},null,null,"",{"$f":"VLOOKUP(O786,lists!$A$2:$B$1335,2,FALSE)","v":{"$error":"#N/A"}},null,"",{"$f":"VLOOKUP(R786,lists!$A$2:$B$575,2,FALSE)","v":{"$error":"#N/A"}}]
[null,null,{"$f":"VLOOKUP(B787,lists!$F$2:$G$17,2,FALSE)","v":{"$error":"#N/A"}},null,null,null,null,null,"",{"$f":"VLOOKUP(I787,lists!$A$2:$B$1335,2,FALSE)","v":{"$error":"#N/A"}},null,{"$f":"VLOOKUP(K787,lists!$F$2:$G$17,2,FALSE)","v":{"$error":"#N/A"}},null,null,"",{"$f":"VLOOKUP(O787,lists!$A$2:$B$1335,2,FALSE)","v":{"$error":"#N/A"}},null,"",{"$f":"VLOOKUP(R787,lists!$A$2:$B$575,2,FALSE)","v":{"$error":"#N/A"}}]
[null,null,{"$f":"VLOOKUP(B788,lists!$F$2:$G$17,2,FALSE)","v":{"$error":"#N/A"}},null,null,null,null,null,"",{"$f":"VLOOKUP(I788,lists!$A$2:$B$1335,2,FALSE)","v":{"$error":"#N/A"}},null,{"$f":"VLOOKUP(K788,lists!$F$2:$G$17,2,FALSE)","v":{"$error":"#N/A"}},null,null,"",{"$f":"VLOOKUP(O788,lists!$A$2:$B$1335,2,FALSE)","v":{"$error":"#N/A"}},null,"",{"$f":"VLOOKUP(R788,lists!$A$2:$B$575,2,FALSE)","v":{"$error":"#N/A"}}]
[null,null,{"$f":"VLOOKUP(B789,lists!$F$2:$G$17,2,FALSE)","v":{"$error":"#N/A"}},null,null,null,null,null,"",{"$f":"VLOOKUP(I789,lists!$A$2:$B$1335,2,FALSE)","v":{"$error":"#N/A"}},null,{"$f":"VLOOKUP(K789,lists!$F$2:$G$17,2,FALSE)","v":{"$error":"#N/A"}},null,null,"",{"$f":"VLOOKUP(O789,lists!$A$2:$B$1335,2,FALSE)","v":{"$error":"#N/A"}},null,"",{"$f":"VLOOKUP(R789,lists!$A$2:$B$575,2,FALSE)","v":{"$error":"#N/A"}}]
[null,null,{"$f":"VLOOKUP(B790,lists!$F$2:$G$17,2,FALSE)","v":{"$error":"#N/A"}},null,null,null,null,null,"",{"$f":"VLOOKUP(I790,lists!$A$2:$B$1335,2,FALSE)","v":{"$error":"#N/A"}},null,{"$f":"VLOOKUP(K790,lists!$F$2:$G$17,2,FALSE)","v":{"$error":"#N/A"}},null,null,"",{"$f":"VLOOKUP(O790,lists!$A$2:$B$1335,2,FALSE)","v":{"$error":"#N/A"}},null,"",{"$f":"VLOOKUP(R790,lists!$A$2:$B$575,2,FALSE)","v":{"$error":"#N/A"}}]
[null,null,{"$f":"VLOOKUP(B791,lists!$F$2:$G$17,2,FALSE)","v":{"$error":"#N/A"}},null,null,null,null,null,"",{"$f":"VLOOKUP(I791,lists!$A$2:$B$1335,2,FALSE)","v":{"$error":"#N/A"}},null,{"$f":"VLOOKUP(K791,lists!$F$2:$G$17,2,FALSE)","v":{"$error":"#N/A"}},null,null,"",{"$f":"VLOOKUP(O791,lists!$A$2:$B$1335,2,FALSE)","v":{"$error":"#N/A"}},null,"",{"$f":"VLOOKUP(R791,lists!$A$2:$B$575,2,FALSE)","v":{"$error":"#N/A"}}]
[null,null,{"$f":"VLOOKUP(B792,lists!$F$2:$G$17,2,FALSE)","v":{"$error":"#N/A"}},null,null,null,null,null,"",{"$f":"VLOOKUP(I792,lists!$A$2:$B$1335,2,FALSE)","v":{"$error":"#N/A"}},null,{"$f":"VLOOKUP(K792,lists!$F$2:$G$17,2,FALSE)","v":{"$error":"#N/A"}},null,null,"",{"$f":"VLOOKUP(O792,lists!$A$2:$B$1335,2,FALSE)","v":{"$error":"#N/A"}},null,"",{"$f":"VLOOKUP(R792,lists!$A$2:$B$575,2,FALSE)","v":{"$error":"#N/A"}}]
[null,null,{"$f":"VLOOKUP(B793,lists!$F$2:$G$17,2,FALSE)","v":{"$error":"#N/A"}},null,null,null,null,null,"",{"$f":"VLOOKUP(I793,lists!$A$2:$B$1335,2,FALSE)","v":{"$error":"#N/A"}},null,{"$f":"VLOOKUP(K793,lists!$F$2:$G$17,2,FALSE)","v":{"$error":"#N/A"}},null,null,"",{"$f":"VLOOKUP(O793,lists!$A$2:$B$1335,2,FALSE)","v":{"$error":"#N/A"}},null,"",{"$f":"VLOOKUP(R793,lists!$A$2:$B$575,2,FALSE)","v":{"$error":"#N/A"}}]
[null,null,{"$f":"VLOOKUP(B794,lists!$F$2:$G$17,2,FALSE)","v":{"$error":"#N/A"}},null,null,null,null,null,"",{"$f":"VLOOKUP(I794,lists!$A$2:$B$1335,2,FALSE)","v":{"$error":"#N/A"}},null,{"$f":"VLOOKUP(K794,lists!$F$2:$G$17,2,FALSE)","v":{"$error":"#N/A"}},null,null,"",{"$f":"VLOOKUP(O794,lists!$A$2:$B$1335,2,FALSE)","v":{"$error":"#N/A"}},null,"",{"$f":"VLOOKUP(R794,lists!$A$2:$B$575,2,FALSE)","v":{"$error":"#N/A"}}]
[null,null,{"$f":"VLOOKUP(B795,lists!$F$2:$G$17,2,FALSE)","v":{"$error":"#N/A"}},null,null,null,null,null,"",{"$f":"VLOOKUP(I795,lists!$A$2:$B$1335,2,FALSE)","v":{"$error":"#N/A"}},null,{"$f":"VLOOKUP(K795,lists!$F$2:$G$17,2,FALSE)","v":{"$error":"#N/A"}},null,null,"",{"$f":"VLOOKUP(O795,lists!$A$2:$B$1335,2,FALSE)","v":{"$error":"#N/A"}},null,"",{"$f":"VLOOKUP(R795,lists!$A$2:$B$575,2,FALSE)","v":{"$error":"#N/A"}}]
[null,null,{"$f":"VLOOKUP(B796,lists!$F$2:$G$17,2,FALSE)","v":{"$error":"#N/A"}},null,null,null,null,null,"",{"$f":"VLOOKUP(I796,lists!$A$2:$B$1335,2,FALSE)","v":{"$error":"#N/A"}},null,{"$f":"VLOOKUP(K796,lists!$F$2:$G$17,2,FALSE)","v":{"$error":"#N/A"}},null,null,"",{"$f":"VLOOKUP(O796,lists!$A$2:$B$1335,2,FALSE)","v":{"$error":"#N/A"}},null,"",{"$f":"VLOOKUP(R796,lists!$A$2:$B$575,2,FALSE)","v":{"$error":"#N/A"}}]
[null,null,{"$f":"VLOOKUP(B797,lists!$F$2:$G$17,2,FALSE)","v":{"$error":"#N/A"}},null,null,null,null,null,"",{"$f":"VLOOKUP(I797,lists!$A$2:$B$1335,2,FALSE)","v":{"$error":"#N/A"}},null,{"$f":"VLOOKUP(K797,lists!$F$2:$G$17,2,FALSE)","v":{"$error":"#N/A"}},null,null,"",{"$f":"VLOOKUP(O797,lists!$A$2:$B$1335,2,FALSE)","v":{"$error":"#N/A"}},null,"",{"$f":"VLOOKUP(R797,lists!$A$2:$B$575,2,FALSE)","v":{"$error":"#N/A"}}]
[null,null,{"$f":"VLOOKUP(B798,lists!$F$2:$G$17,2,FALSE)","v":{"$error":"#N/A"}},null,null,null,null,null,"",{"$f":"VLOOKUP(I798,lists!$A$2:$B$1335,2,FALSE)","v":{"$error":"#N/A"}},null,{"$f":"VLOOKUP(K798,lists!$F$2:$G$17,2,FALSE)","v":{"$error":"#N/A"}},null,null,"",{"$f":"VLOOKUP(O798,lists!$A$2:$B$1335,2,FALSE)","v":{"$error":"#N/A"}},null,"",{"$f":"VLOOKUP(R798,lists!$A$2:$B$575,2,FALSE)","v":{"$error":"#N/A"}}]
[null,null,{"$f":"VLOOKUP(B799,lists!$F$2:$G$17,2,FALSE)","v":{"$error":"#N/A"}},null,null,null,null,null,"",{"$f":"VLOOKUP(I799,lists!$A$2:$B$1335,2,FALSE)","v":{"$error":"#N/A"}},null,{"$f":"VLOOKUP(K799,lists!$F$2:$G$17,2,FALSE)","v":{"$error":"#N/A"}},null,null,"",{"$f":"VLOOKUP(O799,lists!$A$2:$B$1335,2,FALSE)","v":{"$error":"#N/A"}},null,"",{"$f":"VLOOKUP(R799,lists!$A$2:$B$575,2,FALSE)","v":{"$error":"#N/A"}}]
[null,null,{"$f":"VLOOKUP(B800,lists!$F$2:$G$17,2,FALSE)","v":{"$error":"#N/A"}},null,null,null,null,null,"",{"$f":"VLOOKUP(I800,lists!$A$2:$B$1335,2,FALSE)","v":{"$error":"#N/A"}},null,{"$f":"VLOOKUP(K800,lists!$F$2:$G$17,2,FALSE)","v":{"$error":"#N/A"}},null,null,"",{"$f":"VLOOKUP(O800,lists!$A$2:$B$1335,2,FALSE)","v":{"$error":"#N/A"}},null,"",{"$f":"VLOOKUP(R800,lists!$A$2:$B$575,2,FALSE)","v":{"$error":"#N/A"}}]
[null,null,{"$f":"VLOOKUP(B801,lists!$F$2:$G$17,2,FALSE)","v":{"$error":"#N/A"}},null,null,null,null,null,"",{"$f":"VLOOKUP(I801,lists!$A$2:$B$1335,2,FALSE)","v":{"$error":"#N/A"}},null,{"$f":"VLOOKUP(K801,lists!$F$2:$G$17,2,FALSE)","v":{"$error":"#N/A"}},null,null,"",{"$f":"VLOOKUP(O801,lists!$A$2:$B$1335,2,FALSE)","v":{"$error":"#N/A"}},null,"",{"$f":"VLOOKUP(R801,lists!$A$2:$B$575,2,FALSE)","v":{"$error":"#N/A"}}]
[null,null,{"$f":"VLOOKUP(B802,lists!$F$2:$G$17,2,FALSE)","v":{"$error":"#N/A"}},null,null,null,null,null,"",{"$f":"VLOOKUP(I802,lists!$A$2:$B$1335,2,FALSE)","v":{"$error":"#N/A"}},null,{"$f":"VLOOKUP(K802,lists!$F$2:$G$17,2,FALSE)","v":{"$error":"#N/A"}},null,null,"",{"$f":"VLOOKUP(O802,lists!$A$2:$B$1335,2,FALSE)","v":{"$error":"#N/A"}},null,"",{"$f":"VLOOKUP(R802,lists!$A$2:$B$575,2,FALSE)","v":{"$error":"#N/A"}}]
[null,null,{"$f":"VLOOKUP(B803,lists!$F$2:$G$17,2,FALSE)","v":{"$error":"#N/A"}},null,null,null,null,null,"",{"$f":"VLOOKUP(I803,lists!$A$2:$B$1335,2,FALSE)","v":{"$error":"#N/A"}},null,{"$f":"VLOOKUP(K803,lists!$F$2:$G$17,2,FALSE)","v":{"$error":"#N/A"}},null,null,"",{"$f":"VLOOKUP(O803,lists!$A$2:$B$1335,2,FALSE)","v":{"$error":"#N/A"}},null,"",{"$f":"VLOOKUP(R803,lists!$A$2:$B$575,2,FALSE)","v":{"$error":"#N/A"}}]
[null,null,{"$f":"VLOOKUP(B804,lists!$F$2:$G$17,2,FALSE)","v":{"$error":"#N/A"}},null,null,null,null,null,"",{"$f":"VLOOKUP(I804,lists!$A$2:$B$1335,2,FALSE)","v":{"$error":"#N/A"}},null,{"$f":"VLOOKUP(K804,lists!$F$2:$G$17,2,FALSE)","v":{"$error":"#N/A"}},null,null,"",{"$f":"VLOOKUP(O804,lists!$A$2:$B$1335,2,FALSE)","v":{"$error":"#N/A"}},null,"",{"$f":"VLOOKUP(R804,lists!$A$2:$B$575,2,FALSE)","v":{"$error":"#N/A"}}]
[null,null,{"$f":"VLOOKUP(B805,lists!$F$2:$G$17,2,FALSE)","v":{"$error":"#N/A"}},null,null,null,null,null,"",{"$f":"VLOOKUP(I805,lists!$A$2:$B$1335,2,FALSE)","v":{"$error":"#N/A"}},null,{"$f":"VLOOKUP(K805,lists!$F$2:$G$17,2,FALSE)","v":{"$error":"#N/A"}},null,null,"",{"$f":"VLOOKUP(O805,lists!$A$2:$B$1335,2,FALSE)","v":{"$error":"#N/A"}},null,"",{"$f":"VLOOKUP(R805,lists!$A$2:$B$575,2,FALSE)","v":{"$error":"#N/A"}}]
[null,null,{"$f":"VLOOKUP(B806,lists!$F$2:$G$17,2,FALSE)","v":{"$error":"#N/A"}},null,null,null,null,null,"",{"$f":"VLOOKUP(I806,lists!$A$2:$B$1335,2,FALSE)","v":{"$error":"#N/A"}},null,{"$f":"VLOOKUP(K806,lists!$F$2:$G$17,2,FALSE)","v":{"$error":"#N/A"}},null,null,"",{"$f":"VLOOKUP(O806,lists!$A$2:$B$1335,2,FALSE)","v":{"$error":"#N/A"}},null,"",{"$f":"VLOOKUP(R806,lists!$A$2:$B$575,2,FALSE)","v":{"$error":"#N/A"}}]
[null,null,{"$f":"VLOOKUP(B807,lists!$F$2:$G$17,2,FALSE)","v":{"$error":"#N/A"}},null,null,null,null,null,"",{"$f":"VLOOKUP(I807,lists!$A$2:$B$1335,2,FALSE)","v":{"$error":"#N/A"}},null,{"$f":"VLOOKUP(K807,lists!$F$2:$G$17,2,FALSE)","v":{"$error":"#N/A"}},null,null,"",{"$f":"VLOOKUP(O807,lists!$A$2:$B$1335,2,FALSE)","v":{"$error":"#N/A"}},null,"",{"$f":"VLOOKUP(R807,lists!$A$2:$B$575,2,FALSE)","v":{"$error":"#N/A"}}]
[null,null,{"$f":"VLOOKUP(B808,lists!$F$2:$G$17,2,FALSE)","v":{"$error":"#N/A"}},null,null,null,null,null,"",{"$f":"VLOOKUP(I808,lists!$A$2:$B$1335,2,FALSE)","v":{"$error":"#N/A"}},null,{"$f":"VLOOKUP(K808,lists!$F$2:$G$17,2,FALSE)","v":{"$error":"#N/A"}},null,null,"",{"$f":"VLOOKUP(O808,lists!$A$2:$B$1335,2,FALSE)","v":{"$error":"#N/A"}},null,"",{"$f":"VLOOKUP(R808,lists!$A$2:$B$575,2,FALSE)","v":{"$error":"#N/A"}}]
[null,null,{"$f":"VLOOKUP(B809,lists!$F$2:$G$17,2,FALSE)","v":{"$error":"#N/A"}},null,null,null,null,null,"",{"$f":"VLOOKUP(I809,lists!$A$2:$B$1335,2,FALSE)","v":{"$error":"#N/A"}},null,{"$f":"VLOOKUP(K809,lists!$F$2:$G$17,2,FALSE)","v":{"$error":"#N/A"}},null,null,"",{"$f":"VLOOKUP(O809,lists!$A$2:$B$1335,2,FALSE)","v":{"$error":"#N/A"}},null,"",{"$f":"VLOOKUP(R809,lists!$A$2:$B$575,2,FALSE)","v":{"$error":"#N/A"}}]
[null,null,{"$f":"VLOOKUP(B810,lists!$F$2:$G$17,2,FALSE)","v":{"$error":"#N/A"}},null,null,null,null,null,"",{"$f":"VLOOKUP(I810,lists!$A$2:$B$1335,2,FALSE)","v":{"$error":"#N/A"}},null,{"$f":"VLOOKUP(K810,lists!$F$2:$G$17,2,FALSE)","v":{"$error":"#N/A"}},null,null,"",{"$f":"VLOOKUP(O810,lists!$A$2:$B$1335,2,FALSE)","v":{"$error":"#N/A"}},null,"",{"$f":"VLOOKUP(R810,lists!$A$2:$B$575,2,FALSE)","v":{"$error":"#N/A"}}]
[null,null,{"$f":"VLOOKUP(B811,lists!$F$2:$G$17,2,FALSE)","v":{"$error":"#N/A"}},null,null,null,null,null,"",{"$f":"VLOOKUP(I811,lists!$A$2:$B$1335,2,FALSE)","v":{"$error":"#N/A"}},null,{"$f":"VLOOKUP(K811,lists!$F$2:$G$17,2,FALSE)","v":{"$error":"#N/A"}},null,null,"",{"$f":"VLOOKUP(O811,lists!$A$2:$B$1335,2,FALSE)","v":{"$error":"#N/A"}},null,"",{"$f":"VLOOKUP(R811,lists!$A$2:$B$575,2,FALSE)","v":{"$error":"#N/A"}}]
[null,null,{"$f":"VLOOKUP(B812,lists!$F$2:$G$17,2,FALSE)","v":{"$error":"#N/A"}},null,null,null,null,null,"",{"$f":"VLOOKUP(I812,lists!$A$2:$B$1335,2,FALSE)","v":{"$error":"#N/A"}},null,{"$f":"VLOOKUP(K812,lists!$F$2:$G$17,2,FALSE)","v":{"$error":"#N/A"}},null,null,"",{"$f":"VLOOKUP(O812,lists!$A$2:$B$1335,2,FALSE)","v":{"$error":"#N/A"}},null,"",{"$f":"VLOOKUP(R812,lists!$A$2:$B$575,2,FALSE)","v":{"$error":"#N/A"}}]
[null,null,{"$f":"VLOOKUP(B813,lists!$F$2:$G$17,2,FALSE)","v":{"$error":"#N/A"}},null,null,null,null,null,"",{"$f":"VLOOKUP(I813,lists!$A$2:$B$1335,2,FALSE)","v":{"$error":"#N/A"}},null,{"$f":"VLOOKUP(K813,lists!$F$2:$G$17,2,FALSE)","v":{"$error":"#N/A"}},null,null,"",{"$f":"VLOOKUP(O813,lists!$A$2:$B$1335,2,FALSE)","v":{"$error":"#N/A"}},null,"",{"$f":"VLOOKUP(R813,lists!$A$2:$B$575,2,FALSE)","v":{"$error":"#N/A"}}]
[null,null,{"$f":"VLOOKUP(B814,lists!$F$2:$G$17,2,FALSE)","v":{"$error":"#N/A"}},null,null,null,null,null,"",{"$f":"VLOOKUP(I814,lists!$A$2:$B$1335,2,FALSE)","v":{"$error":"#N/A"}},null,{"$f":"VLOOKUP(K814,lists!$F$2:$G$17,2,FALSE)","v":{"$error":"#N/A"}},null,null,"",{"$f":"VLOOKUP(O814,lists!$A$2:$B$1335,2,FALSE)","v":{"$error":"#N/A"}},null,"",{"$f":"VLOOKUP(R814,lists!$A$2:$B$575,2,FALSE)","v":{"$error":"#N/A"}}]
[null,null,{"$f":"VLOOKUP(B815,lists!$F$2:$G$17,2,FALSE)","v":{"$error":"#N/A"}},null,null,null,null,null,"",{"$f":"VLOOKUP(I815,lists!$A$2:$B$1335,2,FALSE)","v":{"$error":"#N/A"}},null,{"$f":"VLOOKUP(K815,lists!$F$2:$G$17,2,FALSE)","v":{"$error":"#N/A"}},null,null,"",{"$f":"VLOOKUP(O815,lists!$A$2:$B$1335,2,FALSE)","v":{"$error":"#N/A"}},null,"",{"$f":"VLOOKUP(R815,lists!$A$2:$B$575,2,FALSE)","v":{"$error":"#N/A"}}]
[null,null,{"$f":"VLOOKUP(B816,lists!$F$2:$G$17,2,FALSE)","v":{"$error":"#N/A"}},null,null,null,null,null,"",{"$f":"VLOOKUP(I816,lists!$A$2:$B$1335,2,FALSE)","v":{"$error":"#N/A"}},null,{"$f":"VLOOKUP(K816,lists!$F$2:$G$17,2,FALSE)","v":{"$error":"#N/A"}},null,null,"",{"$f":"VLOOKUP(O816,lists!$A$2:$B$1335,2,FALSE)","v":{"$error":"#N/A"}},null,"",{"$f":"VLOOKUP(R816,lists!$A$2:$B$575,2,FALSE)","v":{"$error":"#N/A"}}]
[null,null,{"$f":"VLOOKUP(B817,lists!$F$2:$G$17,2,FALSE)","v":{"$error":"#N/A"}},null,null,null,null,null,"",{"$f":"VLOOKUP(I817,lists!$A$2:$B$1335,2,FALSE)","v":{"$error":"#N/A"}},null,{"$f":"VLOOKUP(K817,lists!$F$2:$G$17,2,FALSE)","v":{"$error":"#N/A"}},null,null,"",{"$f":"VLOOKUP(O817,lists!$A$2:$B$1335,2,FALSE)","v":{"$error":"#N/A"}},null,"",{"$f":"VLOOKUP(R817,lists!$A$2:$B$575,2,FALSE)","v":{"$error":"#N/A"}}]
[null,null,{"$f":"VLOOKUP(B818,lists!$F$2:$G$17,2,FALSE)","v":{"$error":"#N/A"}},null,null,null,null,null,"",{"$f":"VLOOKUP(I818,lists!$A$2:$B$1335,2,FALSE)","v":{"$error":"#N/A"}},null,{"$f":"VLOOKUP(K818,lists!$F$2:$G$17,2,FALSE)","v":{"$error":"#N/A"}},null,null,"",{"$f":"VLOOKUP(O818,lists!$A$2:$B$1335,2,FALSE)","v":{"$error":"#N/A"}},null,"",{"$f":"VLOOKUP(R818,lists!$A$2:$B$575,2,FALSE)","v":{"$error":"#N/A"}}]
[null,null,{"$f":"VLOOKUP(B819,lists!$F$2:$G$17,2,FALSE)","v":{"$error":"#N/A"}},null,null,null,null,null,"",{"$f":"VLOOKUP(I819,lists!$A$2:$B$1335,2,FALSE)","v":{"$error":"#N/A"}},null,{"$f":"VLOOKUP(K819,lists!$F$2:$G$17,2,FALSE)","v":{"$error":"#N/A"}},null,null,"",{"$f":"VLOOKUP(O819,lists!$A$2:$B$1335,2,FALSE)","v":{"$error":"#N/A"}},null,"",{"$f":"VLOOKUP(R819,lists!$A$2:$B$575,2,FALSE)","v":{"$error":"#N/A"}}]
[null,null,{"$f":"VLOOKUP(B820,lists!$F$2:$G$17,2,FALSE)","v":{"$error":"#N/A"}},null,null,null,null,null,"",{"$f":"VLOOKUP(I820,lists!$A$2:$B$1335,2,FALSE)","v":{"$error":"#N/A"}},null,{"$f":"VLOOKUP(K820,lists!$F$2:$G$17,2,FALSE)","v":{"$error":"#N/A"}},null,null,"",{"$f":"VLOOKUP(O820,lists!$A$2:$B$1335,2,FALSE)","v":{"$error":"#N/A"}},null,"",{"$f":"VLOOKUP(R820,lists!$A$2:$B$575,2,FALSE)","v":{"$error":"#N/A"}}]
[null,null,{"$f":"VLOOKUP(B821,lists!$F$2:$G$17,2,FALSE)","v":{"$error":"#N/A"}},null,null,null,null,null,"",{"$f":"VLOOKUP(I821,lists!$A$2:$B$1335,2,FALSE)","v":{"$error":"#N/A"}},null,{"$f":"VLOOKUP(K821,lists!$F$2:$G$17,2,FALSE)","v":{"$error":"#N/A"}},null,null,"",{"$f":"VLOOKUP(O821,lists!$A$2:$B$1335,2,FALSE)","v":{"$error":"#N/A"}},null,"",{"$f":"VLOOKUP(R821,lists!$A$2:$B$575,2,FALSE)","v":{"$error":"#N/A"}}]
[null,null,{"$f":"VLOOKUP(B822,lists!$F$2:$G$17,2,FALSE)","v":{"$error":"#N/A"}},null,null,null,null,null,"",{"$f":"VLOOKUP(I822,lists!$A$2:$B$1335,2,FALSE)","v":{"$error":"#N/A"}},null,{"$f":"VLOOKUP(K822,lists!$F$2:$G$17,2,FALSE)","v":{"$error":"#N/A"}},null,null,"",{"$f":"VLOOKUP(O822,lists!$A$2:$B$1335,2,FALSE)","v":{"$error":"#N/A"}},null,"",{"$f":"VLOOKUP(R822,lists!$A$2:$B$575,2,FALSE)","v":{"$error":"#N/A"}}]
[null,null,{"$f":"VLOOKUP(B823,lists!$F$2:$G$17,2,FALSE)","v":{"$error":"#N/A"}},null,null,null,null,null,"",{"$f":"VLOOKUP(I823,lists!$A$2:$B$1335,2,FALSE)","v":{"$error":"#N/A"}},null,{"$f":"VLOOKUP(K823,lists!$F$2:$G$17,2,FALSE)","v":{"$error":"#N/A"}},null,null,"",{"$f":"VLOOKUP(O823,lists!$A$2:$B$1335,2,FALSE)","v":{"$error":"#N/A"}},null,"",{"$f":"VLOOKUP(R823,lists!$A$2:$B$575,2,FALSE)","v":{"$error":"#N/A"}}]
[null,null,{"$f":"VLOOKUP(B824,lists!$F$2:$G$17,2,FALSE)","v":{"$error":"#N/A"}},null,null,null,null,null,"",{"$f":"VLOOKUP(I824,lists!$A$2:$B$1335,2,FALSE)","v":{"$error":"#N/A"}},null,{"$f":"VLOOKUP(K824,lists!$F$2:$G$17,2,FALSE)","v":{"$error":"#N/A"}},null,null,"",{"$f":"VLOOKUP(O824,lists!$A$2:$B$1335,2,FALSE)","v":{"$error":"#N/A"}},null,"",{"$f":"VLOOKUP(R824,lists!$A$2:$B$575,2,FALSE)","v":{"$error":"#N/A"}}]
[null,null,{"$f":"VLOOKUP(B825,lists!$F$2:$G$17,2,FALSE)","v":{"$error":"#N/A"}},null,null,null,null,null,"",{"$f":"VLOOKUP(I825,lists!$A$2:$B$1335,2,FALSE)","v":{"$error":"#N/A"}},null,{"$f":"VLOOKUP(K825,lists!$F$2:$G$17,2,FALSE)","v":{"$error":"#N/A"}},null,null,"",{"$f":"VLOOKUP(O825,lists!$A$2:$B$1335,2,FALSE)","v":{"$error":"#N/A"}},null,"",{"$f":"VLOOKUP(R825,lists!$A$2:$B$575,2,FALSE)","v":{"$error":"#N/A"}}]
[null,null,{"$f":"VLOOKUP(B826,lists!$F$2:$G$17,2,FALSE)","v":{"$error":"#N/A"}},null,null,null,null,null,"",{"$f":"VLOOKUP(I826,lists!$A$2:$B$1335,2,FALSE)","v":{"$error":"#N/A"}},null,{"$f":"VLOOKUP(K826,lists!$F$2:$G$17,2,FALSE)","v":{"$error":"#N/A"}},null,null,"",{"$f":"VLOOKUP(O826,lists!$A$2:$B$1335,2,FALSE)","v":{"$error":"#N/A"}},null,"",{"$f":"VLOOKUP(R826,lists!$A$2:$B$575,2,FALSE)","v":{"$error":"#N/A"}}]
[null,null,{"$f":"VLOOKUP(B827,lists!$F$2:$G$17,2,FALSE)","v":{"$error":"#N/A"}},null,null,null,null,null,"",{"$f":"VLOOKUP(I827,lists!$A$2:$B$1335,2,FALSE)","v":{"$error":"#N/A"}},null,{"$f":"VLOOKUP(K827,lists!$F$2:$G$17,2,FALSE)","v":{"$error":"#N/A"}},null,null,"",{"$f":"VLOOKUP(O827,lists!$A$2:$B$1335,2,FALSE)","v":{"$error":"#N/A"}},null,"",{"$f":"VLOOKUP(R827,lists!$A$2:$B$575,2,FALSE)","v":{"$error":"#N/A"}}]
[null,null,{"$f":"VLOOKUP(B828,lists!$F$2:$G$17,2,FALSE)","v":{"$error":"#N/A"}},null,null,null,null,null,"",{"$f":"VLOOKUP(I828,lists!$A$2:$B$1335,2,FALSE)","v":{"$error":"#N/A"}},null,{"$f":"VLOOKUP(K828,lists!$F$2:$G$17,2,FALSE)","v":{"$error":"#N/A"}},null,null,"",{"$f":"VLOOKUP(O828,lists!$A$2:$B$1335,2,FALSE)","v":{"$error":"#N/A"}},null,"",{"$f":"VLOOKUP(R828,lists!$A$2:$B$575,2,FALSE)","v":{"$error":"#N/A"}}]
[null,null,{"$f":"VLOOKUP(B829,lists!$F$2:$G$17,2,FALSE)","v":{"$error":"#N/A"}},null,null,null,null,null,"",{"$f":"VLOOKUP(I829,lists!$A$2:$B$1335,2,FALSE)","v":{"$error":"#N/A"}},null,{"$f":"VLOOKUP(K829,lists!$F$2:$G$17,2,FALSE)","v":{"$error":"#N/A"}},null,null,"",{"$f":"VLOOKUP(O829,lists!$A$2:$B$1335,2,FALSE)","v":{"$error":"#N/A"}},null,"",{"$f":"VLOOKUP(R829,lists!$A$2:$B$575,2,FALSE)","v":{"$error":"#N/A"}}]
[null,null,{"$f":"VLOOKUP(B830,lists!$F$2:$G$17,2,FALSE)","v":{"$error":"#N/A"}},null,null,null,null,null,"",{"$f":"VLOOKUP(I830,lists!$A$2:$B$1335,2,FALSE)","v":{"$error":"#N/A"}},null,{"$f":"VLOOKUP(K830,lists!$F$2:$G$17,2,FALSE)","v":{"$error":"#N/A"}},null,null,"",{"$f":"VLOOKUP(O830,lists!$A$2:$B$1335,2,FALSE)","v":{"$error":"#N/A"}},null,"",{"$f":"VLOOKUP(R830,lists!$A$2:$B$575,2,FALSE)","v":{"$error":"#N/A"}}]
[null,null,{"$f":"VLOOKUP(B831,lists!$F$2:$G$17,2,FALSE)","v":{"$error":"#N/A"}},null,null,null,null,null,"",{"$f":"VLOOKUP(I831,lists!$A$2:$B$1335,2,FALSE)","v":{"$error":"#N/A"}},null,{"$f":"VLOOKUP(K831,lists!$F$2:$G$17,2,FALSE)","v":{"$error":"#N/A"}},null,null,"",{"$f":"VLOOKUP(O831,lists!$A$2:$B$1335,2,FALSE)","v":{"$error":"#N/A"}},null,"",{"$f":"VLOOKUP(R831,lists!$A$2:$B$575,2,FALSE)","v":{"$error":"#N/A"}}]
[null,null,{"$f":"VLOOKUP(B832,lists!$F$2:$G$17,2,FALSE)","v":{"$error":"#N/A"}},null,null,null,null,null,"",{"$f":"VLOOKUP(I832,lists!$A$2:$B$1335,2,FALSE)","v":{"$error":"#N/A"}},null,{"$f":"VLOOKUP(K832,lists!$F$2:$G$17,2,FALSE)","v":{"$error":"#N/A"}},null,null,"",{"$f":"VLOOKUP(O832,lists!$A$2:$B$1335,2,FALSE)","v":{"$error":"#N/A"}},null,"",{"$f":"VLOOKUP(R832,lists!$A$2:$B$575,2,FALSE)","v":{"$error":"#N/A"}}]
[null,null,{"$f":"VLOOKUP(B833,lists!$F$2:$G$17,2,FALSE)","v":{"$error":"#N/A"}},null,null,null,null,null,"",{"$f":"VLOOKUP(I833,lists!$A$2:$B$1335,2,FALSE)","v":{"$error":"#N/A"}},null,{"$f":"VLOOKUP(K833,lists!$F$2:$G$17,2,FALSE)","v":{"$error":"#N/A"}},null,null,"",{"$f":"VLOOKUP(O833,lists!$A$2:$B$1335,2,FALSE)","v":{"$error":"#N/A"}},null,"",{"$f":"VLOOKUP(R833,lists!$A$2:$B$575,2,FALSE)","v":{"$error":"#N/A"}}]
[null,null,{"$f":"VLOOKUP(B834,lists!$F$2:$G$17,2,FALSE)","v":{"$error":"#N/A"}},null,null,null,null,null,"",{"$f":"VLOOKUP(I834,lists!$A$2:$B$1335,2,FALSE)","v":{"$error":"#N/A"}},null,{"$f":"VLOOKUP(K834,lists!$F$2:$G$17,2,FALSE)","v":{"$error":"#N/A"}},null,null,"",{"$f":"VLOOKUP(O834,lists!$A$2:$B$1335,2,FALSE)","v":{"$error":"#N/A"}},null,"",{"$f":"VLOOKUP(R834,lists!$A$2:$B$575,2,FALSE)","v":{"$error":"#N/A"}}]
[null,null,{"$f":"VLOOKUP(B835,lists!$F$2:$G$17,2,FALSE)","v":{"$error":"#N/A"}},null,null,null,null,null,"",{"$f":"VLOOKUP(I835,lists!$A$2:$B$1335,2,FALSE)","v":{"$error":"#N/A"}},null,{"$f":"VLOOKUP(K835,lists!$F$2:$G$17,2,FALSE)","v":{"$error":"#N/A"}},null,null,"",{"$f":"VLOOKUP(O835,lists!$A$2:$B$1335,2,FALSE)","v":{"$error":"#N/A"}},null,"",{"$f":"VLOOKUP(R835,lists!$A$2:$B$575,2,FALSE)","v":{"$error":"#N/A"}}]
[null,null,{"$f":"VLOOKUP(B836,lists!$F$2:$G$17,2,FALSE)","v":{"$error":"#N/A"}},null,null,null,null,null,"",{"$f":"VLOOKUP(I836,lists!$A$2:$B$1335,2,FALSE)","v":{"$error":"#N/A"}},null,{"$f":"VLOOKUP(K836,lists!$F$2:$G$17,2,FALSE)","v":{"$error":"#N/A"}},null,null,"",{"$f":"VLOOKUP(O836,lists!$A$2:$B$1335,2,FALSE)","v":{"$error":"#N/A"}},null,"",{"$f":"VLOOKUP(R836,lists!$A$2:$B$575,2,FALSE)","v":{"$error":"#N/A"}}]
[null,null,{"$f":"VLOOKUP(B837,lists!$F$2:$G$17,2,FALSE)","v":{"$error":"#N/A"}},null,null,null,null,null,"",{"$f":"VLOOKUP(I837,lists!$A$2:$B$1335,2,FALSE)","v":{"$error":"#N/A"}},null,{"$f":"VLOOKUP(K837,lists!$F$2:$G$17,2,FALSE)","v":{"$error":"#N/A"}},null,null,"",{"$f":"VLOOKUP(O837,lists!$A$2:$B$1335,2,FALSE)","v":{"$error":"#N/A"}},null,"",{"$f":"VLOOKUP(R837,lists!$A$2:$B$575,2,FALSE)","v":{"$error":"#N/A"}}]
[null,null,{"$f":"VLOOKUP(B838,lists!$F$2:$G$17,2,FALSE)","v":{"$error":"#N/A"}},null,null,null,null,null,"",{"$f":"VLOOKUP(I838,lists!$A$2:$B$1335,2,FALSE)","v":{"$error":"#N/A"}},null,{"$f":"VLOOKUP(K838,lists!$F$2:$G$17,2,FALSE)","v":{"$error":"#N/A"}},null,null,"",{"$f":"VLOOKUP(O838,lists!$A$2:$B$1335,2,FALSE)","v":{"$error":"#N/A"}},null,"",{"$f":"VLOOKUP(R838,lists!$A$2:$B$575,2,FALSE)","v":{"$error":"#N/A"}}]
[null,null,{"$f":"VLOOKUP(B839,lists!$F$2:$G$17,2,FALSE)","v":{"$error":"#N/A"}},null,null,null,null,null,"",{"$f":"VLOOKUP(I839,lists!$A$2:$B$1335,2,FALSE)","v":{"$error":"#N/A"}},null,{"$f":"VLOOKUP(K839,lists!$F$2:$G$17,2,FALSE)","v":{"$error":"#N/A"}},null,null,"",{"$f":"VLOOKUP(O839,lists!$A$2:$B$1335,2,FALSE)","v":{"$error":"#N/A"}},null,"",{"$f":"VLOOKUP(R839,lists!$A$2:$B$575,2,FALSE)","v":{"$error":"#N/A"}}]
[null,null,{"$f":"VLOOKUP(B840,lists!$F$2:$G$17,2,FALSE)","v":{"$error":"#N/A"}},null,null,null,null,null,"",{"$f":"VLOOKUP(I840,lists!$A$2:$B$1335,2,FALSE)","v":{"$error":"#N/A"}},null,{"$f":"VLOOKUP(K840,lists!$F$2:$G$17,2,FALSE)","v":{"$error":"#N/A"}},null,null,"",{"$f":"VLOOKUP(O840,lists!$A$2:$B$1335,2,FALSE)","v":{"$error":"#N/A"}},null,"",{"$f":"VLOOKUP(R840,lists!$A$2:$B$575,2,FALSE)","v":{"$error":"#N/A"}}]
[null,null,{"$f":"VLOOKUP(B841,lists!$F$2:$G$17,2,FALSE)","v":{"$error":"#N/A"}},null,null,null,null,null,"",{"$f":"VLOOKUP(I841,lists!$A$2:$B$1335,2,FALSE)","v":{"$error":"#N/A"}},null,{"$f":"VLOOKUP(K841,lists!$F$2:$G$17,2,FALSE)","v":{"$error":"#N/A"}},null,null,"",{"$f":"VLOOKUP(O841,lists!$A$2:$B$1335,2,FALSE)","v":{"$error":"#N/A"}},null,"",{"$f":"VLOOKUP(R841,lists!$A$2:$B$575,2,FALSE)","v":{"$error":"#N/A"}}]
[null,null,{"$f":"VLOOKUP(B842,lists!$F$2:$G$17,2,FALSE)","v":{"$error":"#N/A"}},null,null,null,null,null,"",{"$f":"VLOOKUP(I842,lists!$A$2:$B$1335,2,FALSE)","v":{"$error":"#N/A"}},null,{"$f":"VLOOKUP(K842,lists!$F$2:$G$17,2,FALSE)","v":{"$error":"#N/A"}},null,null,"",{"$f":"VLOOKUP(O842,lists!$A$2:$B$1335,2,FALSE)","v":{"$error":"#N/A"}},null,"",{"$f":"VLOOKUP(R842,lists!$A$2:$B$575,2,FALSE)","v":{"$error":"#N/A"}}]
[null,null,{"$f":"VLOOKUP(B843,lists!$F$2:$G$17,2,FALSE)","v":{"$error":"#N/A"}},null,null,null,null,null,"",{"$f":"VLOOKUP(I843,lists!$A$2:$B$1335,2,FALSE)","v":{"$error":"#N/A"}},null,{"$f":"VLOOKUP(K843,lists!$F$2:$G$17,2,FALSE)","v":{"$error":"#N/A"}},null,null,"",{"$f":"VLOOKUP(O843,lists!$A$2:$B$1335,2,FALSE)","v":{"$error":"#N/A"}},null,"",{"$f":"VLOOKUP(R843,lists!$A$2:$B$575,2,FALSE)","v":{"$error":"#N/A"}}]
[null,null,{"$f":"VLOOKUP(B844,lists!$F$2:$G$17,2,FALSE)","v":{"$error":"#N/A"}},null,null,null,null,null,"",{"$f":"VLOOKUP(I844,lists!$A$2:$B$1335,2,FALSE)","v":{"$error":"#N/A"}},null,{"$f":"VLOOKUP(K844,lists!$F$2:$G$17,2,FALSE)","v":{"$error":"#N/A"}},null,null,"",{"$f":"VLOOKUP(O844,lists!$A$2:$B$1335,2,FALSE)","v":{"$error":"#N/A"}},null,"",{"$f":"VLOOKUP(R844,lists!$A$2:$B$575,2,FALSE)","v":{"$error":"#N/A"}}]
[null,null,{"$f":"VLOOKUP(B845,lists!$F$2:$G$17,2,FALSE)","v":{"$error":"#N/A"}},null,null,null,null,null,"",{"$f":"VLOOKUP(I845,lists!$A$2:$B$1335,2,FALSE)","v":{"$error":"#N/A"}},null,{"$f":"VLOOKUP(K845,lists!$F$2:$G$17,2,FALSE)","v":{"$error":"#N/A"}},null,null,"",{"$f":"VLOOKUP(O845,lists!$A$2:$B$1335,2,FALSE)","v":{"$error":"#N/A"}},null,"",{"$f":"VLOOKUP(R845,lists!$A$2:$B$575,2,FALSE)","v":{"$error":"#N/A"}}]
[null,null,{"$f":"VLOOKUP(B846,lists!$F$2:$G$17,2,FALSE)","v":{"$error":"#N/A"}},null,null,null,null,null,"",{"$f":"VLOOKUP(I846,lists!$A$2:$B$1335,2,FALSE)","v":{"$error":"#N/A"}},null,{"$f":"VLOOKUP(K846,lists!$F$2:$G$17,2,FALSE)","v":{"$error":"#N/A"}},null,null,"",{"$f":"VLOOKUP(O846,lists!$A$2:$B$1335,2,FALSE)","v":{"$error":"#N/A"}},null,"",{"$f":"VLOOKUP(R846,lists!$A$2:$B$575,2,FALSE)","v":{"$error":"#N/A"}}]
[null,null,{"$f":"VLOOKUP(B847,lists!$F$2:$G$17,2,FALSE)","v":{"$error":"#N/A"}},null,null,null,null,null,"",{"$f":"VLOOKUP(I847,lists!$A$2:$B$1335,2,FALSE)","v":{"$error":"#N/A"}},null,{"$f":"VLOOKUP(K847,lists!$F$2:$G$17,2,FALSE)","v":{"$error":"#N/A"}},null,null,"",{"$f":"VLOOKUP(O847,lists!$A$2:$B$1335,2,FALSE)","v":{"$error":"#N/A"}},null,"",{"$f":"VLOOKUP(R847,lists!$A$2:$B$575,2,FALSE)","v":{"$error":"#N/A"}}]
[null,null,{"$f":"VLOOKUP(B848,lists!$F$2:$G$17,2,FALSE)","v":{"$error":"#N/A"}},null,null,null,null,null,"",{"$f":"VLOOKUP(I848,lists!$A$2:$B$1335,2,FALSE)","v":{"$error":"#N/A"}},null,{"$f":"VLOOKUP(K848,lists!$F$2:$G$17,2,FALSE)","v":{"$error":"#N/A"}},null,null,"",{"$f":"VLOOKUP(O848,lists!$A$2:$B$1335,2,FALSE)","v":{"$error":"#N/A"}},null,"",{"$f":"VLOOKUP(R848,lists!$A$2:$B$575,2,FALSE)","v":{"$error":"#N/A"}}]
[null,null,{"$f":"VLOOKUP(B849,lists!$F$2:$G$17,2,FALSE)","v":{"$error":"#N/A"}},null,null,null,null,null,"",{"$f":"VLOOKUP(I849,lists!$A$2:$B$1335,2,FALSE)","v":{"$error":"#N/A"}},null,{"$f":"VLOOKUP(K849,lists!$F$2:$G$17,2,FALSE)","v":{"$error":"#N/A"}},null,null,"",{"$f":"VLOOKUP(O849,lists!$A$2:$B$1335,2,FALSE)","v":{"$error":"#N/A"}},null,"",{"$f":"VLOOKUP(R849,lists!$A$2:$B$575,2,FALSE)","v":{"$error":"#N/A"}}]
[null,null,{"$f":"VLOOKUP(B850,lists!$F$2:$G$17,2,FALSE)","v":{"$error":"#N/A"}},null,null,null,null,null,"",{"$f":"VLOOKUP(I850,lists!$A$2:$B$1335,2,FALSE)","v":{"$error":"#N/A"}},null,{"$f":"VLOOKUP(K850,lists!$F$2:$G$17,2,FALSE)","v":{"$error":"#N/A"}},null,null,"",{"$f":"VLOOKUP(O850,lists!$A$2:$B$1335,2,FALSE)","v":{"$error":"#N/A"}},null,"",{"$f":"VLOOKUP(R850,lists!$A$2:$B$575,2,FALSE)","v":{"$error":"#N/A"}}]
[null,null,{"$f":"VLOOKUP(B851,lists!$F$2:$G$17,2,FALSE)","v":{"$error":"#N/A"}},null,null,null,null,null,"",{"$f":"VLOOKUP(I851,lists!$A$2:$B$1335,2,FALSE)","v":{"$error":"#N/A"}},null,{"$f":"VLOOKUP(K851,lists!$F$2:$G$17,2,FALSE)","v":{"$error":"#N/A"}},null,null,"",{"$f":"VLOOKUP(O851,lists!$A$2:$B$1335,2,FALSE)","v":{"$error":"#N/A"}},null,"",{"$f":"VLOOKUP(R851,lists!$A$2:$B$575,2,FALSE)","v":{"$error":"#N/A"}}]
[null,null,{"$f":"VLOOKUP(B852,lists!$F$2:$G$17,2,FALSE)","v":{"$error":"#N/A"}},null,null,null,null,null,"",{"$f":"VLOOKUP(I852,lists!$A$2:$B$1335,2,FALSE)","v":{"$error":"#N/A"}},null,{"$f":"VLOOKUP(K852,lists!$F$2:$G$17,2,FALSE)","v":{"$error":"#N/A"}},null,null,"",{"$f":"VLOOKUP(O852,lists!$A$2:$B$1335,2,FALSE)","v":{"$error":"#N/A"}},null,"",{"$f":"VLOOKUP(R852,lists!$A$2:$B$575,2,FALSE)","v":{"$error":"#N/A"}}]
[null,null,{"$f":"VLOOKUP(B853,lists!$F$2:$G$17,2,FALSE)","v":{"$error":"#N/A"}},null,null,null,null,null,"",{"$f":"VLOOKUP(I853,lists!$A$2:$B$1335,2,FALSE)","v":{"$error":"#N/A"}},null,{"$f":"VLOOKUP(K853,lists!$F$2:$G$17,2,FALSE)","v":{"$error":"#N/A"}},null,null,"",{"$f":"VLOOKUP(O853,lists!$A$2:$B$1335,2,FALSE)","v":{"$error":"#N/A"}},null,"",{"$f":"VLOOKUP(R853,lists!$A$2:$B$575,2,FALSE)","v":{"$error":"#N/A"}}]
[null,null,{"$f":"VLOOKUP(B854,lists!$F$2:$G$17,2,FALSE)","v":{"$error":"#N/A"}},null,null,null,null,null,"",{"$f":"VLOOKUP(I854,lists!$A$2:$B$1335,2,FALSE)","v":{"$error":"#N/A"}},null,{"$f":"VLOOKUP(K854,lists!$F$2:$G$17,2,FALSE)","v":{"$error":"#N/A"}},null,null,"",{"$f":"VLOOKUP(O854,lists!$A$2:$B$1335,2,FALSE)","v":{"$error":"#N/A"}},null,"",{"$f":"VLOOKUP(R854,lists!$A$2:$B$575,2,FALSE)","v":{"$error":"#N/A"}}]
[null,null,{"$f":"VLOOKUP(B855,lists!$F$2:$G$17,2,FALSE)","v":{"$error":"#N/A"}},null,null,null,null,null,"",{"$f":"VLOOKUP(I855,lists!$A$2:$B$1335,2,FALSE)","v":{"$error":"#N/A"}},null,{"$f":"VLOOKUP(K855,lists!$F$2:$G$17,2,FALSE)","v":{"$error":"#N/A"}},null,null,"",{"$f":"VLOOKUP(O855,lists!$A$2:$B$1335,2,FALSE)","v":{"$error":"#N/A"}},null,"",{"$f":"VLOOKUP(R855,lists!$A$2:$B$575,2,FALSE)","v":{"$error":"#N/A"}}]
[null,null,{"$f":"VLOOKUP(B856,lists!$F$2:$G$17,2,FALSE)","v":{"$error":"#N/A"}},null,null,null,null,null,"",{"$f":"VLOOKUP(I856,lists!$A$2:$B$1335,2,FALSE)","v":{"$error":"#N/A"}},null,{"$f":"VLOOKUP(K856,lists!$F$2:$G$17,2,FALSE)","v":{"$error":"#N/A"}},null,null,"",{"$f":"VLOOKUP(O856,lists!$A$2:$B$1335,2,FALSE)","v":{"$error":"#N/A"}},null,"",{"$f":"VLOOKUP(R856,lists!$A$2:$B$575,2,FALSE)","v":{"$error":"#N/A"}}]
[null,null,{"$f":"VLOOKUP(B857,lists!$F$2:$G$17,2,FALSE)","v":{"$error":"#N/A"}},null,null,null,null,null,"",{"$f":"VLOOKUP(I857,lists!$A$2:$B$1335,2,FALSE)","v":{"$error":"#N/A"}},null,{"$f":"VLOOKUP(K857,lists!$F$2:$G$17,2,FALSE)","v":{"$error":"#N/A"}},null,null,"",{"$f":"VLOOKUP(O857,lists!$A$2:$B$1335,2,FALSE)","v":{"$error":"#N/A"}},null,"",{"$f":"VLOOKUP(R857,lists!$A$2:$B$575,2,FALSE)","v":{"$error":"#N/A"}}]
[null,null,{"$f":"VLOOKUP(B858,lists!$F$2:$G$17,2,FALSE)","v":{"$error":"#N/A"}},null,null,null,null,null,"",{"$f":"VLOOKUP(I858,lists!$A$2:$B$1335,2,FALSE)","v":{"$error":"#N/A"}},null,{"$f":"VLOOKUP(K858,lists!$F$2:$G$17,2,FALSE)","v":{"$error":"#N/A"}},null,null,"",{"$f":"VLOOKUP(O858,lists!$A$2:$B$1335,2,FALSE)","v":{"$error":"#N/A"}},null,"",{"$f":"VLOOKUP(R858,lists!$A$2:$B$575,2,FALSE)","v":{"$error":"#N/A"}}]
[null,null,{"$f":"VLOOKUP(B859,lists!$F$2:$G$17,2,FALSE)","v":{"$error":"#N/A"}},null,null,null,null,null,"",{"$f":"VLOOKUP(I859,lists!$A$2:$B$1335,2,FALSE)","v":{"$error":"#N/A"}},null,{"$f":"VLOOKUP(K859,lists!$F$2:$G$17,2,FALSE)","v":{"$error":"#N/A"}},null,null,"",{"$f":"VLOOKUP(O859,lists!$A$2:$B$1335,2,FALSE)","v":{"$error":"#N/A"}},null,"",{"$f":"VLOOKUP(R859,lists!$A$2:$B$575,2,FALSE)","v":{"$error":"#N/A"}}]
[null,null,{"$f":"VLOOKUP(B860,lists!$F$2:$G$17,2,FALSE)","v":{"$error":"#N/A"}},null,null,null,null,null,"",{"$f":"VLOOKUP(I860,lists!$A$2:$B$1335,2,FALSE)","v":{"$error":"#N/A"}},null,{"$f":"VLOOKUP(K860,lists!$F$2:$G$17,2,FALSE)","v":{"$error":"#N/A"}},null,null,"",{"$f":"VLOOKUP(O860,lists!$A$2:$B$1335,2,FALSE)","v":{"$error":"#N/A"}},null,"",{"$f":"VLOOKUP(R860,lists!$A$2:$B$575,2,FALSE)","v":{"$error":"#N/A"}}]
[null,null,{"$f":"VLOOKUP(B861,lists!$F$2:$G$17,2,FALSE)","v":{"$error":"#N/A"}},null,null,null,null,null,"",{"$f":"VLOOKUP(I861,lists!$A$2:$B$1335,2,FALSE)","v":{"$error":"#N/A"}},null,{"$f":"VLOOKUP(K861,lists!$F$2:$G$17,2,FALSE)","v":{"$error":"#N/A"}},null,null,"",{"$f":"VLOOKUP(O861,lists!$A$2:$B$1335,2,FALSE)","v":{"$error":"#N/A"}},null,"",{"$f":"VLOOKUP(R861,lists!$A$2:$B$575,2,FALSE)","v":{"$error":"#N/A"}}]
[null,null,{"$f":"VLOOKUP(B862,lists!$F$2:$G$17,2,FALSE)","v":{"$error":"#N/A"}},null,null,null,null,null,"",{"$f":"VLOOKUP(I862,lists!$A$2:$B$1335,2,FALSE)","v":{"$error":"#N/A"}},null,{"$f":"VLOOKUP(K862,lists!$F$2:$G$17,2,FALSE)","v":{"$error":"#N/A"}},null,null,"",{"$f":"VLOOKUP(O862,lists!$A$2:$B$1335,2,FALSE)","v":{"$error":"#N/A"}},null,"",{"$f":"VLOOKUP(R862,lists!$A$2:$B$575,2,FALSE)","v":{"$error":"#N/A"}}]
[null,null,{"$f":"VLOOKUP(B863,lists!$F$2:$G$17,2,FALSE)","v":{"$error":"#N/A"}},null,null,null,null,null,"",{"$f":"VLOOKUP(I863,lists!$A$2:$B$1335,2,FALSE)","v":{"$error":"#N/A"}},null,{"$f":"VLOOKUP(K863,lists!$F$2:$G$17,2,FALSE)","v":{"$error":"#N/A"}},null,null,"",{"$f":"VLOOKUP(O863,lists!$A$2:$B$1335,2,FALSE)","v":{"$error":"#N/A"}},null,"",{"$f":"VLOOKUP(R863,lists!$A$2:$B$575,2,FALSE)","v":{"$error":"#N/A"}}]
[null,null,{"$f":"VLOOKUP(B864,lists!$F$2:$G$17,2,FALSE)","v":{"$error":"#N/A"}},null,null,null,null,null,"",{"$f":"VLOOKUP(I864,lists!$A$2:$B$1335,2,FALSE)","v":{"$error":"#N/A"}},null,{"$f":"VLOOKUP(K864,lists!$F$2:$G$17,2,FALSE)","v":{"$error":"#N/A"}},null,null,"",{"$f":"VLOOKUP(O864,lists!$A$2:$B$1335,2,FALSE)","v":{"$error":"#N/A"}},null,"",{"$f":"VLOOKUP(R864,lists!$A$2:$B$575,2,FALSE)","v":{"$error":"#N/A"}}]
[null,null,{"$f":"VLOOKUP(B865,lists!$F$2:$G$17,2,FALSE)","v":{"$error":"#N/A"}},null,null,null,null,null,"",{"$f":"VLOOKUP(I865,lists!$A$2:$B$1335,2,FALSE)","v":{"$error":"#N/A"}},null,{"$f":"VLOOKUP(K865,lists!$F$2:$G$17,2,FALSE)","v":{"$error":"#N/A"}},null,null,"",{"$f":"VLOOKUP(O865,lists!$A$2:$B$1335,2,FALSE)","v":{"$error":"#N/A"}},null,"",{"$f":"VLOOKUP(R865,lists!$A$2:$B$575,2,FALSE)","v":{"$error":"#N/A"}}]
[null,null,{"$f":"VLOOKUP(B866,lists!$F$2:$G$17,2,FALSE)","v":{"$error":"#N/A"}},null,null,null,null,null,"",{"$f":"VLOOKUP(I866,lists!$A$2:$B$1335,2,FALSE)","v":{"$error":"#N/A"}},null,{"$f":"VLOOKUP(K866,lists!$F$2:$G$17,2,FALSE)","v":{"$error":"#N/A"}},null,null,"",{"$f":"VLOOKUP(O866,lists!$A$2:$B$1335,2,FALSE)","v":{"$error":"#N/A"}},null,"",{"$f":"VLOOKUP(R866,lists!$A$2:$B$575,2,FALSE)","v":{"$error":"#N/A"}}]
[null,null,{"$f":"VLOOKUP(B867,lists!$F$2:$G$17,2,FALSE)","v":{"$error":"#N/A"}},null,null,null,null,null,"",{"$f":"VLOOKUP(I867,lists!$A$2:$B$1335,2,FALSE)","v":{"$error":"#N/A"}},null,{"$f":"VLOOKUP(K867,lists!$F$2:$G$17,2,FALSE)","v":{"$error":"#N/A"}},null,null,"",{"$f":"VLOOKUP(O867,lists!$A$2:$B$1335,2,FALSE)","v":{"$error":"#N/A"}},null,"",{"$f":"VLOOKUP(R867,lists!$A$2:$B$575,2,FALSE)","v":{"$error":"#N/A"}}]
[null,null,{"$f":"VLOOKUP(B868,lists!$F$2:$G$17,2,FALSE)","v":{"$error":"#N/A"}},null,null,null,null,null,"",{"$f":"VLOOKUP(I868,lists!$A$2:$B$1335,2,FALSE)","v":{"$error":"#N/A"}},null,{"$f":"VLOOKUP(K868,lists!$F$2:$G$17,2,FALSE)","v":{"$error":"#N/A"}},null,null,"",{"$f":"VLOOKUP(O868,lists!$A$2:$B$1335,2,FALSE)","v":{"$error":"#N/A"}},null,"",{"$f":"VLOOKUP(R868,lists!$A$2:$B$575,2,FALSE)","v":{"$error":"#N/A"}}]
[null,null,{"$f":"VLOOKUP(B869,lists!$F$2:$G$17,2,FALSE)","v":{"$error":"#N/A"}},null,null,null,null,null,"",{"$f":"VLOOKUP(I869,lists!$A$2:$B$1335,2,FALSE)","v":{"$error":"#N/A"}},null,{"$f":"VLOOKUP(K869,lists!$F$2:$G$17,2,FALSE)","v":{"$error":"#N/A"}},null,null,"",{"$f":"VLOOKUP(O869,lists!$A$2:$B$1335,2,FALSE)","v":{"$error":"#N/A"}},null,"",{"$f":"VLOOKUP(R869,lists!$A$2:$B$575,2,FALSE)","v":{"$error":"#N/A"}}]
[null,null,{"$f":"VLOOKUP(B870,lists!$F$2:$G$17,2,FALSE)","v":{"$error":"#N/A"}},null,null,null,null,null,"",{"$f":"VLOOKUP(I870,lists!$A$2:$B$1335,2,FALSE)","v":{"$error":"#N/A"}},null,{"$f":"VLOOKUP(K870,lists!$F$2:$G$17,2,FALSE)","v":{"$error":"#N/A"}},null,null,"",{"$f":"VLOOKUP(O870,lists!$A$2:$B$1335,2,FALSE)","v":{"$error":"#N/A"}},null,"",{"$f":"VLOOKUP(R870,lists!$A$2:$B$575,2,FALSE)","v":{"$error":"#N/A"}}]
[null,null,{"$f":"VLOOKUP(B871,lists!$F$2:$G$17,2,FALSE)","v":{"$error":"#N/A"}},null,null,null,null,null,"",{"$f":"VLOOKUP(I871,lists!$A$2:$B$1335,2,FALSE)","v":{"$error":"#N/A"}},null,{"$f":"VLOOKUP(K871,lists!$F$2:$G$17,2,FALSE)","v":{"$error":"#N/A"}},null,null,"",{"$f":"VLOOKUP(O871,lists!$A$2:$B$1335,2,FALSE)","v":{"$error":"#N/A"}},null,"",{"$f":"VLOOKUP(R871,lists!$A$2:$B$575,2,FALSE)","v":{"$error":"#N/A"}}]
[null,null,{"$f":"VLOOKUP(B872,lists!$F$2:$G$17,2,FALSE)","v":{"$error":"#N/A"}},null,null,null,null,null,"",{"$f":"VLOOKUP(I872,lists!$A$2:$B$1335,2,FALSE)","v":{"$error":"#N/A"}},null,{"$f":"VLOOKUP(K872,lists!$F$2:$G$17,2,FALSE)","v":{"$error":"#N/A"}},null,null,"",{"$f":"VLOOKUP(O872,lists!$A$2:$B$1335,2,FALSE)","v":{"$error":"#N/A"}},null,"",{"$f":"VLOOKUP(R872,lists!$A$2:$B$575,2,FALSE)","v":{"$error":"#N/A"}}]
[null,null,{"$f":"VLOOKUP(B873,lists!$F$2:$G$17,2,FALSE)","v":{"$error":"#N/A"}},null,null,null,null,null,"",{"$f":"VLOOKUP(I873,lists!$A$2:$B$1335,2,FALSE)","v":{"$error":"#N/A"}},null,{"$f":"VLOOKUP(K873,lists!$F$2:$G$17,2,FALSE)","v":{"$error":"#N/A"}},null,null,"",{"$f":"VLOOKUP(O873,lists!$A$2:$B$1335,2,FALSE)","v":{"$error":"#N/A"}},null,"",{"$f":"VLOOKUP(R873,lists!$A$2:$B$575,2,FALSE)","v":{"$error":"#N/A"}}]
[null,null,{"$f":"VLOOKUP(B874,lists!$F$2:$G$17,2,FALSE)","v":{"$error":"#N/A"}},null,null,null,null,null,"",{"$f":"VLOOKUP(I874,lists!$A$2:$B$1335,2,FALSE)","v":{"$error":"#N/A"}},null,{"$f":"VLOOKUP(K874,lists!$F$2:$G$17,2,FALSE)","v":{"$error":"#N/A"}},null,null,"",{"$f":"VLOOKUP(O874,lists!$A$2:$B$1335,2,FALSE)","v":{"$error":"#N/A"}},null,"",{"$f":"VLOOKUP(R874,lists!$A$2:$B$575,2,FALSE)","v":{"$error":"#N/A"}}]
[null,null,{"$f":"VLOOKUP(B875,lists!$F$2:$G$17,2,FALSE)","v":{"$error":"#N/A"}},null,null,null,null,null,"",{"$f":"VLOOKUP(I875,lists!$A$2:$B$1335,2,FALSE)","v":{"$error":"#N/A"}},null,{"$f":"VLOOKUP(K875,lists!$F$2:$G$17,2,FALSE)","v":{"$error":"#N/A"}},null,null,"",{"$f":"VLOOKUP(O875,lists!$A$2:$B$1335,2,FALSE)","v":{"$error":"#N/A"}},null,"",{"$f":"VLOOKUP(R875,lists!$A$2:$B$575,2,FALSE)","v":{"$error":"#N/A"}}]
[null,null,{"$f":"VLOOKUP(B876,lists!$F$2:$G$17,2,FALSE)","v":{"$error":"#N/A"}},null,null,null,null,null,"",{"$f":"VLOOKUP(I876,lists!$A$2:$B$1335,2,FALSE)","v":{"$error":"#N/A"}},null,{"$f":"VLOOKUP(K876,lists!$F$2:$G$17,2,FALSE)","v":{"$error":"#N/A"}},null,null,"",{"$f":"VLOOKUP(O876,lists!$A$2:$B$1335,2,FALSE)","v":{"$error":"#N/A"}},null,"",{"$f":"VLOOKUP(R876,lists!$A$2:$B$575,2,FALSE)","v":{"$error":"#N/A"}}]
[null,null,{"$f":"VLOOKUP(B877,lists!$F$2:$G$17,2,FALSE)","v":{"$error":"#N/A"}},null,null,null,null,null,"",{"$f":"VLOOKUP(I877,lists!$A$2:$B$1335,2,FALSE)","v":{"$error":"#N/A"}},null,{"$f":"VLOOKUP(K877,lists!$F$2:$G$17,2,FALSE)","v":{"$error":"#N/A"}},null,null,"",{"$f":"VLOOKUP(O877,lists!$A$2:$B$1335,2,FALSE)","v":{"$error":"#N/A"}},null,"",{"$f":"VLOOKUP(R877,lists!$A$2:$B$575,2,FALSE)","v":{"$error":"#N/A"}}]
[null,null,{"$f":"VLOOKUP(B878,lists!$F$2:$G$17,2,FALSE)","v":{"$error":"#N/A"}},null,null,null,null,null,"",{"$f":"VLOOKUP(I878,lists!$A$2:$B$1335,2,FALSE)","v":{"$error":"#N/A"}},null,{"$f":"VLOOKUP(K878,lists!$F$2:$G$17,2,FALSE)","v":{"$error":"#N/A"}},null,null,"",{"$f":"VLOOKUP(O878,lists!$A$2:$B$1335,2,FALSE)","v":{"$error":"#N/A"}},null,"",{"$f":"VLOOKUP(R878,lists!$A$2:$B$575,2,FALSE)","v":{"$error":"#N/A"}}]
[null,null,{"$f":"VLOOKUP(B879,lists!$F$2:$G$17,2,FALSE)","v":{"$error":"#N/A"}},null,null,null,null,null,"",{"$f":"VLOOKUP(I879,lists!$A$2:$B$1335,2,FALSE)","v":{"$error":"#N/A"}},null,{"$f":"VLOOKUP(K879,lists!$F$2:$G$17,2,FALSE)","v":{"$error":"#N/A"}},null,null,"",{"$f":"VLOOKUP(O879,lists!$A$2:$B$1335,2,FALSE)","v":{"$error":"#N/A"}},null,"",{"$f":"VLOOKUP(R879,lists!$A$2:$B$575,2,FALSE)","v":{"$error":"#N/A"}}]
[null,null,{"$f":"VLOOKUP(B880,lists!$F$2:$G$17,2,FALSE)","v":{"$error":"#N/A"}},null,null,null,null,null,"",{"$f":"VLOOKUP(I880,lists!$A$2:$B$1335,2,FALSE)","v":{"$error":"#N/A"}},null,{"$f":"VLOOKUP(K880,lists!$F$2:$G$17,2,FALSE)","v":{"$error":"#N/A"}},null,null,"",{"$f":"VLOOKUP(O880,lists!$A$2:$B$1335,2,FALSE)","v":{"$error":"#N/A"}},null,"",{"$f":"VLOOKUP(R880,lists!$A$2:$B$575,2,FALSE)","v":{"$error":"#N/A"}}]
[null,null,{"$f":"VLOOKUP(B881,lists!$F$2:$G$17,2,FALSE)","v":{"$error":"#N/A"}},null,null,null,null,null,"",{"$f":"VLOOKUP(I881,lists!$A$2:$B$1335,2,FALSE)","v":{"$error":"#N/A"}},null,{"$f":"VLOOKUP(K881,lists!$F$2:$G$17,2,FALSE)","v":{"$error":"#N/A"}},null,null,"",{"$f":"VLOOKUP(O881,lists!$A$2:$B$1335,2,FALSE)","v":{"$error":"#N/A"}},null,"",{"$f":"VLOOKUP(R881,lists!$A$2:$B$575,2,FALSE)","v":{"$error":"#N/A"}}]
[null,null,{"$f":"VLOOKUP(B882,lists!$F$2:$G$17,2,FALSE)","v":{"$error":"#N/A"}},null,null,null,null,null,"",{"$f":"VLOOKUP(I882,lists!$A$2:$B$1335,2,FALSE)","v":{"$error":"#N/A"}},null,{"$f":"VLOOKUP(K882,lists!$F$2:$G$17,2,FALSE)","v":{"$error":"#N/A"}},null,null,"",{"$f":"VLOOKUP(O882,lists!$A$2:$B$1335,2,FALSE)","v":{"$error":"#N/A"}},null,"",{"$f":"VLOOKUP(R882,lists!$A$2:$B$575,2,FALSE)","v":{"$error":"#N/A"}}]
[null,null,{"$f":"VLOOKUP(B883,lists!$F$2:$G$17,2,FALSE)","v":{"$error":"#N/A"}},null,null,null,null,null,"",{"$f":"VLOOKUP(I883,lists!$A$2:$B$1335,2,FALSE)","v":{"$error":"#N/A"}},null,{"$f":"VLOOKUP(K883,lists!$F$2:$G$17,2,FALSE)","v":{"$error":"#N/A"}},null,null,"",{"$f":"VLOOKUP(O883,lists!$A$2:$B$1335,2,FALSE)","v":{"$error":"#N/A"}},null,"",{"$f":"VLOOKUP(R883,lists!$A$2:$B$575,2,FALSE)","v":{"$error":"#N/A"}}]
[null,null,{"$f":"VLOOKUP(B884,lists!$F$2:$G$17,2,FALSE)","v":{"$error":"#N/A"}},null,null,null,null,null,"",{"$f":"VLOOKUP(I884,lists!$A$2:$B$1335,2,FALSE)","v":{"$error":"#N/A"}},null,{"$f":"VLOOKUP(K884,lists!$F$2:$G$17,2,FALSE)","v":{"$error":"#N/A"}},null,null,"",{"$f":"VLOOKUP(O884,lists!$A$2:$B$1335,2,FALSE)","v":{"$error":"#N/A"}},null,"",{"$f":"VLOOKUP(R884,lists!$A$2:$B$575,2,FALSE)","v":{"$error":"#N/A"}}]
[null,null,{"$f":"VLOOKUP(B885,lists!$F$2:$G$17,2,FALSE)","v":{"$error":"#N/A"}},null,null,null,null,null,"",{"$f":"VLOOKUP(I885,lists!$A$2:$B$1335,2,FALSE)","v":{"$error":"#N/A"}},null,{"$f":"VLOOKUP(K885,lists!$F$2:$G$17,2,FALSE)","v":{"$error":"#N/A"}},null,null,"",{"$f":"VLOOKUP(O885,lists!$A$2:$B$1335,2,FALSE)","v":{"$error":"#N/A"}},null,"",{"$f":"VLOOKUP(R885,lists!$A$2:$B$575,2,FALSE)","v":{"$error":"#N/A"}}]
[null,null,{"$f":"VLOOKUP(B886,lists!$F$2:$G$17,2,FALSE)","v":{"$error":"#N/A"}},null,null,null,null,null,"",{"$f":"VLOOKUP(I886,lists!$A$2:$B$1335,2,FALSE)","v":{"$error":"#N/A"}},null,{"$f":"VLOOKUP(K886,lists!$F$2:$G$17,2,FALSE)","v":{"$error":"#N/A"}},null,null,"",{"$f":"VLOOKUP(O886,lists!$A$2:$B$1335,2,FALSE)","v":{"$error":"#N/A"}},null,"",{"$f":"VLOOKUP(R886,lists!$A$2:$B$575,2,FALSE)","v":{"$error":"#N/A"}}]
[null,null,{"$f":"VLOOKUP(B887,lists!$F$2:$G$17,2,FALSE)","v":{"$error":"#N/A"}},null,null,null,null,null,"",{"$f":"VLOOKUP(I887,lists!$A$2:$B$1335,2,FALSE)","v":{"$error":"#N/A"}},null,{"$f":"VLOOKUP(K887,lists!$F$2:$G$17,2,FALSE)","v":{"$error":"#N/A"}},null,null,"",{"$f":"VLOOKUP(O887,lists!$A$2:$B$1335,2,FALSE)","v":{"$error":"#N/A"}},null,"",{"$f":"VLOOKUP(R887,lists!$A$2:$B$575,2,FALSE)","v":{"$error":"#N/A"}}]
[null,null,{"$f":"VLOOKUP(B888,lists!$F$2:$G$17,2,FALSE)","v":{"$error":"#N/A"}},null,null,null,null,null,"",{"$f":"VLOOKUP(I888,lists!$A$2:$B$1335,2,FALSE)","v":{"$error":"#N/A"}},null,{"$f":"VLOOKUP(K888,lists!$F$2:$G$17,2,FALSE)","v":{"$error":"#N/A"}},null,null,"",{"$f":"VLOOKUP(O888,lists!$A$2:$B$1335,2,FALSE)","v":{"$error":"#N/A"}},null,"",{"$f":"VLOOKUP(R888,lists!$A$2:$B$575,2,FALSE)","v":{"$error":"#N/A"}}]
[null,null,{"$f":"VLOOKUP(B889,lists!$F$2:$G$17,2,FALSE)","v":{"$error":"#N/A"}},null,null,null,null,null,"",{"$f":"VLOOKUP(I889,lists!$A$2:$B$1335,2,FALSE)","v":{"$error":"#N/A"}},null,{"$f":"VLOOKUP(K889,lists!$F$2:$G$17,2,FALSE)","v":{"$error":"#N/A"}},null,null,"",{"$f":"VLOOKUP(O889,lists!$A$2:$B$1335,2,FALSE)","v":{"$error":"#N/A"}},null,"",{"$f":"VLOOKUP(R889,lists!$A$2:$B$575,2,FALSE)","v":{"$error":"#N/A"}}]
[null,null,{"$f":"VLOOKUP(B890,lists!$F$2:$G$17,2,FALSE)","v":{"$error":"#N/A"}},null,null,null,null,null,"",{"$f":"VLOOKUP(I890,lists!$A$2:$B$1335,2,FALSE)","v":{"$error":"#N/A"}},null,{"$f":"VLOOKUP(K890,lists!$F$2:$G$17,2,FALSE)","v":{"$error":"#N/A"}},null,null,"",{"$f":"VLOOKUP(O890,lists!$A$2:$B$1335,2,FALSE)","v":{"$error":"#N/A"}},null,"",{"$f":"VLOOKUP(R890,lists!$A$2:$B$575,2,FALSE)","v":{"$error":"#N/A"}}]
[null,null,{"$f":"VLOOKUP(B891,lists!$F$2:$G$17,2,FALSE)","v":{"$error":"#N/A"}},null,null,null,null,null,"",{"$f":"VLOOKUP(I891,lists!$A$2:$B$1335,2,FALSE)","v":{"$error":"#N/A"}},null,{"$f":"VLOOKUP(K891,lists!$F$2:$G$17,2,FALSE)","v":{"$error":"#N/A"}},null,null,"",{"$f":"VLOOKUP(O891,lists!$A$2:$B$1335,2,FALSE)","v":{"$error":"#N/A"}},null,"",{"$f":"VLOOKUP(R891,lists!$A$2:$B$575,2,FALSE)","v":{"$error":"#N/A"}}]
[null,null,{"$f":"VLOOKUP(B892,lists!$F$2:$G$17,2,FALSE)","v":{"$error":"#N/A"}},null,null,null,null,null,"",{"$f":"VLOOKUP(I892,lists!$A$2:$B$1335,2,FALSE)","v":{"$error":"#N/A"}},null,{"$f":"VLOOKUP(K892,lists!$F$2:$G$17,2,FALSE)","v":{"$error":"#N/A"}},null,null,"",{"$f":"VLOOKUP(O892,lists!$A$2:$B$1335,2,FALSE)","v":{"$error":"#N/A"}},null,"",{"$f":"VLOOKUP(R892,lists!$A$2:$B$575,2,FALSE)","v":{"$error":"#N/A"}}]
[null,null,{"$f":"VLOOKUP(B893,lists!$F$2:$G$17,2,FALSE)","v":{"$error":"#N/A"}},null,null,null,null,null,"",{"$f":"VLOOKUP(I893,lists!$A$2:$B$1335,2,FALSE)","v":{"$error":"#N/A"}},null,{"$f":"VLOOKUP(K893,lists!$F$2:$G$17,2,FALSE)","v":{"$error":"#N/A"}},null,null,"",{"$f":"VLOOKUP(O893,lists!$A$2:$B$1335,2,FALSE)","v":{"$error":"#N/A"}},null,"",{"$f":"VLOOKUP(R893,lists!$A$2:$B$575,2,FALSE)","v":{"$error":"#N/A"}}]
[null,null,{"$f":"VLOOKUP(B894,lists!$F$2:$G$17,2,FALSE)","v":{"$error":"#N/A"}},null,null,null,null,null,"",{"$f":"VLOOKUP(I894,lists!$A$2:$B$1335,2,FALSE)","v":{"$error":"#N/A"}},null,{"$f":"VLOOKUP(K894,lists!$F$2:$G$17,2,FALSE)","v":{"$error":"#N/A"}},null,null,"",{"$f":"VLOOKUP(O894,lists!$A$2:$B$1335,2,FALSE)","v":{"$error":"#N/A"}},null,"",{"$f":"VLOOKUP(R894,lists!$A$2:$B$575,2,FALSE)","v":{"$error":"#N/A"}}]
[null,null,{"$f":"VLOOKUP(B895,lists!$F$2:$G$17,2,FALSE)","v":{"$error":"#N/A"}},null,null,null,null,null,"",{"$f":"VLOOKUP(I895,lists!$A$2:$B$1335,2,FALSE)","v":{"$error":"#N/A"}},null,{"$f":"VLOOKUP(K895,lists!$F$2:$G$17,2,FALSE)","v":{"$error":"#N/A"}},null,null,"",{"$f":"VLOOKUP(O895,lists!$A$2:$B$1335,2,FALSE)","v":{"$error":"#N/A"}},null,"",{"$f":"VLOOKUP(R895,lists!$A$2:$B$575,2,FALSE)","v":{"$error":"#N/A"}}]
[null,null,{"$f":"VLOOKUP(B896,lists!$F$2:$G$17,2,FALSE)","v":{"$error":"#N/A"}},null,null,null,null,null,"",{"$f":"VLOOKUP(I896,lists!$A$2:$B$1335,2,FALSE)","v":{"$error":"#N/A"}},null,{"$f":"VLOOKUP(K896,lists!$F$2:$G$17,2,FALSE)","v":{"$error":"#N/A"}},null,null,"",{"$f":"VLOOKUP(O896,lists!$A$2:$B$1335,2,FALSE)","v":{"$error":"#N/A"}},null,"",{"$f":"VLOOKUP(R896,lists!$A$2:$B$575,2,FALSE)","v":{"$error":"#N/A"}}]
[null,null,{"$f":"VLOOKUP(B897,lists!$F$2:$G$17,2,FALSE)","v":{"$error":"#N/A"}},null,null,null,null,null,"",{"$f":"VLOOKUP(I897,lists!$A$2:$B$1335,2,FALSE)","v":{"$error":"#N/A"}},null,{"$f":"VLOOKUP(K897,lists!$F$2:$G$17,2,FALSE)","v":{"$error":"#N/A"}},null,null,"",{"$f":"VLOOKUP(O897,lists!$A$2:$B$1335,2,FALSE)","v":{"$error":"#N/A"}},null,"",{"$f":"VLOOKUP(R897,lists!$A$2:$B$575,2,FALSE)","v":{"$error":"#N/A"}}]
[null,null,{"$f":"VLOOKUP(B898,lists!$F$2:$G$17,2,FALSE)","v":{"$error":"#N/A"}},null,null,null,null,null,"",{"$f":"VLOOKUP(I898,lists!$A$2:$B$1335,2,FALSE)","v":{"$error":"#N/A"}},null,{"$f":"VLOOKUP(K898,lists!$F$2:$G$17,2,FALSE)","v":{"$error":"#N/A"}},null,null,"",{"$f":"VLOOKUP(O898,lists!$A$2:$B$1335,2,FALSE)","v":{"$error":"#N/A"}},null,"",{"$f":"VLOOKUP(R898,lists!$A$2:$B$575,2,FALSE)","v":{"$error":"#N/A"}}]
[null,null,{"$f":"VLOOKUP(B899,lists!$F$2:$G$17,2,FALSE)","v":{"$error":"#N/A"}},null,null,null,null,null,"",{"$f":"VLOOKUP(I899,lists!$A$2:$B$1335,2,FALSE)","v":{"$error":"#N/A"}},null,{"$f":"VLOOKUP(K899,lists!$F$2:$G$17,2,FALSE)","v":{"$error":"#N/A"}},null,null,"",{"$f":"VLOOKUP(O899,lists!$A$2:$B$1335,2,FALSE)","v":{"$error":"#N/A"}},null,"",{"$f":"VLOOKUP(R899,lists!$A$2:$B$575,2,FALSE)","v":{"$error":"#N/A"}}]
[null,null,{"$f":"VLOOKUP(B900,lists!$F$2:$G$17,2,FALSE)","v":{"$error":"#N/A"}},null,null,null,null,null,"",{"$f":"VLOOKUP(I900,lists!$A$2:$B$1335,2,FALSE)","v":{"$error":"#N/A"}},null,{"$f":"VLOOKUP(K900,lists!$F$2:$G$17,2,FALSE)","v":{"$error":"#N/A"}},null,null,"",{"$f":"VLOOKUP(O900,lists!$A$2:$B$1335,2,FALSE)","v":{"$error":"#N/A"}},null,"",{"$f":"VLOOKUP(R900,lists!$A$2:$B$575,2,FALSE)","v":{"$error":"#N/A"}}]
[null,null,{"$f":"VLOOKUP(B901,lists!$F$2:$G$17,2,FALSE)","v":{"$error":"#N/A"}},null,null,null,null,null,"",{"$f":"VLOOKUP(I901,lists!$A$2:$B$1335,2,FALSE)","v":{"$error":"#N/A"}},null,{"$f":"VLOOKUP(K901,lists!$F$2:$G$17,2,FALSE)","v":{"$error":"#N/A"}},null,null,"",{"$f":"VLOOKUP(O901,lists!$A$2:$B$1335,2,FALSE)","v":{"$error":"#N/A"}},null,"",{"$f":"VLOOKUP(R901,lists!$A$2:$B$575,2,FALSE)","v":{"$error":"#N/A"}}]
[null,null,{"$f":"VLOOKUP(B902,lists!$F$2:$G$17,2,FALSE)","v":{"$error":"#N/A"}},null,null,null,null,null,"",{"$f":"VLOOKUP(I902,lists!$A$2:$B$1335,2,FALSE)","v":{"$error":"#N/A"}},null,{"$f":"VLOOKUP(K902,lists!$F$2:$G$17,2,FALSE)","v":{"$error":"#N/A"}},null,null,"",{"$f":"VLOOKUP(O902,lists!$A$2:$B$1335,2,FALSE)","v":{"$error":"#N/A"}},null,"",{"$f":"VLOOKUP(R902,lists!$A$2:$B$575,2,FALSE)","v":{"$error":"#N/A"}}]
[null,null,{"$f":"VLOOKUP(B903,lists!$F$2:$G$17,2,FALSE)","v":{"$error":"#N/A"}},null,null,null,null,null,"",{"$f":"VLOOKUP(I903,lists!$A$2:$B$1335,2,FALSE)","v":{"$error":"#N/A"}},null,{"$f":"VLOOKUP(K903,lists!$F$2:$G$17,2,FALSE)","v":{"$error":"#N/A"}},null,null,"",{"$f":"VLOOKUP(O903,lists!$A$2:$B$1335,2,FALSE)","v":{"$error":"#N/A"}},null,"",{"$f":"VLOOKUP(R903,lists!$A$2:$B$575,2,FALSE)","v":{"$error":"#N/A"}}]
[null,null,{"$f":"VLOOKUP(B904,lists!$F$2:$G$17,2,FALSE)","v":{"$error":"#N/A"}},null,null,null,null,null,"",{"$f":"VLOOKUP(I904,lists!$A$2:$B$1335,2,FALSE)","v":{"$error":"#N/A"}},null,{"$f":"VLOOKUP(K904,lists!$F$2:$G$17,2,FALSE)","v":{"$error":"#N/A"}},null,null,"",{"$f":"VLOOKUP(O904,lists!$A$2:$B$1335,2,FALSE)","v":{"$error":"#N/A"}},null,"",{"$f":"VLOOKUP(R904,lists!$A$2:$B$575,2,FALSE)","v":{"$error":"#N/A"}}]
[null,null,{"$f":"VLOOKUP(B905,lists!$F$2:$G$17,2,FALSE)","v":{"$error":"#N/A"}},null,null,null,null,null,"",{"$f":"VLOOKUP(I905,lists!$A$2:$B$1335,2,FALSE)","v":{"$error":"#N/A"}},null,{"$f":"VLOOKUP(K905,lists!$F$2:$G$17,2,FALSE)","v":{"$error":"#N/A"}},null,null,"",{"$f":"VLOOKUP(O905,lists!$A$2:$B$1335,2,FALSE)","v":{"$error":"#N/A"}},null,"",{"$f":"VLOOKUP(R905,lists!$A$2:$B$575,2,FALSE)","v":{"$error":"#N/A"}}]
[null,null,{"$f":"VLOOKUP(B906,lists!$F$2:$G$17,2,FALSE)","v":{"$error":"#N/A"}},null,null,null,null,null,"",{"$f":"VLOOKUP(I906,lists!$A$2:$B$1335,2,FALSE)","v":{"$error":"#N/A"}},null,{"$f":"VLOOKUP(K906,lists!$F$2:$G$17,2,FALSE)","v":{"$error":"#N/A"}},null,null,"",{"$f":"VLOOKUP(O906,lists!$A$2:$B$1335,2,FALSE)","v":{"$error":"#N/A"}},null,"",{"$f":"VLOOKUP(R906,lists!$A$2:$B$575,2,FALSE)","v":{"$error":"#N/A"}}]
[null,null,{"$f":"VLOOKUP(B907,lists!$F$2:$G$17,2,FALSE)","v":{"$error":"#N/A"}},null,null,null,null,null,"",{"$f":"VLOOKUP(I907,lists!$A$2:$B$1335,2,FALSE)","v":{"$error":"#N/A"}},null,{"$f":"VLOOKUP(K907,lists!$F$2:$G$17,2,FALSE)","v":{"$error":"#N/A"}},null,null,"",{"$f":"VLOOKUP(O907,lists!$A$2:$B$1335,2,FALSE)","v":{"$error":"#N/A"}},null,"",{"$f":"VLOOKUP(R907,lists!$A$2:$B$575,2,FALSE)","v":{"$error":"#N/A"}}]
[null,null,{"$f":"VLOOKUP(B908,lists!$F$2:$G$17,2,FALSE)","v":{"$error":"#N/A"}},null,null,null,null,null,"",{"$f":"VLOOKUP(I908,lists!$A$2:$B$1335,2,FALSE)","v":{"$error":"#N/A"}},null,{"$f":"VLOOKUP(K908,lists!$F$2:$G$17,2,FALSE)","v":{"$error":"#N/A"}},null,null,"",{"$f":"VLOOKUP(O908,lists!$A$2:$B$1335,2,FALSE)","v":{"$error":"#N/A"}},null,"",{"$f":"VLOOKUP(R908,lists!$A$2:$B$575,2,FALSE)","v":{"$error":"#N/A"}}]
[null,null,{"$f":"VLOOKUP(B909,lists!$F$2:$G$17,2,FALSE)","v":{"$error":"#N/A"}},null,null,null,null,null,"",{"$f":"VLOOKUP(I909,lists!$A$2:$B$1335,2,FALSE)","v":{"$error":"#N/A"}},null,{"$f":"VLOOKUP(K909,lists!$F$2:$G$17,2,FALSE)","v":{"$error":"#N/A"}},null,null,"",{"$f":"VLOOKUP(O909,lists!$A$2:$B$1335,2,FALSE)","v":{"$error":"#N/A"}},null,"",{"$f":"VLOOKUP(R909,lists!$A$2:$B$575,2,FALSE)","v":{"$error":"#N/A"}}]
[null,null,{"$f":"VLOOKUP(B910,lists!$F$2:$G$17,2,FALSE)","v":{"$error":"#N/A"}},null,null,null,null,null,"",{"$f":"VLOOKUP(I910,lists!$A$2:$B$1335,2,FALSE)","v":{"$error":"#N/A"}},null,{"$f":"VLOOKUP(K910,lists!$F$2:$G$17,2,FALSE)","v":{"$error":"#N/A"}},null,null,"",{"$f":"VLOOKUP(O910,lists!$A$2:$B$1335,2,FALSE)","v":{"$error":"#N/A"}},null,"",{"$f":"VLOOKUP(R910,lists!$A$2:$B$575,2,FALSE)","v":{"$error":"#N/A"}}]
[null,null,{"$f":"VLOOKUP(B911,lists!$F$2:$G$17,2,FALSE)","v":{"$error":"#N/A"}},null,null,null,null,null,"",{"$f":"VLOOKUP(I911,lists!$A$2:$B$1335,2,FALSE)","v":{"$error":"#N/A"}},null,{"$f":"VLOOKUP(K911,lists!$F$2:$G$17,2,FALSE)","v":{"$error":"#N/A"}},null,null,"",{"$f":"VLOOKUP(O911,lists!$A$2:$B$1335,2,FALSE)","v":{"$error":"#N/A"}},null,"",{"$f":"VLOOKUP(R911,lists!$A$2:$B$575,2,FALSE)","v":{"$error":"#N/A"}}]
[null,null,{"$f":"VLOOKUP(B912,lists!$F$2:$G$17,2,FALSE)","v":{"$error":"#N/A"}},null,null,null,null,null,"",{"$f":"VLOOKUP(I912,lists!$A$2:$B$1335,2,FALSE)","v":{"$error":"#N/A"}},null,{"$f":"VLOOKUP(K912,lists!$F$2:$G$17,2,FALSE)","v":{"$error":"#N/A"}},null,null,"",{"$f":"VLOOKUP(O912,lists!$A$2:$B$1335,2,FALSE)","v":{"$error":"#N/A"}},null,"",{"$f":"VLOOKUP(R912,lists!$A$2:$B$575,2,FALSE)","v":{"$error":"#N/A"}}]
[null,null,{"$f":"VLOOKUP(B913,lists!$F$2:$G$17,2,FALSE)","v":{"$error":"#N/A"}},null,null,null,null,null,"",{"$f":"VLOOKUP(I913,lists!$A$2:$B$1335,2,FALSE)","v":{"$error":"#N/A"}},null,{"$f":"VLOOKUP(K913,lists!$F$2:$G$17,2,FALSE)","v":{"$error":"#N/A"}},null,null,"",{"$f":"VLOOKUP(O913,lists!$A$2:$B$1335,2,FALSE)","v":{"$error":"#N/A"}},null,"",{"$f":"VLOOKUP(R913,lists!$A$2:$B$575,2,FALSE)","v":{"$error":"#N/A"}}]
[null,null,{"$f":"VLOOKUP(B914,lists!$F$2:$G$17,2,FALSE)","v":{"$error":"#N/A"}},null,null,null,null,null,"",{"$f":"VLOOKUP(I914,lists!$A$2:$B$1335,2,FALSE)","v":{"$error":"#N/A"}},null,{"$f":"VLOOKUP(K914,lists!$F$2:$G$17,2,FALSE)","v":{"$error":"#N/A"}},null,null,"",{"$f":"VLOOKUP(O914,lists!$A$2:$B$1335,2,FALSE)","v":{"$error":"#N/A"}},null,"",{"$f":"VLOOKUP(R914,lists!$A$2:$B$575,2,FALSE)","v":{"$error":"#N/A"}}]
[null,null,{"$f":"VLOOKUP(B915,lists!$F$2:$G$17,2,FALSE)","v":{"$error":"#N/A"}},null,null,null,null,null,"",{"$f":"VLOOKUP(I915,lists!$A$2:$B$1335,2,FALSE)","v":{"$error":"#N/A"}},null,{"$f":"VLOOKUP(K915,lists!$F$2:$G$17,2,FALSE)","v":{"$error":"#N/A"}},null,null,"",{"$f":"VLOOKUP(O915,lists!$A$2:$B$1335,2,FALSE)","v":{"$error":"#N/A"}},null,"",{"$f":"VLOOKUP(R915,lists!$A$2:$B$575,2,FALSE)","v":{"$error":"#N/A"}}]
[null,null,{"$f":"VLOOKUP(B916,lists!$F$2:$G$17,2,FALSE)","v":{"$error":"#N/A"}},null,null,null,null,null,"",{"$f":"VLOOKUP(I916,lists!$A$2:$B$1335,2,FALSE)","v":{"$error":"#N/A"}},null,{"$f":"VLOOKUP(K916,lists!$F$2:$G$17,2,FALSE)","v":{"$error":"#N/A"}},null,null,"",{"$f":"VLOOKUP(O916,lists!$A$2:$B$1335,2,FALSE)","v":{"$error":"#N/A"}},null,"",{"$f":"VLOOKUP(R916,lists!$A$2:$B$575,2,FALSE)","v":{"$error":"#N/A"}}]
[null,null,{"$f":"VLOOKUP(B917,lists!$F$2:$G$17,2,FALSE)","v":{"$error":"#N/A"}},null,null,null,null,null,"",{"$f":"VLOOKUP(I917,lists!$A$2:$B$1335,2,FALSE)","v":{"$error":"#N/A"}},null,{"$f":"VLOOKUP(K917,lists!$F$2:$G$17,2,FALSE)","v":{"$error":"#N/A"}},null,null,"",{"$f":"VLOOKUP(O917,lists!$A$2:$B$1335,2,FALSE)","v":{"$error":"#N/A"}},null,"",{"$f":"VLOOKUP(R917,lists!$A$2:$B$575,2,FALSE)","v":{"$error":"#N/A"}}]
[null,null,{"$f":"VLOOKUP(B918,lists!$F$2:$G$17,2,FALSE)","v":{"$error":"#N/A"}},null,null,null,null,null,"",{"$f":"VLOOKUP(I918,lists!$A$2:$B$1335,2,FALSE)","v":{"$error":"#N/A"}},null,{"$f":"VLOOKUP(K918,lists!$F$2:$G$17,2,FALSE)","v":{"$error":"#N/A"}},null,null,"",{"$f":"VLOOKUP(O918,lists!$A$2:$B$1335,2,FALSE)","v":{"$error":"#N/A"}},null,"",{"$f":"VLOOKUP(R918,lists!$A$2:$B$575,2,FALSE)","v":{"$error":"#N/A"}}]
[null,null,{"$f":"VLOOKUP(B919,lists!$F$2:$G$17,2,FALSE)","v":{"$error":"#N/A"}},null,null,null,null,null,"",{"$f":"VLOOKUP(I919,lists!$A$2:$B$1335,2,FALSE)","v":{"$error":"#N/A"}},null,{"$f":"VLOOKUP(K919,lists!$F$2:$G$17,2,FALSE)","v":{"$error":"#N/A"}},null,null,"",{"$f":"VLOOKUP(O919,lists!$A$2:$B$1335,2,FALSE)","v":{"$error":"#N/A"}},null,"",{"$f":"VLOOKUP(R919,lists!$A$2:$B$575,2,FALSE)","v":{"$error":"#N/A"}}]
[null,null,{"$f":"VLOOKUP(B920,lists!$F$2:$G$17,2,FALSE)","v":{"$error":"#N/A"}},null,null,null,null,null,"",{"$f":"VLOOKUP(I920,lists!$A$2:$B$1335,2,FALSE)","v":{"$error":"#N/A"}},null,{"$f":"VLOOKUP(K920,lists!$F$2:$G$17,2,FALSE)","v":{"$error":"#N/A"}},null,null,"",{"$f":"VLOOKUP(O920,lists!$A$2:$B$1335,2,FALSE)","v":{"$error":"#N/A"}},null,"",{"$f":"VLOOKUP(R920,lists!$A$2:$B$575,2,FALSE)","v":{"$error":"#N/A"}}]
[null,null,{"$f":"VLOOKUP(B921,lists!$F$2:$G$17,2,FALSE)","v":{"$error":"#N/A"}},null,null,null,null,null,"",{"$f":"VLOOKUP(I921,lists!$A$2:$B$1335,2,FALSE)","v":{"$error":"#N/A"}},null,{"$f":"VLOOKUP(K921,lists!$F$2:$G$17,2,FALSE)","v":{"$error":"#N/A"}},null,null,"",{"$f":"VLOOKUP(O921,lists!$A$2:$B$1335,2,FALSE)","v":{"$error":"#N/A"}},null,"",{"$f":"VLOOKUP(R921,lists!$A$2:$B$575,2,FALSE)","v":{"$error":"#N/A"}}]
[null,null,{"$f":"VLOOKUP(B922,lists!$F$2:$G$17,2,FALSE)","v":{"$error":"#N/A"}},null,null,null,null,null,"",{"$f":"VLOOKUP(I922,lists!$A$2:$B$1335,2,FALSE)","v":{"$error":"#N/A"}},null,{"$f":"VLOOKUP(K922,lists!$F$2:$G$17,2,FALSE)","v":{"$error":"#N/A"}},null,null,"",{"$f":"VLOOKUP(O922,lists!$A$2:$B$1335,2,FALSE)","v":{"$error":"#N/A"}},null,"",{"$f":"VLOOKUP(R922,lists!$A$2:$B$575,2,FALSE)","v":{"$error":"#N/A"}}]
[null,null,{"$f":"VLOOKUP(B923,lists!$F$2:$G$17,2,FALSE)","v":{"$error":"#N/A"}},null,null,null,null,null,"",{"$f":"VLOOKUP(I923,lists!$A$2:$B$1335,2,FALSE)","v":{"$error":"#N/A"}},null,{"$f":"VLOOKUP(K923,lists!$F$2:$G$17,2,FALSE)","v":{"$error":"#N/A"}},null,null,"",{"$f":"VLOOKUP(O923,lists!$A$2:$B$1335,2,FALSE)","v":{"$error":"#N/A"}},null,"",{"$f":"VLOOKUP(R923,lists!$A$2:$B$575,2,FALSE)","v":{"$error":"#N/A"}}]
[null,null,{"$f":"VLOOKUP(B924,lists!$F$2:$G$17,2,FALSE)","v":{"$error":"#N/A"}},null,null,null,null,null,"",{"$f":"VLOOKUP(I924,lists!$A$2:$B$1335,2,FALSE)","v":{"$error":"#N/A"}},null,{"$f":"VLOOKUP(K924,lists!$F$2:$G$17,2,FALSE)","v":{"$error":"#N/A"}},null,null,"",{"$f":"VLOOKUP(O924,lists!$A$2:$B$1335,2,FALSE)","v":{"$error":"#N/A"}},null,"",{"$f":"VLOOKUP(R924,lists!$A$2:$B$575,2,FALSE)","v":{"$error":"#N/A"}}]
[null,null,{"$f":"VLOOKUP(B925,lists!$F$2:$G$17,2,FALSE)","v":{"$error":"#N/A"}},null,null,null,null,null,"",{"$f":"VLOOKUP(I925,lists!$A$2:$B$1335,2,FALSE)","v":{"$error":"#N/A"}},null,{"$f":"VLOOKUP(K925,lists!$F$2:$G$17,2,FALSE)","v":{"$error":"#N/A"}},null,null,"",{"$f":"VLOOKUP(O925,lists!$A$2:$B$1335,2,FALSE)","v":{"$error":"#N/A"}},null,"",{"$f":"VLOOKUP(R925,lists!$A$2:$B$575,2,FALSE)","v":{"$error":"#N/A"}}]
[null,null,{"$f":"VLOOKUP(B926,lists!$F$2:$G$17,2,FALSE)","v":{"$error":"#N/A"}},null,null,null,null,null,"",{"$f":"VLOOKUP(I926,lists!$A$2:$B$1335,2,FALSE)","v":{"$error":"#N/A"}},null,{"$f":"VLOOKUP(K926,lists!$F$2:$G$17,2,FALSE)","v":{"$error":"#N/A"}},null,null,"",{"$f":"VLOOKUP(O926,lists!$A$2:$B$1335,2,FALSE)","v":{"$error":"#N/A"}},null,"",{"$f":"VLOOKUP(R926,lists!$A$2:$B$575,2,FALSE)","v":{"$error":"#N/A"}}]
[null,null,{"$f":"VLOOKUP(B927,lists!$F$2:$G$17,2,FALSE)","v":{"$error":"#N/A"}},null,null,null,null,null,"",{"$f":"VLOOKUP(I927,lists!$A$2:$B$1335,2,FALSE)","v":{"$error":"#N/A"}},null,{"$f":"VLOOKUP(K927,lists!$F$2:$G$17,2,FALSE)","v":{"$error":"#N/A"}},null,null,"",{"$f":"VLOOKUP(O927,lists!$A$2:$B$1335,2,FALSE)","v":{"$error":"#N/A"}},null,"",{"$f":"VLOOKUP(R927,lists!$A$2:$B$575,2,FALSE)","v":{"$error":"#N/A"}}]
[null,null,{"$f":"VLOOKUP(B928,lists!$F$2:$G$17,2,FALSE)","v":{"$error":"#N/A"}},null,null,null,null,null,"",{"$f":"VLOOKUP(I928,lists!$A$2:$B$1335,2,FALSE)","v":{"$error":"#N/A"}},null,{"$f":"VLOOKUP(K928,lists!$F$2:$G$17,2,FALSE)","v":{"$error":"#N/A"}},null,null,"",{"$f":"VLOOKUP(O928,lists!$A$2:$B$1335,2,FALSE)","v":{"$error":"#N/A"}},null,"",{"$f":"VLOOKUP(R928,lists!$A$2:$B$575,2,FALSE)","v":{"$error":"#N/A"}}]
[null,null,{"$f":"VLOOKUP(B929,lists!$F$2:$G$17,2,FALSE)","v":{"$error":"#N/A"}},null,null,null,null,null,"",{"$f":"VLOOKUP(I929,lists!$A$2:$B$1335,2,FALSE)","v":{"$error":"#N/A"}},null,{"$f":"VLOOKUP(K929,lists!$F$2:$G$17,2,FALSE)","v":{"$error":"#N/A"}},null,null,"",{"$f":"VLOOKUP(O929,lists!$A$2:$B$1335,2,FALSE)","v":{"$error":"#N/A"}},null,"",{"$f":"VLOOKUP(R929,lists!$A$2:$B$575,2,FALSE)","v":{"$error":"#N/A"}}]
[null,null,{"$f":"VLOOKUP(B930,lists!$F$2:$G$17,2,FALSE)","v":{"$error":"#N/A"}},null,null,null,null,null,"",{"$f":"VLOOKUP(I930,lists!$A$2:$B$1335,2,FALSE)","v":{"$error":"#N/A"}},null,{"$f":"VLOOKUP(K930,lists!$F$2:$G$17,2,FALSE)","v":{"$error":"#N/A"}},null,null,"",{"$f":"VLOOKUP(O930,lists!$A$2:$B$1335,2,FALSE)","v":{"$error":"#N/A"}},null,"",{"$f":"VLOOKUP(R930,lists!$A$2:$B$575,2,FALSE)","v":{"$error":"#N/A"}}]
[null,null,{"$f":"VLOOKUP(B931,lists!$F$2:$G$17,2,FALSE)","v":{"$error":"#N/A"}},null,null,null,null,null,"",{"$f":"VLOOKUP(I931,lists!$A$2:$B$1335,2,FALSE)","v":{"$error":"#N/A"}},null,{"$f":"VLOOKUP(K931,lists!$F$2:$G$17,2,FALSE)","v":{"$error":"#N/A"}},null,null,"",{"$f":"VLOOKUP(O931,lists!$A$2:$B$1335,2,FALSE)","v":{"$error":"#N/A"}},null,"",{"$f":"VLOOKUP(R931,lists!$A$2:$B$575,2,FALSE)","v":{"$error":"#N/A"}}]
[null,null,{"$f":"VLOOKUP(B932,lists!$F$2:$G$17,2,FALSE)","v":{"$error":"#N/A"}},null,null,null,null,null,"",{"$f":"VLOOKUP(I932,lists!$A$2:$B$1335,2,FALSE)","v":{"$error":"#N/A"}},null,{"$f":"VLOOKUP(K932,lists!$F$2:$G$17,2,FALSE)","v":{"$error":"#N/A"}},null,null,"",{"$f":"VLOOKUP(O932,lists!$A$2:$B$1335,2,FALSE)","v":{"$error":"#N/A"}},null,"",{"$f":"VLOOKUP(R932,lists!$A$2:$B$575,2,FALSE)","v":{"$error":"#N/A"}}]
[null,null,{"$f":"VLOOKUP(B933,lists!$F$2:$G$17,2,FALSE)","v":{"$error":"#N/A"}},null,null,null,null,null,"",{"$f":"VLOOKUP(I933,lists!$A$2:$B$1335,2,FALSE)","v":{"$error":"#N/A"}},null,{"$f":"VLOOKUP(K933,lists!$F$2:$G$17,2,FALSE)","v":{"$error":"#N/A"}},null,null,"",{"$f":"VLOOKUP(O933,lists!$A$2:$B$1335,2,FALSE)","v":{"$error":"#N/A"}},null,"",{"$f":"VLOOKUP(R933,lists!$A$2:$B$575,2,FALSE)","v":{"$error":"#N/A"}}]
[null,null,{"$f":"VLOOKUP(B934,lists!$F$2:$G$17,2,FALSE)","v":{"$error":"#N/A"}},null,null,null,null,null,"",{"$f":"VLOOKUP(I934,lists!$A$2:$B$1335,2,FALSE)","v":{"$error":"#N/A"}},null,{"$f":"VLOOKUP(K934,lists!$F$2:$G$17,2,FALSE)","v":{"$error":"#N/A"}},null,null,"",{"$f":"VLOOKUP(O934,lists!$A$2:$B$1335,2,FALSE)","v":{"$error":"#N/A"}},null,"",{"$f":"VLOOKUP(R934,lists!$A$2:$B$575,2,FALSE)","v":{"$error":"#N/A"}}]
[null,null,{"$f":"VLOOKUP(B935,lists!$F$2:$G$17,2,FALSE)","v":{"$error":"#N/A"}},null,null,null,null,null,"",{"$f":"VLOOKUP(I935,lists!$A$2:$B$1335,2,FALSE)","v":{"$error":"#N/A"}},null,{"$f":"VLOOKUP(K935,lists!$F$2:$G$17,2,FALSE)","v":{"$error":"#N/A"}},null,null,"",{"$f":"VLOOKUP(O935,lists!$A$2:$B$1335,2,FALSE)","v":{"$error":"#N/A"}},null,"",{"$f":"VLOOKUP(R935,lists!$A$2:$B$575,2,FALSE)","v":{"$error":"#N/A"}}]
[null,null,{"$f":"VLOOKUP(B936,lists!$F$2:$G$17,2,FALSE)","v":{"$error":"#N/A"}},null,null,null,null,null,"",{"$f":"VLOOKUP(I936,lists!$A$2:$B$1335,2,FALSE)","v":{"$error":"#N/A"}},null,{"$f":"VLOOKUP(K936,lists!$F$2:$G$17,2,FALSE)","v":{"$error":"#N/A"}},null,null,"",{"$f":"VLOOKUP(O936,lists!$A$2:$B$1335,2,FALSE)","v":{"$error":"#N/A"}},null,"",{"$f":"VLOOKUP(R936,lists!$A$2:$B$575,2,FALSE)","v":{"$error":"#N/A"}}]
[null,null,{"$f":"VLOOKUP(B937,lists!$F$2:$G$17,2,FALSE)","v":{"$error":"#N/A"}},null,null,null,null,null,"",{"$f":"VLOOKUP(I937,lists!$A$2:$B$1335,2,FALSE)","v":{"$error":"#N/A"}},null,{"$f":"VLOOKUP(K937,lists!$F$2:$G$17,2,FALSE)","v":{"$error":"#N/A"}},null,null,"",{"$f":"VLOOKUP(O937,lists!$A$2:$B$1335,2,FALSE)","v":{"$error":"#N/A"}},null,"",{"$f":"VLOOKUP(R937,lists!$A$2:$B$575,2,FALSE)","v":{"$error":"#N/A"}}]
[null,null,{"$f":"VLOOKUP(B938,lists!$F$2:$G$17,2,FALSE)","v":{"$error":"#N/A"}},null,null,null,null,null,"",{"$f":"VLOOKUP(I938,lists!$A$2:$B$1335,2,FALSE)","v":{"$error":"#N/A"}},null,{"$f":"VLOOKUP(K938,lists!$F$2:$G$17,2,FALSE)","v":{"$error":"#N/A"}},null,null,"",{"$f":"VLOOKUP(O938,lists!$A$2:$B$1335,2,FALSE)","v":{"$error":"#N/A"}},null,"",{"$f":"VLOOKUP(R938,lists!$A$2:$B$575,2,FALSE)","v":{"$error":"#N/A"}}]
[null,null,{"$f":"VLOOKUP(B939,lists!$F$2:$G$17,2,FALSE)","v":{"$error":"#N/A"}},null,null,null,null,null,"",{"$f":"VLOOKUP(I939,lists!$A$2:$B$1335,2,FALSE)","v":{"$error":"#N/A"}},null,{"$f":"VLOOKUP(K939,lists!$F$2:$G$17,2,FALSE)","v":{"$error":"#N/A"}},null,null,"",{"$f":"VLOOKUP(O939,lists!$A$2:$B$1335,2,FALSE)","v":{"$error":"#N/A"}},null,"",{"$f":"VLOOKUP(R939,lists!$A$2:$B$575,2,FALSE)","v":{"$error":"#N/A"}}]
[null,null,{"$f":"VLOOKUP(B940,lists!$F$2:$G$17,2,FALSE)","v":{"$error":"#N/A"}},null,null,null,null,null,"",{"$f":"VLOOKUP(I940,lists!$A$2:$B$1335,2,FALSE)","v":{"$error":"#N/A"}},null,{"$f":"VLOOKUP(K940,lists!$F$2:$G$17,2,FALSE)","v":{"$error":"#N/A"}},null,null,"",{"$f":"VLOOKUP(O940,lists!$A$2:$B$1335,2,FALSE)","v":{"$error":"#N/A"}},null,"",{"$f":"VLOOKUP(R940,lists!$A$2:$B$575,2,FALSE)","v":{"$error":"#N/A"}}]
[null,null,{"$f":"VLOOKUP(B941,lists!$F$2:$G$17,2,FALSE)","v":{"$error":"#N/A"}},null,null,null,null,null,"",{"$f":"VLOOKUP(I941,lists!$A$2:$B$1335,2,FALSE)","v":{"$error":"#N/A"}},null,{"$f":"VLOOKUP(K941,lists!$F$2:$G$17,2,FALSE)","v":{"$error":"#N/A"}},null,null,"",{"$f":"VLOOKUP(O941,lists!$A$2:$B$1335,2,FALSE)","v":{"$error":"#N/A"}},null,"",{"$f":"VLOOKUP(R941,lists!$A$2:$B$575,2,FALSE)","v":{"$error":"#N/A"}}]
[null,null,{"$f":"VLOOKUP(B942,lists!$F$2:$G$17,2,FALSE)","v":{"$error":"#N/A"}},null,null,null,null,null,"",{"$f":"VLOOKUP(I942,lists!$A$2:$B$1335,2,FALSE)","v":{"$error":"#N/A"}},null,{"$f":"VLOOKUP(K942,lists!$F$2:$G$17,2,FALSE)","v":{"$error":"#N/A"}},null,null,"",{"$f":"VLOOKUP(O942,lists!$A$2:$B$1335,2,FALSE)","v":{"$error":"#N/A"}},null,"",{"$f":"VLOOKUP(R942,lists!$A$2:$B$575,2,FALSE)","v":{"$error":"#N/A"}}]
[null,null,{"$f":"VLOOKUP(B943,lists!$F$2:$G$17,2,FALSE)","v":{"$error":"#N/A"}},null,null,null,null,null,"",{"$f":"VLOOKUP(I943,lists!$A$2:$B$1335,2,FALSE)","v":{"$error":"#N/A"}},null,{"$f":"VLOOKUP(K943,lists!$F$2:$G$17,2,FALSE)","v":{"$error":"#N/A"}},null,null,"",{"$f":"VLOOKUP(O943,lists!$A$2:$B$1335,2,FALSE)","v":{"$error":"#N/A"}},null,"",{"$f":"VLOOKUP(R943,lists!$A$2:$B$575,2,FALSE)","v":{"$error":"#N/A"}}]
[null,null,{"$f":"VLOOKUP(B944,lists!$F$2:$G$17,2,FALSE)","v":{"$error":"#N/A"}},null,null,null,null,null,"",{"$f":"VLOOKUP(I944,lists!$A$2:$B$1335,2,FALSE)","v":{"$error":"#N/A"}},null,{"$f":"VLOOKUP(K944,lists!$F$2:$G$17,2,FALSE)","v":{"$error":"#N/A"}},null,null,"",{"$f":"VLOOKUP(O944,lists!$A$2:$B$1335,2,FALSE)","v":{"$error":"#N/A"}},null,"",{"$f":"VLOOKUP(R944,lists!$A$2:$B$575,2,FALSE)","v":{"$error":"#N/A"}}]
[null,null,{"$f":"VLOOKUP(B945,lists!$F$2:$G$17,2,FALSE)","v":{"$error":"#N/A"}},null,null,null,null,null,"",{"$f":"VLOOKUP(I945,lists!$A$2:$B$1335,2,FALSE)","v":{"$error":"#N/A"}},null,{"$f":"VLOOKUP(K945,lists!$F$2:$G$17,2,FALSE)","v":{"$error":"#N/A"}},null,null,"",{"$f":"VLOOKUP(O945,lists!$A$2:$B$1335,2,FALSE)","v":{"$error":"#N/A"}},null,"",{"$f":"VLOOKUP(R945,lists!$A$2:$B$575,2,FALSE)","v":{"$error":"#N/A"}}]
[null,null,{"$f":"VLOOKUP(B946,lists!$F$2:$G$17,2,FALSE)","v":{"$error":"#N/A"}},null,null,null,null,null,"",{"$f":"VLOOKUP(I946,lists!$A$2:$B$1335,2,FALSE)","v":{"$error":"#N/A"}},null,{"$f":"VLOOKUP(K946,lists!$F$2:$G$17,2,FALSE)","v":{"$error":"#N/A"}},null,null,"",{"$f":"VLOOKUP(O946,lists!$A$2:$B$1335,2,FALSE)","v":{"$error":"#N/A"}},null,"",{"$f":"VLOOKUP(R946,lists!$A$2:$B$575,2,FALSE)","v":{"$error":"#N/A"}}]
[null,null,{"$f":"VLOOKUP(B947,lists!$F$2:$G$17,2,FALSE)","v":{"$error":"#N/A"}},null,null,null,null,null,"",{"$f":"VLOOKUP(I947,lists!$A$2:$B$1335,2,FALSE)","v":{"$error":"#N/A"}},null,{"$f":"VLOOKUP(K947,lists!$F$2:$G$17,2,FALSE)","v":{"$error":"#N/A"}},null,null,"",{"$f":"VLOOKUP(O947,lists!$A$2:$B$1335,2,FALSE)","v":{"$error":"#N/A"}},null,"",{"$f":"VLOOKUP(R947,lists!$A$2:$B$575,2,FALSE)","v":{"$error":"#N/A"}}]
[null,null,{"$f":"VLOOKUP(B948,lists!$F$2:$G$17,2,FALSE)","v":{"$error":"#N/A"}},null,null,null,null,null,"",{"$f":"VLOOKUP(I948,lists!$A$2:$B$1335,2,FALSE)","v":{"$error":"#N/A"}},null,{"$f":"VLOOKUP(K948,lists!$F$2:$G$17,2,FALSE)","v":{"$error":"#N/A"}},null,null,"",{"$f":"VLOOKUP(O948,lists!$A$2:$B$1335,2,FALSE)","v":{"$error":"#N/A"}},null,"",{"$f":"VLOOKUP(R948,lists!$A$2:$B$575,2,FALSE)","v":{"$error":"#N/A"}}]
[null,null,{"$f":"VLOOKUP(B949,lists!$F$2:$G$17,2,FALSE)","v":{"$error":"#N/A"}},null,null,null,null,null,"",{"$f":"VLOOKUP(I949,lists!$A$2:$B$1335,2,FALSE)","v":{"$error":"#N/A"}},null,{"$f":"VLOOKUP(K949,lists!$F$2:$G$17,2,FALSE)","v":{"$error":"#N/A"}},null,null,"",{"$f":"VLOOKUP(O949,lists!$A$2:$B$1335,2,FALSE)","v":{"$error":"#N/A"}},null,"",{"$f":"VLOOKUP(R949,lists!$A$2:$B$575,2,FALSE)","v":{"$error":"#N/A"}}]
[null,null,{"$f":"VLOOKUP(B950,lists!$F$2:$G$17,2,FALSE)","v":{"$error":"#N/A"}},null,null,null,null,null,"",{"$f":"VLOOKUP(I950,lists!$A$2:$B$1335,2,FALSE)","v":{"$error":"#N/A"}},null,{"$f":"VLOOKUP(K950,lists!$F$2:$G$17,2,FALSE)","v":{"$error":"#N/A"}},null,null,"",{"$f":"VLOOKUP(O950,lists!$A$2:$B$1335,2,FALSE)","v":{"$error":"#N/A"}},null,"",{"$f":"VLOOKUP(R950,lists!$A$2:$B$575,2,FALSE)","v":{"$error":"#N/A"}}]
[null,null,{"$f":"VLOOKUP(B951,lists!$F$2:$G$17,2,FALSE)","v":{"$error":"#N/A"}},null,null,null,null,null,"",{"$f":"VLOOKUP(I951,lists!$A$2:$B$1335,2,FALSE)","v":{"$error":"#N/A"}},null,{"$f":"VLOOKUP(K951,lists!$F$2:$G$17,2,FALSE)","v":{"$error":"#N/A"}},null,null,"",{"$f":"VLOOKUP(O951,lists!$A$2:$B$1335,2,FALSE)","v":{"$error":"#N/A"}},null,"",{"$f":"VLOOKUP(R951,lists!$A$2:$B$575,2,FALSE)","v":{"$error":"#N/A"}}]
[null,null,{"$f":"VLOOKUP(B952,lists!$F$2:$G$17,2,FALSE)","v":{"$error":"#N/A"}},null,null,null,null,null,"",{"$f":"VLOOKUP(I952,lists!$A$2:$B$1335,2,FALSE)","v":{"$error":"#N/A"}},null,{"$f":"VLOOKUP(K952,lists!$F$2:$G$17,2,FALSE)","v":{"$error":"#N/A"}},null,null,"",{"$f":"VLOOKUP(O952,lists!$A$2:$B$1335,2,FALSE)","v":{"$error":"#N/A"}},null,"",{"$f":"VLOOKUP(R952,lists!$A$2:$B$575,2,FALSE)","v":{"$error":"#N/A"}}]
[null,null,{"$f":"VLOOKUP(B953,lists!$F$2:$G$17,2,FALSE)","v":{"$error":"#N/A"}},null,null,null,null,null,"",{"$f":"VLOOKUP(I953,lists!$A$2:$B$1335,2,FALSE)","v":{"$error":"#N/A"}},null,{"$f":"VLOOKUP(K953,lists!$F$2:$G$17,2,FALSE)","v":{"$error":"#N/A"}},null,null,"",{"$f":"VLOOKUP(O953,lists!$A$2:$B$1335,2,FALSE)","v":{"$error":"#N/A"}},null,"",{"$f":"VLOOKUP(R953,lists!$A$2:$B$575,2,FALSE)","v":{"$error":"#N/A"}}]
[null,null,{"$f":"VLOOKUP(B954,lists!$F$2:$G$17,2,FALSE)","v":{"$error":"#N/A"}},null,null,null,null,null,"",{"$f":"VLOOKUP(I954,lists!$A$2:$B$1335,2,FALSE)","v":{"$error":"#N/A"}},null,{"$f":"VLOOKUP(K954,lists!$F$2:$G$17,2,FALSE)","v":{"$error":"#N/A"}},null,null,"",{"$f":"VLOOKUP(O954,lists!$A$2:$B$1335,2,FALSE)","v":{"$error":"#N/A"}},null,"",{"$f":"VLOOKUP(R954,lists!$A$2:$B$575,2,FALSE)","v":{"$error":"#N/A"}}]
[null,null,{"$f":"VLOOKUP(B955,lists!$F$2:$G$17,2,FALSE)","v":{"$error":"#N/A"}},null,null,null,null,null,"",{"$f":"VLOOKUP(I955,lists!$A$2:$B$1335,2,FALSE)","v":{"$error":"#N/A"}},null,{"$f":"VLOOKUP(K955,lists!$F$2:$G$17,2,FALSE)","v":{"$error":"#N/A"}},null,null,"",{"$f":"VLOOKUP(O955,lists!$A$2:$B$1335,2,FALSE)","v":{"$error":"#N/A"}},null,"",{"$f":"VLOOKUP(R955,lists!$A$2:$B$575,2,FALSE)","v":{"$error":"#N/A"}}]
[null,null,{"$f":"VLOOKUP(B956,lists!$F$2:$G$17,2,FALSE)","v":{"$error":"#N/A"}},null,null,null,null,null,"",{"$f":"VLOOKUP(I956,lists!$A$2:$B$1335,2,FALSE)","v":{"$error":"#N/A"}},null,{"$f":"VLOOKUP(K956,lists!$F$2:$G$17,2,FALSE)","v":{"$error":"#N/A"}},null,null,"",{"$f":"VLOOKUP(O956,lists!$A$2:$B$1335,2,FALSE)","v":{"$error":"#N/A"}},null,"",{"$f":"VLOOKUP(R956,lists!$A$2:$B$575,2,FALSE)","v":{"$error":"#N/A"}}]
[null,null,{"$f":"VLOOKUP(B957,lists!$F$2:$G$17,2,FALSE)","v":{"$error":"#N/A"}},null,null,null,null,null,"",{"$f":"VLOOKUP(I957,lists!$A$2:$B$1335,2,FALSE)","v":{"$error":"#N/A"}},null,{"$f":"VLOOKUP(K957,lists!$F$2:$G$17,2,FALSE)","v":{"$error":"#N/A"}},null,null,"",{"$f":"VLOOKUP(O957,lists!$A$2:$B$1335,2,FALSE)","v":{"$error":"#N/A"}},null,"",{"$f":"VLOOKUP(R957,lists!$A$2:$B$575,2,FALSE)","v":{"$error":"#N/A"}}]
[null,null,{"$f":"VLOOKUP(B958,lists!$F$2:$G$17,2,FALSE)","v":{"$error":"#N/A"}},null,null,null,null,null,"",{"$f":"VLOOKUP(I958,lists!$A$2:$B$1335,2,FALSE)","v":{"$error":"#N/A"}},null,{"$f":"VLOOKUP(K958,lists!$F$2:$G$17,2,FALSE)","v":{"$error":"#N/A"}},null,null,"",{"$f":"VLOOKUP(O958,lists!$A$2:$B$1335,2,FALSE)","v":{"$error":"#N/A"}},null,"",{"$f":"VLOOKUP(R958,lists!$A$2:$B$575,2,FALSE)","v":{"$error":"#N/A"}}]
[null,null,{"$f":"VLOOKUP(B959,lists!$F$2:$G$17,2,FALSE)","v":{"$error":"#N/A"}},null,null,null,null,null,"",{"$f":"VLOOKUP(I959,lists!$A$2:$B$1335,2,FALSE)","v":{"$error":"#N/A"}},null,{"$f":"VLOOKUP(K959,lists!$F$2:$G$17,2,FALSE)","v":{"$error":"#N/A"}},null,null,"",{"$f":"VLOOKUP(O959,lists!$A$2:$B$1335,2,FALSE)","v":{"$error":"#N/A"}},null,"",{"$f":"VLOOKUP(R959,lists!$A$2:$B$575,2,FALSE)","v":{"$error":"#N/A"}}]
[null,null,{"$f":"VLOOKUP(B960,lists!$F$2:$G$17,2,FALSE)","v":{"$error":"#N/A"}},null,null,null,null,null,"",{"$f":"VLOOKUP(I960,lists!$A$2:$B$1335,2,FALSE)","v":{"$error":"#N/A"}},null,{"$f":"VLOOKUP(K960,lists!$F$2:$G$17,2,FALSE)","v":{"$error":"#N/A"}},null,null,"",{"$f":"VLOOKUP(O960,lists!$A$2:$B$1335,2,FALSE)","v":{"$error":"#N/A"}},null,"",{"$f":"VLOOKUP(R960,lists!$A$2:$B$575,2,FALSE)","v":{"$error":"#N/A"}}]
[null,null,{"$f":"VLOOKUP(B961,lists!$F$2:$G$17,2,FALSE)","v":{"$error":"#N/A"}},null,null,null,null,null,"",{"$f":"VLOOKUP(I961,lists!$A$2:$B$1335,2,FALSE)","v":{"$error":"#N/A"}},null,{"$f":"VLOOKUP(K961,lists!$F$2:$G$17,2,FALSE)","v":{"$error":"#N/A"}},null,null,"",{"$f":"VLOOKUP(O961,lists!$A$2:$B$1335,2,FALSE)","v":{"$error":"#N/A"}},null,"",{"$f":"VLOOKUP(R961,lists!$A$2:$B$575,2,FALSE)","v":{"$error":"#N/A"}}]
[null,null,{"$f":"VLOOKUP(B962,lists!$F$2:$G$17,2,FALSE)","v":{"$error":"#N/A"}},null,null,null,null,null,"",{"$f":"VLOOKUP(I962,lists!$A$2:$B$1335,2,FALSE)","v":{"$error":"#N/A"}},null,{"$f":"VLOOKUP(K962,lists!$F$2:$G$17,2,FALSE)","v":{"$error":"#N/A"}},null,null,"",{"$f":"VLOOKUP(O962,lists!$A$2:$B$1335,2,FALSE)","v":{"$error":"#N/A"}},null,"",{"$f":"VLOOKUP(R962,lists!$A$2:$B$575,2,FALSE)","v":{"$error":"#N/A"}}]
[null,null,{"$f":"VLOOKUP(B963,lists!$F$2:$G$17,2,FALSE)","v":{"$error":"#N/A"}},null,null,null,null,null,"",{"$f":"VLOOKUP(I963,lists!$A$2:$B$1335,2,FALSE)","v":{"$error":"#N/A"}},null,{"$f":"VLOOKUP(K963,lists!$F$2:$G$17,2,FALSE)","v":{"$error":"#N/A"}},null,null,"",{"$f":"VLOOKUP(O963,lists!$A$2:$B$1335,2,FALSE)","v":{"$error":"#N/A"}},null,"",{"$f":"VLOOKUP(R963,lists!$A$2:$B$575,2,FALSE)","v":{"$error":"#N/A"}}]
[null,null,{"$f":"VLOOKUP(B964,lists!$F$2:$G$17,2,FALSE)","v":{"$error":"#N/A"}},null,null,null,null,null,"",{"$f":"VLOOKUP(I964,lists!$A$2:$B$1335,2,FALSE)","v":{"$error":"#N/A"}},null,{"$f":"VLOOKUP(K964,lists!$F$2:$G$17,2,FALSE)","v":{"$error":"#N/A"}},null,null,"",{"$f":"VLOOKUP(O964,lists!$A$2:$B$1335,2,FALSE)","v":{"$error":"#N/A"}},null,"",{"$f":"VLOOKUP(R964,lists!$A$2:$B$575,2,FALSE)","v":{"$error":"#N/A"}}]
[null,null,{"$f":"VLOOKUP(B965,lists!$F$2:$G$17,2,FALSE)","v":{"$error":"#N/A"}},null,null,null,null,null,"",{"$f":"VLOOKUP(I965,lists!$A$2:$B$1335,2,FALSE)","v":{"$error":"#N/A"}},null,{"$f":"VLOOKUP(K965,lists!$F$2:$G$17,2,FALSE)","v":{"$error":"#N/A"}},null,null,"",{"$f":"VLOOKUP(O965,lists!$A$2:$B$1335,2,FALSE)","v":{"$error":"#N/A"}},null,"",{"$f":"VLOOKUP(R965,lists!$A$2:$B$575,2,FALSE)","v":{"$error":"#N/A"}}]
[null,null,{"$f":"VLOOKUP(B966,lists!$F$2:$G$17,2,FALSE)","v":{"$error":"#N/A"}},null,null,null,null,null,"",{"$f":"VLOOKUP(I966,lists!$A$2:$B$1335,2,FALSE)","v":{"$error":"#N/A"}},null,{"$f":"VLOOKUP(K966,lists!$F$2:$G$17,2,FALSE)","v":{"$error":"#N/A"}},null,null,"",{"$f":"VLOOKUP(O966,lists!$A$2:$B$1335,2,FALSE)","v":{"$error":"#N/A"}},null,"",{"$f":"VLOOKUP(R966,lists!$A$2:$B$575,2,FALSE)","v":{"$error":"#N/A"}}]
[null,null,{"$f":"VLOOKUP(B967,lists!$F$2:$G$17,2,FALSE)","v":{"$error":"#N/A"}},null,null,null,null,null,"",{"$f":"VLOOKUP(I967,lists!$A$2:$B$1335,2,FALSE)","v":{"$error":"#N/A"}},null,{"$f":"VLOOKUP(K967,lists!$F$2:$G$17,2,FALSE)","v":{"$error":"#N/A"}},null,null,"",{"$f":"VLOOKUP(O967,lists!$A$2:$B$1335,2,FALSE)","v":{"$error":"#N/A"}},null,"",{"$f":"VLOOKUP(R967,lists!$A$2:$B$575,2,FALSE)","v":{"$error":"#N/A"}}]
[null,null,{"$f":"VLOOKUP(B968,lists!$F$2:$G$17,2,FALSE)","v":{"$error":"#N/A"}},null,null,null,null,null,"",{"$f":"VLOOKUP(I968,lists!$A$2:$B$1335,2,FALSE)","v":{"$error":"#N/A"}},null,{"$f":"VLOOKUP(K968,lists!$F$2:$G$17,2,FALSE)","v":{"$error":"#N/A"}},null,null,"",{"$f":"VLOOKUP(O968,lists!$A$2:$B$1335,2,FALSE)","v":{"$error":"#N/A"}},null,"",{"$f":"VLOOKUP(R968,lists!$A$2:$B$575,2,FALSE)","v":{"$error":"#N/A"}}]
[null,null,{"$f":"VLOOKUP(B969,lists!$F$2:$G$17,2,FALSE)","v":{"$error":"#N/A"}},null,null,null,null,null,"",{"$f":"VLOOKUP(I969,lists!$A$2:$B$1335,2,FALSE)","v":{"$error":"#N/A"}},null,{"$f":"VLOOKUP(K969,lists!$F$2:$G$17,2,FALSE)","v":{"$error":"#N/A"}},null,null,"",{"$f":"VLOOKUP(O969,lists!$A$2:$B$1335,2,FALSE)","v":{"$error":"#N/A"}},null,"",{"$f":"VLOOKUP(R969,lists!$A$2:$B$575,2,FALSE)","v":{"$error":"#N/A"}}]
[null,null,{"$f":"VLOOKUP(B970,lists!$F$2:$G$17,2,FALSE)","v":{"$error":"#N/A"}},null,null,null,null,null,"",{"$f":"VLOOKUP(I970,lists!$A$2:$B$1335,2,FALSE)","v":{"$error":"#N/A"}},null,{"$f":"VLOOKUP(K970,lists!$F$2:$G$17,2,FALSE)","v":{"$error":"#N/A"}},null,null,"",{"$f":"VLOOKUP(O970,lists!$A$2:$B$1335,2,FALSE)","v":{"$error":"#N/A"}},null,"",{"$f":"VLOOKUP(R970,lists!$A$2:$B$575,2,FALSE)","v":{"$error":"#N/A"}}]
[null,null,{"$f":"VLOOKUP(B971,lists!$F$2:$G$17,2,FALSE)","v":{"$error":"#N/A"}},null,null,null,null,null,"",{"$f":"VLOOKUP(I971,lists!$A$2:$B$1335,2,FALSE)","v":{"$error":"#N/A"}},null,{"$f":"VLOOKUP(K971,lists!$F$2:$G$17,2,FALSE)","v":{"$error":"#N/A"}},null,null,"",{"$f":"VLOOKUP(O971,lists!$A$2:$B$1335,2,FALSE)","v":{"$error":"#N/A"}},null,"",{"$f":"VLOOKUP(R971,lists!$A$2:$B$575,2,FALSE)","v":{"$error":"#N/A"}}]
[null,null,{"$f":"VLOOKUP(B972,lists!$F$2:$G$17,2,FALSE)","v":{"$error":"#N/A"}},null,null,null,null,null,"",{"$f":"VLOOKUP(I972,lists!$A$2:$B$1335,2,FALSE)","v":{"$error":"#N/A"}},null,{"$f":"VLOOKUP(K972,lists!$F$2:$G$17,2,FALSE)","v":{"$error":"#N/A"}},null,null,"",{"$f":"VLOOKUP(O972,lists!$A$2:$B$1335,2,FALSE)","v":{"$error":"#N/A"}},null,"",{"$f":"VLOOKUP(R972,lists!$A$2:$B$575,2,FALSE)","v":{"$error":"#N/A"}}]
[null,null,{"$f":"VLOOKUP(B973,lists!$F$2:$G$17,2,FALSE)","v":{"$error":"#N/A"}},null,null,null,null,null,"",{"$f":"VLOOKUP(I973,lists!$A$2:$B$1335,2,FALSE)","v":{"$error":"#N/A"}},null,{"$f":"VLOOKUP(K973,lists!$F$2:$G$17,2,FALSE)","v":{"$error":"#N/A"}},null,null,"",{"$f":"VLOOKUP(O973,lists!$A$2:$B$1335,2,FALSE)","v":{"$error":"#N/A"}},null,"",{"$f":"VLOOKUP(R973,lists!$A$2:$B$575,2,FALSE)","v":{"$error":"#N/A"}}]
[null,null,{"$f":"VLOOKUP(B974,lists!$F$2:$G$17,2,FALSE)","v":{"$error":"#N/A"}},null,null,null,null,null,"",{"$f":"VLOOKUP(I974,lists!$A$2:$B$1335,2,FALSE)","v":{"$error":"#N/A"}},null,{"$f":"VLOOKUP(K974,lists!$F$2:$G$17,2,FALSE)","v":{"$error":"#N/A"}},null,null,"",{"$f":"VLOOKUP(O974,lists!$A$2:$B$1335,2,FALSE)","v":{"$error":"#N/A"}},null,"",{"$f":"VLOOKUP(R974,lists!$A$2:$B$575,2,FALSE)","v":{"$error":"#N/A"}}]
[null,null,{"$f":"VLOOKUP(B975,lists!$F$2:$G$17,2,FALSE)","v":{"$error":"#N/A"}},null,null,null,null,null,"",{"$f":"VLOOKUP(I975,lists!$A$2:$B$1335,2,FALSE)","v":{"$error":"#N/A"}},null,{"$f":"VLOOKUP(K975,lists!$F$2:$G$17,2,FALSE)","v":{"$error":"#N/A"}},null,null,"",{"$f":"VLOOKUP(O975,lists!$A$2:$B$1335,2,FALSE)","v":{"$error":"#N/A"}},null,"",{"$f":"VLOOKUP(R975,lists!$A$2:$B$575,2,FALSE)","v":{"$error":"#N/A"}}]
[null,null,{"$f":"VLOOKUP(B976,lists!$F$2:$G$17,2,FALSE)","v":{"$error":"#N/A"}},null,null,null,null,null,"",{"$f":"VLOOKUP(I976,lists!$A$2:$B$1335,2,FALSE)","v":{"$error":"#N/A"}},null,{"$f":"VLOOKUP(K976,lists!$F$2:$G$17,2,FALSE)","v":{"$error":"#N/A"}},null,null,"",{"$f":"VLOOKUP(O976,lists!$A$2:$B$1335,2,FALSE)","v":{"$error":"#N/A"}},null,"",{"$f":"VLOOKUP(R976,lists!$A$2:$B$575,2,FALSE)","v":{"$error":"#N/A"}}]
[null,null,{"$f":"VLOOKUP(B977,lists!$F$2:$G$17,2,FALSE)","v":{"$error":"#N/A"}},null,null,null,null,null,"",{"$f":"VLOOKUP(I977,lists!$A$2:$B$1335,2,FALSE)","v":{"$error":"#N/A"}},null,{"$f":"VLOOKUP(K977,lists!$F$2:$G$17,2,FALSE)","v":{"$error":"#N/A"}},null,null,"",{"$f":"VLOOKUP(O977,lists!$A$2:$B$1335,2,FALSE)","v":{"$error":"#N/A"}},null,"",{"$f":"VLOOKUP(R977,lists!$A$2:$B$575,2,FALSE)","v":{"$error":"#N/A"}}]
[null,null,{"$f":"VLOOKUP(B978,lists!$F$2:$G$17,2,FALSE)","v":{"$error":"#N/A"}},null,null,null,null,null,"",{"$f":"VLOOKUP(I978,lists!$A$2:$B$1335,2,FALSE)","v":{"$error":"#N/A"}},null,{"$f":"VLOOKUP(K978,lists!$F$2:$G$17,2,FALSE)","v":{"$error":"#N/A"}},null,null,"",{"$f":"VLOOKUP(O978,lists!$A$2:$B$1335,2,FALSE)","v":{"$error":"#N/A"}},null,"",{"$f":"VLOOKUP(R978,lists!$A$2:$B$575,2,FALSE)","v":{"$error":"#N/A"}}]
[null,null,{"$f":"VLOOKUP(B979,lists!$F$2:$G$17,2,FALSE)","v":{"$error":"#N/A"}},null,null,null,null,null,"",{"$f":"VLOOKUP(I979,lists!$A$2:$B$1335,2,FALSE)","v":{"$error":"#N/A"}},null,{"$f":"VLOOKUP(K979,lists!$F$2:$G$17,2,FALSE)","v":{"$error":"#N/A"}},null,null,"",{"$f":"VLOOKUP(O979,lists!$A$2:$B$1335,2,FALSE)","v":{"$error":"#N/A"}},null,"",{"$f":"VLOOKUP(R979,lists!$A$2:$B$575,2,FALSE)","v":{"$error":"#N/A"}}]
[null,null,{"$f":"VLOOKUP(B980,lists!$F$2:$G$17,2,FALSE)","v":{"$error":"#N/A"}},null,null,null,null,null,"",{"$f":"VLOOKUP(I980,lists!$A$2:$B$1335,2,FALSE)","v":{"$error":"#N/A"}},null,{"$f":"VLOOKUP(K980,lists!$F$2:$G$17,2,FALSE)","v":{"$error":"#N/A"}},null,null,"",{"$f":"VLOOKUP(O980,lists!$A$2:$B$1335,2,FALSE)","v":{"$error":"#N/A"}},null,"",{"$f":"VLOOKUP(R980,lists!$A$2:$B$575,2,FALSE)","v":{"$error":"#N/A"}}]
[null,null,{"$f":"VLOOKUP(B981,lists!$F$2:$G$17,2,FALSE)","v":{"$error":"#N/A"}},null,null,null,null,null,"",{"$f":"VLOOKUP(I981,lists!$A$2:$B$1335,2,FALSE)","v":{"$error":"#N/A"}},null,{"$f":"VLOOKUP(K981,lists!$F$2:$G$17,2,FALSE)","v":{"$error":"#N/A"}},null,null,"",{"$f":"VLOOKUP(O981,lists!$A$2:$B$1335,2,FALSE)","v":{"$error":"#N/A"}},null,"",{"$f":"VLOOKUP(R981,lists!$A$2:$B$575,2,FALSE)","v":{"$error":"#N/A"}}]
[null,null,{"$f":"VLOOKUP(B982,lists!$F$2:$G$17,2,FALSE)","v":{"$error":"#N/A"}},null,null,null,null,null,"",{"$f":"VLOOKUP(I982,lists!$A$2:$B$1335,2,FALSE)","v":{"$error":"#N/A"}},null,{"$f":"VLOOKUP(K982,lists!$F$2:$G$17,2,FALSE)","v":{"$error":"#N/A"}},null,null,"",{"$f":"VLOOKUP(O982,lists!$A$2:$B$1335,2,FALSE)","v":{"$error":"#N/A"}},null,"",{"$f":"VLOOKUP(R982,lists!$A$2:$B$575,2,FALSE)","v":{"$error":"#N/A"}}]
[null,null,{"$f":"VLOOKUP(B983,lists!$F$2:$G$17,2,FALSE)","v":{"$error":"#N/A"}},null,null,null,null,null,"",{"$f":"VLOOKUP(I983,lists!$A$2:$B$1335,2,FALSE)","v":{"$error":"#N/A"}},null,{"$f":"VLOOKUP(K983,lists!$F$2:$G$17,2,FALSE)","v":{"$error":"#N/A"}},null,null,"",{"$f":"VLOOKUP(O983,lists!$A$2:$B$1335,2,FALSE)","v":{"$error":"#N/A"}},null,"",{"$f":"VLOOKUP(R983,lists!$A$2:$B$575,2,FALSE)","v":{"$error":"#N/A"}}]
[null,null,{"$f":"VLOOKUP(B984,lists!$F$2:$G$17,2,FALSE)","v":{"$error":"#N/A"}},null,null,null,null,null,"",{"$f":"VLOOKUP(I984,lists!$A$2:$B$1335,2,FALSE)","v":{"$error":"#N/A"}},null,{"$f":"VLOOKUP(K984,lists!$F$2:$G$17,2,FALSE)","v":{"$error":"#N/A"}},null,null,"",{"$f":"VLOOKUP(O984,lists!$A$2:$B$1335,2,FALSE)","v":{"$error":"#N/A"}},null,"",{"$f":"VLOOKUP(R984,lists!$A$2:$B$575,2,FALSE)","v":{"$error":"#N/A"}}]
[null,null,{"$f":"VLOOKUP(B985,lists!$F$2:$G$17,2,FALSE)","v":{"$error":"#N/A"}},null,null,null,null,null,"",{"$f":"VLOOKUP(I985,lists!$A$2:$B$1335,2,FALSE)","v":{"$error":"#N/A"}},null,{"$f":"VLOOKUP(K985,lists!$F$2:$G$17,2,FALSE)","v":{"$error":"#N/A"}},null,null,"",{"$f":"VLOOKUP(O985,lists!$A$2:$B$1335,2,FALSE)","v":{"$error":"#N/A"}},null,"",{"$f":"VLOOKUP(R985,lists!$A$2:$B$575,2,FALSE)","v":{"$error":"#N/A"}}]
[null,null,{"$f":"VLOOKUP(B986,lists!$F$2:$G$17,2,FALSE)","v":{"$error":"#N/A"}},null,null,null,null,null,"",{"$f":"VLOOKUP(I986,lists!$A$2:$B$1335,2,FALSE)","v":{"$error":"#N/A"}},null,{"$f":"VLOOKUP(K986,lists!$F$2:$G$17,2,FALSE)","v":{"$error":"#N/A"}},null,null,"",{"$f":"VLOOKUP(O986,lists!$A$2:$B$1335,2,FALSE)","v":{"$error":"#N/A"}},null,"",{"$f":"VLOOKUP(R986,lists!$A$2:$B$575,2,FALSE)","v":{"$error":"#N/A"}}]
[null,null,{"$f":"VLOOKUP(B987,lists!$F$2:$G$17,2,FALSE)","v":{"$error":"#N/A"}},null,null,null,null,null,"",{"$f":"VLOOKUP(I987,lists!$A$2:$B$1335,2,FALSE)","v":{"$error":"#N/A"}},null,{"$f":"VLOOKUP(K987,lists!$F$2:$G$17,2,FALSE)","v":{"$error":"#N/A"}},null,null,"",{"$f":"VLOOKUP(O987,lists!$A$2:$B$1335,2,FALSE)","v":{"$error":"#N/A"}},null,"",{"$f":"VLOOKUP(R987,lists!$A$2:$B$575,2,FALSE)","v":{"$error":"#N/A"}}]
[null,null,{"$f":"VLOOKUP(B988,lists!$F$2:$G$17,2,FALSE)","v":{"$error":"#N/A"}},null,null,null,null,null,"",{"$f":"VLOOKUP(I988,lists!$A$2:$B$1335,2,FALSE)","v":{"$error":"#N/A"}},null,{"$f":"VLOOKUP(K988,lists!$F$2:$G$17,2,FALSE)","v":{"$error":"#N/A"}},null,null,"",{"$f":"VLOOKUP(O988,lists!$A$2:$B$1335,2,FALSE)","v":{"$error":"#N/A"}},null,"",{"$f":"VLOOKUP(R988,lists!$A$2:$B$575,2,FALSE)","v":{"$error":"#N/A"}}]
[null,null,{"$f":"VLOOKUP(B989,lists!$F$2:$G$17,2,FALSE)","v":{"$error":"#N/A"}},null,null,null,null,null,"",{"$f":"VLOOKUP(I989,lists!$A$2:$B$1335,2,FALSE)","v":{"$error":"#N/A"}},null,{"$f":"VLOOKUP(K989,lists!$F$2:$G$17,2,FALSE)","v":{"$error":"#N/A"}},null,null,"",{"$f":"VLOOKUP(O989,lists!$A$2:$B$1335,2,FALSE)","v":{"$error":"#N/A"}},null,"",{"$f":"VLOOKUP(R989,lists!$A$2:$B$575,2,FALSE)","v":{"$error":"#N/A"}}]
[null,null,{"$f":"VLOOKUP(B990,lists!$F$2:$G$17,2,FALSE)","v":{"$error":"#N/A"}},null,null,null,null,null,"",{"$f":"VLOOKUP(I990,lists!$A$2:$B$1335,2,FALSE)","v":{"$error":"#N/A"}},null,{"$f":"VLOOKUP(K990,lists!$F$2:$G$17,2,FALSE)","v":{"$error":"#N/A"}},null,null,"",{"$f":"VLOOKUP(O990,lists!$A$2:$B$1335,2,FALSE)","v":{"$error":"#N/A"}},null,"",{"$f":"VLOOKUP(R990,lists!$A$2:$B$575,2,FALSE)","v":{"$error":"#N/A"}}]
[null,null,{"$f":"VLOOKUP(B991,lists!$F$2:$G$17,2,FALSE)","v":{"$error":"#N/A"}},null,null,null,null,null,"",{"$f":"VLOOKUP(I991,lists!$A$2:$B$1335,2,FALSE)","v":{"$error":"#N/A"}},null,{"$f":"VLOOKUP(K991,lists!$F$2:$G$17,2,FALSE)","v":{"$error":"#N/A"}},null,null,"",{"$f":"VLOOKUP(O991,lists!$A$2:$B$1335,2,FALSE)","v":{"$error":"#N/A"}},null,"",{"$f":"VLOOKUP(R991,lists!$A$2:$B$575,2,FALSE)","v":{"$error":"#N/A"}}]
[null,null,{"$f":"VLOOKUP(B992,lists!$F$2:$G$17,2,FALSE)","v":{"$error":"#N/A"}},null,null,null,null,null,"",{"$f":"VLOOKUP(I992,lists!$A$2:$B$1335,2,FALSE)","v":{"$error":"#N/A"}},null,{"$f":"VLOOKUP(K992,lists!$F$2:$G$17,2,FALSE)","v":{"$error":"#N/A"}},null,null,"",{"$f":"VLOOKUP(O992,lists!$A$2:$B$1335,2,FALSE)","v":{"$error":"#N/A"}},null,"",{"$f":"VLOOKUP(R992,lists!$A$2:$B$575,2,FALSE)","v":{"$error":"#N/A"}}]
[null,null,{"$f":"VLOOKUP(B993,lists!$F$2:$G$17,2,FALSE)","v":{"$error":"#N/A"}},null,null,null,null,null,"",{"$f":"VLOOKUP(I993,lists!$A$2:$B$1335,2,FALSE)","v":{"$error":"#N/A"}},null,{"$f":"VLOOKUP(K993,lists!$F$2:$G$17,2,FALSE)","v":{"$error":"#N/A"}},null,null,"",{"$f":"VLOOKUP(O993,lists!$A$2:$B$1335,2,FALSE)","v":{"$error":"#N/A"}},null,"",{"$f":"VLOOKUP(R993,lists!$A$2:$B$575,2,FALSE)","v":{"$error":"#N/A"}}]
[null,null,{"$f":"VLOOKUP(B994,lists!$F$2:$G$17,2,FALSE)","v":{"$error":"#N/A"}},null,null,null,null,null,"",{"$f":"VLOOKUP(I994,lists!$A$2:$B$1335,2,FALSE)","v":{"$error":"#N/A"}},null,{"$f":"VLOOKUP(K994,lists!$F$2:$G$17,2,FALSE)","v":{"$error":"#N/A"}},null,null,"",{"$f":"VLOOKUP(O994,lists!$A$2:$B$1335,2,FALSE)","v":{"$error":"#N/A"}},null,"",{"$f":"VLOOKUP(R994,lists!$A$2:$B$575,2,FALSE)","v":{"$error":"#N/A"}}]
[null,null,{"$f":"VLOOKUP(B995,lists!$F$2:$G$17,2,FALSE)","v":{"$error":"#N/A"}},null,null,null,null,null,"",{"$f":"VLOOKUP(I995,lists!$A$2:$B$1335,2,FALSE)","v":{"$error":"#N/A"}},null,{"$f":"VLOOKUP(K995,lists!$F$2:$G$17,2,FALSE)","v":{"$error":"#N/A"}},null,null,"",{"$f":"VLOOKUP(O995,lists!$A$2:$B$1335,2,FALSE)","v":{"$error":"#N/A"}},null,"",{"$f":"VLOOKUP(R995,lists!$A$2:$B$575,2,FALSE)","v":{"$error":"#N/A"}}]
[null,null,{"$f":"VLOOKUP(B996,lists!$F$2:$G$17,2,FALSE)","v":{"$error":"#N/A"}},null,null,null,null,null,"",{"$f":"VLOOKUP(I996,lists!$A$2:$B$1335,2,FALSE)","v":{"$error":"#N/A"}},null,{"$f":"VLOOKUP(K996,lists!$F$2:$G$17,2,FALSE)","v":{"$error":"#N/A"}},null,null,"",{"$f":"VLOOKUP(O996,lists!$A$2:$B$1335,2,FALSE)","v":{"$error":"#N/A"}},null,"",{"$f":"VLOOKUP(R996,lists!$A$2:$B$575,2,FALSE)","v":{"$error":"#N/A"}}]
[null,null,{"$f":"VLOOKUP(B997,lists!$F$2:$G$17,2,FALSE)","v":{"$error":"#N/A"}},null,null,null,null,null,"",{"$f":"VLOOKUP(I997,lists!$A$2:$B$1335,2,FALSE)","v":{"$error":"#N/A"}},null,{"$f":"VLOOKUP(K997,lists!$F$2:$G$17,2,FALSE)","v":{"$error":"#N/A"}},null,null,"",{"$f":"VLOOKUP(O997,lists!$A$2:$B$1335,2,FALSE)","v":{"$error":"#N/A"}},null,"",{"$f":"VLOOKUP(R997,lists!$A$2:$B$575,2,FALSE)","v":{"$error":"#N/A"}}]
[null,null,{"$f":"VLOOKUP(B998,lists!$F$2:$G$17,2,FALSE)","v":{"$error":"#N/A"}},null,null,null,null,null,"",{"$f":"VLOOKUP(I998,lists!$A$2:$B$1335,2,FALSE)","v":{"$error":"#N/A"}},null,{"$f":"VLOOKUP(K998,lists!$F$2:$G$17,2,FALSE)","v":{"$error":"#N/A"}},null,null,"",{"$f":"VLOOKUP(O998,lists!$A$2:$B$1335,2,FALSE)","v":{"$error":"#N/A"}},null,"",{"$f":"VLOOKUP(R998,lists!$A$2:$B$575,2,FALSE)","v":{"$error":"#N/A"}}]
[null,null,{"$f":"VLOOKUP(B999,lists!$F$2:$G$17,2,FALSE)","v":{"$error":"#N/A"}},null,null,null,null,null,"",{"$f":"VLOOKUP(I999,lists!$A$2:$B$1335,2,FALSE)","v":{"$error":"#N/A"}},null,{"$f":"VLOOKUP(K999,lists!$F$2:$G$17,2,FALSE)","v":{"$error":"#N/A"}},null,null,"",{"$f":"VLOOKUP(O999,lists!$A$2:$B$1335,2,FALSE)","v":{"$error":"#N/A"}},null,"",{"$f":"VLOOKUP(R999,lists!$A$2:$B$575,2,FALSE)","v":{"$error":"#N/A"}}]
[null,null,{"$f":"VLOOKUP(B1000,lists!$F$2:$G$17,2,FALSE)","v":{"$error":"#N/A"}},null,null,null,null,null,"",{"$f":"VLOOKUP(I1000,lists!$A$2:$B$1335,2,FALSE)","v":{"$error":"#N/A"}},null,{"$f":"VLOOKUP(K1000,lists!$F$2:$G$17,2,FALSE)","v":{"$error":"#N/A"}},null,null,"",{"$f":"VLOOKUP(O1000,lists!$A$2:$B$1335,2,FALSE)","v":{"$error":"#N/A"}},null,"",{"$f":"VLOOKUP(R1000,lists!$A$2:$B$575,2,FALSE)","v":{"$error":"#N/A"}}]

{"sheet":"lists","index":1,"n_rows":356,"n_cols":16,"rows_kept":356,"cut":false,"hidden":false,"merged":[]}
["species code","accepted_species_id (Database)","scientific_name",null,null,"surface","surface_id",null,"fullname","user_id",null,"transect_name","transect_id",null,"in_stream_woody_debirs","in_stream_woody_debris_amount"]
["ACENEG",487,"Acer negundo var. interius",null,null,"bare soil",1,null,"Mandi Miller",231,null,"DBG_CF_Transect1_JCOS1",1,null,0,"Abundant (>500)"]
["ACHMIL",534,"Achillea millefolium",null,null,"rock",2,null,"Rebecca Hufft",21,null,"DBG_CF_Transect2_JCOS2",2,null,1,"Common (101-500)"]
["AEGCYL",841,"Aegilops cylindrica",null,null,"litter",3,null,"Margo Yousse",114,null,"DBG_CF_Transect3_JCOS3",3,null,null,"Frequent (11-100)"]
["AGRCRI",1155,"Agropyron cristatum",null,null,"water",4,null,"Gary Olds",232,null,"DBG_CF_Transect4_TSP1",4,null,null,"Occasional (6-10)"]
["AGRGIG",1181,"Agrostis gigantea",null,null,"downed woody debris",5,null,"Chrissy Alba",131,null,"DBG_CF_Transect5_TSP2",5,null,null,"Rare (1-5)"]
["AGRINT",44942,"Agropyron intermedium",null,null,"road/trail",6,null,"Richie Hum",222,null,"DBG_CF_Transect6_TSP3",6]
["ALITRI",1339,"Alisma triviale",null,null,null,null,null,"Emily Orr",216,null,"DBG_CF_Transect7_DS1",7]
["ALLTEX",1500,"Allium textile",null,null,null,null,null,null,null,null,"DBG_CF_Transect8_DS2",8]
["ALOAEQ",1606,"Alopecurus aequalis",null,null,null,null,null,null,null,null,"DBG_CF_Transect9_DS3",9]
["ALYPAR",1712,"Alyssum parviflorum",null,null,null,null,null,null,null,null,"DBG_CF_Transect10_REF1",10]
["AMABLI",1733,"Amaranthus blitoides",null,null,null,null,null,null,null,null,"DBG_CF_Transect11_REF2",11]
["AMARET",1767,"Amaranthus retroflexus",null,null,null,null,null,null,null,null,"DBG_CF_Transect12_REF3",12]
["AMBART",1800,"Ambrosia artemisiifolia",null,null,null,null,null,null,null,null,"DBG_CF_Transect13_HLB13",43]
["AMBPSI",1821,"Ambrosia psilostachya",null,null,null,null,null,null,null,null,"DBG_CF_Transect14_HLB14",44]
["AMBTOM",1824,"Ambrosia tomentosa",null,null,null,null,null,null,null,null,"DBG_CF_Transect15_HLB15",45]
["AMBTRI",1825,"Ambrosia trifida",null,null,null,null,null,null,null,null,"DBG_CF_Transect16_HLB16",46]
["AMEUTA",1857,"Amelanchier utahensis",null,null,null,null,null,null,null,null,"DBG_CF_Transect17_HLB17",47]
["AMOFRU",1903,"Amorpha fruticosa",null,null,null,null,null,null,null,null,"DBG_CF_Transect18_HLB18",48]
["ANTROS",2396,"Antennaria rosea"]
["APOSIB",2585,"Apocynum sibiricum"]
["AQUCOE",2608,"Aquilegia coerulea"]
["ARAGLA",2689,"Arabis glabra"]
["ARCMIN",2879,"Arctium minus"]
["ARGPOL",3149,"Argemone polyanthemos"]
["ARIPUR",3273,"Aristida purpurea"]
["ARTBIE",3442,"Artemisia biennis"]
["ARTCAM",3447,"Artemisia campestris"]
["ARTDRA",3465,"Artemisia dracunculus"]
["ARTFRI",3468,"Artemisia frigida"]
["ARTLUD",3484,"Artemisia ludoviciana"]
["ASCINC",3801,"Asclepias incarnata"]
["ASCPUM",3826,"Asclepias pumila"]
["ASCSPE",3834,"Asclepias speciosa"]
["ASPOFF",3877,"Asparagus officinalis"]
["ASPPRO",3880,"Asperugo procumbens"]
["ASTAGR",4129,"Astragalus agrestis"]
["ASTALP",4137,"Astragalus alpinus"]
["ASTCRA",4283,"Astragalus crassicarpus"]
["ASTDRU",4337,"Astragalus drummondii"]
["ASTFLE",4363,"Astragalus flexuosus"]
["ATRCAN",4902,"Atriplex canescens"]
["AVEFAT",5077,"Avena fatua"]
["BARORT",5382,"Barbarea orthoceras"]
["BERINC",5595,"Berteroa incana"]
["BERVUL",5569,"Berberis vulgaris"]
["BIDFRO",5738,"Bidens frondosa"]
["BOUCUR",6069,"Bouteloua curtipendula"]
["BOUGRA",6077,"Bouteloua gracilis"]
["BRIEUP",6277,"Brickellia eupatorioides"]
["BROCAR",6385,"Bromus carinatus"]
["BROCIL",6387,"Bromus ciliatus"]
["BROINE",6404,"Bromus inermis"]
["BROJAP",6374,"Bromus japonicus"]
["BROTEC",6459,"Bromus tectorum"]
["CAMMIC",7593,"Camelina microcarpa"]
["CAMPAR",7729,"Campanula parryi"]
["CANSAT",7886,"Cannabis sativa"]
["CARBRE",8137,"Carex brevior"]
["CARCHA",8036,"Cardaria chalepensis"]
["CARDRA",8037,"Cardaria draba"]
["CARNEB",8487,"Carex nebrascensis"]
["CARNUT",8050,"Carduus nutans"]
["CARPEL",8549,"Carex pellita"]
["CARPRA",8578,"Carex praegracilis"]
["CARSTI",8677,"Carex stipata"]
["CARUTR",8747,"Carex utriculata"]
["CASINT",9022,"Castilleja integra"]
["CENDIF",9421,"Centaurea diffusa"]
["CENMAC",9443,"Centaurea maculosa"]
["CERFON",9622,"Cerastium fontanum"]
["CHADAN",10059,"Chamerion danielsii"]
["CHAGLY",9982,"Chamaesyce glyptosperma"]
["CHEALB",10163,"Chenopodium album"]
["CHEBOT",10185,"Chenopodium botrys"]
["CHELEP",10210,"Chenopodium leptophyllum"]
["CHESIM",10237,"Chenopodium simplex"]
["CHOTEN",10361,"Chorispora tenella"]
["CHRNAU",16988,"Chrysothamnus nauseosus"]
["CICDOU",10548,"Cicuta douglasii"]
["CICINT",10545,"Cichorium intybus"]
["CIRARV",10604,"Cirsium arvense"]
["CLELIG",11179,"Clematis ligusticifolia"]
["COEVIR",13940,"Coeloglossum viride"]
["COMUMB",11659,"Comandra umbellata"]
["CONARV",11793,"Convolvulus arvensis"]
["CONCAN",11803,"Conyza canadensis"]
["CONMAC",11746,"Conium maculatum"]
["CONORI",11775,"Conringia orientalis"]
["CORAUR",12097,"Corydalis aurea"]
["CRAERY",12390,"Crataegus erythropoda"]
["CRASUC",12522,"Crataegus succulenta"]
["CREOCC",12591,"Crepis occidentalis"]
["CYCXAN",13322,"Cyclachaena xanthifolia"]
["DACGLO",13915,"Dactylis glomerata"]
["DALCAN",13978,"Dalea candida"]
["DELGEY",14235,"Delphinium geyeri"]
["DELNUT",14267,"Delphinium nuttallianum"]
["DESSOP",14429,"Descurainia sophia"]
["DIAARM",14577,"Dianthus armeria"]
["DRAPAR",15556,"Dracocephalum parviflorum"]
["DYSPAP",15862,"Dyssodia papposa"]
["ECHCRU",15969,"Echinochloa crus-galli"]
["ECHLOB",15993,"Echinocystis lobata"]
["ELAANG",16075,"Elaeagnus angustifolia"]
["ELEPAL",16201,"Eleocharis palustris"]
["ELLNYC",16258,"Ellisia nyctelea"]
["ELYCAN",16306,"Elymus canadensis"]
["ELYCIN",25957,"Elymus cinereus"]
["ELYELY",16318,"Elymus elymoides"]
["ELYREP",16363,"Elytrigia repens"]
["ELYTRA",16381,"Elymus trachycaulus"]
["ELYVIR",16389,"Elymus virginicus"]
["EPIBRA",16678,"Epilobium brachycarpum"]
["EPICIL",16684,"Epilobium ciliatum"]
["EQUARV",16757,"Equisetum arvense"]
["ERACIL",16791,"Eragrostis cilianensis"]
["ERAMIN",16829,"Eragrostis minor"]
["ERAPEC",16837,"Eragrostis pectinacea"]
["ERIDIV",17109,"Erigeron divergens"]
["ERIEFF",17472,"Eriogonum effusum"]
["ERISPE",17268,"Erigeron speciosus"]
["EROCIC",17911,"Erodium cicutarium"]
["ERYCAP",17990,"Erysimum capitatum"]
["ERYREP",18022,"Erysimum repandum"]
["EUPDEN",18669,"Euphorbia dentata"]
["EUPMAR",18706,"Euphorbia marginata"]
["GALAPA",19779,"Galium aparine"]
["GAUCOC",19996,"Gaura coccinea"]
["GAUPAR",20010,"Gaura parviflora"]
["GLYLEP",20505,"Glycyrrhiza lepidota"]
["GLYSTR",20493,"Glyceria striata"]
["GNAULI",20521,"Gnaphalium uliginosum"]
["GRISQU",20808,"Grindelia squarrosa"]
["GUTSAR",20889,"Gutierrezia sarothrae"]
["GYPPAN",20999,"Gypsophila paniculata"]
["HEDBOR",21370,"Hedysarum boreale"]
["HELANN",21459,"Helianthus annuus"]
["HELMUL",21576,"Heliomeris multiflora"]
["HELNUT",21505,"Helianthus nuttallii"]
["HELPET",21517,"Helianthus petiolaris"]
["HELPUM",21526,"Helianthus pumilus"]
["HESCOM",21818,"Hesperostipa comata"]
["HETVIL",21945,"Heterotheca villosa"]
["HIPLAE",16765,"Hippochaete laevigata"]
["HOLUMB",22321,"Holosteum umbellatum"]
["HORJUB",22380,"Hordeum jubatum"]
["HORMUR",22386,"Hordeum murinum"]
["HUMLUP",22516,"Humulus lupulus"]
["HYBVER",22576,"Hybanthus verticillatus"]
["HYDFEN",22627,"Hydrophyllum fendleri"]
["HYPPER",22907,"Hypericum perforatum"]
["IPOSPI",23394,"Ipomopsis spicata"]
["IVAAXI",23647,"Iva axillaris"]
["JUNARC",23893,"Juncus arcticus"]
["JUNART",23897,"Juncus articulatus"]
["JUNBUF",23907,"Juncus bufonius"]
["JUNCOM",23921,"Juncus compressus"]
["JUNDUD",23937,"Juncus dudleyi"]
["JUNINT",23974,"Juncus interior"]
["JUNSAX",24026,"Juncus saximontanus"]
["JUNTOR",24042,"Juncus torreyi"]
["KOCSCO",5466,"Kochia scoparia"]
["KOEMAC",24290,"Koeleria macrantha"]
["KRALAN",24338,"Krascheninnikovia lanata"]
["LACSER",24433,"Lactuca serriola"]
["LEOCAR",25307,"Leonurus cardiaca"]
["LEPCAM",25349,"Lepidium campestre"]
["LEPVIR",25422,"Lepidium virginicum"]
["LEUMON",25874,"Leucocrinum montanum"]
["LEUVUL",25864,"Leucanthemum vulgare"]
["LIAPUN",26026,"Liatris punctata"]
["LINLEW",26378,"Linum lewisii"]
["LITINC",26520,"Lithospermum incisum"]
["LITMUL",26524,"Lithospermum multiflorum"]
["LOLMUL",26694,"Lolium multiflorum"]
["LOLPER",26693,"Lolium perenne"]
["LOMORI",26787,"Lomatium orientale"]
["LYCAME",27725,"Lycopus americanus"]
["LYGJUN",27753,"Lygodesmia juncea"]
["MACCAN",27882,"Machaeranthera canescens"]
["MACPIN",27909,"Machaeranthera pinnatifida"]
["MAISTE",28037,"Maianthemum stellatum"]
["MALNEG",28179,"Malva neglecta"]
["MEDLUP",28529,"Medicago lupulina"]
["MEDSAT",28547,"Medicago sativa"]
["MELALB",28825,"Melilotus albus"]
["MELOFF",28825,"Melilotus officinalis"]
["MENARV",28878,"Mentha arvensis"]
["MERFRA",29011,"Mertensia franciscana"]
["MERLAN",29013,"Mertensia lanceolata"]
["MICGRA",29228,"Microsteris gracilis"]
["MIRNYC",29499,"Mirabilis nyctaginea"]
["MONFIS",29621,"Monarda fistulosa"]
["MUHASP",29839,"Muhlenbergia asperifolia"]
["MUHRAC",29879,"Muhlenbergia racemosa"]
["MUSDIV",29944,"Musineon divaricatum"]
["NASOFF",30255,"Nasturtium officinale"]
["NASVIR",30250,"Nassella viridula"]
["NEPCAT",30455,"Nepeta cataria"]
["NOTCUS",30672,"Nothocalais cuspidata"]
["OENALB",30912,"Oenothera albicaulis"]
["OENBRA",30916,"Oenothera brachycarpa"]
["OENCOR",30934,"Oenothera coronopifolia"]
["OENVIL",31008,"Oenothera villosa"]
["ONOACA",31148,"Onopordum acanthium"]
["ONOMOL",31156,"Onosmodium molle"]
["OPUMAC",31300,"Opuntia macrorhiza"]
["OPUPOL",31311,"Opuntia polyacantha"]
["OSMLON",31554,"Osmorhiza longistylis"]
["OXADIL",31612,"Oxalis dillenii"]
["OXASTR",31641,"Oxalis stricta"]
["PANCAP",31952,"Panicum capillare"]
["PARVIT",32291,"Parthenocissus vitacea"]
["PASSMI",32295,"Pascopyrum smithii"]
["PENGLA",32958,"Penstemon glaber"]
["PENSEC",33144,"Penstemon secundiflorus"]
["PENVIR",33187,"Penstemon virgatus"]
["PHAALB",33549,"Phacelia alba"]
["PHAARU",33855,"Phalaris arundinacea"]
["PHAHET",33635,"Phacelia heterophylla"]
["PHLPRA",34027,"Phleum pratense"]
["PHLSUB",34175,"Phlox subulata"]
["PHYHET",34428,"Physalis heterophylla"]
["PHYMON",34580,"Physocarpus monogynus"]
["PHYVIR",34453,"Physalis virginiana"]
["PICOPP",34637,"Picradeniopsis oppositifolia"]
["PLADIL",35257,"Platanthera dilatata"]
["PLALAN",35213,"Plantago lanceolata"]
["PLAMAJ",35215,"Plantago major"]
["PLAOBT",35281,"Platanthera obtusata"]
["POACOM",35525,"Poa compressa"]
["POAPAL",35585,"Poa palustris"]
["POAPRA",35592,"Poa pratensis"]
["POLAVI",35935,"Polygonum aviculare"]
["POLCON",35958,"Polygonum convolvulus"]
["POLLAP",35985,"Polygonum lapathifolium"]
["POLMON",36076,"Polypogon monspeliensis"]
["POLPEN",36000,"Polygonum pensylvanicum"]
["POLPER",36002,"Polygonum persicaria"]
["POLRAM",36017,"Polygonum ramosissimum"]
["POPANG",36176,"Populus angustifolia"]
["POPDEL",36184,"Populus deltoides"]
["POPX",36173]
["POROLE",36284,"Portulaca oleracea"]
["POTNOR",36462,"Potentilla norvegica"]
["POTREC",36479,"Potentilla recta"]
["PRUAME",36762,"Prunus americana"]
["PRUVIR",36853,"Prunus virginiana"]
["PRUVUL",36753,"Prunella vulgaris"]
["PSEJAM",37034,"Pseudostellaria jamesiana"]
["PSOTEN",37126,"Psoralidium tenuiflorum"]
["QUEGAM",37735,"Quercus gambelii"]
["QUILOB",37901,"Quincula lobata"]
["RANMAC",38123,"Ranunculus macounii"]
["RATCOL",38197,"Ratibida columnifera"]
["RHUARO",38523,"Rhus aromatica"]
["RHUGLA",38534,"Rhus glabra"]
["RIBAME",38717,"Ribes americanum"]
["RIBAUR",38718,"Ribes aureum"]
["RORSIN",39115,"Rorippa sinuata"]
["RORTER",39120,"Rorippa teres"]
["ROSACI",39123,"Rosa acicularis"]
["ROSARK",39131,"Rosa arkansana"]
["RUBOCC",39443,"Rubus occidentalis"]
["RUDHIR",39576,"Rudbeckia hirta"]
["RUDLAC",39583,"Rudbeckia laciniata var. ampla"]
["RUMACE",39650,"Rumex acetosella"]
["RUMCRI",39668,"Rumex crispus"]
["RUMTRI",39706,"Rumex triangulivalvis"]
["SALAMY",39915,"Salix amygdaloides"]
["SALEXI",39967,"Salix exigua"]
["SALIRR",39998,"Salix irrorata"]
["SALTRA",40125,"Salsola tragus"]
["SAPOFF",40371,"Saponaria officinalis"]
["SCHACU",40917,"Schoenoplectus acutus"]
["SCHPAN",40741,"Schedonnardus paniculatus"]
["SCHPUN",40933,"Schoenoplectus pungens"]
["SCIMIC",40992,"Scirpus microcarpus"]
["SCIPAL",40994,"Scirpus pallidus"]
["SCOLAC",41147,"Scorzonera laciniata"]
["SCRLAN",41164,"Scrophularia lanceolata"]
["SECCER",41264,"Secale cereale"]
["SENINT",41525,"Senecio integerrimus"]
["SENSPA",41564,"Senecio spartioides"]
["SETVIR",41771,"Setaria viridis"]
["SILLAT",42041,"Silene latifolia"]
["SILNOC",42055,"Silene noctiflora"]
["SILVUL",42130,"Silene vulgaris"]
["SISALT",42204,"Sisymbrium altissimum"]
["SISMON",42250,"Sisyrinchium montanum"]
["SMILAS",42311,"Smilax lasioneura"]
["SOLGIG",42514,"Solidago gigantea"]
["SOLMIS",42530,"Solidago missouriensis"]
["SOLMOL",42535,"Solidago mollis"]
["SOLPHY",42418,"Solanum physalifolium"]
["SOLRIG",31050,"Solidago rigida"]
["SOLROS",42432,"Solanum rostratum"]
["SOLTRI",42445,"Solanum triflorum"]
["SONASP",42642,"Sonchus asper"]
["SPARGA",42720,"Sparganium"]
["SPHCOC",42815,"Sphaeralcea coccinea"]
["SPHOBT",42985,"Sphenopholis obtusata"]
["SPOCRY",43146,"Sporobolus cryptandrus"]
["STAPIN",43263,"Stanleya pinnata"]
["SYMERI",43974,"Symphyotrichum ericoides"]
["SYMFAL",43980,"Symphyotrichum falcatum"]
["SYMLAE",44000,"Symphyotrichum laeve"]
["SYMLAN",44005,"Symphyotrichum lanceolatum"]
["SYMOCC",43928,"Symphoricarpos occidentalis"]
["SYMPOR",44045,"Symphyotrichum porteri"]
["TAROFF",44284,"Taraxacum officinale"]
["THERHO",44927,"Thermopsis rhombifolia"]
["THIINT",44942,"Thinopyrum intermedium"]
["THIPON",44944,"Thinopyrum ponticum"]
["THLARV",44952,"Thlaspi arvense"]
["TRAOCC",45377,"Tradescantia occidentalis"]
["TRAPOR",45428,"Tragopogon porrifolius"]
["TRIAES",46116,"Triticum aestivum"]
["TRIHYB",45785,"Trifolium hybridum"]
["TRIPER",45989,"Triodanis perfoliata"]
["TRIPRA",45866,"Trifolium pratense"]
["TRIREP",45871,"Trifolium repens"]
["TRITER",45518,"Tribulus terrestris"]
["TYPLAT",46264,"Typha latifolia"]
["ULMPUM",46286,"Ulmus pumila"]
["URTDIO",46395,"Urtica dioica"]
["VERAME",46859,"Veronica americana"]
["VERBRA",46722,"Verbena bracteata"]
["VERCAT",46860,"Veronica catenata"]
["VERHAS",46736,"Verbena hastata"]
["VERPER",46883,"Veronica peregrina"]
["VERTHA",46712,"Verbascum thapsus"]
["VICAME",47042,"Vicia americana"]
["VIOCAN",47223,"Viola canadensis"]
["VIONUT",47302,"Viola nuttallii"]
["VITRIP",47434,"Vitis riparia"]
["X EELY",null,"x Elyhordeum"]
["XANSTR",47677,"Xanthium strumarium"]
["YUCGLA",47889,"Yucca glauca"]
["ZANPAL",47926,"Zannichellia palustris"]
["POTHIP",36439]
["TRADUB",45420]
["CORSER",12052]
["LEPLAT",25376]
["SOLCAN",42497]
["LEYCIN",25957]
["ROSWOO",39255]
["FRAPEN",19478]
["HESMAT",21768]
["LEMMIN",25269]
["POABUL",35517]
["CHAANG",10057]
["LONTAT",26900]
["JUNSCO",24122]
["SD",88399,"standing dead"]

{"sheet":"vegetation_monitoring","index":2,"n_rows":2,"n_cols":35,"rows_kept":2,"cut":false,"hidden":false,"merged":[]}
["vegetation_monitoring_id","vegetation_monitoring_transect_id","date","total_groundveg_percentage","total_litter_percentage","total_rock_percentage","total_bare_soil_percentage","total_dead_percentage","total_water_percentage","dist_to_water_0m","dist_to_water_12pt5m","dist_to_water_25m","bank_height_0m","bank_height_12pt5m","bank_height_25m","start_time","end_time","canal_status","habitat","soil_type","MM_dist_on_tape","perpendicular_moisture_transect_0m","perpendicular_moisture_transect_1m","perpendicular_moisture_transect_2m","perpendicular_moisture_transect_3m","perpendicular_moisture_transect_4m","perpendicular_moisture_transect_5m","perpendicular_moisture_transect_6m","perpendicular_moisture_transect_7m","perpendicular_moisture_transect_8m","perpendicular_moisture_transect_9m","perpendicular_moisture_transect_10m","in_stream_woody_debris","in_stream_woody_debris_amount","eventID"]
[null,{"$f":"DataEntry!C3","v":{"$error":"#N/A"}},{"$f":"DataEntry!B4","v":"00:00:00"},"NULL","NULL","NULL","NULL","NULL","NULL",{"$f":"DataEntry!B8","v":0},{"$f":"DataEntry!B9","v":0},{"$f":"DataEntry!B10","v":0},{"$f":"DataEntry!C8","v":0},{"$f":"DataEntry!C9","v":0},{"$f":"DataEntry!C10","v":0},{"$f":"DataEntry!B5","v":"00:00:00"},{"$f":"DataEntry!B6","v":"00:00:00"},"NULL",{"$f":"DataEntry!AA30","v":0},{"$f":"DataEntry!AA31","v":0},"NULL",{"$f":"DataEntry!$AA14","v":0},{"$f":"DataEntry!$AA15","v":0},{"$f":"DataEntry!$AA16","v":0},{"$f":"DataEntry!$AA17","v":0},{"$f":"DataEntry!$AA18","v":0},{"$f":"DataEntry!$AA19","v":0},{"$f":"DataEntry!$AA20","v":0},{"$f":"DataEntry!$AA21","v":0},{"$f":"DataEntry!$AA22","v":0},{"$f":"DataEntry!$AA23","v":0},{"$f":"DataEntry!$AA24","v":0},{"$f":"DataEntry!AA27","v":""},{"$f":"DataEntry!AA28","v":""},"NULL"]

{"sheet":"vegetation_monitoring_users","index":3,"n_rows":5,"n_cols":2,"rows_kept":5,"cut":false,"hidden":false,"merged":[]}
["vegetation_monitoring_id","user_id"]
[{"$f":"vegetation_monitoring!A2","v":0},{"$f":"DataEntry!E$2","v":{"$error":"#N/A"}}]
[{"$f":"vegetation_monitoring!A2","v":0},{"$f":"DataEntry!F$2","v":{"$error":"#N/A"}}]
[{"$f":"vegetation_monitoring!A2","v":0},{"$f":"DataEntry!G$2","v":{"$error":"#N/A"}}]
[{"$f":"vegetation_monitoring!A2","v":0},{"$f":"DataEntry!H$2","v":{"$error":"#N/A"}}]

{"sheet":"vegetation_monitoring_points","index":4,"n_rows":101,"n_cols":6,"rows_kept":101,"cut":false,"hidden":false,"merged":[]}
["vegetation_monitoring_point_id","vegetation_monitoring_id","transect_point","soil_surface_id","soil_moisture_percentage","canopy_cover_score"]
[null,{"$f":"vegetation_monitoring!$A$2","v":0},{"$f":"DataEntry!A14","v":0},{"$f":"DataEntry!C14","v":{"$error":"#N/A"}},{"$f":"DataEntry!E14","v":0},{"$f":"DataEntry!D14","v":0}]
[null,{"$f":"vegetation_monitoring!$A$2","v":0},{"$f":"DataEntry!A15","v":0},{"$f":"DataEntry!C15","v":{"$error":"#N/A"}},{"$f":"DataEntry!E15","v":0},{"$f":"DataEntry!D15","v":0}]
[null,{"$f":"vegetation_monitoring!$A$2","v":0},{"$f":"DataEntry!A16","v":0},{"$f":"DataEntry!C16","v":{"$error":"#N/A"}},{"$f":"DataEntry!E16","v":0},{"$f":"DataEntry!D16","v":0}]
[null,{"$f":"vegetation_monitoring!$A$2","v":0},{"$f":"DataEntry!A17","v":0},{"$f":"DataEntry!C17","v":{"$error":"#N/A"}},{"$f":"DataEntry!E17","v":0},{"$f":"DataEntry!D17","v":0}]
[null,{"$f":"vegetation_monitoring!$A$2","v":0},{"$f":"DataEntry!A18","v":0},{"$f":"DataEntry!C18","v":{"$error":"#N/A"}},{"$f":"DataEntry!E18","v":0},{"$f":"DataEntry!D18","v":0}]
[null,{"$f":"vegetation_monitoring!$A$2","v":0},{"$f":"DataEntry!A19","v":0},{"$f":"DataEntry!C19","v":{"$error":"#N/A"}},{"$f":"DataEntry!E19","v":0},{"$f":"DataEntry!D19","v":0}]
[null,{"$f":"vegetation_monitoring!$A$2","v":0},{"$f":"DataEntry!A20","v":0},{"$f":"DataEntry!C20","v":{"$error":"#N/A"}},{"$f":"DataEntry!E20","v":0},{"$f":"DataEntry!D20","v":0}]
[null,{"$f":"vegetation_monitoring!$A$2","v":0},{"$f":"DataEntry!A21","v":0},{"$f":"DataEntry!C21","v":{"$error":"#N/A"}},{"$f":"DataEntry!E21","v":0},{"$f":"DataEntry!D21","v":0}]
[null,{"$f":"vegetation_monitoring!$A$2","v":0},{"$f":"DataEntry!A22","v":0},{"$f":"DataEntry!C22","v":{"$error":"#N/A"}},{"$f":"DataEntry!E22","v":0},{"$f":"DataEntry!D22","v":0}]
[null,{"$f":"vegetation_monitoring!$A$2","v":0},{"$f":"DataEntry!A23","v":0},{"$f":"DataEntry!C23","v":{"$error":"#N/A"}},{"$f":"DataEntry!E23","v":0},{"$f":"DataEntry!D23","v":0}]
[null,{"$f":"vegetation_monitoring!$A$2","v":0},{"$f":"DataEntry!A24","v":0},{"$f":"DataEntry!C24","v":{"$error":"#N/A"}},{"$f":"DataEntry!E24","v":0},{"$f":"DataEntry!D24","v":0}]
[null,{"$f":"vegetation_monitoring!$A$2","v":0},{"$f":"DataEntry!A25","v":0},{"$f":"DataEntry!C25","v":{"$error":"#N/A"}},{"$f":"DataEntry!E25","v":0},{"$f":"DataEntry!D25","v":0}]
[null,{"$f":"vegetation_monitoring!$A$2","v":0},{"$f":"DataEntry!A26","v":0},{"$f":"DataEntry!C26","v":{"$error":"#N/A"}},{"$f":"DataEntry!E26","v":0},{"$f":"DataEntry!D26","v":0}]
[null,{"$f":"vegetation_monitoring!$A$2","v":0},{"$f":"DataEntry!A27","v":0},{"$f":"DataEntry!C27","v":{"$error":"#N/A"}},{"$f":"DataEntry!E27","v":0},{"$f":"DataEntry!D27","v":0}]
[null,{"$f":"vegetation_monitoring!$A$2","v":0},{"$f":"DataEntry!A28","v":0},{"$f":"DataEntry!C28","v":{"$error":"#N/A"}},{"$f":"DataEntry!E28","v":0},{"$f":"DataEntry!D28","v":0}]
[null,{"$f":"vegetation_monitoring!$A$2","v":0},{"$f":"DataEntry!A29","v":0},{"$f":"DataEntry!C29","v":{"$error":"#N/A"}},{"$f":"DataEntry!E29","v":0},{"$f":"DataEntry!D29","v":0}]
[null,{"$f":"vegetation_monitoring!$A$2","v":0},{"$f":"DataEntry!A30","v":0},{"$f":"DataEntry!C30","v":{"$error":"#N/A"}},{"$f":"DataEntry!E30","v":0},{"$f":"DataEntry!D30","v":0}]
[null,{"$f":"vegetation_monitoring!$A$2","v":0},{"$f":"DataEntry!A31","v":0},{"$f":"DataEntry!C31","v":{"$error":"#N/A"}},{"$f":"DataEntry!E31","v":0},{"$f":"DataEntry!D31","v":0}]
[null,{"$f":"vegetation_monitoring!$A$2","v":0},{"$f":"DataEntry!A32","v":0},{"$f":"DataEntry!C32","v":{"$error":"#N/A"}},{"$f":"DataEntry!E32","v":0},{"$f":"DataEntry!D32","v":0}]
[null,{"$f":"vegetation_monitoring!$A$2","v":0},{"$f":"DataEntry!A33","v":0},{"$f":"DataEntry!C33","v":{"$error":"#N/A"}},{"$f":"DataEntry!E33","v":0},{"$f":"DataEntry!D33","v":0}]
[null,{"$f":"vegetation_monitoring!$A$2","v":0},{"$f":"DataEntry!A34","v":0},{"$f":"DataEntry!C34","v":{"$error":"#N/A"}},{"$f":"DataEntry!E34","v":0},{"$f":"DataEntry!D34","v":0}]
[null,{"$f":"vegetation_monitoring!$A$2","v":0},{"$f":"DataEntry!A35","v":0},{"$f":"DataEntry!C35","v":{"$error":"#N/A"}},{"$f":"DataEntry!E35","v":0},{"$f":"DataEntry!D35","v":0}]
[null,{"$f":"vegetation_monitoring!$A$2","v":0},{"$f":"DataEntry!A36","v":0},{"$f":"DataEntry!C36","v":{"$error":"#N/A"}},{"$f":"DataEntry!E36","v":0},{"$f":"DataEntry!D36","v":0}]
[null,{"$f":"vegetation_monitoring!$A$2","v":0},{"$f":"DataEntry!A37","v":0},{"$f":"DataEntry!C37","v":{"$error":"#N/A"}},{"$f":"DataEntry!E37","v":0},{"$f":"DataEntry!D37","v":0}]
[null,{"$f":"vegetation_monitoring!$A$2","v":0},{"$f":"DataEntry!A38","v":0},{"$f":"DataEntry!C38","v":{"$error":"#N/A"}},{"$f":"DataEntry!E38","v":0},{"$f":"DataEntry!D38","v":0}]
[null,{"$f":"vegetation_monitoring!$A$2","v":0},{"$f":"DataEntry!A39","v":0},{"$f":"DataEntry!C39","v":{"$error":"#N/A"}},{"$f":"DataEntry!E39","v":0},{"$f":"DataEntry!D39","v":0}]
[null,{"$f":"vegetation_monitoring!$A$2","v":0},{"$f":"DataEntry!A40","v":0},{"$f":"DataEntry!C40","v":{"$error":"#N/A"}},{"$f":"DataEntry!E40","v":0},{"$f":"DataEntry!D40","v":0}]
[null,{"$f":"vegetation_monitoring!$A$2","v":0},{"$f":"DataEntry!A41","v":0},{"$f":"DataEntry!C41","v":{"$error":"#N/A"}},{"$f":"DataEntry!E41","v":0},{"$f":"DataEntry!D41","v":0}]
[null,{"$f":"vegetation_monitoring!$A$2","v":0},{"$f":"DataEntry!A42","v":0},{"$f":"DataEntry!C42","v":{"$error":"#N/A"}},{"$f":"DataEntry!E42","v":0},{"$f":"DataEntry!D42","v":0}]
[null,{"$f":"vegetation_monitoring!$A$2","v":0},{"$f":"DataEntry!A43","v":0},{"$f":"DataEntry!C43","v":{"$error":"#N/A"}},{"$f":"DataEntry!E43","v":0},{"$f":"DataEntry!D43","v":0}]
[null,{"$f":"vegetation_monitoring!$A$2","v":0},{"$f":"DataEntry!A44","v":0},{"$f":"DataEntry!C44","v":{"$error":"#N/A"}},{"$f":"DataEntry!E44","v":0},{"$f":"DataEntry!D44","v":0}]
[null,{"$f":"vegetation_monitoring!$A$2","v":0},{"$f":"DataEntry!A45","v":0},{"$f":"DataEntry!C45","v":{"$error":"#N/A"}},{"$f":"DataEntry!E45","v":0},{"$f":"DataEntry!D45","v":0}]
[null,{"$f":"vegetation_monitoring!$A$2","v":0},{"$f":"DataEntry!A46","v":0},{"$f":"DataEntry!C46","v":{"$error":"#N/A"}},{"$f":"DataEntry!E46","v":0},{"$f":"DataEntry!D46","v":0}]
[null,{"$f":"vegetation_monitoring!$A$2","v":0},{"$f":"DataEntry!A47","v":0},{"$f":"DataEntry!C47","v":{"$error":"#N/A"}},{"$f":"DataEntry!E47","v":0},{"$f":"DataEntry!D47","v":0}]
[null,{"$f":"vegetation_monitoring!$A$2","v":0},{"$f":"DataEntry!A48","v":0},{"$f":"DataEntry!C48","v":{"$error":"#N/A"}},{"$f":"DataEntry!E48","v":0},{"$f":"DataEntry!D48","v":0}]
[null,{"$f":"vegetation_monitoring!$A$2","v":0},{"$f":"DataEntry!A49","v":0},{"$f":"DataEntry!C49","v":{"$error":"#N/A"}},{"$f":"DataEntry!E49","v":0},{"$f":"DataEntry!D49","v":0}]
[null,{"$f":"vegetation_monitoring!$A$2","v":0},{"$f":"DataEntry!A50","v":0},{"$f":"DataEntry!C50","v":{"$error":"#N/A"}},{"$f":"DataEntry!E50","v":0},{"$f":"DataEntry!D50","v":0}]
[null,{"$f":"vegetation_monitoring!$A$2","v":0},{"$f":"DataEntry!A51","v":0},{"$f":"DataEntry!C51","v":{"$error":"#N/A"}},{"$f":"DataEntry!E51","v":0},{"$f":"DataEntry!D51","v":0}]
[null,{"$f":"vegetation_monitoring!$A$2","v":0},{"$f":"DataEntry!A52","v":0},{"$f":"DataEntry!C52","v":{"$error":"#N/A"}},{"$f":"DataEntry!E52","v":0},{"$f":"DataEntry!D52","v":0}]
[null,{"$f":"vegetation_monitoring!$A$2","v":0},{"$f":"DataEntry!A53","v":0},{"$f":"DataEntry!C53","v":{"$error":"#N/A"}},{"$f":"DataEntry!E53","v":0},{"$f":"DataEntry!D53","v":0}]
[null,{"$f":"vegetation_monitoring!$A$2","v":0},{"$f":"DataEntry!A54","v":0},{"$f":"DataEntry!C54","v":{"$error":"#N/A"}},{"$f":"DataEntry!E54","v":0},{"$f":"DataEntry!D54","v":0}]
[null,{"$f":"vegetation_monitoring!$A$2","v":0},{"$f":"DataEntry!A55","v":0},{"$f":"DataEntry!C55","v":{"$error":"#N/A"}},{"$f":"DataEntry!E55","v":0},{"$f":"DataEntry!D55","v":0}]
[null,{"$f":"vegetation_monitoring!$A$2","v":0},{"$f":"DataEntry!A56","v":0},{"$f":"DataEntry!C56","v":{"$error":"#N/A"}},{"$f":"DataEntry!E56","v":0},{"$f":"DataEntry!D56","v":0}]
[null,{"$f":"vegetation_monitoring!$A$2","v":0},{"$f":"DataEntry!A57","v":0},{"$f":"DataEntry!C57","v":{"$error":"#N/A"}},{"$f":"DataEntry!E57","v":0},{"$f":"DataEntry!D57","v":0}]
[null,{"$f":"vegetation_monitoring!$A$2","v":0},{"$f":"DataEntry!A58","v":0},{"$f":"DataEntry!C58","v":{"$error":"#N/A"}},{"$f":"DataEntry!E58","v":0},{"$f":"DataEntry!D58","v":0}]
[null,{"$f":"vegetation_monitoring!$A$2","v":0},{"$f":"DataEntry!A59","v":0},{"$f":"DataEntry!C59","v":{"$error":"#N/A"}},{"$f":"DataEntry!E59","v":0},{"$f":"DataEntry!D59","v":0}]
[null,{"$f":"vegetation_monitoring!$A$2","v":0},{"$f":"DataEntry!A60","v":0},{"$f":"DataEntry!C60","v":{"$error":"#N/A"}},{"$f":"DataEntry!E60","v":0},{"$f":"DataEntry!D60","v":0}]
[null,{"$f":"vegetation_monitoring!$A$2","v":0},{"$f":"DataEntry!A61","v":0},{"$f":"DataEntry!C61","v":{"$error":"#N/A"}},{"$f":"DataEntry!E61","v":0},{"$f":"DataEntry!D61","v":0}]
[null,{"$f":"vegetation_monitoring!$A$2","v":0},{"$f":"DataEntry!A62","v":0},{"$f":"DataEntry!C62","v":{"$error":"#N/A"}},{"$f":"DataEntry!E62","v":0},{"$f":"DataEntry!D62","v":0}]
[null,{"$f":"vegetation_monitoring!$A$2","v":0},{"$f":"DataEntry!A63","v":0},{"$f":"DataEntry!C63","v":{"$error":"#N/A"}},{"$f":"DataEntry!E63","v":0},{"$f":"DataEntry!D63","v":0}]
[null,{"$f":"vegetation_monitoring!$A$2","v":0},{"$f":"DataEntry!A64","v":0},{"$f":"DataEntry!C64","v":{"$error":"#N/A"}},{"$f":"DataEntry!E64","v":0},{"$f":"DataEntry!D64","v":0}]
[null,{"$f":"vegetation_monitoring!$A$2","v":0},{"$f":"DataEntry!A65","v":0},{"$f":"DataEntry!C65","v":{"$error":"#N/A"}},{"$f":"DataEntry!E65","v":0},{"$f":"DataEntry!D65","v":0}]
[null,{"$f":"vegetation_monitoring!$A$2","v":0},{"$f":"DataEntry!A66","v":0},{"$f":"DataEntry!C66","v":{"$error":"#N/A"}},{"$f":"DataEntry!E66","v":0},{"$f":"DataEntry!D66","v":0}]
[null,{"$f":"vegetation_monitoring!$A$2","v":0},{"$f":"DataEntry!A67","v":0},{"$f":"DataEntry!C67","v":{"$error":"#N/A"}},{"$f":"DataEntry!E67","v":0},{"$f":"DataEntry!D67","v":0}]
[null,{"$f":"vegetation_monitoring!$A$2","v":0},{"$f":"DataEntry!A68","v":0},{"$f":"DataEntry!C68","v":{"$error":"#N/A"}},{"$f":"DataEntry!E68","v":0},{"$f":"DataEntry!D68","v":0}]
[null,{"$f":"vegetation_monitoring!$A$2","v":0},{"$f":"DataEntry!A69","v":0},{"$f":"DataEntry!C69","v":{"$error":"#N/A"}},{"$f":"DataEntry!E69","v":0},{"$f":"DataEntry!D69","v":0}]
[null,{"$f":"vegetation_monitoring!$A$2","v":0},{"$f":"DataEntry!A70","v":0},{"$f":"DataEntry!C70","v":{"$error":"#N/A"}},{"$f":"DataEntry!E70","v":0},{"$f":"DataEntry!D70","v":0}]
[null,{"$f":"vegetation_monitoring!$A$2","v":0},{"$f":"DataEntry!A71","v":0},{"$f":"DataEntry!C71","v":{"$error":"#N/A"}},{"$f":"DataEntry!E71","v":0},{"$f":"DataEntry!D71","v":0}]
[null,{"$f":"vegetation_monitoring!$A$2","v":0},{"$f":"DataEntry!A72","v":0},{"$f":"DataEntry!C72","v":{"$error":"#N/A"}},{"$f":"DataEntry!E72","v":0},{"$f":"DataEntry!D72","v":0}]
[null,{"$f":"vegetation_monitoring!$A$2","v":0},{"$f":"DataEntry!A73","v":0},{"$f":"DataEntry!C73","v":{"$error":"#N/A"}},{"$f":"DataEntry!E73","v":0},{"$f":"DataEntry!D73","v":0}]
[null,{"$f":"vegetation_monitoring!$A$2","v":0},{"$f":"DataEntry!A74","v":0},{"$f":"DataEntry!C74","v":{"$error":"#N/A"}},{"$f":"DataEntry!E74","v":0},{"$f":"DataEntry!D74","v":0}]
[null,{"$f":"vegetation_monitoring!$A$2","v":0},{"$f":"DataEntry!A75","v":0},{"$f":"DataEntry!C75","v":{"$error":"#N/A"}},{"$f":"DataEntry!E75","v":0},{"$f":"DataEntry!D75","v":0}]
[null,{"$f":"vegetation_monitoring!$A$2","v":0},{"$f":"DataEntry!A76","v":0},{"$f":"DataEntry!C76","v":{"$error":"#N/A"}},{"$f":"DataEntry!E76","v":0},{"$f":"DataEntry!D76","v":0}]
[null,{"$f":"vegetation_monitoring!$A$2","v":0},{"$f":"DataEntry!A77","v":0},{"$f":"DataEntry!C77","v":{"$error":"#N/A"}},{"$f":"DataEntry!E77","v":0},{"$f":"DataEntry!D77","v":0}]
[null,{"$f":"vegetation_monitoring!$A$2","v":0},{"$f":"DataEntry!A78","v":0},{"$f":"DataEntry!C78","v":{"$error":"#N/A"}},{"$f":"DataEntry!E78","v":0},{"$f":"DataEntry!D78","v":0}]
[null,{"$f":"vegetation_monitoring!$A$2","v":0},{"$f":"DataEntry!A79","v":0},{"$f":"DataEntry!C79","v":{"$error":"#N/A"}},{"$f":"DataEntry!E79","v":0},{"$f":"DataEntry!D79","v":0}]
[null,{"$f":"vegetation_monitoring!$A$2","v":0},{"$f":"DataEntry!A80","v":0},{"$f":"DataEntry!C80","v":{"$error":"#N/A"}},{"$f":"DataEntry!E80","v":0},{"$f":"DataEntry!D80","v":0}]
[null,{"$f":"vegetation_monitoring!$A$2","v":0},{"$f":"DataEntry!A81","v":0},{"$f":"DataEntry!C81","v":{"$error":"#N/A"}},{"$f":"DataEntry!E81","v":0},{"$f":"DataEntry!D81","v":0}]
[null,{"$f":"vegetation_monitoring!$A$2","v":0},{"$f":"DataEntry!A82","v":0},{"$f":"DataEntry!C82","v":{"$error":"#N/A"}},{"$f":"DataEntry!E82","v":0},{"$f":"DataEntry!D82","v":0}]
[null,{"$f":"vegetation_monitoring!$A$2","v":0},{"$f":"DataEntry!A83","v":0},{"$f":"DataEntry!C83","v":{"$error":"#N/A"}},{"$f":"DataEntry!E83","v":0},{"$f":"DataEntry!D83","v":0}]
[null,{"$f":"vegetation_monitoring!$A$2","v":0},{"$f":"DataEntry!A84","v":0},{"$f":"DataEntry!C84","v":{"$error":"#N/A"}},{"$f":"DataEntry!E84","v":0},{"$f":"DataEntry!D84","v":0}]
[null,{"$f":"vegetation_monitoring!$A$2","v":0},{"$f":"DataEntry!A85","v":0},{"$f":"DataEntry!C85","v":{"$error":"#N/A"}},{"$f":"DataEntry!E85","v":0},{"$f":"DataEntry!D85","v":0}]
[null,{"$f":"vegetation_monitoring!$A$2","v":0},{"$f":"DataEntry!A86","v":0},{"$f":"DataEntry!C86","v":{"$error":"#N/A"}},{"$f":"DataEntry!E86","v":0},{"$f":"DataEntry!D86","v":0}]
[null,{"$f":"vegetation_monitoring!$A$2","v":0},{"$f":"DataEntry!A87","v":0},{"$f":"DataEntry!C87","v":{"$error":"#N/A"}},{"$f":"DataEntry!E87","v":0},{"$f":"DataEntry!D87","v":0}]
[null,{"$f":"vegetation_monitoring!$A$2","v":0},{"$f":"DataEntry!A88","v":0},{"$f":"DataEntry!C88","v":{"$error":"#N/A"}},{"$f":"DataEntry!E88","v":0},{"$f":"DataEntry!D88","v":0}]
[null,{"$f":"vegetation_monitoring!$A$2","v":0},{"$f":"DataEntry!A89","v":0},{"$f":"DataEntry!C89","v":{"$error":"#N/A"}},{"$f":"DataEntry!E89","v":0},{"$f":"DataEntry!D89","v":0}]
[null,{"$f":"vegetation_monitoring!$A$2","v":0},{"$f":"DataEntry!A90","v":0},{"$f":"DataEntry!C90","v":{"$error":"#N/A"}},{"$f":"DataEntry!E90","v":0},{"$f":"DataEntry!D90","v":0}]
[null,{"$f":"vegetation_monitoring!$A$2","v":0},{"$f":"DataEntry!A91","v":0},{"$f":"DataEntry!C91","v":{"$error":"#N/A"}},{"$f":"DataEntry!E91","v":0},{"$f":"DataEntry!D91","v":0}]
[null,{"$f":"vegetation_monitoring!$A$2","v":0},{"$f":"DataEntry!A92","v":0},{"$f":"DataEntry!C92","v":{"$error":"#N/A"}},{"$f":"DataEntry!E92","v":0},{"$f":"DataEntry!D92","v":0}]
[null,{"$f":"vegetation_monitoring!$A$2","v":0},{"$f":"DataEntry!A93","v":0},{"$f":"DataEntry!C93","v":{"$error":"#N/A"}},{"$f":"DataEntry!E93","v":0},{"$f":"DataEntry!D93","v":0}]
[null,{"$f":"vegetation_monitoring!$A$2","v":0},{"$f":"DataEntry!A94","v":0},{"$f":"DataEntry!C94","v":{"$error":"#N/A"}},{"$f":"DataEntry!E94","v":0},{"$f":"DataEntry!D94","v":0}]
[null,{"$f":"vegetation_monitoring!$A$2","v":0},{"$f":"DataEntry!A95","v":0},{"$f":"DataEntry!C95","v":{"$error":"#N/A"}},{"$f":"DataEntry!E95","v":0},{"$f":"DataEntry!D95","v":0}]
[null,{"$f":"vegetation_monitoring!$A$2","v":0},{"$f":"DataEntry!A96","v":0},{"$f":"DataEntry!C96","v":{"$error":"#N/A"}},{"$f":"DataEntry!E96","v":0},{"$f":"DataEntry!D96","v":0}]
[null,{"$f":"vegetation_monitoring!$A$2","v":0},{"$f":"DataEntry!A97","v":0},{"$f":"DataEntry!C97","v":{"$error":"#N/A"}},{"$f":"DataEntry!E97","v":0},{"$f":"DataEntry!D97","v":0}]
[null,{"$f":"vegetation_monitoring!$A$2","v":0},{"$f":"DataEntry!A98","v":0},{"$f":"DataEntry!C98","v":{"$error":"#N/A"}},{"$f":"DataEntry!E98","v":0},{"$f":"DataEntry!D98","v":0}]
[null,{"$f":"vegetation_monitoring!$A$2","v":0},{"$f":"DataEntry!A99","v":0},{"$f":"DataEntry!C99","v":{"$error":"#N/A"}},{"$f":"DataEntry!E99","v":0},{"$f":"DataEntry!D99","v":0}]
[null,{"$f":"vegetation_monitoring!$A$2","v":0},{"$f":"DataEntry!A100","v":0},{"$f":"DataEntry!C100","v":{"$error":"#N/A"}},{"$f":"DataEntry!E100","v":0},{"$f":"DataEntry!D100","v":0}]
[null,{"$f":"vegetation_monitoring!$A$2","v":0},{"$f":"DataEntry!A101","v":0},{"$f":"DataEntry!C101","v":{"$error":"#N/A"}},{"$f":"DataEntry!E101","v":0},{"$f":"DataEntry!D101","v":0}]
[null,{"$f":"vegetation_monitoring!$A$2","v":0},{"$f":"DataEntry!A102","v":0},{"$f":"DataEntry!C102","v":{"$error":"#N/A"}},{"$f":"DataEntry!E102","v":0},{"$f":"DataEntry!D102","v":0}]
[null,{"$f":"vegetation_monitoring!$A$2","v":0},{"$f":"DataEntry!A103","v":0},{"$f":"DataEntry!C103","v":{"$error":"#N/A"}},{"$f":"DataEntry!E103","v":0},{"$f":"DataEntry!D103","v":0}]
[null,{"$f":"vegetation_monitoring!$A$2","v":0},{"$f":"DataEntry!A104","v":0},{"$f":"DataEntry!C104","v":{"$error":"#N/A"}},{"$f":"DataEntry!E104","v":0},{"$f":"DataEntry!D104","v":0}]
[null,{"$f":"vegetation_monitoring!$A$2","v":0},{"$f":"DataEntry!A105","v":0},{"$f":"DataEntry!C105","v":{"$error":"#N/A"}},{"$f":"DataEntry!E105","v":0},{"$f":"DataEntry!D105","v":0}]
[null,{"$f":"vegetation_monitoring!$A$2","v":0},{"$f":"DataEntry!A106","v":0},{"$f":"DataEntry!C106","v":{"$error":"#N/A"}},{"$f":"DataEntry!E106","v":0},{"$f":"DataEntry!D106","v":0}]
[null,{"$f":"vegetation_monitoring!$A$2","v":0},{"$f":"DataEntry!A107","v":0},{"$f":"DataEntry!C107","v":{"$error":"#N/A"}},{"$f":"DataEntry!E107","v":0},{"$f":"DataEntry!D107","v":0}]
[null,{"$f":"vegetation_monitoring!$A$2","v":0},{"$f":"DataEntry!A108","v":0},{"$f":"DataEntry!C108","v":{"$error":"#N/A"}},{"$f":"DataEntry!E108","v":0},{"$f":"DataEntry!D108","v":0}]
[null,{"$f":"vegetation_monitoring!$A$2","v":0},{"$f":"DataEntry!A109","v":0},{"$f":"DataEntry!C109","v":{"$error":"#N/A"}},{"$f":"DataEntry!E109","v":0},{"$f":"DataEntry!D109","v":0}]
[null,{"$f":"vegetation_monitoring!$A$2","v":0},{"$f":"DataEntry!A110","v":0},{"$f":"DataEntry!C110","v":{"$error":"#N/A"}},{"$f":"DataEntry!E110","v":0},{"$f":"DataEntry!D110","v":0}]
[null,{"$f":"vegetation_monitoring!$A$2","v":0},{"$f":"DataEntry!A111","v":0},{"$f":"DataEntry!C111","v":{"$error":"#N/A"}},{"$f":"DataEntry!E111","v":0},{"$f":"DataEntry!D111","v":0}]
[null,{"$f":"vegetation_monitoring!$A$2","v":0},{"$f":"DataEntry!A112","v":0},{"$f":"DataEntry!C112","v":{"$error":"#N/A"}},{"$f":"DataEntry!E112","v":0},{"$f":"DataEntry!D112","v":0}]
[null,{"$f":"vegetation_monitoring!$A$2","v":0},{"$f":"DataEntry!A113","v":0},{"$f":"DataEntry!C113","v":{"$error":"#N/A"}},{"$f":"DataEntry!E113","v":0},{"$f":"DataEntry!D113","v":0}]

{"sheet":"vegetation_monitoring_hits","index":5,"n_rows":594,"n_cols":7,"rows_kept":594,"cut":false,"hidden":false,"merged":[]}
["vegetation_monitoring_hit_id","vegetation_monitoring_point_id","transect_point","hit","hit_accepted_species_id","hit_soil_surface_id","occurrenceID"]
[null,null,{"$f":"DataEntry!G14","v":0},{"$f":"DataEntry!H14","v":0},{"$f":"DataEntry!J14","v":{"$error":"#N/A"}},{"$f":"DataEntry!L14","v":{"$error":"#N/A"}},"NULL"]
[null,null,{"$f":"DataEntry!G15","v":0},{"$f":"DataEntry!H15","v":0},{"$f":"DataEntry!J15","v":{"$error":"#N/A"}},{"$f":"DataEntry!L15","v":{"$error":"#N/A"}},"NULL"]
[null,null,{"$f":"DataEntry!G16","v":0},{"$f":"DataEntry!H16","v":0},{"$f":"DataEntry!J16","v":{"$error":"#N/A"}},{"$f":"DataEntry!L16","v":{"$error":"#N/A"}},"NULL"]
[null,null,{"$f":"DataEntry!G17","v":0},{"$f":"DataEntry!H17","v":0},{"$f":"DataEntry!J17","v":{"$error":"#N/A"}},{"$f":"DataEntry!L17","v":{"$error":"#N/A"}},"NULL"]
[null,null,{"$f":"DataEntry!G18","v":0},{"$f":"DataEntry!H18","v":0},{"$f":"DataEntry!J18","v":{"$error":"#N/A"}},{"$f":"DataEntry!L18","v":{"$error":"#N/A"}},"NULL"]
[null,null,{"$f":"DataEntry!G19","v":0},{"$f":"DataEntry!H19","v":0},{"$f":"DataEntry!J19","v":{"$error":"#N/A"}},{"$f":"DataEntry!L19","v":{"$error":"#N/A"}},"NULL"]
[null,null,{"$f":"DataEntry!G20","v":0},{"$f":"DataEntry!H20","v":0},{"$f":"DataEntry!J20","v":{"$error":"#N/A"}},{"$f":"DataEntry!L20","v":{"$error":"#N/A"}},"NULL"]
[null,null,{"$f":"DataEntry!G21","v":0},{"$f":"DataEntry!H21","v":0},{"$f":"DataEntry!J21","v":{"$error":"#N/A"}},{"$f":"DataEntry!L21","v":{"$error":"#N/A"}},"NULL"]
[null,null,{"$f":"DataEntry!G22","v":0},{"$f":"DataEntry!H22","v":0},{"$f":"DataEntry!J22","v":{"$error":"#N/A"}},{"$f":"DataEntry!L22","v":{"$error":"#N/A"}},"NULL"]
[null,null,{"$f":"DataEntry!G23","v":0},{"$f":"DataEntry!H23","v":0},{"$f":"DataEntry!J23","v":{"$error":"#N/A"}},{"$f":"DataEntry!L23","v":{"$error":"#N/A"}},"NULL"]
[null,null,{"$f":"DataEntry!G24","v":0},{"$f":"DataEntry!H24","v":0},{"$f":"DataEntry!J24","v":{"$error":"#N/A"}},{"$f":"DataEntry!L24","v":{"$error":"#N/A"}},"NULL"]
[null,null,{"$f":"DataEntry!G25","v":0},{"$f":"DataEntry!H25","v":0},{"$f":"DataEntry!J25","v":{"$error":"#N/A"}},{"$f":"DataEntry!L25","v":{"$error":"#N/A"}},"NULL"]
[null,null,{"$f":"DataEntry!G26","v":0},{"$f":"DataEntry!H26","v":0},{"$f":"DataEntry!J26","v":{"$error":"#N/A"}},{"$f":"DataEntry!L26","v":{"$error":"#N/A"}},"NULL"]
[null,null,{"$f":"DataEntry!G27","v":0},{"$f":"DataEntry!H27","v":0},{"$f":"DataEntry!J27","v":{"$error":"#N/A"}},{"$f":"DataEntry!L27","v":{"$error":"#N/A"}},"NULL"]
[null,null,{"$f":"DataEntry!G28","v":0},{"$f":"DataEntry!H28","v":0},{"$f":"DataEntry!J28","v":{"$error":"#N/A"}},{"$f":"DataEntry!L28","v":{"$error":"#N/A"}},"NULL"]
[null,null,{"$f":"DataEntry!G29","v":0},{"$f":"DataEntry!H29","v":0},{"$f":"DataEntry!J29","v":{"$error":"#N/A"}},{"$f":"DataEntry!L29","v":{"$error":"#N/A"}},"NULL"]
[null,null,{"$f":"DataEntry!G30","v":0},{"$f":"DataEntry!H30","v":0},{"$f":"DataEntry!J30","v":{"$error":"#N/A"}},{"$f":"DataEntry!L30","v":{"$error":"#N/A"}},"NULL"]
[null,null,{"$f":"DataEntry!G31","v":0},{"$f":"DataEntry!H31","v":0},{"$f":"DataEntry!J31","v":{"$error":"#N/A"}},{"$f":"DataEntry!L31","v":{"$error":"#N/A"}},"NULL"]
[null,null,{"$f":"DataEntry!G32","v":0},{"$f":"DataEntry!H32","v":0},{"$f":"DataEntry!J32","v":{"$error":"#N/A"}},{"$f":"DataEntry!L32","v":{"$error":"#N/A"}},"NULL"]
[null,null,{"$f":"DataEntry!G33","v":0},{"$f":"DataEntry!H33","v":0},{"$f":"DataEntry!J33","v":{"$error":"#N/A"}},{"$f":"DataEntry!L33","v":{"$error":"#N/A"}},"NULL"]
[null,null,{"$f":"DataEntry!G34","v":0},{"$f":"DataEntry!H34","v":0},{"$f":"DataEntry!J34","v":{"$error":"#N/A"}},{"$f":"DataEntry!L34","v":{"$error":"#N/A"}},"NULL"]
[null,null,{"$f":"DataEntry!G35","v":0},{"$f":"DataEntry!H35","v":0},{"$f":"DataEntry!J35","v":{"$error":"#N/A"}},{"$f":"DataEntry!L35","v":{"$error":"#N/A"}},"NULL"]
[null,null,{"$f":"DataEntry!G36","v":0},{"$f":"DataEntry!H36","v":0},{"$f":"DataEntry!J36","v":{"$error":"#N/A"}},{"$f":"DataEntry!L36","v":{"$error":"#N/A"}},"NULL"]
[null,null,{"$f":"DataEntry!G37","v":0},{"$f":"DataEntry!H37","v":0},{"$f":"DataEntry!J37","v":{"$error":"#N/A"}},{"$f":"DataEntry!L37","v":{"$error":"#N/A"}},"NULL"]
[null,null,{"$f":"DataEntry!G38","v":0},{"$f":"DataEntry!H38","v":0},{"$f":"DataEntry!J38","v":{"$error":"#N/A"}},{"$f":"DataEntry!L38","v":{"$error":"#N/A"}},"NULL"]
[null,null,{"$f":"DataEntry!G39","v":0},{"$f":"DataEntry!H39","v":0},{"$f":"DataEntry!J39","v":{"$error":"#N/A"}},{"$f":"DataEntry!L39","v":{"$error":"#N/A"}},"NULL"]
[null,null,{"$f":"DataEntry!G40","v":0},{"$f":"DataEntry!H40","v":0},{"$f":"DataEntry!J40","v":{"$error":"#N/A"}},{"$f":"DataEntry!L40","v":{"$error":"#N/A"}},"NULL"]
[null,null,{"$f":"DataEntry!G41","v":0},{"$f":"DataEntry!H41","v":0},{"$f":"DataEntry!J41","v":{"$error":"#N/A"}},{"$f":"DataEntry!L41","v":{"$error":"#N/A"}},"NULL"]
[null,null,{"$f":"DataEntry!G42","v":0},{"$f":"DataEntry!H42","v":0},{"$f":"DataEntry!J42","v":{"$error":"#N/A"}},{"$f":"DataEntry!L42","v":{"$error":"#N/A"}},"NULL"]
[null,null,{"$f":"DataEntry!G43","v":0},{"$f":"DataEntry!H43","v":0},{"$f":"DataEntry!J43","v":{"$error":"#N/A"}},{"$f":"DataEntry!L43","v":{"$error":"#N/A"}},"NULL"]
[null,null,{"$f":"DataEntry!G44","v":0},{"$f":"DataEntry!H44","v":0},{"$f":"DataEntry!J44","v":{"$error":"#N/A"}},{"$f":"DataEntry!L44","v":{"$error":"#N/A"}},"NULL"]
[null,null,{"$f":"DataEntry!G45","v":0},{"$f":"DataEntry!H45","v":0},{"$f":"DataEntry!J45","v":{"$error":"#N/A"}},{"$f":"DataEntry!L45","v":{"$error":"#N/A"}},"NULL"]
[null,null,{"$f":"DataEntry!G46","v":0},{"$f":"DataEntry!H46","v":0},{"$f":"DataEntry!J46","v":{"$error":"#N/A"}},{"$f":"DataEntry!L46","v":{"$error":"#N/A"}},"NULL"]
[null,null,{"$f":"DataEntry!G47","v":0},{"$f":"DataEntry!H47","v":0},{"$f":"DataEntry!J47","v":{"$error":"#N/A"}},{"$f":"DataEntry!L47","v":{"$error":"#N/A"}},"NULL"]
[null,null,{"$f":"DataEntry!G48","v":0},{"$f":"DataEntry!H48","v":0},{"$f":"DataEntry!J48","v":{"$error":"#N/A"}},{"$f":"DataEntry!L48","v":{"$error":"#N/A"}},"NULL"]
[null,null,{"$f":"DataEntry!G49","v":0},{"$f":"DataEntry!H49","v":0},{"$f":"DataEntry!J49","v":{"$error":"#N/A"}},{"$f":"DataEntry!L49","v":{"$error":"#N/A"}},"NULL"]
[null,null,{"$f":"DataEntry!G50","v":0},{"$f":"DataEntry!H50","v":0},{"$f":"DataEntry!J50","v":{"$error":"#N/A"}},{"$f":"DataEntry!L50","v":{"$error":"#N/A"}},"NULL"]
[null,null,{"$f":"DataEntry!G51","v":0},{"$f":"DataEntry!H51","v":0},{"$f":"DataEntry!J51","v":{"$error":"#N/A"}},{"$f":"DataEntry!L51","v":{"$error":"#N/A"}},"NULL"]
[null,null,{"$f":"DataEntry!G52","v":0},{"$f":"DataEntry!H52","v":0},{"$f":"DataEntry!J52","v":{"$error":"#N/A"}},{"$f":"DataEntry!L52","v":{"$error":"#N/A"}},"NULL"]
[null,null,{"$f":"DataEntry!G53","v":0},{"$f":"DataEntry!H53","v":0},{"$f":"DataEntry!J53","v":{"$error":"#N/A"}},{"$f":"DataEntry!L53","v":{"$error":"#N/A"}},"NULL"]
[null,null,{"$f":"DataEntry!G54","v":0},{"$f":"DataEntry!H54","v":0},{"$f":"DataEntry!J54","v":{"$error":"#N/A"}},{"$f":"DataEntry!L54","v":{"$error":"#N/A"}},"NULL"]
[null,null,{"$f":"DataEntry!G55","v":0},{"$f":"DataEntry!H55","v":0},{"$f":"DataEntry!J55","v":{"$error":"#N/A"}},{"$f":"DataEntry!L55","v":{"$error":"#N/A"}},"NULL"]
[null,null,{"$f":"DataEntry!G56","v":0},{"$f":"DataEntry!H56","v":0},{"$f":"DataEntry!J56","v":{"$error":"#N/A"}},{"$f":"DataEntry!L56","v":{"$error":"#N/A"}},"NULL"]
[null,null,{"$f":"DataEntry!G57","v":0},{"$f":"DataEntry!H57","v":0},{"$f":"DataEntry!J57","v":{"$error":"#N/A"}},{"$f":"DataEntry!L57","v":{"$error":"#N/A"}},"NULL"]
[null,null,{"$f":"DataEntry!G58","v":0},{"$f":"DataEntry!H58","v":0},{"$f":"DataEntry!J58","v":{"$error":"#N/A"}},{"$f":"DataEntry!L58","v":{"$error":"#N/A"}},"NULL"]
[null,null,{"$f":"DataEntry!G59","v":0},{"$f":"DataEntry!H59","v":0},{"$f":"DataEntry!J59","v":{"$error":"#N/A"}},{"$f":"DataEntry!L59","v":{"$error":"#N/A"}},"NULL"]
[null,null,{"$f":"DataEntry!G60","v":0},{"$f":"DataEntry!H60","v":0},{"$f":"DataEntry!J60","v":{"$error":"#N/A"}},{"$f":"DataEntry!L60","v":{"$error":"#N/A"}},"NULL"]
[null,null,{"$f":"DataEntry!G61","v":0},{"$f":"DataEntry!H61","v":0},{"$f":"DataEntry!J61","v":{"$error":"#N/A"}},{"$f":"DataEntry!L61","v":{"$error":"#N/A"}},"NULL"]
[null,null,{"$f":"DataEntry!G62","v":0},{"$f":"DataEntry!H62","v":0},{"$f":"DataEntry!J62","v":{"$error":"#N/A"}},{"$f":"DataEntry!L62","v":{"$error":"#N/A"}},"NULL"]
[null,null,{"$f":"DataEntry!G63","v":0},{"$f":"DataEntry!H63","v":0},{"$f":"DataEntry!J63","v":{"$error":"#N/A"}},{"$f":"DataEntry!L63","v":{"$error":"#N/A"}},"NULL"]
[null,null,{"$f":"DataEntry!G64","v":0},{"$f":"DataEntry!H64","v":0},{"$f":"DataEntry!J64","v":{"$error":"#N/A"}},{"$f":"DataEntry!L64","v":{"$error":"#N/A"}},"NULL"]
[null,null,{"$f":"DataEntry!G65","v":0},{"$f":"DataEntry!H65","v":0},{"$f":"DataEntry!J65","v":{"$error":"#N/A"}},{"$f":"DataEntry!L65","v":{"$error":"#N/A"}},"NULL"]
[null,null,{"$f":"DataEntry!G66","v":0},{"$f":"DataEntry!H66","v":0},{"$f":"DataEntry!J66","v":{"$error":"#N/A"}},{"$f":"DataEntry!L66","v":{"$error":"#N/A"}},"NULL"]
[null,null,{"$f":"DataEntry!G67","v":0},{"$f":"DataEntry!H67","v":0},{"$f":"DataEntry!J67","v":{"$error":"#N/A"}},{"$f":"DataEntry!L67","v":{"$error":"#N/A"}},"NULL"]
[null,null,{"$f":"DataEntry!G68","v":0},{"$f":"DataEntry!H68","v":0},{"$f":"DataEntry!J68","v":{"$error":"#N/A"}},{"$f":"DataEntry!L68","v":{"$error":"#N/A"}},"NULL"]
[null,null,{"$f":"DataEntry!G69","v":0},{"$f":"DataEntry!H69","v":0},{"$f":"DataEntry!J69","v":{"$error":"#N/A"}},{"$f":"DataEntry!L69","v":{"$error":"#N/A"}},"NULL"]
[null,null,{"$f":"DataEntry!G70","v":0},{"$f":"DataEntry!H70","v":0},{"$f":"DataEntry!J70","v":{"$error":"#N/A"}},{"$f":"DataEntry!L70","v":{"$error":"#N/A"}},"NULL"]
[null,null,{"$f":"DataEntry!G71","v":0},{"$f":"DataEntry!H71","v":0},{"$f":"DataEntry!J71","v":{"$error":"#N/A"}},{"$f":"DataEntry!L71","v":{"$error":"#N/A"}},"NULL"]
[null,null,{"$f":"DataEntry!G72","v":0},{"$f":"DataEntry!H72","v":0},{"$f":"DataEntry!J72","v":{"$error":"#N/A"}},{"$f":"DataEntry!L72","v":{"$error":"#N/A"}},"NULL"]
[null,null,{"$f":"DataEntry!G73","v":0},{"$f":"DataEntry!H73","v":0},{"$f":"DataEntry!J73","v":{"$error":"#N/A"}},{"$f":"DataEntry!L73","v":{"$error":"#N/A"}},"NULL"]
[null,null,{"$f":"DataEntry!G74","v":0},{"$f":"DataEntry!H74","v":0},{"$f":"DataEntry!J74","v":{"$error":"#N/A"}},{"$f":"DataEntry!L74","v":{"$error":"#N/A"}},"NULL"]
[null,null,{"$f":"DataEntry!G75","v":0},{"$f":"DataEntry!H75","v":0},{"$f":"DataEntry!J75","v":{"$error":"#N/A"}},{"$f":"DataEntry!L75","v":{"$error":"#N/A"}},"NULL"]
[null,null,{"$f":"DataEntry!G76","v":0},{"$f":"DataEntry!H76","v":0},{"$f":"DataEntry!J76","v":{"$error":"#N/A"}},{"$f":"DataEntry!L76","v":{"$error":"#N/A"}},"NULL"]
[null,null,{"$f":"DataEntry!G77","v":0},{"$f":"DataEntry!H77","v":0},{"$f":"DataEntry!J77","v":{"$error":"#N/A"}},{"$f":"DataEntry!L77","v":{"$error":"#N/A"}},"NULL"]
[null,null,{"$f":"DataEntry!G78","v":0},{"$f":"DataEntry!H78","v":0},{"$f":"DataEntry!J78","v":{"$error":"#N/A"}},{"$f":"DataEntry!L78","v":{"$error":"#N/A"}},"NULL"]
[null,null,{"$f":"DataEntry!G79","v":0},{"$f":"DataEntry!H79","v":0},{"$f":"DataEntry!J79","v":{"$error":"#N/A"}},{"$f":"DataEntry!L79","v":{"$error":"#N/A"}},"NULL"]
[null,null,{"$f":"DataEntry!G80","v":0},{"$f":"DataEntry!H80","v":0},{"$f":"DataEntry!J80","v":{"$error":"#N/A"}},{"$f":"DataEntry!L80","v":{"$error":"#N/A"}},"NULL"]
[null,null,{"$f":"DataEntry!G81","v":0},{"$f":"DataEntry!H81","v":0},{"$f":"DataEntry!J81","v":{"$error":"#N/A"}},{"$f":"DataEntry!L81","v":{"$error":"#N/A"}},"NULL"]
[null,null,{"$f":"DataEntry!G82","v":0},{"$f":"DataEntry!H82","v":0},{"$f":"DataEntry!J82","v":{"$error":"#N/A"}},{"$f":"DataEntry!L82","v":{"$error":"#N/A"}},"NULL"]
[null,null,{"$f":"DataEntry!G83","v":0},{"$f":"DataEntry!H83","v":0},{"$f":"DataEntry!J83","v":{"$error":"#N/A"}},{"$f":"DataEntry!L83","v":{"$error":"#N/A"}},"NULL"]
[null,null,{"$f":"DataEntry!G84","v":0},{"$f":"DataEntry!H84","v":0},{"$f":"DataEntry!J84","v":{"$error":"#N/A"}},{"$f":"DataEntry!L84","v":{"$error":"#N/A"}},"NULL"]
[null,null,{"$f":"DataEntry!G85","v":0},{"$f":"DataEntry!H85","v":0},{"$f":"DataEntry!J85","v":{"$error":"#N/A"}},{"$f":"DataEntry!L85","v":{"$error":"#N/A"}},"NULL"]
[null,null,{"$f":"DataEntry!G86","v":0},{"$f":"DataEntry!H86","v":0},{"$f":"DataEntry!J86","v":{"$error":"#N/A"}},{"$f":"DataEntry!L86","v":{"$error":"#N/A"}},"NULL"]
[null,null,{"$f":"DataEntry!G87","v":0},{"$f":"DataEntry!H87","v":0},{"$f":"DataEntry!J87","v":{"$error":"#N/A"}},{"$f":"DataEntry!L87","v":{"$error":"#N/A"}},"NULL"]
[null,null,{"$f":"DataEntry!G88","v":0},{"$f":"DataEntry!H88","v":0},{"$f":"DataEntry!J88","v":{"$error":"#N/A"}},{"$f":"DataEntry!L88","v":{"$error":"#N/A"}},"NULL"]
[null,null,{"$f":"DataEntry!G89","v":0},{"$f":"DataEntry!H89","v":0},{"$f":"DataEntry!J89","v":{"$error":"#N/A"}},{"$f":"DataEntry!L89","v":{"$error":"#N/A"}},"NULL"]
[null,null,{"$f":"DataEntry!G90","v":0},{"$f":"DataEntry!H90","v":0},{"$f":"DataEntry!J90","v":{"$error":"#N/A"}},{"$f":"DataEntry!L90","v":{"$error":"#N/A"}},"NULL"]
[null,null,{"$f":"DataEntry!G91","v":0},{"$f":"DataEntry!H91","v":0},{"$f":"DataEntry!J91","v":{"$error":"#N/A"}},{"$f":"DataEntry!L91","v":{"$error":"#N/A"}},"NULL"]
[null,null,{"$f":"DataEntry!G92","v":0},{"$f":"DataEntry!H92","v":0},{"$f":"DataEntry!J92","v":{"$error":"#N/A"}},{"$f":"DataEntry!L92","v":{"$error":"#N/A"}},"NULL"]
[null,null,{"$f":"DataEntry!G93","v":0},{"$f":"DataEntry!H93","v":0},{"$f":"DataEntry!J93","v":{"$error":"#N/A"}},{"$f":"DataEntry!L93","v":{"$error":"#N/A"}},"NULL"]
[null,null,{"$f":"DataEntry!G94","v":0},{"$f":"DataEntry!H94","v":0},{"$f":"DataEntry!J94","v":{"$error":"#N/A"}},{"$f":"DataEntry!L94","v":{"$error":"#N/A"}},"NULL"]
[null,null,{"$f":"DataEntry!G95","v":0},{"$f":"DataEntry!H95","v":0},{"$f":"DataEntry!J95","v":{"$error":"#N/A"}},{"$f":"DataEntry!L95","v":{"$error":"#N/A"}},"NULL"]
[null,null,{"$f":"DataEntry!G96","v":0},{"$f":"DataEntry!H96","v":0},{"$f":"DataEntry!J96","v":{"$error":"#N/A"}},{"$f":"DataEntry!L96","v":{"$error":"#N/A"}},"NULL"]
[null,null,{"$f":"DataEntry!G97","v":0},{"$f":"DataEntry!H97","v":0},{"$f":"DataEntry!J97","v":{"$error":"#N/A"}},{"$f":"DataEntry!L97","v":{"$error":"#N/A"}},"NULL"]
[null,null,{"$f":"DataEntry!G98","v":0},{"$f":"DataEntry!H98","v":0},{"$f":"DataEntry!J98","v":{"$error":"#N/A"}},{"$f":"DataEntry!L98","v":{"$error":"#N/A"}},"NULL"]
[null,null,{"$f":"DataEntry!G99","v":0},{"$f":"DataEntry!H99","v":0},{"$f":"DataEntry!J99","v":{"$error":"#N/A"}},{"$f":"DataEntry!L99","v":{"$error":"#N/A"}},"NULL"]
[null,null,{"$f":"DataEntry!G100","v":0},{"$f":"DataEntry!H100","v":0},{"$f":"DataEntry!J100","v":{"$error":"#N/A"}},{"$f":"DataEntry!L100","v":{"$error":"#N/A"}},"NULL"]
[null,null,{"$f":"DataEntry!G101","v":0},{"$f":"DataEntry!H101","v":0},{"$f":"DataEntry!J101","v":{"$error":"#N/A"}},{"$f":"DataEntry!L101","v":{"$error":"#N/A"}},"NULL"]
[null,null,{"$f":"DataEntry!G102","v":0},{"$f":"DataEntry!H102","v":0},{"$f":"DataEntry!J102","v":{"$error":"#N/A"}},{"$f":"DataEntry!L102","v":{"$error":"#N/A"}},"NULL"]
[null,null,{"$f":"DataEntry!G103","v":0},{"$f":"DataEntry!H103","v":0},{"$f":"DataEntry!J103","v":{"$error":"#N/A"}},{"$f":"DataEntry!L103","v":{"$error":"#N/A"}},"NULL"]
[null,null,{"$f":"DataEntry!G104","v":0},{"$f":"DataEntry!H104","v":0},{"$f":"DataEntry!J104","v":{"$error":"#N/A"}},{"$f":"DataEntry!L104","v":{"$error":"#N/A"}},"NULL"]
[null,null,{"$f":"DataEntry!G105","v":0},{"$f":"DataEntry!H105","v":0},{"$f":"DataEntry!J105","v":{"$error":"#N/A"}},{"$f":"DataEntry!L105","v":{"$error":"#N/A"}},"NULL"]
[null,null,{"$f":"DataEntry!G106","v":0},{"$f":"DataEntry!H106","v":0},{"$f":"DataEntry!J106","v":{"$error":"#N/A"}},{"$f":"DataEntry!L106","v":{"$error":"#N/A"}},"NULL"]
[null,null,{"$f":"DataEntry!G107","v":0},{"$f":"DataEntry!H107","v":0},{"$f":"DataEntry!J107","v":{"$error":"#N/A"}},{"$f":"DataEntry!L107","v":{"$error":"#N/A"}},"NULL"]
[null,null,{"$f":"DataEntry!G108","v":0},{"$f":"DataEntry!H108","v":0},{"$f":"DataEntry!J108","v":{"$error":"#N/A"}},{"$f":"DataEntry!L108","v":{"$error":"#N/A"}},"NULL"]
[null,null,{"$f":"DataEntry!G109","v":0},{"$f":"DataEntry!H109","v":0},{"$f":"DataEntry!J109","v":{"$error":"#N/A"}},{"$f":"DataEntry!L109","v":{"$error":"#N/A"}},"NULL"]
[null,null,{"$f":"DataEntry!G110","v":0},{"$f":"DataEntry!H110","v":0},{"$f":"DataEntry!J110","v":{"$error":"#N/A"}},{"$f":"DataEntry!L110","v":{"$error":"#N/A"}},"NULL"]
[null,null,{"$f":"DataEntry!G111","v":0},{"$f":"DataEntry!H111","v":0},{"$f":"DataEntry!J111","v":{"$error":"#N/A"}},{"$f":"DataEntry!L111","v":{"$error":"#N/A"}},"NULL"]
[null,null,{"$f":"DataEntry!G112","v":0},{"$f":"DataEntry!H112","v":0},{"$f":"DataEntry!J112","v":{"$error":"#N/A"}},{"$f":"DataEntry!L112","v":{"$error":"#N/A"}},"NULL"]
[null,null,{"$f":"DataEntry!G113","v":0},{"$f":"DataEntry!H113","v":0},{"$f":"DataEntry!J113","v":{"$error":"#N/A"}},{"$f":"DataEntry!L113","v":{"$error":"#N/A"}},"NULL"]
[null,null,{"$f":"DataEntry!G114","v":0},{"$f":"DataEntry!H114","v":0},{"$f":"DataEntry!J114","v":{"$error":"#N/A"}},{"$f":"DataEntry!L114","v":{"$error":"#N/A"}},"NULL"]
[null,null,{"$f":"DataEntry!G115","v":0},{"$f":"DataEntry!H115","v":0},{"$f":"DataEntry!J115","v":{"$error":"#N/A"}},{"$f":"DataEntry!L115","v":{"$error":"#N/A"}},"NULL"]
[null,null,{"$f":"DataEntry!G116","v":0},{"$f":"DataEntry!H116","v":0},{"$f":"DataEntry!J116","v":{"$error":"#N/A"}},{"$f":"DataEntry!L116","v":{"$error":"#N/A"}},"NULL"]
[null,null,{"$f":"DataEntry!G117","v":0},{"$f":"DataEntry!H117","v":0},{"$f":"DataEntry!J117","v":{"$error":"#N/A"}},{"$f":"DataEntry!L117","v":{"$error":"#N/A"}},"NULL"]
[null,null,{"$f":"DataEntry!G118","v":0},{"$f":"DataEntry!H118","v":0},{"$f":"DataEntry!J118","v":{"$error":"#N/A"}},{"$f":"DataEntry!L118","v":{"$error":"#N/A"}},"NULL"]
[null,null,{"$f":"DataEntry!G119","v":0},{"$f":"DataEntry!H119","v":0},{"$f":"DataEntry!J119","v":{"$error":"#N/A"}},{"$f":"DataEntry!L119","v":{"$error":"#N/A"}},"NULL"]
[null,null,{"$f":"DataEntry!G120","v":0},{"$f":"DataEntry!H120","v":0},{"$f":"DataEntry!J120","v":{"$error":"#N/A"}},{"$f":"DataEntry!L120","v":{"$error":"#N/A"}},"NULL"]
[null,null,{"$f":"DataEntry!G121","v":0},{"$f":"DataEntry!H121","v":0},{"$f":"DataEntry!J121","v":{"$error":"#N/A"}},{"$f":"DataEntry!L121","v":{"$error":"#N/A"}},"NULL"]
[null,null,{"$f":"DataEntry!G122","v":0},{"$f":"DataEntry!H122","v":0},{"$f":"DataEntry!J122","v":{"$error":"#N/A"}},{"$f":"DataEntry!L122","v":{"$error":"#N/A"}},"NULL"]
[null,null,{"$f":"DataEntry!G123","v":0},{"$f":"DataEntry!H123","v":0},{"$f":"DataEntry!J123","v":{"$error":"#N/A"}},{"$f":"DataEntry!L123","v":{"$error":"#N/A"}},"NULL"]
[null,null,{"$f":"DataEntry!G124","v":0},{"$f":"DataEntry!H124","v":0},{"$f":"DataEntry!J124","v":{"$error":"#N/A"}},{"$f":"DataEntry!L124","v":{"$error":"#N/A"}},"NULL"]
[null,null,{"$f":"DataEntry!G125","v":0},{"$f":"DataEntry!H125","v":0},{"$f":"DataEntry!J125","v":{"$error":"#N/A"}},{"$f":"DataEntry!L125","v":{"$error":"#N/A"}},"NULL"]
[null,null,{"$f":"DataEntry!G126","v":0},{"$f":"DataEntry!H126","v":0},{"$f":"DataEntry!J126","v":{"$error":"#N/A"}},{"$f":"DataEntry!L126","v":{"$error":"#N/A"}},"NULL"]
[null,null,{"$f":"DataEntry!G127","v":0},{"$f":"DataEntry!H127","v":0},{"$f":"DataEntry!J127","v":{"$error":"#N/A"}},{"$f":"DataEntry!L127","v":{"$error":"#N/A"}},"NULL"]
[null,null,{"$f":"DataEntry!G128","v":0},{"$f":"DataEntry!H128","v":0},{"$f":"DataEntry!J128","v":{"$error":"#N/A"}},{"$f":"DataEntry!L128","v":{"$error":"#N/A"}},"NULL"]
[null,null,{"$f":"DataEntry!G129","v":0},{"$f":"DataEntry!H129","v":0},{"$f":"DataEntry!J129","v":{"$error":"#N/A"}},{"$f":"DataEntry!L129","v":{"$error":"#N/A"}},"NULL"]
[null,null,{"$f":"DataEntry!G130","v":0},{"$f":"DataEntry!H130","v":0},{"$f":"DataEntry!J130","v":{"$error":"#N/A"}},{"$f":"DataEntry!L130","v":{"$error":"#N/A"}},"NULL"]
[null,null,{"$f":"DataEntry!G131","v":0},{"$f":"DataEntry!H131","v":0},{"$f":"DataEntry!J131","v":{"$error":"#N/A"}},{"$f":"DataEntry!L131","v":{"$error":"#N/A"}},"NULL"]
[null,null,{"$f":"DataEntry!G132","v":0},{"$f":"DataEntry!H132","v":0},{"$f":"DataEntry!J132","v":{"$error":"#N/A"}},{"$f":"DataEntry!L132","v":{"$error":"#N/A"}},"NULL"]
[null,null,{"$f":"DataEntry!G133","v":0},{"$f":"DataEntry!H133","v":0},{"$f":"DataEntry!J133","v":{"$error":"#N/A"}},{"$f":"DataEntry!L133","v":{"$error":"#N/A"}},"NULL"]
[null,null,{"$f":"DataEntry!G134","v":0},{"$f":"DataEntry!H134","v":0},{"$f":"DataEntry!J134","v":{"$error":"#N/A"}},{"$f":"DataEntry!L134","v":{"$error":"#N/A"}},"NULL"]
[null,null,{"$f":"DataEntry!G135","v":0},{"$f":"DataEntry!H135","v":0},{"$f":"DataEntry!J135","v":{"$error":"#N/A"}},{"$f":"DataEntry!L135","v":{"$error":"#N/A"}},"NULL"]
[null,null,{"$f":"DataEntry!G136","v":0},{"$f":"DataEntry!H136","v":0},{"$f":"DataEntry!J136","v":{"$error":"#N/A"}},{"$f":"DataEntry!L136","v":{"$error":"#N/A"}},"NULL"]
[null,null,{"$f":"DataEntry!G137","v":0},{"$f":"DataEntry!H137","v":0},{"$f":"DataEntry!J137","v":{"$error":"#N/A"}},{"$f":"DataEntry!L137","v":{"$error":"#N/A"}},"NULL"]
[null,null,{"$f":"DataEntry!G138","v":0},{"$f":"DataEntry!H138","v":0},{"$f":"DataEntry!J138","v":{"$error":"#N/A"}},{"$f":"DataEntry!L138","v":{"$error":"#N/A"}},"NULL"]
[null,null,{"$f":"DataEntry!G139","v":0},{"$f":"DataEntry!H139","v":0},{"$f":"DataEntry!J139","v":{"$error":"#N/A"}},{"$f":"DataEntry!L139","v":{"$error":"#N/A"}},"NULL"]
[null,null,{"$f":"DataEntry!G140","v":0},{"$f":"DataEntry!H140","v":0},{"$f":"DataEntry!J140","v":{"$error":"#N/A"}},{"$f":"DataEntry!L140","v":{"$error":"#N/A"}},"NULL"]
[null,null,{"$f":"DataEntry!G141","v":0},{"$f":"DataEntry!H141","v":0},{"$f":"DataEntry!J141","v":{"$error":"#N/A"}},{"$f":"DataEntry!L141","v":{"$error":"#N/A"}},"NULL"]
[null,null,{"$f":"DataEntry!G142","v":0},{"$f":"DataEntry!H142","v":0},{"$f":"DataEntry!J142","v":{"$error":"#N/A"}},{"$f":"DataEntry!L142","v":{"$error":"#N/A"}},"NULL"]
[null,null,{"$f":"DataEntry!G143","v":0},{"$f":"DataEntry!H143","v":0},{"$f":"DataEntry!J143","v":{"$error":"#N/A"}},{"$f":"DataEntry!L143","v":{"$error":"#N/A"}},"NULL"]
[null,null,{"$f":"DataEntry!G144","v":0},{"$f":"DataEntry!H144","v":0},{"$f":"DataEntry!J144","v":{"$error":"#N/A"}},{"$f":"DataEntry!L144","v":{"$error":"#N/A"}},"NULL"]
[null,null,{"$f":"DataEntry!G145","v":0},{"$f":"DataEntry!H145","v":0},{"$f":"DataEntry!J145","v":{"$error":"#N/A"}},{"$f":"DataEntry!L145","v":{"$error":"#N/A"}},"NULL"]
[null,null,{"$f":"DataEntry!G146","v":0},{"$f":"DataEntry!H146","v":0},{"$f":"DataEntry!J146","v":{"$error":"#N/A"}},{"$f":"DataEntry!L146","v":{"$error":"#N/A"}},"NULL"]
[null,null,{"$f":"DataEntry!G147","v":0},{"$f":"DataEntry!H147","v":0},{"$f":"DataEntry!J147","v":{"$error":"#N/A"}},{"$f":"DataEntry!L147","v":{"$error":"#N/A"}},"NULL"]
[null,null,{"$f":"DataEntry!G148","v":0},{"$f":"DataEntry!H148","v":0},{"$f":"DataEntry!J148","v":{"$error":"#N/A"}},{"$f":"DataEntry!L148","v":{"$error":"#N/A"}},"NULL"]
[null,null,{"$f":"DataEntry!G149","v":0},{"$f":"DataEntry!H149","v":0},{"$f":"DataEntry!J149","v":{"$error":"#N/A"}},{"$f":"DataEntry!L149","v":{"$error":"#N/A"}},"NULL"]
[null,null,{"$f":"DataEntry!G150","v":0},{"$f":"DataEntry!H150","v":0},{"$f":"DataEntry!J150","v":{"$error":"#N/A"}},{"$f":"DataEntry!L150","v":{"$error":"#N/A"}},"NULL"]
[null,null,{"$f":"DataEntry!G151","v":0},{"$f":"DataEntry!H151","v":0},{"$f":"DataEntry!J151","v":{"$error":"#N/A"}},{"$f":"DataEntry!L151","v":{"$error":"#N/A"}},"NULL"]
[null,null,{"$f":"DataEntry!G152","v":0},{"$f":"DataEntry!H152","v":0},{"$f":"DataEntry!J152","v":{"$error":"#N/A"}},{"$f":"DataEntry!L152","v":{"$error":"#N/A"}},"NULL"]
[null,null,{"$f":"DataEntry!G153","v":0},{"$f":"DataEntry!H153","v":0},{"$f":"DataEntry!J153","v":{"$error":"#N/A"}},{"$f":"DataEntry!L153","v":{"$error":"#N/A"}},"NULL"]
[null,null,{"$f":"DataEntry!G154","v":0},{"$f":"DataEntry!H154","v":0},{"$f":"DataEntry!J154","v":{"$error":"#N/A"}},{"$f":"DataEntry!L154","v":{"$error":"#N/A"}},"NULL"]
[null,null,{"$f":"DataEntry!G155","v":0},{"$f":"DataEntry!H155","v":0},{"$f":"DataEntry!J155","v":{"$error":"#N/A"}},{"$f":"DataEntry!L155","v":{"$error":"#N/A"}},"NULL"]
[null,null,{"$f":"DataEntry!G156","v":0},{"$f":"DataEntry!H156","v":0},{"$f":"DataEntry!J156","v":{"$error":"#N/A"}},{"$f":"DataEntry!L156","v":{"$error":"#N/A"}},"NULL"]
[null,null,{"$f":"DataEntry!G157","v":0},{"$f":"DataEntry!H157","v":0},{"$f":"DataEntry!J157","v":{"$error":"#N/A"}},{"$f":"DataEntry!L157","v":{"$error":"#N/A"}},"NULL"]
[null,null,{"$f":"DataEntry!G158","v":0},{"$f":"DataEntry!H158","v":0},{"$f":"DataEntry!J158","v":{"$error":"#N/A"}},{"$f":"DataEntry!L158","v":{"$error":"#N/A"}},"NULL"]
[null,null,{"$f":"DataEntry!G159","v":0},{"$f":"DataEntry!H159","v":0},{"$f":"DataEntry!J159","v":{"$error":"#N/A"}},{"$f":"DataEntry!L159","v":{"$error":"#N/A"}},"NULL"]
[null,null,{"$f":"DataEntry!G160","v":0},{"$f":"DataEntry!H160","v":0},{"$f":"DataEntry!J160","v":{"$error":"#N/A"}},{"$f":"DataEntry!L160","v":{"$error":"#N/A"}},"NULL"]
[null,null,{"$f":"DataEntry!G161","v":0},{"$f":"DataEntry!H161","v":0},{"$f":"DataEntry!J161","v":{"$error":"#N/A"}},{"$f":"DataEntry!L161","v":{"$error":"#N/A"}},"NULL"]
[null,null,{"$f":"DataEntry!G162","v":0},{"$f":"DataEntry!H162","v":0},{"$f":"DataEntry!J162","v":{"$error":"#N/A"}},{"$f":"DataEntry!L162","v":{"$error":"#N/A"}},"NULL"]
[null,null,{"$f":"DataEntry!G163","v":0},{"$f":"DataEntry!H163","v":0},{"$f":"DataEntry!J163","v":{"$error":"#N/A"}},{"$f":"DataEntry!L163","v":{"$error":"#N/A"}},"NULL"]
[null,null,{"$f":"DataEntry!G164","v":0},{"$f":"DataEntry!H164","v":0},{"$f":"DataEntry!J164","v":{"$error":"#N/A"}},{"$f":"DataEntry!L164","v":{"$error":"#N/A"}},"NULL"]
[null,null,{"$f":"DataEntry!G165","v":0},{"$f":"DataEntry!H165","v":0},{"$f":"DataEntry!J165","v":{"$error":"#N/A"}},{"$f":"DataEntry!L165","v":{"$error":"#N/A"}},"NULL"]
[null,null,{"$f":"DataEntry!G166","v":0},{"$f":"DataEntry!H166","v":0},{"$f":"DataEntry!J166","v":{"$error":"#N/A"}},{"$f":"DataEntry!L166","v":{"$error":"#N/A"}},"NULL"]
[null,null,{"$f":"DataEntry!G167","v":0},{"$f":"DataEntry!H167","v":0},{"$f":"DataEntry!J167","v":{"$error":"#N/A"}},{"$f":"DataEntry!L167","v":{"$error":"#N/A"}},"NULL"]
[null,null,{"$f":"DataEntry!G168","v":0},{"$f":"DataEntry!H168","v":0},{"$f":"DataEntry!J168","v":{"$error":"#N/A"}},{"$f":"DataEntry!L168","v":{"$error":"#N/A"}},"NULL"]
[null,null,{"$f":"DataEntry!G169","v":0},{"$f":"DataEntry!H169","v":0},{"$f":"DataEntry!J169","v":{"$error":"#N/A"}},{"$f":"DataEntry!L169","v":{"$error":"#N/A"}},"NULL"]
[null,null,{"$f":"DataEntry!G170","v":0},{"$f":"DataEntry!H170","v":0},{"$f":"DataEntry!J170","v":{"$error":"#N/A"}},{"$f":"DataEntry!L170","v":{"$error":"#N/A"}},"NULL"]
[null,null,{"$f":"DataEntry!G171","v":0},{"$f":"DataEntry!H171","v":0},{"$f":"DataEntry!J171","v":{"$error":"#N/A"}},{"$f":"DataEntry!L171","v":{"$error":"#N/A"}},"NULL"]
[null,null,{"$f":"DataEntry!G172","v":0},{"$f":"DataEntry!H172","v":0},{"$f":"DataEntry!J172","v":{"$error":"#N/A"}},{"$f":"DataEntry!L172","v":{"$error":"#N/A"}},"NULL"]
[null,null,{"$f":"DataEntry!G173","v":0},{"$f":"DataEntry!H173","v":0},{"$f":"DataEntry!J173","v":{"$error":"#N/A"}},{"$f":"DataEntry!L173","v":{"$error":"#N/A"}},"NULL"]
[null,null,{"$f":"DataEntry!G174","v":0},{"$f":"DataEntry!H174","v":0},{"$f":"DataEntry!J174","v":{"$error":"#N/A"}},{"$f":"DataEntry!L174","v":{"$error":"#N/A"}},"NULL"]
[null,null,{"$f":"DataEntry!G175","v":0},{"$f":"DataEntry!H175","v":0},{"$f":"DataEntry!J175","v":{"$error":"#N/A"}},{"$f":"DataEntry!L175","v":{"$error":"#N/A"}},"NULL"]
[null,null,{"$f":"DataEntry!G176","v":0},{"$f":"DataEntry!H176","v":0},{"$f":"DataEntry!J176","v":{"$error":"#N/A"}},{"$f":"DataEntry!L176","v":{"$error":"#N/A"}},"NULL"]
[null,null,{"$f":"DataEntry!G177","v":0},{"$f":"DataEntry!H177","v":0},{"$f":"DataEntry!J177","v":{"$error":"#N/A"}},{"$f":"DataEntry!L177","v":{"$error":"#N/A"}},"NULL"]
[null,null,{"$f":"DataEntry!G178","v":0},{"$f":"DataEntry!H178","v":0},{"$f":"DataEntry!J178","v":{"$error":"#N/A"}},{"$f":"DataEntry!L178","v":{"$error":"#N/A"}},"NULL"]
[null,null,{"$f":"DataEntry!G179","v":0},{"$f":"DataEntry!H179","v":0},{"$f":"DataEntry!J179","v":{"$error":"#N/A"}},{"$f":"DataEntry!L179","v":{"$error":"#N/A"}},"NULL"]
[null,null,{"$f":"DataEntry!G180","v":0},{"$f":"DataEntry!H180","v":0},{"$f":"DataEntry!J180","v":{"$error":"#N/A"}},{"$f":"DataEntry!L180","v":{"$error":"#N/A"}},"NULL"]
[null,null,{"$f":"DataEntry!G181","v":0},{"$f":"DataEntry!H181","v":0},{"$f":"DataEntry!J181","v":{"$error":"#N/A"}},{"$f":"DataEntry!L181","v":{"$error":"#N/A"}},"NULL"]
[null,null,{"$f":"DataEntry!G182","v":0},{"$f":"DataEntry!H182","v":0},{"$f":"DataEntry!J182","v":{"$error":"#N/A"}},{"$f":"DataEntry!L182","v":{"$error":"#N/A"}},"NULL"]
[null,null,{"$f":"DataEntry!G183","v":0},{"$f":"DataEntry!H183","v":0},{"$f":"DataEntry!J183","v":{"$error":"#N/A"}},{"$f":"DataEntry!L183","v":{"$error":"#N/A"}},"NULL"]
[null,null,{"$f":"DataEntry!G184","v":0},{"$f":"DataEntry!H184","v":0},{"$f":"DataEntry!J184","v":{"$error":"#N/A"}},{"$f":"DataEntry!L184","v":{"$error":"#N/A"}},"NULL"]
[null,null,{"$f":"DataEntry!G185","v":0},{"$f":"DataEntry!H185","v":0},{"$f":"DataEntry!J185","v":{"$error":"#N/A"}},{"$f":"DataEntry!L185","v":{"$error":"#N/A"}},"NULL"]
[null,null,{"$f":"DataEntry!G186","v":0},{"$f":"DataEntry!H186","v":0},{"$f":"DataEntry!J186","v":{"$error":"#N/A"}},{"$f":"DataEntry!L186","v":{"$error":"#N/A"}},"NULL"]
[null,null,{"$f":"DataEntry!G187","v":0},{"$f":"DataEntry!H187","v":0},{"$f":"DataEntry!J187","v":{"$error":"#N/A"}},{"$f":"DataEntry!L187","v":{"$error":"#N/A"}},"NULL"]
[null,null,{"$f":"DataEntry!G188","v":0},{"$f":"DataEntry!H188","v":0},{"$f":"DataEntry!J188","v":{"$error":"#N/A"}},{"$f":"DataEntry!L188","v":{"$error":"#N/A"}},"NULL"]
[null,null,{"$f":"DataEntry!G189","v":0},{"$f":"DataEntry!H189","v":0},{"$f":"DataEntry!J189","v":{"$error":"#N/A"}},{"$f":"DataEntry!L189","v":{"$error":"#N/A"}},"NULL"]
[null,null,{"$f":"DataEntry!G190","v":0},{"$f":"DataEntry!H190","v":0},{"$f":"DataEntry!J190","v":{"$error":"#N/A"}},{"$f":"DataEntry!L190","v":{"$error":"#N/A"}},"NULL"]
[null,null,{"$f":"DataEntry!G191","v":0},{"$f":"DataEntry!H191","v":0},{"$f":"DataEntry!J191","v":{"$error":"#N/A"}},{"$f":"DataEntry!L191","v":{"$error":"#N/A"}},"NULL"]
[null,null,{"$f":"DataEntry!G192","v":0},{"$f":"DataEntry!H192","v":0},{"$f":"DataEntry!J192","v":{"$error":"#N/A"}},{"$f":"DataEntry!L192","v":{"$error":"#N/A"}},"NULL"]
[null,null,{"$f":"DataEntry!G193","v":0},{"$f":"DataEntry!H193","v":0},{"$f":"DataEntry!J193","v":{"$error":"#N/A"}},{"$f":"DataEntry!L193","v":{"$error":"#N/A"}},"NULL"]
[null,null,{"$f":"DataEntry!G194","v":0},{"$f":"DataEntry!H194","v":0},{"$f":"DataEntry!J194","v":{"$error":"#N/A"}},{"$f":"DataEntry!L194","v":{"$error":"#N/A"}},"NULL"]
[null,null,{"$f":"DataEntry!G195","v":0},{"$f":"DataEntry!H195","v":0},{"$f":"DataEntry!J195","v":{"$error":"#N/A"}},{"$f":"DataEntry!L195","v":{"$error":"#N/A"}},"NULL"]
[null,null,{"$f":"DataEntry!G196","v":0},{"$f":"DataEntry!H196","v":0},{"$f":"DataEntry!J196","v":{"$error":"#N/A"}},{"$f":"DataEntry!L196","v":{"$error":"#N/A"}},"NULL"]
[null,null,{"$f":"DataEntry!G197","v":0},{"$f":"DataEntry!H197","v":0},{"$f":"DataEntry!J197","v":{"$error":"#N/A"}},{"$f":"DataEntry!L197","v":{"$error":"#N/A"}},"NULL"]
[null,null,{"$f":"DataEntry!G198","v":0},{"$f":"DataEntry!H198","v":0},{"$f":"DataEntry!J198","v":{"$error":"#N/A"}},{"$f":"DataEntry!L198","v":{"$error":"#N/A"}},"NULL"]
[null,null,{"$f":"DataEntry!G199","v":0},{"$f":"DataEntry!H199","v":0},{"$f":"DataEntry!J199","v":{"$error":"#N/A"}},{"$f":"DataEntry!L199","v":{"$error":"#N/A"}},"NULL"]
[null,null,{"$f":"DataEntry!G200","v":0},{"$f":"DataEntry!H200","v":0},{"$f":"DataEntry!J200","v":{"$error":"#N/A"}},{"$f":"DataEntry!L200","v":{"$error":"#N/A"}},"NULL"]
[null,null,{"$f":"DataEntry!G201","v":0},{"$f":"DataEntry!H201","v":0},{"$f":"DataEntry!J201","v":{"$error":"#N/A"}},{"$f":"DataEntry!L201","v":{"$error":"#N/A"}},"NULL"]
[null,null,{"$f":"DataEntry!G202","v":0},{"$f":"DataEntry!H202","v":0},{"$f":"DataEntry!J202","v":{"$error":"#N/A"}},{"$f":"DataEntry!L202","v":{"$error":"#N/A"}},"NULL"]
[null,null,{"$f":"DataEntry!G203","v":0},{"$f":"DataEntry!H203","v":0},{"$f":"DataEntry!J203","v":{"$error":"#N/A"}},{"$f":"DataEntry!L203","v":{"$error":"#N/A"}},"NULL"]
[null,null,{"$f":"DataEntry!G204","v":0},{"$f":"DataEntry!H204","v":0},{"$f":"DataEntry!J204","v":{"$error":"#N/A"}},{"$f":"DataEntry!L204","v":{"$error":"#N/A"}},"NULL"]
[null,null,{"$f":"DataEntry!G205","v":0},{"$f":"DataEntry!H205","v":0},{"$f":"DataEntry!J205","v":{"$error":"#N/A"}},{"$f":"DataEntry!L205","v":{"$error":"#N/A"}},"NULL"]
[null,null,{"$f":"DataEntry!G206","v":0},{"$f":"DataEntry!H206","v":0},{"$f":"DataEntry!J206","v":{"$error":"#N/A"}},{"$f":"DataEntry!L206","v":{"$error":"#N/A"}},"NULL"]
[null,null,{"$f":"DataEntry!G207","v":0},{"$f":"DataEntry!H207","v":0},{"$f":"DataEntry!J207","v":{"$error":"#N/A"}},{"$f":"DataEntry!L207","v":{"$error":"#N/A"}},"NULL"]
[null,null,{"$f":"DataEntry!G208","v":0},{"$f":"DataEntry!H208","v":0},{"$f":"DataEntry!J208","v":{"$error":"#N/A"}},{"$f":"DataEntry!L208","v":{"$error":"#N/A"}},"NULL"]
[null,null,{"$f":"DataEntry!G209","v":0},{"$f":"DataEntry!H209","v":0},{"$f":"DataEntry!J209","v":{"$error":"#N/A"}},{"$f":"DataEntry!L209","v":{"$error":"#N/A"}},"NULL"]
[null,null,{"$f":"DataEntry!G210","v":0},{"$f":"DataEntry!H210","v":0},{"$f":"DataEntry!J210","v":{"$error":"#N/A"}},{"$f":"DataEntry!L210","v":{"$error":"#N/A"}},"NULL"]
[null,null,{"$f":"DataEntry!G211","v":0},{"$f":"DataEntry!H211","v":0},{"$f":"DataEntry!J211","v":{"$error":"#N/A"}},{"$f":"DataEntry!L211","v":{"$error":"#N/A"}},"NULL"]
[null,null,{"$f":"DataEntry!G212","v":0},{"$f":"DataEntry!H212","v":0},{"$f":"DataEntry!J212","v":{"$error":"#N/A"}},{"$f":"DataEntry!L212","v":{"$error":"#N/A"}},"NULL"]
[null,null,{"$f":"DataEntry!G213","v":0},{"$f":"DataEntry!H213","v":0},{"$f":"DataEntry!J213","v":{"$error":"#N/A"}},{"$f":"DataEntry!L213","v":{"$error":"#N/A"}},"NULL"]
[null,null,{"$f":"DataEntry!G214","v":0},{"$f":"DataEntry!H214","v":0},{"$f":"DataEntry!J214","v":{"$error":"#N/A"}},{"$f":"DataEntry!L214","v":{"$error":"#N/A"}},"NULL"]
[null,null,{"$f":"DataEntry!G215","v":0},{"$f":"DataEntry!H215","v":0},{"$f":"DataEntry!J215","v":{"$error":"#N/A"}},{"$f":"DataEntry!L215","v":{"$error":"#N/A"}},"NULL"]
[null,null,{"$f":"DataEntry!G216","v":0},{"$f":"DataEntry!H216","v":0},{"$f":"DataEntry!J216","v":{"$error":"#N/A"}},{"$f":"DataEntry!L216","v":{"$error":"#N/A"}},"NULL"]
[null,null,{"$f":"DataEntry!G217","v":0},{"$f":"DataEntry!H217","v":0},{"$f":"DataEntry!J217","v":{"$error":"#N/A"}},{"$f":"DataEntry!L217","v":{"$error":"#N/A"}},"NULL"]
[null,null,{"$f":"DataEntry!G218","v":0},{"$f":"DataEntry!H218","v":0},{"$f":"DataEntry!J218","v":{"$error":"#N/A"}},{"$f":"DataEntry!L218","v":{"$error":"#N/A"}},"NULL"]
[null,null,{"$f":"DataEntry!G219","v":0},{"$f":"DataEntry!H219","v":0},{"$f":"DataEntry!J219","v":{"$error":"#N/A"}},{"$f":"DataEntry!L219","v":{"$error":"#N/A"}},"NULL"]
[null,null,{"$f":"DataEntry!G220","v":0},{"$f":"DataEntry!H220","v":0},{"$f":"DataEntry!J220","v":{"$error":"#N/A"}},{"$f":"DataEntry!L220","v":{"$error":"#N/A"}},"NULL"]
[null,null,{"$f":"DataEntry!G221","v":0},{"$f":"DataEntry!H221","v":0},{"$f":"DataEntry!J221","v":{"$error":"#N/A"}},{"$f":"DataEntry!L221","v":{"$error":"#N/A"}},"NULL"]
[null,null,{"$f":"DataEntry!G222","v":0},{"$f":"DataEntry!H222","v":0},{"$f":"DataEntry!J222","v":{"$error":"#N/A"}},{"$f":"DataEntry!L222","v":{"$error":"#N/A"}},"NULL"]
[null,null,{"$f":"DataEntry!G223","v":0},{"$f":"DataEntry!H223","v":0},{"$f":"DataEntry!J223","v":{"$error":"#N/A"}},{"$f":"DataEntry!L223","v":{"$error":"#N/A"}},"NULL"]
[null,null,{"$f":"DataEntry!G224","v":0},{"$f":"DataEntry!H224","v":0},{"$f":"DataEntry!J224","v":{"$error":"#N/A"}},{"$f":"DataEntry!L224","v":{"$error":"#N/A"}},"NULL"]
[null,null,{"$f":"DataEntry!G225","v":0},{"$f":"DataEntry!H225","v":0},{"$f":"DataEntry!J225","v":{"$error":"#N/A"}},{"$f":"DataEntry!L225","v":{"$error":"#N/A"}},"NULL"]
[null,null,{"$f":"DataEntry!G226","v":0},{"$f":"DataEntry!H226","v":0},{"$f":"DataEntry!J226","v":{"$error":"#N/A"}},{"$f":"DataEntry!L226","v":{"$error":"#N/A"}},"NULL"]
[null,null,{"$f":"DataEntry!G227","v":0},{"$f":"DataEntry!H227","v":0},{"$f":"DataEntry!J227","v":{"$error":"#N/A"}},{"$f":"DataEntry!L227","v":{"$error":"#N/A"}},"NULL"]
[null,null,{"$f":"DataEntry!G228","v":0},{"$f":"DataEntry!H228","v":0},{"$f":"DataEntry!J228","v":{"$error":"#N/A"}},{"$f":"DataEntry!L228","v":{"$error":"#N/A"}},"NULL"]
[null,null,{"$f":"DataEntry!G229","v":0},{"$f":"DataEntry!H229","v":0},{"$f":"DataEntry!J229","v":{"$error":"#N/A"}},{"$f":"DataEntry!L229","v":{"$error":"#N/A"}},"NULL"]
[null,null,{"$f":"DataEntry!G230","v":0},{"$f":"DataEntry!H230","v":0},{"$f":"DataEntry!J230","v":{"$error":"#N/A"}},{"$f":"DataEntry!L230","v":{"$error":"#N/A"}},"NULL"]
[null,null,{"$f":"DataEntry!G231","v":0},{"$f":"DataEntry!H231","v":0},{"$f":"DataEntry!J231","v":{"$error":"#N/A"}},{"$f":"DataEntry!L231","v":{"$error":"#N/A"}},"NULL"]
[null,null,{"$f":"DataEntry!G232","v":0},{"$f":"DataEntry!H232","v":0},{"$f":"DataEntry!J232","v":{"$error":"#N/A"}},{"$f":"DataEntry!L232","v":{"$error":"#N/A"}},"NULL"]
[null,null,{"$f":"DataEntry!G233","v":0},{"$f":"DataEntry!H233","v":0},{"$f":"DataEntry!J233","v":{"$error":"#N/A"}},{"$f":"DataEntry!L233","v":{"$error":"#N/A"}},"NULL"]
[null,null,{"$f":"DataEntry!G234","v":0},{"$f":"DataEntry!H234","v":0},{"$f":"DataEntry!J234","v":{"$error":"#N/A"}},{"$f":"DataEntry!L234","v":{"$error":"#N/A"}},"NULL"]
[null,null,{"$f":"DataEntry!G235","v":0},{"$f":"DataEntry!H235","v":0},{"$f":"DataEntry!J235","v":{"$error":"#N/A"}},{"$f":"DataEntry!L235","v":{"$error":"#N/A"}},"NULL"]
[null,null,{"$f":"DataEntry!G236","v":0},{"$f":"DataEntry!H236","v":0},{"$f":"DataEntry!J236","v":{"$error":"#N/A"}},{"$f":"DataEntry!L236","v":{"$error":"#N/A"}},"NULL"]
[null,null,{"$f":"DataEntry!G237","v":0},{"$f":"DataEntry!H237","v":0},{"$f":"DataEntry!J237","v":{"$error":"#N/A"}},{"$f":"DataEntry!L237","v":{"$error":"#N/A"}},"NULL"]
[null,null,{"$f":"DataEntry!G238","v":0},{"$f":"DataEntry!H238","v":0},{"$f":"DataEntry!J238","v":{"$error":"#N/A"}},{"$f":"DataEntry!L238","v":{"$error":"#N/A"}},"NULL"]
[null,null,{"$f":"DataEntry!G239","v":0},{"$f":"DataEntry!H239","v":0},{"$f":"DataEntry!J239","v":{"$error":"#N/A"}},{"$f":"DataEntry!L239","v":{"$error":"#N/A"}},"NULL"]
[null,null,{"$f":"DataEntry!G240","v":0},{"$f":"DataEntry!H240","v":0},{"$f":"DataEntry!J240","v":{"$error":"#N/A"}},{"$f":"DataEntry!L240","v":{"$error":"#N/A"}},"NULL"]
[null,null,{"$f":"DataEntry!G241","v":0},{"$f":"DataEntry!H241","v":0},{"$f":"DataEntry!J241","v":{"$error":"#N/A"}},{"$f":"DataEntry!L241","v":{"$error":"#N/A"}},"NULL"]
[null,null,{"$f":"DataEntry!G242","v":0},{"$f":"DataEntry!H242","v":0},{"$f":"DataEntry!J242","v":{"$error":"#N/A"}},{"$f":"DataEntry!L242","v":{"$error":"#N/A"}},"NULL"]
[null,null,{"$f":"DataEntry!G243","v":0},{"$f":"DataEntry!H243","v":0},{"$f":"DataEntry!J243","v":{"$error":"#N/A"}},{"$f":"DataEntry!L243","v":{"$error":"#N/A"}},"NULL"]
[null,null,{"$f":"DataEntry!G244","v":0},{"$f":"DataEntry!H244","v":0},{"$f":"DataEntry!J244","v":{"$error":"#N/A"}},{"$f":"DataEntry!L244","v":{"$error":"#N/A"}},"NULL"]
[null,null,{"$f":"DataEntry!G245","v":0},{"$f":"DataEntry!H245","v":0},{"$f":"DataEntry!J245","v":{"$error":"#N/A"}},{"$f":"DataEntry!L245","v":{"$error":"#N/A"}},"NULL"]
[null,null,{"$f":"DataEntry!G246","v":0},{"$f":"DataEntry!H246","v":0},{"$f":"DataEntry!J246","v":{"$error":"#N/A"}},{"$f":"DataEntry!L246","v":{"$error":"#N/A"}},"NULL"]
[null,null,{"$f":"DataEntry!G247","v":0},{"$f":"DataEntry!H247","v":0},{"$f":"DataEntry!J247","v":{"$error":"#N/A"}},{"$f":"DataEntry!L247","v":{"$error":"#N/A"}},"NULL"]
[null,null,{"$f":"DataEntry!G248","v":0},{"$f":"DataEntry!H248","v":0},{"$f":"DataEntry!J248","v":{"$error":"#N/A"}},{"$f":"DataEntry!L248","v":{"$error":"#N/A"}},"NULL"]
[null,null,{"$f":"DataEntry!G249","v":0},{"$f":"DataEntry!H249","v":0},{"$f":"DataEntry!J249","v":{"$error":"#N/A"}},{"$f":"DataEntry!L249","v":{"$error":"#N/A"}},"NULL"]
[null,null,{"$f":"DataEntry!G250","v":0},{"$f":"DataEntry!H250","v":0},{"$f":"DataEntry!J250","v":{"$error":"#N/A"}},{"$f":"DataEntry!L250","v":{"$error":"#N/A"}},"NULL"]
[null,null,{"$f":"DataEntry!G251","v":0},{"$f":"DataEntry!H251","v":0},{"$f":"DataEntry!J251","v":{"$error":"#N/A"}},{"$f":"DataEntry!L251","v":{"$error":"#N/A"}},"NULL"]
[null,null,{"$f":"DataEntry!G252","v":0},{"$f":"DataEntry!H252","v":0},{"$f":"DataEntry!J252","v":{"$error":"#N/A"}},{"$f":"DataEntry!L252","v":{"$error":"#N/A"}},"NULL"]
[null,null,{"$f":"DataEntry!G253","v":0},{"$f":"DataEntry!H253","v":0},{"$f":"DataEntry!J253","v":{"$error":"#N/A"}},{"$f":"DataEntry!L253","v":{"$error":"#N/A"}},"NULL"]
[null,null,{"$f":"DataEntry!G254","v":0},{"$f":"DataEntry!H254","v":0},{"$f":"DataEntry!J254","v":{"$error":"#N/A"}},{"$f":"DataEntry!L254","v":{"$error":"#N/A"}},"NULL"]
[null,null,{"$f":"DataEntry!G255","v":0},{"$f":"DataEntry!H255","v":0},{"$f":"DataEntry!J255","v":{"$error":"#N/A"}},{"$f":"DataEntry!L255","v":{"$error":"#N/A"}},"NULL"]
[null,null,{"$f":"DataEntry!G256","v":0},{"$f":"DataEntry!H256","v":0},{"$f":"DataEntry!J256","v":{"$error":"#N/A"}},{"$f":"DataEntry!L256","v":{"$error":"#N/A"}},"NULL"]
[null,null,{"$f":"DataEntry!G257","v":0},{"$f":"DataEntry!H257","v":0},{"$f":"DataEntry!J257","v":{"$error":"#N/A"}},{"$f":"DataEntry!L257","v":{"$error":"#N/A"}},"NULL"]
[null,null,{"$f":"DataEntry!G258","v":0},{"$f":"DataEntry!H258","v":0},{"$f":"DataEntry!J258","v":{"$error":"#N/A"}},{"$f":"DataEntry!L258","v":{"$error":"#N/A"}},"NULL"]
[null,null,{"$f":"DataEntry!G259","v":0},{"$f":"DataEntry!H259","v":0},{"$f":"DataEntry!J259","v":{"$error":"#N/A"}},{"$f":"DataEntry!L259","v":{"$error":"#N/A"}},"NULL"]
[null,null,{"$f":"DataEntry!G260","v":0},{"$f":"DataEntry!H260","v":0},{"$f":"DataEntry!J260","v":{"$error":"#N/A"}},{"$f":"DataEntry!L260","v":{"$error":"#N/A"}},"NULL"]
[null,null,{"$f":"DataEntry!G261","v":0},{"$f":"DataEntry!H261","v":0},{"$f":"DataEntry!J261","v":{"$error":"#N/A"}},{"$f":"DataEntry!L261","v":{"$error":"#N/A"}},"NULL"]
[null,null,{"$f":"DataEntry!G262","v":0},{"$f":"DataEntry!H262","v":0},{"$f":"DataEntry!J262","v":{"$error":"#N/A"}},{"$f":"DataEntry!L262","v":{"$error":"#N/A"}},"NULL"]
[null,null,{"$f":"DataEntry!G263","v":0},{"$f":"DataEntry!H263","v":0},{"$f":"DataEntry!J263","v":{"$error":"#N/A"}},{"$f":"DataEntry!L263","v":{"$error":"#N/A"}},"NULL"]
[null,null,{"$f":"DataEntry!G264","v":0},{"$f":"DataEntry!H264","v":0},{"$f":"DataEntry!J264","v":{"$error":"#N/A"}},{"$f":"DataEntry!L264","v":{"$error":"#N/A"}},"NULL"]
[null,null,{"$f":"DataEntry!G265","v":0},{"$f":"DataEntry!H265","v":0},{"$f":"DataEntry!J265","v":{"$error":"#N/A"}},{"$f":"DataEntry!L265","v":{"$error":"#N/A"}},"NULL"]
[null,null,{"$f":"DataEntry!G266","v":0},{"$f":"DataEntry!H266","v":0},{"$f":"DataEntry!J266","v":{"$error":"#N/A"}},{"$f":"DataEntry!L266","v":{"$error":"#N/A"}},"NULL"]
[null,null,{"$f":"DataEntry!G267","v":0},{"$f":"DataEntry!H267","v":0},{"$f":"DataEntry!J267","v":{"$error":"#N/A"}},{"$f":"DataEntry!L267","v":{"$error":"#N/A"}},"NULL"]
[null,null,{"$f":"DataEntry!G268","v":0},{"$f":"DataEntry!H268","v":0},{"$f":"DataEntry!J268","v":{"$error":"#N/A"}},{"$f":"DataEntry!L268","v":{"$error":"#N/A"}},"NULL"]
[null,null,{"$f":"DataEntry!G269","v":0},{"$f":"DataEntry!H269","v":0},{"$f":"DataEntry!J269","v":{"$error":"#N/A"}},{"$f":"DataEntry!L269","v":{"$error":"#N/A"}},"NULL"]
[null,null,{"$f":"DataEntry!G270","v":0},{"$f":"DataEntry!H270","v":0},{"$f":"DataEntry!J270","v":{"$error":"#N/A"}},{"$f":"DataEntry!L270","v":{"$error":"#N/A"}},"NULL"]
[null,null,{"$f":"DataEntry!G271","v":0},{"$f":"DataEntry!H271","v":0},{"$f":"DataEntry!J271","v":{"$error":"#N/A"}},{"$f":"DataEntry!L271","v":{"$error":"#N/A"}},"NULL"]
[null,null,{"$f":"DataEntry!G272","v":0},{"$f":"DataEntry!H272","v":0},{"$f":"DataEntry!J272","v":{"$error":"#N/A"}},{"$f":"DataEntry!L272","v":{"$error":"#N/A"}},"NULL"]
[null,null,{"$f":"DataEntry!G273","v":0},{"$f":"DataEntry!H273","v":0},{"$f":"DataEntry!J273","v":{"$error":"#N/A"}},{"$f":"DataEntry!L273","v":{"$error":"#N/A"}},"NULL"]
[null,null,{"$f":"DataEntry!G274","v":0},{"$f":"DataEntry!H274","v":0},{"$f":"DataEntry!J274","v":{"$error":"#N/A"}},{"$f":"DataEntry!L274","v":{"$error":"#N/A"}},"NULL"]
[null,null,{"$f":"DataEntry!G275","v":0},{"$f":"DataEntry!H275","v":0},{"$f":"DataEntry!J275","v":{"$error":"#N/A"}},{"$f":"DataEntry!L275","v":{"$error":"#N/A"}},"NULL"]
[null,null,{"$f":"DataEntry!G276","v":0},{"$f":"DataEntry!H276","v":0},{"$f":"DataEntry!J276","v":{"$error":"#N/A"}},{"$f":"DataEntry!L276","v":{"$error":"#N/A"}},"NULL"]
[null,null,{"$f":"DataEntry!G277","v":0},{"$f":"DataEntry!H277","v":0},{"$f":"DataEntry!J277","v":{"$error":"#N/A"}},{"$f":"DataEntry!L277","v":{"$error":"#N/A"}},"NULL"]
[null,null,{"$f":"DataEntry!G278","v":0},{"$f":"DataEntry!H278","v":0},{"$f":"DataEntry!J278","v":{"$error":"#N/A"}},{"$f":"DataEntry!L278","v":{"$error":"#N/A"}},"NULL"]
[null,null,{"$f":"DataEntry!G279","v":0},{"$f":"DataEntry!H279","v":0},{"$f":"DataEntry!J279","v":{"$error":"#N/A"}},{"$f":"DataEntry!L279","v":{"$error":"#N/A"}},"NULL"]
[null,null,{"$f":"DataEntry!G280","v":0},{"$f":"DataEntry!H280","v":0},{"$f":"DataEntry!J280","v":{"$error":"#N/A"}},{"$f":"DataEntry!L280","v":{"$error":"#N/A"}},"NULL"]
[null,null,{"$f":"DataEntry!G281","v":0},{"$f":"DataEntry!H281","v":0},{"$f":"DataEntry!J281","v":{"$error":"#N/A"}},{"$f":"DataEntry!L281","v":{"$error":"#N/A"}},"NULL"]
[null,null,{"$f":"DataEntry!G282","v":0},{"$f":"DataEntry!H282","v":0},{"$f":"DataEntry!J282","v":{"$error":"#N/A"}},{"$f":"DataEntry!L282","v":{"$error":"#N/A"}},"NULL"]
[null,null,{"$f":"DataEntry!G283","v":0},{"$f":"DataEntry!H283","v":0},{"$f":"DataEntry!J283","v":{"$error":"#N/A"}},{"$f":"DataEntry!L283","v":{"$error":"#N/A"}},"NULL"]
[null,null,{"$f":"DataEntry!G284","v":0},{"$f":"DataEntry!H284","v":0},{"$f":"DataEntry!J284","v":{"$error":"#N/A"}},{"$f":"DataEntry!L284","v":{"$error":"#N/A"}},"NULL"]
[null,null,{"$f":"DataEntry!G285","v":0},{"$f":"DataEntry!H285","v":0},{"$f":"DataEntry!J285","v":{"$error":"#N/A"}},{"$f":"DataEntry!L285","v":{"$error":"#N/A"}},"NULL"]
[null,null,{"$f":"DataEntry!G286","v":0},{"$f":"DataEntry!H286","v":0},{"$f":"DataEntry!J286","v":{"$error":"#N/A"}},{"$f":"DataEntry!L286","v":{"$error":"#N/A"}},"NULL"]
[null,null,{"$f":"DataEntry!G287","v":0},{"$f":"DataEntry!H287","v":0},{"$f":"DataEntry!J287","v":{"$error":"#N/A"}},{"$f":"DataEntry!L287","v":{"$error":"#N/A"}},"NULL"]
[null,null,{"$f":"DataEntry!G288","v":0},{"$f":"DataEntry!H288","v":0},{"$f":"DataEntry!J288","v":{"$error":"#N/A"}},{"$f":"DataEntry!L288","v":{"$error":"#N/A"}},"NULL"]
[null,null,{"$f":"DataEntry!G289","v":0},{"$f":"DataEntry!H289","v":0},{"$f":"DataEntry!J289","v":{"$error":"#N/A"}},{"$f":"DataEntry!L289","v":{"$error":"#N/A"}},"NULL"]
[null,null,{"$f":"DataEntry!G290","v":0},{"$f":"DataEntry!H290","v":0},{"$f":"DataEntry!J290","v":{"$error":"#N/A"}},{"$f":"DataEntry!L290","v":{"$error":"#N/A"}},"NULL"]
[null,null,{"$f":"DataEntry!G291","v":0},{"$f":"DataEntry!H291","v":0},{"$f":"DataEntry!J291","v":{"$error":"#N/A"}},{"$f":"DataEntry!L291","v":{"$error":"#N/A"}},"NULL"]
[null,null,{"$f":"DataEntry!G292","v":0},{"$f":"DataEntry!H292","v":0},{"$f":"DataEntry!J292","v":{"$error":"#N/A"}},{"$f":"DataEntry!L292","v":{"$error":"#N/A"}},"NULL"]
[null,null,{"$f":"DataEntry!G293","v":0},{"$f":"DataEntry!H293","v":0},{"$f":"DataEntry!J293","v":{"$error":"#N/A"}},{"$f":"DataEntry!L293","v":{"$error":"#N/A"}},"NULL"]
[null,null,{"$f":"DataEntry!G294","v":0},{"$f":"DataEntry!H294","v":0},{"$f":"DataEntry!J294","v":{"$error":"#N/A"}},{"$f":"DataEntry!L294","v":{"$error":"#N/A"}},"NULL"]
[null,null,{"$f":"DataEntry!G295","v":0},{"$f":"DataEntry!H295","v":0},{"$f":"DataEntry!J295","v":{"$error":"#N/A"}},{"$f":"DataEntry!L295","v":{"$error":"#N/A"}},"NULL"]
[null,null,{"$f":"DataEntry!G296","v":0},{"$f":"DataEntry!H296","v":0},{"$f":"DataEntry!J296","v":{"$error":"#N/A"}},{"$f":"DataEntry!L296","v":{"$error":"#N/A"}},"NULL"]
[null,null,{"$f":"DataEntry!G297","v":0},{"$f":"DataEntry!H297","v":0},{"$f":"DataEntry!J297","v":{"$error":"#N/A"}},{"$f":"DataEntry!L297","v":{"$error":"#N/A"}},"NULL"]
[null,null,{"$f":"DataEntry!G298","v":0},{"$f":"DataEntry!H298","v":0},{"$f":"DataEntry!J298","v":{"$error":"#N/A"}},{"$f":"DataEntry!L298","v":{"$error":"#N/A"}},"NULL"]
[null,null,{"$f":"DataEntry!G299","v":0},{"$f":"DataEntry!H299","v":0},{"$f":"DataEntry!J299","v":{"$error":"#N/A"}},{"$f":"DataEntry!L299","v":{"$error":"#N/A"}},"NULL"]
[null,null,{"$f":"DataEntry!G300","v":0},{"$f":"DataEntry!H300","v":0},{"$f":"DataEntry!J300","v":{"$error":"#N/A"}},{"$f":"DataEntry!L300","v":{"$error":"#N/A"}},"NULL"]
[null,null,{"$f":"DataEntry!G301","v":0},{"$f":"DataEntry!H301","v":0},{"$f":"DataEntry!J301","v":{"$error":"#N/A"}},{"$f":"DataEntry!L301","v":{"$error":"#N/A"}},"NULL"]
[null,null,{"$f":"DataEntry!G302","v":0},{"$f":"DataEntry!H302","v":0},{"$f":"DataEntry!J302","v":{"$error":"#N/A"}},{"$f":"DataEntry!L302","v":{"$error":"#N/A"}},"NULL"]
[null,null,{"$f":"DataEntry!G303","v":0},{"$f":"DataEntry!H303","v":0},{"$f":"DataEntry!J303","v":{"$error":"#N/A"}},{"$f":"DataEntry!L303","v":{"$error":"#N/A"}},"NULL"]
[null,null,{"$f":"DataEntry!G304","v":0},{"$f":"DataEntry!H304","v":0},{"$f":"DataEntry!J304","v":{"$error":"#N/A"}},{"$f":"DataEntry!L304","v":{"$error":"#N/A"}},"NULL"]
[null,null,{"$f":"DataEntry!G305","v":0},{"$f":"DataEntry!H305","v":0},{"$f":"DataEntry!J305","v":{"$error":"#N/A"}},{"$f":"DataEntry!L305","v":{"$error":"#N/A"}},"NULL"]
[null,null,{"$f":"DataEntry!G306","v":0},{"$f":"DataEntry!H306","v":0},{"$f":"DataEntry!J306","v":{"$error":"#N/A"}},{"$f":"DataEntry!L306","v":{"$error":"#N/A"}},"NULL"]
[null,null,{"$f":"DataEntry!G307","v":0},{"$f":"DataEntry!H307","v":0},{"$f":"DataEntry!J307","v":{"$error":"#N/A"}},{"$f":"DataEntry!L307","v":{"$error":"#N/A"}},"NULL"]
[null,null,{"$f":"DataEntry!G308","v":0},{"$f":"DataEntry!H308","v":0},{"$f":"DataEntry!J308","v":{"$error":"#N/A"}},{"$f":"DataEntry!L308","v":{"$error":"#N/A"}},"NULL"]
[null,null,{"$f":"DataEntry!G309","v":0},{"$f":"DataEntry!H309","v":0},{"$f":"DataEntry!J309","v":{"$error":"#N/A"}},{"$f":"DataEntry!L309","v":{"$error":"#N/A"}},"NULL"]
[null,null,{"$f":"DataEntry!G310","v":0},{"$f":"DataEntry!H310","v":0},{"$f":"DataEntry!J310","v":{"$error":"#N/A"}},{"$f":"DataEntry!L310","v":{"$error":"#N/A"}},"NULL"]
[null,null,{"$f":"DataEntry!G311","v":0},{"$f":"DataEntry!H311","v":0},{"$f":"DataEntry!J311","v":{"$error":"#N/A"}},{"$f":"DataEntry!L311","v":{"$error":"#N/A"}},"NULL"]
[null,null,{"$f":"DataEntry!G312","v":0},{"$f":"DataEntry!H312","v":0},{"$f":"DataEntry!J312","v":{"$error":"#N/A"}},{"$f":"DataEntry!L312","v":{"$error":"#N/A"}},"NULL"]
[null,null,{"$f":"DataEntry!G313","v":0},{"$f":"DataEntry!H313","v":0},{"$f":"DataEntry!J313","v":{"$error":"#N/A"}},{"$f":"DataEntry!L313","v":{"$error":"#N/A"}},"NULL"]
[null,null,{"$f":"DataEntry!G314","v":0},{"$f":"DataEntry!H314","v":0},{"$f":"DataEntry!J314","v":{"$error":"#N/A"}},{"$f":"DataEntry!L314","v":{"$error":"#N/A"}},"NULL"]
[null,null,{"$f":"DataEntry!G315","v":0},{"$f":"DataEntry!H315","v":0},{"$f":"DataEntry!J315","v":{"$error":"#N/A"}},{"$f":"DataEntry!L315","v":{"$error":"#N/A"}},"NULL"]
[null,null,{"$f":"DataEntry!G316","v":0},{"$f":"DataEntry!H316","v":0},{"$f":"DataEntry!J316","v":{"$error":"#N/A"}},{"$f":"DataEntry!L316","v":{"$error":"#N/A"}},"NULL"]
[null,null,{"$f":"DataEntry!G317","v":0},{"$f":"DataEntry!H317","v":0},{"$f":"DataEntry!J317","v":{"$error":"#N/A"}},{"$f":"DataEntry!L317","v":{"$error":"#N/A"}},"NULL"]
[null,null,{"$f":"DataEntry!G318","v":0},{"$f":"DataEntry!H318","v":0},{"$f":"DataEntry!J318","v":{"$error":"#N/A"}},{"$f":"DataEntry!L318","v":{"$error":"#N/A"}},"NULL"]
[null,null,{"$f":"DataEntry!G319","v":0},{"$f":"DataEntry!H319","v":0},{"$f":"DataEntry!J319","v":{"$error":"#N/A"}},{"$f":"DataEntry!L319","v":{"$error":"#N/A"}},"NULL"]
[null,null,{"$f":"DataEntry!G320","v":0},{"$f":"DataEntry!H320","v":0},{"$f":"DataEntry!J320","v":{"$error":"#N/A"}},{"$f":"DataEntry!L320","v":{"$error":"#N/A"}},"NULL"]
[null,null,{"$f":"DataEntry!G321","v":0},{"$f":"DataEntry!H321","v":0},{"$f":"DataEntry!J321","v":{"$error":"#N/A"}},{"$f":"DataEntry!L321","v":{"$error":"#N/A"}},"NULL"]
[null,null,{"$f":"DataEntry!G322","v":0},{"$f":"DataEntry!H322","v":0},{"$f":"DataEntry!J322","v":{"$error":"#N/A"}},{"$f":"DataEntry!L322","v":{"$error":"#N/A"}},"NULL"]
[null,null,{"$f":"DataEntry!G323","v":0},{"$f":"DataEntry!H323","v":0},{"$f":"DataEntry!J323","v":{"$error":"#N/A"}},{"$f":"DataEntry!L323","v":{"$error":"#N/A"}},"NULL"]
[null,null,{"$f":"DataEntry!G324","v":0},{"$f":"DataEntry!H324","v":0},{"$f":"DataEntry!J324","v":{"$error":"#N/A"}},{"$f":"DataEntry!L324","v":{"$error":"#N/A"}},"NULL"]
[null,null,{"$f":"DataEntry!G325","v":0},{"$f":"DataEntry!H325","v":0},{"$f":"DataEntry!J325","v":{"$error":"#N/A"}},{"$f":"DataEntry!L325","v":{"$error":"#N/A"}},"NULL"]
[null,null,{"$f":"DataEntry!G326","v":0},{"$f":"DataEntry!H326","v":0},{"$f":"DataEntry!J326","v":{"$error":"#N/A"}},{"$f":"DataEntry!L326","v":{"$error":"#N/A"}},"NULL"]
[null,null,{"$f":"DataEntry!G327","v":0},{"$f":"DataEntry!H327","v":0},{"$f":"DataEntry!J327","v":{"$error":"#N/A"}},{"$f":"DataEntry!L327","v":{"$error":"#N/A"}},"NULL"]
[null,null,{"$f":"DataEntry!G328","v":0},{"$f":"DataEntry!H328","v":0},{"$f":"DataEntry!J328","v":{"$error":"#N/A"}},{"$f":"DataEntry!L328","v":{"$error":"#N/A"}},"NULL"]
[null,null,{"$f":"DataEntry!G329","v":0},{"$f":"DataEntry!H329","v":0},{"$f":"DataEntry!J329","v":{"$error":"#N/A"}},{"$f":"DataEntry!L329","v":{"$error":"#N/A"}},"NULL"]
[null,null,{"$f":"DataEntry!G330","v":0},{"$f":"DataEntry!H330","v":0},{"$f":"DataEntry!J330","v":{"$error":"#N/A"}},{"$f":"DataEntry!L330","v":{"$error":"#N/A"}},"NULL"]
[null,null,{"$f":"DataEntry!G331","v":0},{"$f":"DataEntry!H331","v":0},{"$f":"DataEntry!J331","v":{"$error":"#N/A"}},{"$f":"DataEntry!L331","v":{"$error":"#N/A"}},"NULL"]
[null,null,{"$f":"DataEntry!G332","v":0},{"$f":"DataEntry!H332","v":0},{"$f":"DataEntry!J332","v":{"$error":"#N/A"}},{"$f":"DataEntry!L332","v":{"$error":"#N/A"}},"NULL"]
[null,null,{"$f":"DataEntry!G333","v":0},{"$f":"DataEntry!H333","v":0},{"$f":"DataEntry!J333","v":{"$error":"#N/A"}},{"$f":"DataEntry!L333","v":{"$error":"#N/A"}},"NULL"]
[null,null,{"$f":"DataEntry!G334","v":0},{"$f":"DataEntry!H334","v":0},{"$f":"DataEntry!J334","v":{"$error":"#N/A"}},{"$f":"DataEntry!L334","v":{"$error":"#N/A"}},"NULL"]
[null,null,{"$f":"DataEntry!G335","v":0},{"$f":"DataEntry!H335","v":0},{"$f":"DataEntry!J335","v":{"$error":"#N/A"}},{"$f":"DataEntry!L335","v":{"$error":"#N/A"}},"NULL"]
[null,null,{"$f":"DataEntry!G336","v":0},{"$f":"DataEntry!H336","v":0},{"$f":"DataEntry!J336","v":{"$error":"#N/A"}},{"$f":"DataEntry!L336","v":{"$error":"#N/A"}},"NULL"]
[null,null,{"$f":"DataEntry!G337","v":0},{"$f":"DataEntry!H337","v":0},{"$f":"DataEntry!J337","v":{"$error":"#N/A"}},{"$f":"DataEntry!L337","v":{"$error":"#N/A"}},"NULL"]
[null,null,{"$f":"DataEntry!G338","v":0},{"$f":"DataEntry!H338","v":0},{"$f":"DataEntry!J338","v":{"$error":"#N/A"}},{"$f":"DataEntry!L338","v":{"$error":"#N/A"}},"NULL"]
[null,null,{"$f":"DataEntry!G339","v":0},{"$f":"DataEntry!H339","v":0},{"$f":"DataEntry!J339","v":{"$error":"#N/A"}},{"$f":"DataEntry!L339","v":{"$error":"#N/A"}},"NULL"]
[null,null,{"$f":"DataEntry!G340","v":0},{"$f":"DataEntry!H340","v":0},{"$f":"DataEntry!J340","v":{"$error":"#N/A"}},{"$f":"DataEntry!L340","v":{"$error":"#N/A"}},"NULL"]
[null,null,{"$f":"DataEntry!G341","v":0},{"$f":"DataEntry!H341","v":0},{"$f":"DataEntry!J341","v":{"$error":"#N/A"}},{"$f":"DataEntry!L341","v":{"$error":"#N/A"}},"NULL"]
[null,null,{"$f":"DataEntry!G342","v":0},{"$f":"DataEntry!H342","v":0},{"$f":"DataEntry!J342","v":{"$error":"#N/A"}},{"$f":"DataEntry!L342","v":{"$error":"#N/A"}},"NULL"]
[null,null,{"$f":"DataEntry!G343","v":0},{"$f":"DataEntry!H343","v":0},{"$f":"DataEntry!J343","v":{"$error":"#N/A"}},{"$f":"DataEntry!L343","v":{"$error":"#N/A"}},"NULL"]
[null,null,{"$f":"DataEntry!G344","v":0},{"$f":"DataEntry!H344","v":0},{"$f":"DataEntry!J344","v":{"$error":"#N/A"}},{"$f":"DataEntry!L344","v":{"$error":"#N/A"}},"NULL"]
[null,null,{"$f":"DataEntry!G345","v":0},{"$f":"DataEntry!H345","v":0},{"$f":"DataEntry!J345","v":{"$error":"#N/A"}},{"$f":"DataEntry!L345","v":{"$error":"#N/A"}},"NULL"]
[null,null,{"$f":"DataEntry!G346","v":0},{"$f":"DataEntry!H346","v":0},{"$f":"DataEntry!J346","v":{"$error":"#N/A"}},{"$f":"DataEntry!L346","v":{"$error":"#N/A"}},"NULL"]
[null,null,{"$f":"DataEntry!G347","v":0},{"$f":"DataEntry!H347","v":0},{"$f":"DataEntry!J347","v":{"$error":"#N/A"}},{"$f":"DataEntry!L347","v":{"$error":"#N/A"}},"NULL"]
[null,null,{"$f":"DataEntry!G348","v":0},{"$f":"DataEntry!H348","v":0},{"$f":"DataEntry!J348","v":{"$error":"#N/A"}},{"$f":"DataEntry!L348","v":{"$error":"#N/A"}},"NULL"]
[null,null,{"$f":"DataEntry!G349","v":0},{"$f":"DataEntry!H349","v":0},{"$f":"DataEntry!J349","v":{"$error":"#N/A"}},{"$f":"DataEntry!L349","v":{"$error":"#N/A"}},"NULL"]
[null,null,{"$f":"DataEntry!G350","v":0},{"$f":"DataEntry!H350","v":0},{"$f":"DataEntry!J350","v":{"$error":"#N/A"}},{"$f":"DataEntry!L350","v":{"$error":"#N/A"}},"NULL"]
[null,null,{"$f":"DataEntry!G351","v":0},{"$f":"DataEntry!H351","v":0},{"$f":"DataEntry!J351","v":{"$error":"#N/A"}},{"$f":"DataEntry!L351","v":{"$error":"#N/A"}},"NULL"]
[null,null,{"$f":"DataEntry!G352","v":0},{"$f":"DataEntry!H352","v":0},{"$f":"DataEntry!J352","v":{"$error":"#N/A"}},{"$f":"DataEntry!L352","v":{"$error":"#N/A"}},"NULL"]
[null,null,{"$f":"DataEntry!G353","v":0},{"$f":"DataEntry!H353","v":0},{"$f":"DataEntry!J353","v":{"$error":"#N/A"}},{"$f":"DataEntry!L353","v":{"$error":"#N/A"}},"NULL"]
[null,null,{"$f":"DataEntry!G354","v":0},{"$f":"DataEntry!H354","v":0},{"$f":"DataEntry!J354","v":{"$error":"#N/A"}},{"$f":"DataEntry!L354","v":{"$error":"#N/A"}},"NULL"]
[null,null,{"$f":"DataEntry!G355","v":0},{"$f":"DataEntry!H355","v":0},{"$f":"DataEntry!J355","v":{"$error":"#N/A"}},{"$f":"DataEntry!L355","v":{"$error":"#N/A"}},"NULL"]
[null,null,{"$f":"DataEntry!G356","v":0},{"$f":"DataEntry!H356","v":0},{"$f":"DataEntry!J356","v":{"$error":"#N/A"}},{"$f":"DataEntry!L356","v":{"$error":"#N/A"}},"NULL"]
[null,null,{"$f":"DataEntry!G357","v":0},{"$f":"DataEntry!H357","v":0},{"$f":"DataEntry!J357","v":{"$error":"#N/A"}},{"$f":"DataEntry!L357","v":{"$error":"#N/A"}},"NULL"]
[null,null,{"$f":"DataEntry!G358","v":0},{"$f":"DataEntry!H358","v":0},{"$f":"DataEntry!J358","v":{"$error":"#N/A"}},{"$f":"DataEntry!L358","v":{"$error":"#N/A"}},"NULL"]
[null,null,{"$f":"DataEntry!G359","v":0},{"$f":"DataEntry!H359","v":0},{"$f":"DataEntry!J359","v":{"$error":"#N/A"}},{"$f":"DataEntry!L359","v":{"$error":"#N/A"}},"NULL"]
[null,null,{"$f":"DataEntry!G360","v":0},{"$f":"DataEntry!H360","v":0},{"$f":"DataEntry!J360","v":{"$error":"#N/A"}},{"$f":"DataEntry!L360","v":{"$error":"#N/A"}},"NULL"]
[null,null,{"$f":"DataEntry!G361","v":0},{"$f":"DataEntry!H361","v":0},{"$f":"DataEntry!J361","v":{"$error":"#N/A"}},{"$f":"DataEntry!L361","v":{"$error":"#N/A"}},"NULL"]
[null,null,{"$f":"DataEntry!G362","v":0},{"$f":"DataEntry!H362","v":0},{"$f":"DataEntry!J362","v":{"$error":"#N/A"}},{"$f":"DataEntry!L362","v":{"$error":"#N/A"}},"NULL"]
[null,null,{"$f":"DataEntry!G363","v":0},{"$f":"DataEntry!H363","v":0},{"$f":"DataEntry!J363","v":{"$error":"#N/A"}},{"$f":"DataEntry!L363","v":{"$error":"#N/A"}},"NULL"]
[null,null,{"$f":"DataEntry!G364","v":0},{"$f":"DataEntry!H364","v":0},{"$f":"DataEntry!J364","v":{"$error":"#N/A"}},{"$f":"DataEntry!L364","v":{"$error":"#N/A"}},"NULL"]
[null,null,{"$f":"DataEntry!G365","v":0},{"$f":"DataEntry!H365","v":0},{"$f":"DataEntry!J365","v":{"$error":"#N/A"}},{"$f":"DataEntry!L365","v":{"$error":"#N/A"}},"NULL"]
[null,null,{"$f":"DataEntry!G366","v":0},{"$f":"DataEntry!H366","v":0},{"$f":"DataEntry!J366","v":{"$error":"#N/A"}},{"$f":"DataEntry!L366","v":{"$error":"#N/A"}},"NULL"]
[null,null,{"$f":"DataEntry!G367","v":0},{"$f":"DataEntry!H367","v":0},{"$f":"DataEntry!J367","v":{"$error":"#N/A"}},{"$f":"DataEntry!L367","v":{"$error":"#N/A"}},"NULL"]
[null,null,{"$f":"DataEntry!G368","v":0},{"$f":"DataEntry!H368","v":0},{"$f":"DataEntry!J368","v":{"$error":"#N/A"}},{"$f":"DataEntry!L368","v":{"$error":"#N/A"}},"NULL"]
[null,null,{"$f":"DataEntry!G369","v":0},{"$f":"DataEntry!H369","v":0},{"$f":"DataEntry!J369","v":{"$error":"#N/A"}},{"$f":"DataEntry!L369","v":{"$error":"#N/A"}},"NULL"]
[null,null,{"$f":"DataEntry!G370","v":0},{"$f":"DataEntry!H370","v":0},{"$f":"DataEntry!J370","v":{"$error":"#N/A"}},{"$f":"DataEntry!L370","v":{"$error":"#N/A"}},"NULL"]
[null,null,{"$f":"DataEntry!G371","v":0},{"$f":"DataEntry!H371","v":0},{"$f":"DataEntry!J371","v":{"$error":"#N/A"}},{"$f":"DataEntry!L371","v":{"$error":"#N/A"}},"NULL"]
[null,null,{"$f":"DataEntry!G372","v":0},{"$f":"DataEntry!H372","v":0},{"$f":"DataEntry!J372","v":{"$error":"#N/A"}},{"$f":"DataEntry!L372","v":{"$error":"#N/A"}},"NULL"]
[null,null,{"$f":"DataEntry!G373","v":0},{"$f":"DataEntry!H373","v":0},{"$f":"DataEntry!J373","v":{"$error":"#N/A"}},{"$f":"DataEntry!L373","v":{"$error":"#N/A"}},"NULL"]
[null,null,{"$f":"DataEntry!G374","v":0},{"$f":"DataEntry!H374","v":0},{"$f":"DataEntry!J374","v":{"$error":"#N/A"}},{"$f":"DataEntry!L374","v":{"$error":"#N/A"}},"NULL"]
[null,null,{"$f":"DataEntry!G375","v":0},{"$f":"DataEntry!H375","v":0},{"$f":"DataEntry!J375","v":{"$error":"#N/A"}},{"$f":"DataEntry!L375","v":{"$error":"#N/A"}},"NULL"]
[null,null,{"$f":"DataEntry!G376","v":0},{"$f":"DataEntry!H376","v":0},{"$f":"DataEntry!J376","v":{"$error":"#N/A"}},{"$f":"DataEntry!L376","v":{"$error":"#N/A"}},"NULL"]
[null,null,{"$f":"DataEntry!G377","v":0},{"$f":"DataEntry!H377","v":0},{"$f":"DataEntry!J377","v":{"$error":"#N/A"}},{"$f":"DataEntry!L377","v":{"$error":"#N/A"}},"NULL"]
[null,null,{"$f":"DataEntry!G378","v":0},{"$f":"DataEntry!H378","v":0},{"$f":"DataEntry!J378","v":{"$error":"#N/A"}},{"$f":"DataEntry!L378","v":{"$error":"#N/A"}},"NULL"]
[null,null,{"$f":"DataEntry!G379","v":0},{"$f":"DataEntry!H379","v":0},{"$f":"DataEntry!J379","v":{"$error":"#N/A"}},{"$f":"DataEntry!L379","v":{"$error":"#N/A"}},"NULL"]
[null,null,{"$f":"DataEntry!G380","v":0},{"$f":"DataEntry!H380","v":0},{"$f":"DataEntry!J380","v":{"$error":"#N/A"}},{"$f":"DataEntry!L380","v":{"$error":"#N/A"}},"NULL"]
[null,null,{"$f":"DataEntry!G381","v":0},{"$f":"DataEntry!H381","v":0},{"$f":"DataEntry!J381","v":{"$error":"#N/A"}},{"$f":"DataEntry!L381","v":{"$error":"#N/A"}},"NULL"]
[null,null,{"$f":"DataEntry!G382","v":0},{"$f":"DataEntry!H382","v":0},{"$f":"DataEntry!J382","v":{"$error":"#N/A"}},{"$f":"DataEntry!L382","v":{"$error":"#N/A"}},"NULL"]
[null,null,{"$f":"DataEntry!G383","v":0},{"$f":"DataEntry!H383","v":0},{"$f":"DataEntry!J383","v":{"$error":"#N/A"}},{"$f":"DataEntry!L383","v":{"$error":"#N/A"}},"NULL"]
[null,null,{"$f":"DataEntry!G384","v":0},{"$f":"DataEntry!H384","v":0},{"$f":"DataEntry!J384","v":{"$error":"#N/A"}},{"$f":"DataEntry!L384","v":{"$error":"#N/A"}},"NULL"]
[null,null,{"$f":"DataEntry!G385","v":0},{"$f":"DataEntry!H385","v":0},{"$f":"DataEntry!J385","v":{"$error":"#N/A"}},{"$f":"DataEntry!L385","v":{"$error":"#N/A"}},"NULL"]
[null,null,{"$f":"DataEntry!G386","v":0},{"$f":"DataEntry!H386","v":0},{"$f":"DataEntry!J386","v":{"$error":"#N/A"}},{"$f":"DataEntry!L386","v":{"$error":"#N/A"}},"NULL"]
[null,null,{"$f":"DataEntry!G387","v":0},{"$f":"DataEntry!H387","v":0},{"$f":"DataEntry!J387","v":{"$error":"#N/A"}},{"$f":"DataEntry!L387","v":{"$error":"#N/A"}},"NULL"]
[null,null,{"$f":"DataEntry!G388","v":0},{"$f":"DataEntry!H388","v":0},{"$f":"DataEntry!J388","v":{"$error":"#N/A"}},{"$f":"DataEntry!L388","v":{"$error":"#N/A"}},"NULL"]
[null,null,{"$f":"DataEntry!G389","v":0},{"$f":"DataEntry!H389","v":0},{"$f":"DataEntry!J389","v":{"$error":"#N/A"}},{"$f":"DataEntry!L389","v":{"$error":"#N/A"}},"NULL"]
[null,null,{"$f":"DataEntry!G390","v":0},{"$f":"DataEntry!H390","v":0},{"$f":"DataEntry!J390","v":{"$error":"#N/A"}},{"$f":"DataEntry!L390","v":{"$error":"#N/A"}},"NULL"]
[null,null,{"$f":"DataEntry!G391","v":0},{"$f":"DataEntry!H391","v":0},{"$f":"DataEntry!J391","v":{"$error":"#N/A"}},{"$f":"DataEntry!L391","v":{"$error":"#N/A"}},"NULL"]
[null,null,{"$f":"DataEntry!G392","v":0},{"$f":"DataEntry!H392","v":0},{"$f":"DataEntry!J392","v":{"$error":"#N/A"}},{"$f":"DataEntry!L392","v":{"$error":"#N/A"}},"NULL"]
[null,null,{"$f":"DataEntry!G393","v":0},{"$f":"DataEntry!H393","v":0},{"$f":"DataEntry!J393","v":{"$error":"#N/A"}},{"$f":"DataEntry!L393","v":{"$error":"#N/A"}},"NULL"]
[null,null,{"$f":"DataEntry!G394","v":0},{"$f":"DataEntry!H394","v":0},{"$f":"DataEntry!J394","v":{"$error":"#N/A"}},{"$f":"DataEntry!L394","v":{"$error":"#N/A"}},"NULL"]
[null,null,{"$f":"DataEntry!G395","v":0},{"$f":"DataEntry!H395","v":0},{"$f":"DataEntry!J395","v":{"$error":"#N/A"}},{"$f":"DataEntry!L395","v":{"$error":"#N/A"}},"NULL"]
[null,null,{"$f":"DataEntry!G396","v":0},{"$f":"DataEntry!H396","v":0},{"$f":"DataEntry!J396","v":{"$error":"#N/A"}},{"$f":"DataEntry!L396","v":{"$error":"#N/A"}},"NULL"]
[null,null,{"$f":"DataEntry!G397","v":0},{"$f":"DataEntry!H397","v":0},{"$f":"DataEntry!J397","v":{"$error":"#N/A"}},{"$f":"DataEntry!L397","v":{"$error":"#N/A"}},"NULL"]
[null,null,{"$f":"DataEntry!G398","v":0},{"$f":"DataEntry!H398","v":0},{"$f":"DataEntry!J398","v":{"$error":"#N/A"}},{"$f":"DataEntry!L398","v":{"$error":"#N/A"}},"NULL"]
[null,null,{"$f":"DataEntry!G399","v":0},{"$f":"DataEntry!H399","v":0},{"$f":"DataEntry!J399","v":{"$error":"#N/A"}},{"$f":"DataEntry!L399","v":{"$error":"#N/A"}},"NULL"]
[null,null,{"$f":"DataEntry!G400","v":0},{"$f":"DataEntry!H400","v":0},{"$f":"DataEntry!J400","v":{"$error":"#N/A"}},{"$f":"DataEntry!L400","v":{"$error":"#N/A"}},"NULL"]
[null,null,{"$f":"DataEntry!G401","v":0},{"$f":"DataEntry!H401","v":0},{"$f":"DataEntry!J401","v":{"$error":"#N/A"}},{"$f":"DataEntry!L401","v":{"$error":"#N/A"}},"NULL"]
[null,null,{"$f":"DataEntry!G402","v":0},{"$f":"DataEntry!H402","v":0},{"$f":"DataEntry!J402","v":{"$error":"#N/A"}},{"$f":"DataEntry!L402","v":{"$error":"#N/A"}},"NULL"]
[null,null,{"$f":"DataEntry!G403","v":0},{"$f":"DataEntry!H403","v":0},{"$f":"DataEntry!J403","v":{"$error":"#N/A"}},{"$f":"DataEntry!L403","v":{"$error":"#N/A"}},"NULL"]
[null,null,{"$f":"DataEntry!G404","v":0},{"$f":"DataEntry!H404","v":0},{"$f":"DataEntry!J404","v":{"$error":"#N/A"}},{"$f":"DataEntry!L404","v":{"$error":"#N/A"}},"NULL"]
[null,null,{"$f":"DataEntry!G405","v":0},{"$f":"DataEntry!H405","v":0},{"$f":"DataEntry!J405","v":{"$error":"#N/A"}},{"$f":"DataEntry!L405","v":{"$error":"#N/A"}},"NULL"]
[null,null,{"$f":"DataEntry!G406","v":0},{"$f":"DataEntry!H406","v":0},{"$f":"DataEntry!J406","v":{"$error":"#N/A"}},{"$f":"DataEntry!L406","v":{"$error":"#N/A"}},"NULL"]
[null,null,{"$f":"DataEntry!G407","v":0},{"$f":"DataEntry!H407","v":0},{"$f":"DataEntry!J407","v":{"$error":"#N/A"}},{"$f":"DataEntry!L407","v":{"$error":"#N/A"}},"NULL"]
[null,null,{"$f":"DataEntry!G408","v":0},{"$f":"DataEntry!H408","v":0},{"$f":"DataEntry!J408","v":{"$error":"#N/A"}},{"$f":"DataEntry!L408","v":{"$error":"#N/A"}},"NULL"]
[null,null,{"$f":"DataEntry!G409","v":0},{"$f":"DataEntry!H409","v":0},{"$f":"DataEntry!J409","v":{"$error":"#N/A"}},{"$f":"DataEntry!L409","v":{"$error":"#N/A"}},"NULL"]
[null,null,{"$f":"DataEntry!G410","v":0},{"$f":"DataEntry!H410","v":0},{"$f":"DataEntry!J410","v":{"$error":"#N/A"}},{"$f":"DataEntry!L410","v":{"$error":"#N/A"}},"NULL"]
[null,null,{"$f":"DataEntry!G411","v":0},{"$f":"DataEntry!H411","v":0},{"$f":"DataEntry!J411","v":{"$error":"#N/A"}},{"$f":"DataEntry!L411","v":{"$error":"#N/A"}},"NULL"]
[null,null,{"$f":"DataEntry!G412","v":0},{"$f":"DataEntry!H412","v":0},{"$f":"DataEntry!J412","v":{"$error":"#N/A"}},{"$f":"DataEntry!L412","v":{"$error":"#N/A"}},"NULL"]
[null,null,{"$f":"DataEntry!G413","v":0},{"$f":"DataEntry!H413","v":0},{"$f":"DataEntry!J413","v":{"$error":"#N/A"}},{"$f":"DataEntry!L413","v":{"$error":"#N/A"}},"NULL"]
[null,null,{"$f":"DataEntry!G414","v":0},{"$f":"DataEntry!H414","v":0},{"$f":"DataEntry!J414","v":{"$error":"#N/A"}},{"$f":"DataEntry!L414","v":{"$error":"#N/A"}},"NULL"]
[null,null,{"$f":"DataEntry!G415","v":0},{"$f":"DataEntry!H415","v":0},{"$f":"DataEntry!J415","v":{"$error":"#N/A"}},{"$f":"DataEntry!L415","v":{"$error":"#N/A"}},"NULL"]
[null,null,{"$f":"DataEntry!G416","v":0},{"$f":"DataEntry!H416","v":0},{"$f":"DataEntry!J416","v":{"$error":"#N/A"}},{"$f":"DataEntry!L416","v":{"$error":"#N/A"}},"NULL"]
[null,null,{"$f":"DataEntry!G417","v":0},{"$f":"DataEntry!H417","v":0},{"$f":"DataEntry!J417","v":{"$error":"#N/A"}},{"$f":"DataEntry!L417","v":{"$error":"#N/A"}},"NULL"]
[null,null,{"$f":"DataEntry!G418","v":0},{"$f":"DataEntry!H418","v":0},{"$f":"DataEntry!J418","v":{"$error":"#N/A"}},{"$f":"DataEntry!L418","v":{"$error":"#N/A"}},"NULL"]
[null,null,{"$f":"DataEntry!G419","v":0},{"$f":"DataEntry!H419","v":0},{"$f":"DataEntry!J419","v":{"$error":"#N/A"}},{"$f":"DataEntry!L419","v":{"$error":"#N/A"}},"NULL"]
[null,null,{"$f":"DataEntry!G420","v":0},{"$f":"DataEntry!H420","v":0},{"$f":"DataEntry!J420","v":{"$error":"#N/A"}},{"$f":"DataEntry!L420","v":{"$error":"#N/A"}},"NULL"]
[null,null,{"$f":"DataEntry!G421","v":0},{"$f":"DataEntry!H421","v":0},{"$f":"DataEntry!J421","v":{"$error":"#N/A"}},{"$f":"DataEntry!L421","v":{"$error":"#N/A"}},"NULL"]
[null,null,{"$f":"DataEntry!G422","v":0},{"$f":"DataEntry!H422","v":0},{"$f":"DataEntry!J422","v":{"$error":"#N/A"}},{"$f":"DataEntry!L422","v":{"$error":"#N/A"}},"NULL"]
[null,null,{"$f":"DataEntry!G423","v":0},{"$f":"DataEntry!H423","v":0},{"$f":"DataEntry!J423","v":{"$error":"#N/A"}},{"$f":"DataEntry!L423","v":{"$error":"#N/A"}},"NULL"]
[null,null,{"$f":"DataEntry!G424","v":0},{"$f":"DataEntry!H424","v":0},{"$f":"DataEntry!J424","v":{"$error":"#N/A"}},{"$f":"DataEntry!L424","v":{"$error":"#N/A"}},"NULL"]
[null,null,{"$f":"DataEntry!G425","v":0},{"$f":"DataEntry!H425","v":0},{"$f":"DataEntry!J425","v":{"$error":"#N/A"}},{"$f":"DataEntry!L425","v":{"$error":"#N/A"}},"NULL"]
[null,null,{"$f":"DataEntry!G426","v":0},{"$f":"DataEntry!H426","v":0},{"$f":"DataEntry!J426","v":{"$error":"#N/A"}},{"$f":"DataEntry!L426","v":{"$error":"#N/A"}},"NULL"]
[null,null,{"$f":"DataEntry!G427","v":0},{"$f":"DataEntry!H427","v":0},{"$f":"DataEntry!J427","v":{"$error":"#N/A"}},{"$f":"DataEntry!L427","v":{"$error":"#N/A"}},"NULL"]
[null,null,{"$f":"DataEntry!G428","v":0},{"$f":"DataEntry!H428","v":0},{"$f":"DataEntry!J428","v":{"$error":"#N/A"}},{"$f":"DataEntry!L428","v":{"$error":"#N/A"}},"NULL"]
[null,null,{"$f":"DataEntry!G429","v":0},{"$f":"DataEntry!H429","v":0},{"$f":"DataEntry!J429","v":{"$error":"#N/A"}},{"$f":"DataEntry!L429","v":{"$error":"#N/A"}},"NULL"]
[null,null,{"$f":"DataEntry!G430","v":0},{"$f":"DataEntry!H430","v":0},{"$f":"DataEntry!J430","v":{"$error":"#N/A"}},{"$f":"DataEntry!L430","v":{"$error":"#N/A"}},"NULL"]
[null,null,{"$f":"DataEntry!G431","v":0},{"$f":"DataEntry!H431","v":0},{"$f":"DataEntry!J431","v":{"$error":"#N/A"}},{"$f":"DataEntry!L431","v":{"$error":"#N/A"}},"NULL"]
[null,null,{"$f":"DataEntry!G432","v":0},{"$f":"DataEntry!H432","v":0},{"$f":"DataEntry!J432","v":{"$error":"#N/A"}},{"$f":"DataEntry!L432","v":{"$error":"#N/A"}},"NULL"]
[null,null,{"$f":"DataEntry!G433","v":0},{"$f":"DataEntry!H433","v":0},{"$f":"DataEntry!J433","v":{"$error":"#N/A"}},{"$f":"DataEntry!L433","v":{"$error":"#N/A"}},"NULL"]
[null,null,{"$f":"DataEntry!G434","v":0},{"$f":"DataEntry!H434","v":0},{"$f":"DataEntry!J434","v":{"$error":"#N/A"}},{"$f":"DataEntry!L434","v":{"$error":"#N/A"}},"NULL"]
[null,null,{"$f":"DataEntry!G435","v":0},{"$f":"DataEntry!H435","v":0},{"$f":"DataEntry!J435","v":{"$error":"#N/A"}},{"$f":"DataEntry!L435","v":{"$error":"#N/A"}},"NULL"]
[null,null,{"$f":"DataEntry!G436","v":0},{"$f":"DataEntry!H436","v":0},{"$f":"DataEntry!J436","v":{"$error":"#N/A"}},{"$f":"DataEntry!L436","v":{"$error":"#N/A"}},"NULL"]
[null,null,{"$f":"DataEntry!G437","v":0},{"$f":"DataEntry!H437","v":0},{"$f":"DataEntry!J437","v":{"$error":"#N/A"}},{"$f":"DataEntry!L437","v":{"$error":"#N/A"}},"NULL"]
[null,null,{"$f":"DataEntry!G438","v":0},{"$f":"DataEntry!H438","v":0},{"$f":"DataEntry!J438","v":{"$error":"#N/A"}},{"$f":"DataEntry!L438","v":{"$error":"#N/A"}},"NULL"]
[null,null,{"$f":"DataEntry!G439","v":0},{"$f":"DataEntry!H439","v":0},{"$f":"DataEntry!J439","v":{"$error":"#N/A"}},{"$f":"DataEntry!L439","v":{"$error":"#N/A"}},"NULL"]
[null,null,{"$f":"DataEntry!G440","v":0},{"$f":"DataEntry!H440","v":0},{"$f":"DataEntry!J440","v":{"$error":"#N/A"}},{"$f":"DataEntry!L440","v":{"$error":"#N/A"}},"NULL"]
[null,null,{"$f":"DataEntry!G441","v":0},{"$f":"DataEntry!H441","v":0},{"$f":"DataEntry!J441","v":{"$error":"#N/A"}},{"$f":"DataEntry!L441","v":{"$error":"#N/A"}},"NULL"]
[null,null,{"$f":"DataEntry!G442","v":0},{"$f":"DataEntry!H442","v":0},{"$f":"DataEntry!J442","v":{"$error":"#N/A"}},{"$f":"DataEntry!L442","v":{"$error":"#N/A"}},"NULL"]
[null,null,{"$f":"DataEntry!G443","v":0},{"$f":"DataEntry!H443","v":0},{"$f":"DataEntry!J443","v":{"$error":"#N/A"}},{"$f":"DataEntry!L443","v":{"$error":"#N/A"}},"NULL"]
[null,null,{"$f":"DataEntry!G444","v":0},{"$f":"DataEntry!H444","v":0},{"$f":"DataEntry!J444","v":{"$error":"#N/A"}},{"$f":"DataEntry!L444","v":{"$error":"#N/A"}},"NULL"]
[null,null,{"$f":"DataEntry!G445","v":0},{"$f":"DataEntry!H445","v":0},{"$f":"DataEntry!J445","v":{"$error":"#N/A"}},{"$f":"DataEntry!L445","v":{"$error":"#N/A"}},"NULL"]
[null,null,{"$f":"DataEntry!G446","v":0},{"$f":"DataEntry!H446","v":0},{"$f":"DataEntry!J446","v":{"$error":"#N/A"}},{"$f":"DataEntry!L446","v":{"$error":"#N/A"}},"NULL"]
[null,null,{"$f":"DataEntry!G447","v":0},{"$f":"DataEntry!H447","v":0},{"$f":"DataEntry!J447","v":{"$error":"#N/A"}},{"$f":"DataEntry!L447","v":{"$error":"#N/A"}},"NULL"]
[null,null,{"$f":"DataEntry!G448","v":0},{"$f":"DataEntry!H448","v":0},{"$f":"DataEntry!J448","v":{"$error":"#N/A"}},{"$f":"DataEntry!L448","v":{"$error":"#N/A"}},"NULL"]
[null,null,{"$f":"DataEntry!G449","v":0},{"$f":"DataEntry!H449","v":0},{"$f":"DataEntry!J449","v":{"$error":"#N/A"}},{"$f":"DataEntry!L449","v":{"$error":"#N/A"}},"NULL"]
[null,null,{"$f":"DataEntry!G450","v":0},{"$f":"DataEntry!H450","v":0},{"$f":"DataEntry!J450","v":{"$error":"#N/A"}},{"$f":"DataEntry!L450","v":{"$error":"#N/A"}},"NULL"]
[null,null,{"$f":"DataEntry!G451","v":0},{"$f":"DataEntry!H451","v":0},{"$f":"DataEntry!J451","v":{"$error":"#N/A"}},{"$f":"DataEntry!L451","v":{"$error":"#N/A"}},"NULL"]
[null,null,{"$f":"DataEntry!G452","v":0},{"$f":"DataEntry!H452","v":0},{"$f":"DataEntry!J452","v":{"$error":"#N/A"}},{"$f":"DataEntry!L452","v":{"$error":"#N/A"}},"NULL"]
[null,null,{"$f":"DataEntry!G453","v":0},{"$f":"DataEntry!H453","v":0},{"$f":"DataEntry!J453","v":{"$error":"#N/A"}},{"$f":"DataEntry!L453","v":{"$error":"#N/A"}},"NULL"]
[null,null,{"$f":"DataEntry!G454","v":0},{"$f":"DataEntry!H454","v":0},{"$f":"DataEntry!J454","v":{"$error":"#N/A"}},{"$f":"DataEntry!L454","v":{"$error":"#N/A"}},"NULL"]
[null,null,{"$f":"DataEntry!G455","v":0},{"$f":"DataEntry!H455","v":0},{"$f":"DataEntry!J455","v":{"$error":"#N/A"}},{"$f":"DataEntry!L455","v":{"$error":"#N/A"}},"NULL"]
[null,null,{"$f":"DataEntry!G456","v":0},{"$f":"DataEntry!H456","v":0},{"$f":"DataEntry!J456","v":{"$error":"#N/A"}},{"$f":"DataEntry!L456","v":{"$error":"#N/A"}},"NULL"]
[null,null,{"$f":"DataEntry!G457","v":0},{"$f":"DataEntry!H457","v":0},{"$f":"DataEntry!J457","v":{"$error":"#N/A"}},{"$f":"DataEntry!L457","v":{"$error":"#N/A"}},"NULL"]
[null,null,{"$f":"DataEntry!G458","v":0},{"$f":"DataEntry!H458","v":0},{"$f":"DataEntry!J458","v":{"$error":"#N/A"}},{"$f":"DataEntry!L458","v":{"$error":"#N/A"}},"NULL"]
[null,null,{"$f":"DataEntry!G459","v":0},{"$f":"DataEntry!H459","v":0},{"$f":"DataEntry!J459","v":{"$error":"#N/A"}},{"$f":"DataEntry!L459","v":{"$error":"#N/A"}},"NULL"]
[null,null,{"$f":"DataEntry!G460","v":0},{"$f":"DataEntry!H460","v":0},{"$f":"DataEntry!J460","v":{"$error":"#N/A"}},{"$f":"DataEntry!L460","v":{"$error":"#N/A"}},"NULL"]
[null,null,{"$f":"DataEntry!G461","v":0},{"$f":"DataEntry!H461","v":0},{"$f":"DataEntry!J461","v":{"$error":"#N/A"}},{"$f":"DataEntry!L461","v":{"$error":"#N/A"}},"NULL"]
[null,null,{"$f":"DataEntry!G462","v":0},{"$f":"DataEntry!H462","v":0},{"$f":"DataEntry!J462","v":{"$error":"#N/A"}},{"$f":"DataEntry!L462","v":{"$error":"#N/A"}},"NULL"]
[null,null,{"$f":"DataEntry!G463","v":0},{"$f":"DataEntry!H463","v":0},{"$f":"DataEntry!J463","v":{"$error":"#N/A"}},{"$f":"DataEntry!L463","v":{"$error":"#N/A"}},"NULL"]
[null,null,{"$f":"DataEntry!G464","v":0},{"$f":"DataEntry!H464","v":0},{"$f":"DataEntry!J464","v":{"$error":"#N/A"}},{"$f":"DataEntry!L464","v":{"$error":"#N/A"}},"NULL"]
[null,null,{"$f":"DataEntry!G465","v":0},{"$f":"DataEntry!H465","v":0},{"$f":"DataEntry!J465","v":{"$error":"#N/A"}},{"$f":"DataEntry!L465","v":{"$error":"#N/A"}},"NULL"]
[null,null,{"$f":"DataEntry!G466","v":0},{"$f":"DataEntry!H466","v":0},{"$f":"DataEntry!J466","v":{"$error":"#N/A"}},{"$f":"DataEntry!L466","v":{"$error":"#N/A"}},"NULL"]
[null,null,{"$f":"DataEntry!G467","v":0},{"$f":"DataEntry!H467","v":0},{"$f":"DataEntry!J467","v":{"$error":"#N/A"}},{"$f":"DataEntry!L467","v":{"$error":"#N/A"}},"NULL"]
[null,null,{"$f":"DataEntry!G468","v":0},{"$f":"DataEntry!H468","v":0},{"$f":"DataEntry!J468","v":{"$error":"#N/A"}},{"$f":"DataEntry!L468","v":{"$error":"#N/A"}},"NULL"]
[null,null,{"$f":"DataEntry!G469","v":0},{"$f":"DataEntry!H469","v":0},{"$f":"DataEntry!J469","v":{"$error":"#N/A"}},{"$f":"DataEntry!L469","v":{"$error":"#N/A"}},"NULL"]
[null,null,{"$f":"DataEntry!G470","v":0},{"$f":"DataEntry!H470","v":0},{"$f":"DataEntry!J470","v":{"$error":"#N/A"}},{"$f":"DataEntry!L470","v":{"$error":"#N/A"}},"NULL"]
[null,null,{"$f":"DataEntry!G471","v":0},{"$f":"DataEntry!H471","v":0},{"$f":"DataEntry!J471","v":{"$error":"#N/A"}},{"$f":"DataEntry!L471","v":{"$error":"#N/A"}},"NULL"]
[null,null,{"$f":"DataEntry!G472","v":0},{"$f":"DataEntry!H472","v":0},{"$f":"DataEntry!J472","v":{"$error":"#N/A"}},{"$f":"DataEntry!L472","v":{"$error":"#N/A"}},"NULL"]
[null,null,{"$f":"DataEntry!G473","v":0},{"$f":"DataEntry!H473","v":0},{"$f":"DataEntry!J473","v":{"$error":"#N/A"}},{"$f":"DataEntry!L473","v":{"$error":"#N/A"}},"NULL"]
[null,null,{"$f":"DataEntry!G474","v":0},{"$f":"DataEntry!H474","v":0},{"$f":"DataEntry!J474","v":{"$error":"#N/A"}},{"$f":"DataEntry!L474","v":{"$error":"#N/A"}},"NULL"]
[null,null,{"$f":"DataEntry!G475","v":0},{"$f":"DataEntry!H475","v":0},{"$f":"DataEntry!J475","v":{"$error":"#N/A"}},{"$f":"DataEntry!L475","v":{"$error":"#N/A"}},"NULL"]
[null,null,{"$f":"DataEntry!G476","v":0},{"$f":"DataEntry!H476","v":0},{"$f":"DataEntry!J476","v":{"$error":"#N/A"}},{"$f":"DataEntry!L476","v":{"$error":"#N/A"}},"NULL"]
[null,null,{"$f":"DataEntry!G477","v":0},{"$f":"DataEntry!H477","v":0},{"$f":"DataEntry!J477","v":{"$error":"#N/A"}},{"$f":"DataEntry!L477","v":{"$error":"#N/A"}},"NULL"]
[null,null,{"$f":"DataEntry!G478","v":0},{"$f":"DataEntry!H478","v":0},{"$f":"DataEntry!J478","v":{"$error":"#N/A"}},{"$f":"DataEntry!L478","v":{"$error":"#N/A"}},"NULL"]
[null,null,{"$f":"DataEntry!G479","v":0},{"$f":"DataEntry!H479","v":0},{"$f":"DataEntry!J479","v":{"$error":"#N/A"}},{"$f":"DataEntry!L479","v":{"$error":"#N/A"}},"NULL"]
[null,null,{"$f":"DataEntry!G480","v":0},{"$f":"DataEntry!H480","v":0},{"$f":"DataEntry!J480","v":{"$error":"#N/A"}},{"$f":"DataEntry!L480","v":{"$error":"#N/A"}},"NULL"]
[null,null,{"$f":"DataEntry!G481","v":0},{"$f":"DataEntry!H481","v":0},{"$f":"DataEntry!J481","v":{"$error":"#N/A"}},{"$f":"DataEntry!L481","v":{"$error":"#N/A"}},"NULL"]
[null,null,{"$f":"DataEntry!G482","v":0},{"$f":"DataEntry!H482","v":0},{"$f":"DataEntry!J482","v":{"$error":"#N/A"}},{"$f":"DataEntry!L482","v":{"$error":"#N/A"}},"NULL"]
[null,null,{"$f":"DataEntry!G483","v":0},{"$f":"DataEntry!H483","v":0},{"$f":"DataEntry!J483","v":{"$error":"#N/A"}},{"$f":"DataEntry!L483","v":{"$error":"#N/A"}},"NULL"]
[null,null,{"$f":"DataEntry!G484","v":0},{"$f":"DataEntry!H484","v":0},{"$f":"DataEntry!J484","v":{"$error":"#N/A"}},{"$f":"DataEntry!L484","v":{"$error":"#N/A"}},"NULL"]
[null,null,{"$f":"DataEntry!G485","v":0},{"$f":"DataEntry!H485","v":0},{"$f":"DataEntry!J485","v":{"$error":"#N/A"}},{"$f":"DataEntry!L485","v":{"$error":"#N/A"}},"NULL"]
[null,null,{"$f":"DataEntry!G486","v":0},{"$f":"DataEntry!H486","v":0},{"$f":"DataEntry!J486","v":{"$error":"#N/A"}},{"$f":"DataEntry!L486","v":{"$error":"#N/A"}},"NULL"]
[null,null,{"$f":"DataEntry!G487","v":0},{"$f":"DataEntry!H487","v":0},{"$f":"DataEntry!J487","v":{"$error":"#N/A"}},{"$f":"DataEntry!L487","v":{"$error":"#N/A"}},"NULL"]
[null,null,{"$f":"DataEntry!G488","v":0},{"$f":"DataEntry!H488","v":0},{"$f":"DataEntry!J488","v":{"$error":"#N/A"}},{"$f":"DataEntry!L488","v":{"$error":"#N/A"}},"NULL"]
[null,null,{"$f":"DataEntry!G489","v":0},{"$f":"DataEntry!H489","v":0},{"$f":"DataEntry!J489","v":{"$error":"#N/A"}},{"$f":"DataEntry!L489","v":{"$error":"#N/A"}},"NULL"]
[null,null,{"$f":"DataEntry!G490","v":0},{"$f":"DataEntry!H490","v":0},{"$f":"DataEntry!J490","v":{"$error":"#N/A"}},{"$f":"DataEntry!L490","v":{"$error":"#N/A"}},"NULL"]
[null,null,{"$f":"DataEntry!G491","v":0},{"$f":"DataEntry!H491","v":0},{"$f":"DataEntry!J491","v":{"$error":"#N/A"}},{"$f":"DataEntry!L491","v":{"$error":"#N/A"}},"NULL"]
[null,null,{"$f":"DataEntry!G492","v":0},{"$f":"DataEntry!H492","v":0},{"$f":"DataEntry!J492","v":{"$error":"#N/A"}},{"$f":"DataEntry!L492","v":{"$error":"#N/A"}},"NULL"]
[null,null,{"$f":"DataEntry!G493","v":0},{"$f":"DataEntry!H493","v":0},{"$f":"DataEntry!J493","v":{"$error":"#N/A"}},{"$f":"DataEntry!L493","v":{"$error":"#N/A"}},"NULL"]
[null,null,{"$f":"DataEntry!G494","v":0},{"$f":"DataEntry!H494","v":0},{"$f":"DataEntry!J494","v":{"$error":"#N/A"}},{"$f":"DataEntry!L494","v":{"$error":"#N/A"}},"NULL"]
[null,null,{"$f":"DataEntry!G495","v":0},{"$f":"DataEntry!H495","v":0},{"$f":"DataEntry!J495","v":{"$error":"#N/A"}},{"$f":"DataEntry!L495","v":{"$error":"#N/A"}},"NULL"]
[null,null,{"$f":"DataEntry!G496","v":0},{"$f":"DataEntry!H496","v":0},{"$f":"DataEntry!J496","v":{"$error":"#N/A"}},{"$f":"DataEntry!L496","v":{"$error":"#N/A"}},"NULL"]
[null,null,{"$f":"DataEntry!G497","v":0},{"$f":"DataEntry!H497","v":0},{"$f":"DataEntry!J497","v":{"$error":"#N/A"}},{"$f":"DataEntry!L497","v":{"$error":"#N/A"}},"NULL"]
[null,null,{"$f":"DataEntry!G498","v":0},{"$f":"DataEntry!H498","v":0},{"$f":"DataEntry!J498","v":{"$error":"#N/A"}},{"$f":"DataEntry!L498","v":{"$error":"#N/A"}},"NULL"]
[null,null,{"$f":"DataEntry!G499","v":0},{"$f":"DataEntry!H499","v":0},{"$f":"DataEntry!J499","v":{"$error":"#N/A"}},{"$f":"DataEntry!L499","v":{"$error":"#N/A"}},"NULL"]
[null,null,{"$f":"DataEntry!G500","v":0},{"$f":"DataEntry!H500","v":0},{"$f":"DataEntry!J500","v":{"$error":"#N/A"}},{"$f":"DataEntry!L500","v":{"$error":"#N/A"}},"NULL"]
[null,null,{"$f":"DataEntry!G501","v":0},{"$f":"DataEntry!H501","v":0},{"$f":"DataEntry!J501","v":{"$error":"#N/A"}},{"$f":"DataEntry!L501","v":{"$error":"#N/A"}},"NULL"]
[null,null,{"$f":"DataEntry!G502","v":0},{"$f":"DataEntry!H502","v":0},{"$f":"DataEntry!J502","v":{"$error":"#N/A"}},{"$f":"DataEntry!L502","v":{"$error":"#N/A"}},"NULL"]
[null,null,{"$f":"DataEntry!G503","v":0},{"$f":"DataEntry!H503","v":0},{"$f":"DataEntry!J503","v":{"$error":"#N/A"}},{"$f":"DataEntry!L503","v":{"$error":"#N/A"}},"NULL"]
[null,null,{"$f":"DataEntry!G504","v":0},{"$f":"DataEntry!H504","v":0},{"$f":"DataEntry!J504","v":{"$error":"#N/A"}},{"$f":"DataEntry!L504","v":{"$error":"#N/A"}},"NULL"]
[null,null,{"$f":"DataEntry!G505","v":0},{"$f":"DataEntry!H505","v":0},{"$f":"DataEntry!J505","v":{"$error":"#N/A"}},{"$f":"DataEntry!L505","v":{"$error":"#N/A"}},"NULL"]
[null,null,{"$f":"DataEntry!G506","v":0},{"$f":"DataEntry!H506","v":0},{"$f":"DataEntry!J506","v":{"$error":"#N/A"}},{"$f":"DataEntry!L506","v":{"$error":"#N/A"}},"NULL"]
[null,null,{"$f":"DataEntry!G507","v":0},{"$f":"DataEntry!H507","v":0},{"$f":"DataEntry!J507","v":{"$error":"#N/A"}},{"$f":"DataEntry!L507","v":{"$error":"#N/A"}},"NULL"]
[null,null,{"$f":"DataEntry!G508","v":0},{"$f":"DataEntry!H508","v":0},{"$f":"DataEntry!J508","v":{"$error":"#N/A"}},{"$f":"DataEntry!L508","v":{"$error":"#N/A"}},"NULL"]
[null,null,{"$f":"DataEntry!G509","v":0},{"$f":"DataEntry!H509","v":0},{"$f":"DataEntry!J509","v":{"$error":"#N/A"}},{"$f":"DataEntry!L509","v":{"$error":"#N/A"}},"NULL"]
[null,null,{"$f":"DataEntry!G510","v":0},{"$f":"DataEntry!H510","v":0},{"$f":"DataEntry!J510","v":{"$error":"#N/A"}},{"$f":"DataEntry!L510","v":{"$error":"#N/A"}},"NULL"]
[null,null,{"$f":"DataEntry!G511","v":0},{"$f":"DataEntry!H511","v":0},{"$f":"DataEntry!J511","v":{"$error":"#N/A"}},{"$f":"DataEntry!L511","v":{"$error":"#N/A"}},"NULL"]
[null,null,{"$f":"DataEntry!G512","v":0},{"$f":"DataEntry!H512","v":0},{"$f":"DataEntry!J512","v":{"$error":"#N/A"}},{"$f":"DataEntry!L512","v":{"$error":"#N/A"}},"NULL"]
[null,null,{"$f":"DataEntry!G513","v":0},{"$f":"DataEntry!H513","v":0},{"$f":"DataEntry!J513","v":{"$error":"#N/A"}},{"$f":"DataEntry!L513","v":{"$error":"#N/A"}},"NULL"]
[null,null,{"$f":"DataEntry!G514","v":0},{"$f":"DataEntry!H514","v":0},{"$f":"DataEntry!J514","v":{"$error":"#N/A"}},{"$f":"DataEntry!L514","v":{"$error":"#N/A"}},"NULL"]
[null,null,{"$f":"DataEntry!G515","v":0},{"$f":"DataEntry!H515","v":0},{"$f":"DataEntry!J515","v":{"$error":"#N/A"}},{"$f":"DataEntry!L515","v":{"$error":"#N/A"}},"NULL"]
[null,null,{"$f":"DataEntry!G516","v":0},{"$f":"DataEntry!H516","v":0},{"$f":"DataEntry!J516","v":{"$error":"#N/A"}},{"$f":"DataEntry!L516","v":{"$error":"#N/A"}},"NULL"]
[null,null,{"$f":"DataEntry!G517","v":0},{"$f":"DataEntry!H517","v":0},{"$f":"DataEntry!J517","v":{"$error":"#N/A"}},{"$f":"DataEntry!L517","v":{"$error":"#N/A"}},"NULL"]
[null,null,{"$f":"DataEntry!G518","v":0},{"$f":"DataEntry!H518","v":0},{"$f":"DataEntry!J518","v":{"$error":"#N/A"}},{"$f":"DataEntry!L518","v":{"$error":"#N/A"}},"NULL"]
[null,null,{"$f":"DataEntry!G519","v":0},{"$f":"DataEntry!H519","v":0},{"$f":"DataEntry!J519","v":{"$error":"#N/A"}},{"$f":"DataEntry!L519","v":{"$error":"#N/A"}},"NULL"]
[null,null,{"$f":"DataEntry!G520","v":0},{"$f":"DataEntry!H520","v":0},{"$f":"DataEntry!J520","v":{"$error":"#N/A"}},{"$f":"DataEntry!L520","v":{"$error":"#N/A"}},"NULL"]
[null,null,{"$f":"DataEntry!G521","v":0},{"$f":"DataEntry!H521","v":0},{"$f":"DataEntry!J521","v":{"$error":"#N/A"}},{"$f":"DataEntry!L521","v":{"$error":"#N/A"}},"NULL"]
[null,null,{"$f":"DataEntry!G522","v":0},{"$f":"DataEntry!H522","v":0},{"$f":"DataEntry!J522","v":{"$error":"#N/A"}},{"$f":"DataEntry!L522","v":{"$error":"#N/A"}},"NULL"]
[null,null,{"$f":"DataEntry!G523","v":0},{"$f":"DataEntry!H523","v":0},{"$f":"DataEntry!J523","v":{"$error":"#N/A"}},{"$f":"DataEntry!L523","v":{"$error":"#N/A"}},"NULL"]
[null,null,{"$f":"DataEntry!G524","v":0},{"$f":"DataEntry!H524","v":0},{"$f":"DataEntry!J524","v":{"$error":"#N/A"}},{"$f":"DataEntry!L524","v":{"$error":"#N/A"}},"NULL"]
[null,null,{"$f":"DataEntry!G525","v":0},{"$f":"DataEntry!H525","v":0},{"$f":"DataEntry!J525","v":{"$error":"#N/A"}},{"$f":"DataEntry!L525","v":{"$error":"#N/A"}},"NULL"]
[null,null,{"$f":"DataEntry!G526","v":0},{"$f":"DataEntry!H526","v":0},{"$f":"DataEntry!J526","v":{"$error":"#N/A"}},{"$f":"DataEntry!L526","v":{"$error":"#N/A"}},"NULL"]
[null,null,{"$f":"DataEntry!G527","v":0},{"$f":"DataEntry!H527","v":0},{"$f":"DataEntry!J527","v":{"$error":"#N/A"}},{"$f":"DataEntry!L527","v":{"$error":"#N/A"}},"NULL"]
[null,null,{"$f":"DataEntry!G528","v":0},{"$f":"DataEntry!H528","v":0},{"$f":"DataEntry!J528","v":{"$error":"#N/A"}},{"$f":"DataEntry!L528","v":{"$error":"#N/A"}},"NULL"]
[null,null,{"$f":"DataEntry!G529","v":0},{"$f":"DataEntry!H529","v":0},{"$f":"DataEntry!J529","v":{"$error":"#N/A"}},{"$f":"DataEntry!L529","v":{"$error":"#N/A"}},"NULL"]
[null,null,{"$f":"DataEntry!G530","v":0},{"$f":"DataEntry!H530","v":0},{"$f":"DataEntry!J530","v":{"$error":"#N/A"}},{"$f":"DataEntry!L530","v":{"$error":"#N/A"}},"NULL"]
[null,null,{"$f":"DataEntry!G531","v":0},{"$f":"DataEntry!H531","v":0},{"$f":"DataEntry!J531","v":{"$error":"#N/A"}},{"$f":"DataEntry!L531","v":{"$error":"#N/A"}},"NULL"]
[null,null,{"$f":"DataEntry!G532","v":0},{"$f":"DataEntry!H532","v":0},{"$f":"DataEntry!J532","v":{"$error":"#N/A"}},{"$f":"DataEntry!L532","v":{"$error":"#N/A"}},"NULL"]
[null,null,{"$f":"DataEntry!G533","v":0},{"$f":"DataEntry!H533","v":0},{"$f":"DataEntry!J533","v":{"$error":"#N/A"}},{"$f":"DataEntry!L533","v":{"$error":"#N/A"}},"NULL"]
[null,null,{"$f":"DataEntry!G534","v":0},{"$f":"DataEntry!H534","v":0},{"$f":"DataEntry!J534","v":{"$error":"#N/A"}},{"$f":"DataEntry!L534","v":{"$error":"#N/A"}},"NULL"]
[null,null,{"$f":"DataEntry!G535","v":0},{"$f":"DataEntry!H535","v":0},{"$f":"DataEntry!J535","v":{"$error":"#N/A"}},{"$f":"DataEntry!L535","v":{"$error":"#N/A"}},"NULL"]
[null,null,{"$f":"DataEntry!G536","v":0},{"$f":"DataEntry!H536","v":0},{"$f":"DataEntry!J536","v":{"$error":"#N/A"}},{"$f":"DataEntry!L536","v":{"$error":"#N/A"}},"NULL"]
[null,null,{"$f":"DataEntry!G537","v":0},{"$f":"DataEntry!H537","v":0},{"$f":"DataEntry!J537","v":{"$error":"#N/A"}},{"$f":"DataEntry!L537","v":{"$error":"#N/A"}},"NULL"]
[null,null,{"$f":"DataEntry!G538","v":0},{"$f":"DataEntry!H538","v":0},{"$f":"DataEntry!J538","v":{"$error":"#N/A"}},{"$f":"DataEntry!L538","v":{"$error":"#N/A"}},"NULL"]
[null,null,{"$f":"DataEntry!G539","v":0},{"$f":"DataEntry!H539","v":0},{"$f":"DataEntry!J539","v":{"$error":"#N/A"}},{"$f":"DataEntry!L539","v":{"$error":"#N/A"}},"NULL"]
[null,null,{"$f":"DataEntry!G540","v":0},{"$f":"DataEntry!H540","v":0},{"$f":"DataEntry!J540","v":{"$error":"#N/A"}},{"$f":"DataEntry!L540","v":{"$error":"#N/A"}},"NULL"]
[null,null,{"$f":"DataEntry!G541","v":0},{"$f":"DataEntry!H541","v":0},{"$f":"DataEntry!J541","v":{"$error":"#N/A"}},{"$f":"DataEntry!L541","v":{"$error":"#N/A"}},"NULL"]
[null,null,{"$f":"DataEntry!G542","v":0},{"$f":"DataEntry!H542","v":0},{"$f":"DataEntry!J542","v":{"$error":"#N/A"}},{"$f":"DataEntry!L542","v":{"$error":"#N/A"}},"NULL"]
[null,null,{"$f":"DataEntry!G543","v":0},{"$f":"DataEntry!H543","v":0},{"$f":"DataEntry!J543","v":{"$error":"#N/A"}},{"$f":"DataEntry!L543","v":{"$error":"#N/A"}},"NULL"]
[null,null,{"$f":"DataEntry!G544","v":0},{"$f":"DataEntry!H544","v":0},{"$f":"DataEntry!J544","v":{"$error":"#N/A"}},{"$f":"DataEntry!L544","v":{"$error":"#N/A"}},"NULL"]
[null,null,{"$f":"DataEntry!G545","v":0},{"$f":"DataEntry!H545","v":0},{"$f":"DataEntry!J545","v":{"$error":"#N/A"}},{"$f":"DataEntry!L545","v":{"$error":"#N/A"}},"NULL"]
[null,null,{"$f":"DataEntry!G546","v":0},{"$f":"DataEntry!H546","v":0},{"$f":"DataEntry!J546","v":{"$error":"#N/A"}},{"$f":"DataEntry!L546","v":{"$error":"#N/A"}},"NULL"]
[null,null,{"$f":"DataEntry!G547","v":0},{"$f":"DataEntry!H547","v":0},{"$f":"DataEntry!J547","v":{"$error":"#N/A"}},{"$f":"DataEntry!L547","v":{"$error":"#N/A"}},"NULL"]
[null,null,{"$f":"DataEntry!G548","v":0},{"$f":"DataEntry!H548","v":0},{"$f":"DataEntry!J548","v":{"$error":"#N/A"}},{"$f":"DataEntry!L548","v":{"$error":"#N/A"}},"NULL"]
[null,null,{"$f":"DataEntry!G549","v":0},{"$f":"DataEntry!H549","v":0},{"$f":"DataEntry!J549","v":{"$error":"#N/A"}},{"$f":"DataEntry!L549","v":{"$error":"#N/A"}},"NULL"]
[null,null,{"$f":"DataEntry!G550","v":0},{"$f":"DataEntry!H550","v":0},{"$f":"DataEntry!J550","v":{"$error":"#N/A"}},{"$f":"DataEntry!L550","v":{"$error":"#N/A"}},"NULL"]
[null,null,{"$f":"DataEntry!G551","v":0},{"$f":"DataEntry!H551","v":0},{"$f":"DataEntry!J551","v":{"$error":"#N/A"}},{"$f":"DataEntry!L551","v":{"$error":"#N/A"}},"NULL"]
[null,null,{"$f":"DataEntry!G552","v":0},{"$f":"DataEntry!H552","v":0},{"$f":"DataEntry!J552","v":{"$error":"#N/A"}},{"$f":"DataEntry!L552","v":{"$error":"#N/A"}},"NULL"]
[null,null,{"$f":"DataEntry!G553","v":0},{"$f":"DataEntry!H553","v":0},{"$f":"DataEntry!J553","v":{"$error":"#N/A"}},{"$f":"DataEntry!L553","v":{"$error":"#N/A"}},"NULL"]
[null,null,{"$f":"DataEntry!G554","v":0},{"$f":"DataEntry!H554","v":0},{"$f":"DataEntry!J554","v":{"$error":"#N/A"}},{"$f":"DataEntry!L554","v":{"$error":"#N/A"}},"NULL"]
[null,null,{"$f":"DataEntry!G555","v":0},{"$f":"DataEntry!H555","v":0},{"$f":"DataEntry!J555","v":{"$error":"#N/A"}},{"$f":"DataEntry!L555","v":{"$error":"#N/A"}},"NULL"]
[null,null,{"$f":"DataEntry!G556","v":0},{"$f":"DataEntry!H556","v":0},{"$f":"DataEntry!J556","v":{"$error":"#N/A"}},{"$f":"DataEntry!L556","v":{"$error":"#N/A"}},"NULL"]
[null,null,{"$f":"DataEntry!G557","v":0},{"$f":"DataEntry!H557","v":0},{"$f":"DataEntry!J557","v":{"$error":"#N/A"}},{"$f":"DataEntry!L557","v":{"$error":"#N/A"}},"NULL"]
[null,null,{"$f":"DataEntry!G558","v":0},{"$f":"DataEntry!H558","v":0},{"$f":"DataEntry!J558","v":{"$error":"#N/A"}},{"$f":"DataEntry!L558","v":{"$error":"#N/A"}},"NULL"]
[null,null,{"$f":"DataEntry!G559","v":0},{"$f":"DataEntry!H559","v":0},{"$f":"DataEntry!J559","v":{"$error":"#N/A"}},{"$f":"DataEntry!L559","v":{"$error":"#N/A"}},"NULL"]
[null,null,{"$f":"DataEntry!G560","v":0},{"$f":"DataEntry!H560","v":0},{"$f":"DataEntry!J560","v":{"$error":"#N/A"}},{"$f":"DataEntry!L560","v":{"$error":"#N/A"}},"NULL"]
[null,null,{"$f":"DataEntry!G561","v":0},{"$f":"DataEntry!H561","v":0},{"$f":"DataEntry!J561","v":{"$error":"#N/A"}},{"$f":"DataEntry!L561","v":{"$error":"#N/A"}},"NULL"]
[null,null,{"$f":"DataEntry!G562","v":0},{"$f":"DataEntry!H562","v":0},{"$f":"DataEntry!J562","v":{"$error":"#N/A"}},{"$f":"DataEntry!L562","v":{"$error":"#N/A"}},"NULL"]
[null,null,{"$f":"DataEntry!G563","v":0},{"$f":"DataEntry!H563","v":0},{"$f":"DataEntry!J563","v":{"$error":"#N/A"}},{"$f":"DataEntry!L563","v":{"$error":"#N/A"}},"NULL"]
[null,null,{"$f":"DataEntry!G564","v":0},{"$f":"DataEntry!H564","v":0},{"$f":"DataEntry!J564","v":{"$error":"#N/A"}},{"$f":"DataEntry!L564","v":{"$error":"#N/A"}},"NULL"]
[null,null,{"$f":"DataEntry!G565","v":0},{"$f":"DataEntry!H565","v":0},{"$f":"DataEntry!J565","v":{"$error":"#N/A"}},{"$f":"DataEntry!L565","v":{"$error":"#N/A"}},"NULL"]
[null,null,{"$f":"DataEntry!G566","v":0},{"$f":"DataEntry!H566","v":0},{"$f":"DataEntry!J566","v":{"$error":"#N/A"}},{"$f":"DataEntry!L566","v":{"$error":"#N/A"}},"NULL"]
[null,null,{"$f":"DataEntry!G567","v":0},{"$f":"DataEntry!H567","v":0},{"$f":"DataEntry!J567","v":{"$error":"#N/A"}},{"$f":"DataEntry!L567","v":{"$error":"#N/A"}},"NULL"]
[null,null,{"$f":"DataEntry!G568","v":0},{"$f":"DataEntry!H568","v":0},{"$f":"DataEntry!J568","v":{"$error":"#N/A"}},{"$f":"DataEntry!L568","v":{"$error":"#N/A"}},"NULL"]
[null,null,{"$f":"DataEntry!G569","v":0},{"$f":"DataEntry!H569","v":0},{"$f":"DataEntry!J569","v":{"$error":"#N/A"}},{"$f":"DataEntry!L569","v":{"$error":"#N/A"}},"NULL"]
[null,null,{"$f":"DataEntry!G570","v":0},{"$f":"DataEntry!H570","v":0},{"$f":"DataEntry!J570","v":{"$error":"#N/A"}},{"$f":"DataEntry!L570","v":{"$error":"#N/A"}},"NULL"]
[null,null,{"$f":"DataEntry!G571","v":0},{"$f":"DataEntry!H571","v":0},{"$f":"DataEntry!J571","v":{"$error":"#N/A"}},{"$f":"DataEntry!L571","v":{"$error":"#N/A"}},"NULL"]
[null,null,{"$f":"DataEntry!G572","v":0},{"$f":"DataEntry!H572","v":0},{"$f":"DataEntry!J572","v":{"$error":"#N/A"}},{"$f":"DataEntry!L572","v":{"$error":"#N/A"}},"NULL"]
[null,null,{"$f":"DataEntry!G573","v":0},{"$f":"DataEntry!H573","v":0},{"$f":"DataEntry!J573","v":{"$error":"#N/A"}},{"$f":"DataEntry!L573","v":{"$error":"#N/A"}},"NULL"]
[null,null,{"$f":"DataEntry!G574","v":0},{"$f":"DataEntry!H574","v":0},{"$f":"DataEntry!J574","v":{"$error":"#N/A"}},{"$f":"DataEntry!L574","v":{"$error":"#N/A"}},"NULL"]
[null,null,{"$f":"DataEntry!G575","v":0},{"$f":"DataEntry!H575","v":0},{"$f":"DataEntry!J575","v":{"$error":"#N/A"}},{"$f":"DataEntry!L575","v":{"$error":"#N/A"}},"NULL"]
[null,null,{"$f":"DataEntry!G576","v":0},{"$f":"DataEntry!H576","v":0},{"$f":"DataEntry!J576","v":{"$error":"#N/A"}},{"$f":"DataEntry!L576","v":{"$error":"#N/A"}},"NULL"]
[null,null,{"$f":"DataEntry!G577","v":0},{"$f":"DataEntry!H577","v":0},{"$f":"DataEntry!J577","v":{"$error":"#N/A"}},{"$f":"DataEntry!L577","v":{"$error":"#N/A"}},"NULL"]
[null,null,{"$f":"DataEntry!G578","v":0},{"$f":"DataEntry!H578","v":0},{"$f":"DataEntry!J578","v":{"$error":"#N/A"}},{"$f":"DataEntry!L578","v":{"$error":"#N/A"}},"NULL"]
[null,null,{"$f":"DataEntry!G579","v":0},{"$f":"DataEntry!H579","v":0},{"$f":"DataEntry!J579","v":{"$error":"#N/A"}},{"$f":"DataEntry!L579","v":{"$error":"#N/A"}},"NULL"]
[null,null,{"$f":"DataEntry!G580","v":0},{"$f":"DataEntry!H580","v":0},{"$f":"DataEntry!J580","v":{"$error":"#N/A"}},{"$f":"DataEntry!L580","v":{"$error":"#N/A"}},"NULL"]
[null,null,{"$f":"DataEntry!G581","v":0},{"$f":"DataEntry!H581","v":0},{"$f":"DataEntry!J581","v":{"$error":"#N/A"}},{"$f":"DataEntry!L581","v":{"$error":"#N/A"}},"NULL"]
[null,null,{"$f":"DataEntry!G582","v":0},{"$f":"DataEntry!H582","v":0},{"$f":"DataEntry!J582","v":{"$error":"#N/A"}},{"$f":"DataEntry!L582","v":{"$error":"#N/A"}},"NULL"]
[null,null,{"$f":"DataEntry!G583","v":0},{"$f":"DataEntry!H583","v":0},{"$f":"DataEntry!J583","v":{"$error":"#N/A"}},{"$f":"DataEntry!L583","v":{"$error":"#N/A"}},"NULL"]
[null,null,{"$f":"DataEntry!G584","v":0},{"$f":"DataEntry!H584","v":0},{"$f":"DataEntry!J584","v":{"$error":"#N/A"}},{"$f":"DataEntry!L584","v":{"$error":"#N/A"}},"NULL"]
[null,null,{"$f":"DataEntry!G585","v":0},{"$f":"DataEntry!H585","v":0},{"$f":"DataEntry!J585","v":{"$error":"#N/A"}},{"$f":"DataEntry!L585","v":{"$error":"#N/A"}},"NULL"]
[null,null,{"$f":"DataEntry!G586","v":0},{"$f":"DataEntry!H586","v":0},{"$f":"DataEntry!J586","v":{"$error":"#N/A"}},{"$f":"DataEntry!L586","v":{"$error":"#N/A"}},"NULL"]
[null,null,{"$f":"DataEntry!G587","v":0},{"$f":"DataEntry!H587","v":0},{"$f":"DataEntry!J587","v":{"$error":"#N/A"}},{"$f":"DataEntry!L587","v":{"$error":"#N/A"}},"NULL"]
[null,null,{"$f":"DataEntry!G588","v":0},{"$f":"DataEntry!H588","v":0},{"$f":"DataEntry!J588","v":{"$error":"#N/A"}},{"$f":"DataEntry!L588","v":{"$error":"#N/A"}},"NULL"]
[null,null,{"$f":"DataEntry!G589","v":0},{"$f":"DataEntry!H589","v":0},{"$f":"DataEntry!J589","v":{"$error":"#N/A"}},{"$f":"DataEntry!L589","v":{"$error":"#N/A"}},"NULL"]
[null,null,{"$f":"DataEntry!G590","v":0},{"$f":"DataEntry!H590","v":0},{"$f":"DataEntry!J590","v":{"$error":"#N/A"}},{"$f":"DataEntry!L590","v":{"$error":"#N/A"}},"NULL"]
[null,null,{"$f":"DataEntry!G591","v":0},{"$f":"DataEntry!H591","v":0},{"$f":"DataEntry!J591","v":{"$error":"#N/A"}},{"$f":"DataEntry!L591","v":{"$error":"#N/A"}},"NULL"]
[null,null,{"$f":"DataEntry!G592","v":0},{"$f":"DataEntry!H592","v":0},{"$f":"DataEntry!J592","v":{"$error":"#N/A"}},{"$f":"DataEntry!L592","v":{"$error":"#N/A"}},"NULL"]
[null,null,{"$f":"DataEntry!G593","v":0},{"$f":"DataEntry!H593","v":0},{"$f":"DataEntry!J593","v":{"$error":"#N/A"}},{"$f":"DataEntry!L593","v":{"$error":"#N/A"}},"NULL"]
[null,null,{"$f":"DataEntry!G594","v":0},{"$f":"DataEntry!H594","v":0},{"$f":"DataEntry!J594","v":{"$error":"#N/A"}},{"$f":"DataEntry!L594","v":{"$error":"#N/A"}},"NULL"]
[null,null,{"$f":"DataEntry!G595","v":0},{"$f":"DataEntry!H595","v":0},{"$f":"DataEntry!J595","v":{"$error":"#N/A"}},{"$f":"DataEntry!L595","v":{"$error":"#N/A"}},"NULL"]
[null,null,{"$f":"DataEntry!G596","v":0},{"$f":"DataEntry!H596","v":0},{"$f":"DataEntry!J596","v":{"$error":"#N/A"}},{"$f":"DataEntry!L596","v":{"$error":"#N/A"}},"NULL"]
[null,null,{"$f":"DataEntry!G597","v":0},{"$f":"DataEntry!H597","v":0},{"$f":"DataEntry!J597","v":{"$error":"#N/A"}},{"$f":"DataEntry!L597","v":{"$error":"#N/A"}},"NULL"]
[null,null,{"$f":"DataEntry!G598","v":0},{"$f":"DataEntry!H598","v":0},{"$f":"DataEntry!J598","v":{"$error":"#N/A"}},{"$f":"DataEntry!L598","v":{"$error":"#N/A"}},"NULL"]
[null,null,{"$f":"DataEntry!G599","v":0},{"$f":"DataEntry!H599","v":0},{"$f":"DataEntry!J599","v":{"$error":"#N/A"}},{"$f":"DataEntry!L599","v":{"$error":"#N/A"}},"NULL"]
[null,null,{"$f":"DataEntry!G600","v":0},{"$f":"DataEntry!H600","v":0},{"$f":"DataEntry!J600","v":{"$error":"#N/A"}},{"$f":"DataEntry!L600","v":{"$error":"#N/A"}},"NULL"]
[null,null,{"$f":"DataEntry!G601","v":0},{"$f":"DataEntry!H601","v":0},{"$f":"DataEntry!J601","v":{"$error":"#N/A"}},{"$f":"DataEntry!L601","v":{"$error":"#N/A"}},"NULL"]
[null,null,{"$f":"DataEntry!G602","v":0},{"$f":"DataEntry!H602","v":0},{"$f":"DataEntry!J602","v":{"$error":"#N/A"}},{"$f":"DataEntry!L602","v":{"$error":"#N/A"}},"NULL"]
[null,null,{"$f":"DataEntry!G603","v":0},{"$f":"DataEntry!H603","v":0},{"$f":"DataEntry!J603","v":{"$error":"#N/A"}},{"$f":"DataEntry!L603","v":{"$error":"#N/A"}},"NULL"]
[null,null,{"$f":"DataEntry!G604","v":0},{"$f":"DataEntry!H604","v":0},{"$f":"DataEntry!J604","v":{"$error":"#N/A"}},{"$f":"DataEntry!L604","v":{"$error":"#N/A"}},"NULL"]
[null,null,{"$f":"DataEntry!G605","v":0},{"$f":"DataEntry!H605","v":0},{"$f":"DataEntry!J605","v":{"$error":"#N/A"}},{"$f":"DataEntry!L605","v":{"$error":"#N/A"}},"NULL"]
[null,null,{"$f":"DataEntry!G606","v":0},{"$f":"DataEntry!H606","v":0},{"$f":"DataEntry!J606","v":{"$error":"#N/A"}},{"$f":"DataEntry!L606","v":{"$error":"#N/A"}},"NULL"]

{"sheet":"vegetation_monitoring_canopy","index":6,"n_rows":101,"n_cols":5,"rows_kept":101,"cut":false,"hidden":false,"merged":[]}
["vegetation_monitoring_canopy_id","vegetation_monitoring_point_id","transect_point","canopy_accepted_species_id","occurrenceID"]
[null,null,{"$f":"DataEntry!N14","v":0},{"$f":"DataEntry!P14","v":{"$error":"#N/A"}},"NULL"]
[null,null,{"$f":"DataEntry!N15","v":0},{"$f":"DataEntry!P15","v":{"$error":"#N/A"}},"NULL"]
[null,null,{"$f":"DataEntry!N16","v":0},{"$f":"DataEntry!P16","v":{"$error":"#N/A"}},"NULL"]
[null,null,{"$f":"DataEntry!N17","v":0},{"$f":"DataEntry!P17","v":{"$error":"#N/A"}},"NULL"]
[null,null,{"$f":"DataEntry!N18","v":0},{"$f":"DataEntry!P18","v":{"$error":"#N/A"}},"NULL"]
[null,null,{"$f":"DataEntry!N19","v":0},{"$f":"DataEntry!P19","v":{"$error":"#N/A"}},"NULL"]
[null,null,{"$f":"DataEntry!N20","v":0},{"$f":"DataEntry!P20","v":{"$error":"#N/A"}},"NULL"]
[null,null,{"$f":"DataEntry!N21","v":0},{"$f":"DataEntry!P21","v":{"$error":"#N/A"}},"NULL"]
[null,null,{"$f":"DataEntry!N22","v":0},{"$f":"DataEntry!P22","v":{"$error":"#N/A"}},"NULL"]
[null,null,{"$f":"DataEntry!N23","v":0},{"$f":"DataEntry!P23","v":{"$error":"#N/A"}},"NULL"]
[null,null,{"$f":"DataEntry!N24","v":0},{"$f":"DataEntry!P24","v":{"$error":"#N/A"}},"NULL"]
[null,null,{"$f":"DataEntry!N25","v":0},{"$f":"DataEntry!P25","v":{"$error":"#N/A"}},"NULL"]
[null,null,{"$f":"DataEntry!N26","v":0},{"$f":"DataEntry!P26","v":{"$error":"#N/A"}},"NULL"]
[null,null,{"$f":"DataEntry!N27","v":0},{"$f":"DataEntry!P27","v":{"$error":"#N/A"}},"NULL"]
[null,null,{"$f":"DataEntry!N28","v":0},{"$f":"DataEntry!P28","v":{"$error":"#N/A"}},"NULL"]
[null,null,{"$f":"DataEntry!N29","v":0},{"$f":"DataEntry!P29","v":{"$error":"#N/A"}},"NULL"]
[null,null,{"$f":"DataEntry!N30","v":0},{"$f":"DataEntry!P30","v":{"$error":"#N/A"}},"NULL"]
[null,null,{"$f":"DataEntry!N31","v":0},{"$f":"DataEntry!P31","v":{"$error":"#N/A"}},"NULL"]
[null,null,{"$f":"DataEntry!N32","v":0},{"$f":"DataEntry!P32","v":{"$error":"#N/A"}},"NULL"]
[null,null,{"$f":"DataEntry!N33","v":0},{"$f":"DataEntry!P33","v":{"$error":"#N/A"}},"NULL"]
[null,null,{"$f":"DataEntry!N34","v":0},{"$f":"DataEntry!P34","v":{"$error":"#N/A"}},"NULL"]
[null,null,{"$f":"DataEntry!N35","v":0},{"$f":"DataEntry!P35","v":{"$error":"#N/A"}},"NULL"]
[null,null,{"$f":"DataEntry!N36","v":0},{"$f":"DataEntry!P36","v":{"$error":"#N/A"}},"NULL"]
[null,null,{"$f":"DataEntry!N37","v":0},{"$f":"DataEntry!P37","v":{"$error":"#N/A"}},"NULL"]
[null,null,{"$f":"DataEntry!N38","v":0},{"$f":"DataEntry!P38","v":{"$error":"#N/A"}},"NULL"]
[null,null,{"$f":"DataEntry!N39","v":0},{"$f":"DataEntry!P39","v":{"$error":"#N/A"}},"NULL"]
[null,null,{"$f":"DataEntry!N40","v":0},{"$f":"DataEntry!P40","v":{"$error":"#N/A"}},"NULL"]
[null,null,{"$f":"DataEntry!N41","v":0},{"$f":"DataEntry!P41","v":{"$error":"#N/A"}},"NULL"]
[null,null,{"$f":"DataEntry!N42","v":0},{"$f":"DataEntry!P42","v":{"$error":"#N/A"}},"NULL"]
[null,null,{"$f":"DataEntry!N43","v":0},{"$f":"DataEntry!P43","v":{"$error":"#N/A"}},"NULL"]
[null,null,{"$f":"DataEntry!N44","v":0},{"$f":"DataEntry!P44","v":{"$error":"#N/A"}},"NULL"]
[null,null,{"$f":"DataEntry!N45","v":0},{"$f":"DataEntry!P45","v":{"$error":"#N/A"}},"NULL"]
[null,null,{"$f":"DataEntry!N46","v":0},{"$f":"DataEntry!P46","v":{"$error":"#N/A"}},"NULL"]
[null,null,{"$f":"DataEntry!N47","v":0},{"$f":"DataEntry!P47","v":{"$error":"#N/A"}},"NULL"]
[null,null,{"$f":"DataEntry!N48","v":0},{"$f":"DataEntry!P48","v":{"$error":"#N/A"}},"NULL"]
[null,null,{"$f":"DataEntry!N49","v":0},{"$f":"DataEntry!P49","v":{"$error":"#N/A"}},"NULL"]
[null,null,{"$f":"DataEntry!N50","v":0},{"$f":"DataEntry!P50","v":{"$error":"#N/A"}},"NULL"]
[null,null,{"$f":"DataEntry!N51","v":0},{"$f":"DataEntry!P51","v":{"$error":"#N/A"}},"NULL"]
[null,null,{"$f":"DataEntry!N52","v":0},{"$f":"DataEntry!P52","v":{"$error":"#N/A"}},"NULL"]
[null,null,{"$f":"DataEntry!N53","v":0},{"$f":"DataEntry!P53","v":{"$error":"#N/A"}},"NULL"]
[null,null,{"$f":"DataEntry!N54","v":0},{"$f":"DataEntry!P54","v":{"$error":"#N/A"}},"NULL"]
[null,null,{"$f":"DataEntry!N55","v":0},{"$f":"DataEntry!P55","v":{"$error":"#N/A"}},"NULL"]
[null,null,{"$f":"DataEntry!N56","v":0},{"$f":"DataEntry!P56","v":{"$error":"#N/A"}},"NULL"]
[null,null,{"$f":"DataEntry!N57","v":0},{"$f":"DataEntry!P57","v":{"$error":"#N/A"}},"NULL"]
[null,null,{"$f":"DataEntry!N58","v":0},{"$f":"DataEntry!P58","v":{"$error":"#N/A"}},"NULL"]
[null,null,{"$f":"DataEntry!N59","v":0},{"$f":"DataEntry!P59","v":{"$error":"#N/A"}},"NULL"]
[null,null,{"$f":"DataEntry!N60","v":0},{"$f":"DataEntry!P60","v":{"$error":"#N/A"}},"NULL"]
[null,null,{"$f":"DataEntry!N61","v":0},{"$f":"DataEntry!P61","v":{"$error":"#N/A"}},"NULL"]
[null,null,{"$f":"DataEntry!N62","v":0},{"$f":"DataEntry!P62","v":{"$error":"#N/A"}},"NULL"]
[null,null,{"$f":"DataEntry!N63","v":0},{"$f":"DataEntry!P63","v":{"$error":"#N/A"}},"NULL"]
[null,null,{"$f":"DataEntry!N64","v":0},{"$f":"DataEntry!P64","v":{"$error":"#N/A"}},"NULL"]
[null,null,{"$f":"DataEntry!N65","v":0},{"$f":"DataEntry!P65","v":{"$error":"#N/A"}},"NULL"]
[null,null,{"$f":"DataEntry!N66","v":0},{"$f":"DataEntry!P66","v":{"$error":"#N/A"}},"NULL"]
[null,null,{"$f":"DataEntry!N67","v":0},{"$f":"DataEntry!P67","v":{"$error":"#N/A"}},"NULL"]
[null,null,{"$f":"DataEntry!N68","v":0},{"$f":"DataEntry!P68","v":{"$error":"#N/A"}},"NULL"]
[null,null,{"$f":"DataEntry!N69","v":0},{"$f":"DataEntry!P69","v":{"$error":"#N/A"}},"NULL"]
[null,null,{"$f":"DataEntry!N70","v":0},{"$f":"DataEntry!P70","v":{"$error":"#N/A"}},"NULL"]
[null,null,{"$f":"DataEntry!N71","v":0},{"$f":"DataEntry!P71","v":{"$error":"#N/A"}},"NULL"]
[null,null,{"$f":"DataEntry!N72","v":0},{"$f":"DataEntry!P72","v":{"$error":"#N/A"}},"NULL"]
[null,null,{"$f":"DataEntry!N73","v":0},{"$f":"DataEntry!P73","v":{"$error":"#N/A"}},"NULL"]
[null,null,{"$f":"DataEntry!N74","v":0},{"$f":"DataEntry!P74","v":{"$error":"#N/A"}},"NULL"]
[null,null,{"$f":"DataEntry!N75","v":0},{"$f":"DataEntry!P75","v":{"$error":"#N/A"}},"NULL"]
[null,null,{"$f":"DataEntry!N76","v":0},{"$f":"DataEntry!P76","v":{"$error":"#N/A"}},"NULL"]
[null,null,{"$f":"DataEntry!N77","v":0},{"$f":"DataEntry!P77","v":{"$error":"#N/A"}},"NULL"]
[null,null,{"$f":"DataEntry!N78","v":0},{"$f":"DataEntry!P78","v":{"$error":"#N/A"}},"NULL"]
[null,null,{"$f":"DataEntry!N79","v":0},{"$f":"DataEntry!P79","v":{"$error":"#N/A"}},"NULL"]
[null,null,{"$f":"DataEntry!N80","v":0},{"$f":"DataEntry!P80","v":{"$error":"#N/A"}},"NULL"]
[null,null,{"$f":"DataEntry!N81","v":0},{"$f":"DataEntry!P81","v":{"$error":"#N/A"}},"NULL"]
[null,null,{"$f":"DataEntry!N82","v":0},{"$f":"DataEntry!P82","v":{"$error":"#N/A"}},"NULL"]
[null,null,{"$f":"DataEntry!N83","v":0},{"$f":"DataEntry!P83","v":{"$error":"#N/A"}},"NULL"]
[null,null,{"$f":"DataEntry!N84","v":0},{"$f":"DataEntry!P84","v":{"$error":"#N/A"}},"NULL"]
[null,null,{"$f":"DataEntry!N85","v":0},{"$f":"DataEntry!P85","v":{"$error":"#N/A"}},"NULL"]
[null,null,{"$f":"DataEntry!N86","v":0},{"$f":"DataEntry!P86","v":{"$error":"#N/A"}},"NULL"]
[null,null,{"$f":"DataEntry!N87","v":0},{"$f":"DataEntry!P87","v":{"$error":"#N/A"}},"NULL"]
[null,null,{"$f":"DataEntry!N88","v":0},{"$f":"DataEntry!P88","v":{"$error":"#N/A"}},"NULL"]
[null,null,{"$f":"DataEntry!N89","v":0},{"$f":"DataEntry!P89","v":{"$error":"#N/A"}},"NULL"]
[null,null,{"$f":"DataEntry!N90","v":0},{"$f":"DataEntry!P90","v":{"$error":"#N/A"}},"NULL"]
[null,null,{"$f":"DataEntry!N91","v":0},{"$f":"DataEntry!P91","v":{"$error":"#N/A"}},"NULL"]
[null,null,{"$f":"DataEntry!N92","v":0},{"$f":"DataEntry!P92","v":{"$error":"#N/A"}},"NULL"]
[null,null,{"$f":"DataEntry!N93","v":0},{"$f":"DataEntry!P93","v":{"$error":"#N/A"}},"NULL"]
[null,null,{"$f":"DataEntry!N94","v":0},{"$f":"DataEntry!P94","v":{"$error":"#N/A"}},"NULL"]
[null,null,{"$f":"DataEntry!N95","v":0},{"$f":"DataEntry!P95","v":{"$error":"#N/A"}},"NULL"]
[null,null,{"$f":"DataEntry!N96","v":0},{"$f":"DataEntry!P96","v":{"$error":"#N/A"}},"NULL"]
[null,null,{"$f":"DataEntry!N97","v":0},{"$f":"DataEntry!P97","v":{"$error":"#N/A"}},"NULL"]
[null,null,{"$f":"DataEntry!N98","v":0},{"$f":"DataEntry!P98","v":{"$error":"#N/A"}},"NULL"]
[null,null,{"$f":"DataEntry!N99","v":0},{"$f":"DataEntry!P99","v":{"$error":"#N/A"}},"NULL"]
[null,null,{"$f":"DataEntry!N100","v":0},{"$f":"DataEntry!P100","v":{"$error":"#N/A"}},"NULL"]
[null,null,{"$f":"DataEntry!N101","v":0},{"$f":"DataEntry!P101","v":{"$error":"#N/A"}},"NULL"]
[null,null,{"$f":"DataEntry!N102","v":0},{"$f":"DataEntry!P102","v":{"$error":"#N/A"}},"NULL"]
[null,null,{"$f":"DataEntry!N103","v":0},{"$f":"DataEntry!P103","v":{"$error":"#N/A"}},"NULL"]
[null,null,{"$f":"DataEntry!N104","v":0},{"$f":"DataEntry!P104","v":{"$error":"#N/A"}},"NULL"]
[null,null,{"$f":"DataEntry!N105","v":0},{"$f":"DataEntry!P105","v":{"$error":"#N/A"}},"NULL"]
[null,null,{"$f":"DataEntry!N106","v":0},{"$f":"DataEntry!P106","v":{"$error":"#N/A"}},"NULL"]
[null,null,{"$f":"DataEntry!N107","v":0},{"$f":"DataEntry!P107","v":{"$error":"#N/A"}},"NULL"]
[null,null,{"$f":"DataEntry!N108","v":0},{"$f":"DataEntry!P108","v":{"$error":"#N/A"}},"NULL"]
[null,null,{"$f":"DataEntry!N109","v":0},{"$f":"DataEntry!P109","v":{"$error":"#N/A"}},"NULL"]
[null,null,{"$f":"DataEntry!N110","v":0},{"$f":"DataEntry!P110","v":{"$error":"#N/A"}},"NULL"]
[null,null,{"$f":"DataEntry!N111","v":0},{"$f":"DataEntry!P111","v":{"$error":"#N/A"}},"NULL"]
[null,null,{"$f":"DataEntry!N112","v":0},{"$f":"DataEntry!P112","v":{"$error":"#N/A"}},"NULL"]
[null,null,{"$f":"DataEntry!N113","v":0},{"$f":"DataEntry!P113","v":{"$error":"#N/A"}},"NULL"]

{"sheet":"vegetation_monitoring_unknowns","index":7,"n_rows":80,"n_cols":5,"rows_kept":80,"cut":false,"hidden":false,"merged":[]}
["vegetation_monitoring_id","temporary_name","description","voucher_id","notes"]
[null,{"$f":"DataEntry!U14","v":0},{"$f":"DataEntry!V14","v":0},{"$f":"DataEntry!W14","v":0},{"$f":"DataEntry!X14","v":0}]
[null,{"$f":"DataEntry!U15","v":0},{"$f":"DataEntry!V15","v":0},{"$f":"DataEntry!W15","v":0},{"$f":"DataEntry!X15","v":0}]
[null,{"$f":"DataEntry!U16","v":0},{"$f":"DataEntry!V16","v":0},{"$f":"DataEntry!W16","v":0},{"$f":"DataEntry!X16","v":0}]
[null,{"$f":"DataEntry!U17","v":0},{"$f":"DataEntry!V17","v":0},{"$f":"DataEntry!W17","v":0},{"$f":"DataEntry!X17","v":0}]
[null,{"$f":"DataEntry!U18","v":0},{"$f":"DataEntry!V18","v":0},{"$f":"DataEntry!W18","v":0},{"$f":"DataEntry!X18","v":0}]
[null,{"$f":"DataEntry!U19","v":0},{"$f":"DataEntry!V19","v":0},{"$f":"DataEntry!W19","v":0},{"$f":"DataEntry!X19","v":0}]
[null,{"$f":"DataEntry!U20","v":0},{"$f":"DataEntry!V20","v":0},{"$f":"DataEntry!W20","v":0},{"$f":"DataEntry!X20","v":0}]
[null,{"$f":"DataEntry!U21","v":0},{"$f":"DataEntry!V21","v":0},{"$f":"DataEntry!W21","v":0},{"$f":"DataEntry!X21","v":0}]
[null,{"$f":"DataEntry!U22","v":0},{"$f":"DataEntry!V22","v":0},{"$f":"DataEntry!W22","v":0},{"$f":"DataEntry!X22","v":0}]
[null,{"$f":"DataEntry!U23","v":0},{"$f":"DataEntry!V23","v":0},{"$f":"DataEntry!W23","v":0},{"$f":"DataEntry!X23","v":0}]
[null,{"$f":"DataEntry!U24","v":0},{"$f":"DataEntry!V24","v":0},{"$f":"DataEntry!W24","v":0},{"$f":"DataEntry!X24","v":0}]
[null,{"$f":"DataEntry!U25","v":0},{"$f":"DataEntry!V25","v":0},{"$f":"DataEntry!W25","v":0},{"$f":"DataEntry!X25","v":0}]
[null,{"$f":"DataEntry!U26","v":0},{"$f":"DataEntry!V26","v":0},{"$f":"DataEntry!W26","v":0},{"$f":"DataEntry!X26","v":0}]
[null,{"$f":"DataEntry!U27","v":0},{"$f":"DataEntry!V27","v":0},{"$f":"DataEntry!W27","v":0},{"$f":"DataEntry!X27","v":0}]
[null,{"$f":"DataEntry!U28","v":0},{"$f":"DataEntry!V28","v":0},{"$f":"DataEntry!W28","v":0},{"$f":"DataEntry!X28","v":0}]
[null,{"$f":"DataEntry!U29","v":0},{"$f":"DataEntry!V29","v":0},{"$f":"DataEntry!W29","v":0},{"$f":"DataEntry!X29","v":0}]
[null,{"$f":"DataEntry!U30","v":0},{"$f":"DataEntry!V30","v":0},{"$f":"DataEntry!W30","v":0},{"$f":"DataEntry!X30","v":0}]
[null,{"$f":"DataEntry!U31","v":0},{"$f":"DataEntry!V31","v":0},{"$f":"DataEntry!W31","v":0},{"$f":"DataEntry!X31","v":0}]
[null,{"$f":"DataEntry!U32","v":0},{"$f":"DataEntry!V32","v":0},{"$f":"DataEntry!W32","v":0},{"$f":"DataEntry!X32","v":0}]
[null,{"$f":"DataEntry!U33","v":0},{"$f":"DataEntry!V33","v":0},{"$f":"DataEntry!W33","v":0},{"$f":"DataEntry!X33","v":0}]
[null,{"$f":"DataEntry!U34","v":0},{"$f":"DataEntry!V34","v":0},{"$f":"DataEntry!W34","v":0},{"$f":"DataEntry!X34","v":0}]
[null,{"$f":"DataEntry!U35","v":0},{"$f":"DataEntry!V35","v":0},{"$f":"DataEntry!W35","v":0},{"$f":"DataEntry!X35","v":0}]
[null,{"$f":"DataEntry!U36","v":0},{"$f":"DataEntry!V36","v":0},{"$f":"DataEntry!W36","v":0},{"$f":"DataEntry!X36","v":0}]
[null,{"$f":"DataEntry!U37","v":0},{"$f":"DataEntry!V37","v":0},{"$f":"DataEntry!W37","v":0},{"$f":"DataEntry!X37","v":0}]
[null,{"$f":"DataEntry!U38","v":0},{"$f":"DataEntry!V38","v":0},{"$f":"DataEntry!W38","v":0},{"$f":"DataEntry!X38","v":0}]
[null,{"$f":"DataEntry!U39","v":0},{"$f":"DataEntry!V39","v":0},{"$f":"DataEntry!W39","v":0},{"$f":"DataEntry!X39","v":0}]
[null,{"$f":"DataEntry!U40","v":0},{"$f":"DataEntry!V40","v":0},{"$f":"DataEntry!W40","v":0},{"$f":"DataEntry!X40","v":0}]
[null,{"$f":"DataEntry!U41","v":0},{"$f":"DataEntry!V41","v":0},{"$f":"DataEntry!W41","v":0},{"$f":"DataEntry!X41","v":0}]
[null,{"$f":"DataEntry!U42","v":0},{"$f":"DataEntry!V42","v":0},{"$f":"DataEntry!W42","v":0},{"$f":"DataEntry!X42","v":0}]
[null,{"$f":"DataEntry!U43","v":0},{"$f":"DataEntry!V43","v":0},{"$f":"DataEntry!W43","v":0},{"$f":"DataEntry!X43","v":0}]
[null,{"$f":"DataEntry!U44","v":0},{"$f":"DataEntry!V44","v":0},{"$f":"DataEntry!W44","v":0},{"$f":"DataEntry!X44","v":0}]
[null,{"$f":"DataEntry!U45","v":0},{"$f":"DataEntry!V45","v":0},{"$f":"DataEntry!W45","v":0},{"$f":"DataEntry!X45","v":0}]
[null,{"$f":"DataEntry!U46","v":0},{"$f":"DataEntry!V46","v":0},{"$f":"DataEntry!W46","v":0},{"$f":"DataEntry!X46","v":0}]
[null,{"$f":"DataEntry!U47","v":0},{"$f":"DataEntry!V47","v":0},{"$f":"DataEntry!W47","v":0},{"$f":"DataEntry!X47","v":0}]
[null,{"$f":"DataEntry!U48","v":0},{"$f":"DataEntry!V48","v":0},{"$f":"DataEntry!W48","v":0},{"$f":"DataEntry!X48","v":0}]
[null,{"$f":"DataEntry!U49","v":0},{"$f":"DataEntry!V49","v":0},{"$f":"DataEntry!W49","v":0},{"$f":"DataEntry!X49","v":0}]
[null,{"$f":"DataEntry!U50","v":0},{"$f":"DataEntry!V50","v":0},{"$f":"DataEntry!W50","v":0},{"$f":"DataEntry!X50","v":0}]
[null,{"$f":"DataEntry!U51","v":0},{"$f":"DataEntry!V51","v":0},{"$f":"DataEntry!W51","v":0},{"$f":"DataEntry!X51","v":0}]
[null,{"$f":"DataEntry!U52","v":0},{"$f":"DataEntry!V52","v":0},{"$f":"DataEntry!W52","v":0},{"$f":"DataEntry!X52","v":0}]
[null,{"$f":"DataEntry!U53","v":0},{"$f":"DataEntry!V53","v":0},{"$f":"DataEntry!W53","v":0},{"$f":"DataEntry!X53","v":0}]
[null,{"$f":"DataEntry!U54","v":0},{"$f":"DataEntry!V54","v":0},{"$f":"DataEntry!W54","v":0},{"$f":"DataEntry!X54","v":0}]
[null,{"$f":"DataEntry!U55","v":0},{"$f":"DataEntry!V55","v":0},{"$f":"DataEntry!W55","v":0},{"$f":"DataEntry!X55","v":0}]
[null,{"$f":"DataEntry!U56","v":0},{"$f":"DataEntry!V56","v":0},{"$f":"DataEntry!W56","v":0},{"$f":"DataEntry!X56","v":0}]
[null,{"$f":"DataEntry!U57","v":0},{"$f":"DataEntry!V57","v":0},{"$f":"DataEntry!W57","v":0},{"$f":"DataEntry!X57","v":0}]
[null,{"$f":"DataEntry!U58","v":0},{"$f":"DataEntry!V58","v":0},{"$f":"DataEntry!W58","v":0},{"$f":"DataEntry!X58","v":0}]
[null,{"$f":"DataEntry!U59","v":0},{"$f":"DataEntry!V59","v":0},{"$f":"DataEntry!W59","v":0},{"$f":"DataEntry!X59","v":0}]
[null,{"$f":"DataEntry!U60","v":0},{"$f":"DataEntry!V60","v":0},{"$f":"DataEntry!W60","v":0},{"$f":"DataEntry!X60","v":0}]
[null,{"$f":"DataEntry!U61","v":0},{"$f":"DataEntry!V61","v":0},{"$f":"DataEntry!W61","v":0},{"$f":"DataEntry!X61","v":0}]
[null,{"$f":"DataEntry!U62","v":0},{"$f":"DataEntry!V62","v":0},{"$f":"DataEntry!W62","v":0},{"$f":"DataEntry!X62","v":0}]
[null,{"$f":"DataEntry!U63","v":0},{"$f":"DataEntry!V63","v":0},{"$f":"DataEntry!W63","v":0},{"$f":"DataEntry!X63","v":0}]
[null,{"$f":"DataEntry!U64","v":0},{"$f":"DataEntry!V64","v":0},{"$f":"DataEntry!W64","v":0},{"$f":"DataEntry!X64","v":0}]
[null,{"$f":"DataEntry!U65","v":0},{"$f":"DataEntry!V65","v":0},{"$f":"DataEntry!W65","v":0},{"$f":"DataEntry!X65","v":0}]
[null,{"$f":"DataEntry!U66","v":0},{"$f":"DataEntry!V66","v":0},{"$f":"DataEntry!W66","v":0},{"$f":"DataEntry!X66","v":0}]
[null,{"$f":"DataEntry!U67","v":0},{"$f":"DataEntry!V67","v":0},{"$f":"DataEntry!W67","v":0},{"$f":"DataEntry!X67","v":0}]
[null,{"$f":"DataEntry!U68","v":0},{"$f":"DataEntry!V68","v":0},{"$f":"DataEntry!W68","v":0},{"$f":"DataEntry!X68","v":0}]
[null,{"$f":"DataEntry!U69","v":0},{"$f":"DataEntry!V69","v":0},{"$f":"DataEntry!W69","v":0},{"$f":"DataEntry!X69","v":0}]
[null,{"$f":"DataEntry!U70","v":0},{"$f":"DataEntry!V70","v":0},{"$f":"DataEntry!W70","v":0},{"$f":"DataEntry!X70","v":0}]
[null,{"$f":"DataEntry!U71","v":0},{"$f":"DataEntry!V71","v":0},{"$f":"DataEntry!W71","v":0},{"$f":"DataEntry!X71","v":0}]
[null,{"$f":"DataEntry!U72","v":0},{"$f":"DataEntry!V72","v":0},{"$f":"DataEntry!W72","v":0},{"$f":"DataEntry!X72","v":0}]
[null,{"$f":"DataEntry!U73","v":0},{"$f":"DataEntry!V73","v":0},{"$f":"DataEntry!W73","v":0},{"$f":"DataEntry!X73","v":0}]
[null,{"$f":"DataEntry!U74","v":0},{"$f":"DataEntry!V74","v":0},{"$f":"DataEntry!W74","v":0},{"$f":"DataEntry!X74","v":0}]
[null,{"$f":"DataEntry!U75","v":0},{"$f":"DataEntry!V75","v":0},{"$f":"DataEntry!W75","v":0},{"$f":"DataEntry!X75","v":0}]
[null,{"$f":"DataEntry!U76","v":0},{"$f":"DataEntry!V76","v":0},{"$f":"DataEntry!W76","v":0},{"$f":"DataEntry!X76","v":0}]
[null,{"$f":"DataEntry!U77","v":0},{"$f":"DataEntry!V77","v":0},{"$f":"DataEntry!W77","v":0},{"$f":"DataEntry!X77","v":0}]
[null,{"$f":"DataEntry!U78","v":0},{"$f":"DataEntry!V78","v":0},{"$f":"DataEntry!W78","v":0},{"$f":"DataEntry!X78","v":0}]
[null,{"$f":"DataEntry!U79","v":0},{"$f":"DataEntry!V79","v":0},{"$f":"DataEntry!W79","v":0},{"$f":"DataEntry!X79","v":0}]
[null,{"$f":"DataEntry!U80","v":0},{"$f":"DataEntry!V80","v":0},{"$f":"DataEntry!W80","v":0},{"$f":"DataEntry!X80","v":0}]
[null,{"$f":"DataEntry!U81","v":0},{"$f":"DataEntry!V81","v":0},{"$f":"DataEntry!W81","v":0},{"$f":"DataEntry!X81","v":0}]
[null,{"$f":"DataEntry!U82","v":0},{"$f":"DataEntry!V82","v":0},{"$f":"DataEntry!W82","v":0},{"$f":"DataEntry!X82","v":0}]
[null,{"$f":"DataEntry!U83","v":0},{"$f":"DataEntry!V83","v":0},{"$f":"DataEntry!W83","v":0},{"$f":"DataEntry!X83","v":0}]
[null,{"$f":"DataEntry!U84","v":0},{"$f":"DataEntry!V84","v":0},{"$f":"DataEntry!W84","v":0},{"$f":"DataEntry!X84","v":0}]
[null,{"$f":"DataEntry!U85","v":0},{"$f":"DataEntry!V85","v":0},{"$f":"DataEntry!W85","v":0},{"$f":"DataEntry!X85","v":0}]
[null,{"$f":"DataEntry!U86","v":0},{"$f":"DataEntry!V86","v":0},{"$f":"DataEntry!W86","v":0},{"$f":"DataEntry!X86","v":0}]
[null,{"$f":"DataEntry!U87","v":0},{"$f":"DataEntry!V87","v":0},{"$f":"DataEntry!W87","v":0},{"$f":"DataEntry!X87","v":0}]
[null,{"$f":"DataEntry!U88","v":0},{"$f":"DataEntry!V88","v":0},{"$f":"DataEntry!W88","v":0},{"$f":"DataEntry!X88","v":0}]
[null,{"$f":"DataEntry!U89","v":0},{"$f":"DataEntry!V89","v":0},{"$f":"DataEntry!W89","v":0},{"$f":"DataEntry!X89","v":0}]
[null,{"$f":"DataEntry!U90","v":0},{"$f":"DataEntry!V90","v":0},{"$f":"DataEntry!W90","v":0},{"$f":"DataEntry!X90","v":0}]
[null,{"$f":"DataEntry!U91","v":0},{"$f":"DataEntry!V91","v":0},{"$f":"DataEntry!W91","v":0},{"$f":"DataEntry!X91","v":0}]
[null,{"$f":"DataEntry!U92","v":0},{"$f":"DataEntry!V92","v":0},{"$f":"DataEntry!W92","v":0},{"$f":"DataEntry!X92","v":0}]

{"sheet":"vegetation_species_outside_plot","index":8,"n_rows":30,"n_cols":4,"rows_kept":30,"cut":false,"hidden":false,"merged":[]}
["vegetation_species_outside_plot_id","vegetation_monitoring_id","accepted_species_id","occurrenceID"]
[null,{"$f":"vegetation_monitoring!$A$2","v":0},{"$f":"DataEntry!S14","v":{"$error":"#N/A"}},"NULL"]
[null,{"$f":"vegetation_monitoring!$A$2","v":0},{"$f":"DataEntry!S15","v":{"$error":"#N/A"}},"NULL"]
[null,{"$f":"vegetation_monitoring!$A$2","v":0},{"$f":"DataEntry!S16","v":{"$error":"#N/A"}},"NULL"]
[null,{"$f":"vegetation_monitoring!$A$2","v":0},{"$f":"DataEntry!S17","v":{"$error":"#N/A"}},"NULL"]
[null,{"$f":"vegetation_monitoring!$A$2","v":0},{"$f":"DataEntry!S18","v":{"$error":"#N/A"}},"NULL"]
[null,{"$f":"vegetation_monitoring!$A$2","v":0},{"$f":"DataEntry!S19","v":{"$error":"#N/A"}},"NULL"]
[null,{"$f":"vegetation_monitoring!$A$2","v":0},{"$f":"DataEntry!S20","v":{"$error":"#N/A"}},"NULL"]
[null,{"$f":"vegetation_monitoring!$A$2","v":0},{"$f":"DataEntry!S21","v":{"$error":"#N/A"}},"NULL"]
[null,{"$f":"vegetation_monitoring!$A$2","v":0},{"$f":"DataEntry!S22","v":{"$error":"#N/A"}},"NULL"]
[null,{"$f":"vegetation_monitoring!$A$2","v":0},{"$f":"DataEntry!S23","v":{"$error":"#N/A"}},"NULL"]
[null,{"$f":"vegetation_monitoring!$A$2","v":0},{"$f":"DataEntry!S24","v":{"$error":"#N/A"}},"NULL"]
[null,{"$f":"vegetation_monitoring!$A$2","v":0},{"$f":"DataEntry!S25","v":{"$error":"#N/A"}},"NULL"]
[null,{"$f":"vegetation_monitoring!$A$2","v":0},{"$f":"DataEntry!S26","v":{"$error":"#N/A"}},"NULL"]
[null,{"$f":"vegetation_monitoring!$A$2","v":0},{"$f":"DataEntry!S27","v":{"$error":"#N/A"}},"NULL"]
[null,{"$f":"vegetation_monitoring!$A$2","v":0},{"$f":"DataEntry!S28","v":{"$error":"#N/A"}},"NULL"]
[null,{"$f":"vegetation_monitoring!$A$2","v":0},{"$f":"DataEntry!S29","v":{"$error":"#N/A"}},"NULL"]
[null,{"$f":"vegetation_monitoring!$A$2","v":0},{"$f":"DataEntry!S30","v":{"$error":"#N/A"}},"NULL"]
[null,{"$f":"vegetation_monitoring!$A$2","v":0},{"$f":"DataEntry!S31","v":{"$error":"#N/A"}},"NULL"]
[null,{"$f":"vegetation_monitoring!$A$2","v":0},{"$f":"DataEntry!S32","v":{"$error":"#N/A"}},"NULL"]
[null,{"$f":"vegetation_monitoring!$A$2","v":0},{"$f":"DataEntry!S33","v":{"$error":"#N/A"}},"NULL"]
[null,{"$f":"vegetation_monitoring!$A$2","v":0},{"$f":"DataEntry!S34","v":{"$error":"#N/A"}},"NULL"]
[null,{"$f":"vegetation_monitoring!$A$2","v":0},{"$f":"DataEntry!S35","v":{"$error":"#N/A"}},"NULL"]
[null,{"$f":"vegetation_monitoring!$A$2","v":0},{"$f":"DataEntry!S36","v":{"$error":"#N/A"}},"NULL"]
[null,{"$f":"vegetation_monitoring!$A$2","v":0},{"$f":"DataEntry!S37","v":{"$error":"#N/A"}},"NULL"]
[null,{"$f":"vegetation_monitoring!$A$2","v":0},{"$f":"DataEntry!S38","v":{"$error":"#N/A"}},"NULL"]
[null,{"$f":"vegetation_monitoring!$A$2","v":0},{"$f":"DataEntry!S39","v":{"$error":"#N/A"}},"NULL"]
[null,{"$f":"vegetation_monitoring!$A$2","v":0},{"$f":"DataEntry!S40","v":{"$error":"#N/A"}},"NULL"]
[null,{"$f":"vegetation_monitoring!$A$2","v":0},{"$f":"DataEntry!S41","v":{"$error":"#N/A"}},"NULL"]
[null,{"$f":"vegetation_monitoring!$A$2","v":0},{"$f":"DataEntry!S42","v":{"$error":"#N/A"}},"NULL"]

{"sheet":"SQL","index":9,"n_rows":116,"n_cols":47,"rows_kept":116,"cut":false,"hidden":false,"merged":[]}
["INSERT INTO vegetation_monitoring (vegetation_monitoring_transect_id, date, dist_to_water_0m,dist_to_water_12pt5m,dist_to_water_25m,bank_height_0m,bank_height_12pt5m,bank_height_25m,start_time,end_time, perpendicular_moisture_transect_0m, perpendicular_moisture_transect_1m, perpendicular_moisture_transect_2m, perpendicular_moisture_transect_3m, perpendicular_moisture_transect_4m, perpendicular_moisture_transect_5m, perpendicular_moisture_transect_6m, perpendicular_moisture_transect_7m, perpendicular_moisture_transect_8m, perpendicular_moisture_transect_9m, perpendicular_moisture_transect_10m, in_stream_woody_debris, in_stream_woody_debris_amount)"]
["VALUES"]
["(",{"$f":"DataEntry!C3","v":{"$error":"#N/A"}},",",{"$f":"DataEntry!B4","v":"00:00:00"},",",{"$f":"DataEntry!B8","v":0},",",{"$f":"DataEntry!B9","v":0},",",{"$f":"DataEntry!B10","v":0},",",{"$f":"DataEntry!C8","v":0},",",{"$f":"DataEntry!C9","v":0},",",{"$f":"DataEntry!C10","v":0},",",{"$f":"DataEntry!B5","v":"00:00:00"},",",{"$f":"DataEntry!B6","v":"00:00:00"},",",{"$f":"DataEntry!AA14","v":0},",",{"$f":"DataEntry!AA15","v":0},",",{"$f":"DataEntry!AA16","v":0},",",{"$f":"DataEntry!AA17","v":0},",",{"$f":"DataEntry!AA18","v":0},",",{"$f":"DataEntry!AA19","v":0},",",{"$f":"DataEntry!AA20","v":0},",",{"$f":"DataEntry!AA21","v":0},",",{"$f":"DataEntry!AA22","v":0},",",{"$f":"DataEntry!AA23","v":0},",",{"$f":"DataEntry!AA24","v":0},",",{"$f":"DataEntry!AA27","v":""},",",{"$f":"DataEntry!AA28","v":""},")"]
[]
["INSERT INTO vegetation_monitoring_users (vegetation_monitoring_id, user_id)"]
["VALUES"]
["(",62,",",{"$f":"DataEntry!E2","v":{"$error":"#N/A"}},")",","]
["(",62,",",{"$f":"DataEntry!F2","v":{"$error":"#N/A"}},")",","]
["(",62,",",{"$f":"DataEntry!G2","v":{"$error":"#N/A"}},")",","]
["(",null,",",{"$f":"DataEntry!H2","v":{"$error":"#N/A"}},")"]
[]
["INSERT INTO vegetation_monitoring_points (vegetation_monitoring_id, transect_point, soil_surface_id, soil_moisture_percentage, canopy_cover_score)"]
["VALUES"]
["(",62,",",{"$f":"DataEntry!A14","v":0},",",{"$f":"DataEntry!C14","v":{"$error":"#N/A"}},",",{"$f":"DataEntry!E14","v":0},",",{"$f":"DataEntry!D14","v":0},")",","]
["(",62,",",{"$f":"DataEntry!A15","v":0},",",{"$f":"DataEntry!C15","v":{"$error":"#N/A"}},",",{"$f":"DataEntry!E15","v":0},",",{"$f":"DataEntry!D15","v":0},")",","]
["(",62,",",{"$f":"DataEntry!A16","v":0},",",{"$f":"DataEntry!C16","v":{"$error":"#N/A"}},",",{"$f":"DataEntry!E16","v":0},",",{"$f":"DataEntry!D16","v":0},")",","]
["(",62,",",{"$f":"DataEntry!A17","v":0},",",{"$f":"DataEntry!C17","v":{"$error":"#N/A"}},",",{"$f":"DataEntry!E17","v":0},",",{"$f":"DataEntry!D17","v":0},")",","]
["(",62,",",{"$f":"DataEntry!A18","v":0},",",{"$f":"DataEntry!C18","v":{"$error":"#N/A"}},",",{"$f":"DataEntry!E18","v":0},",",{"$f":"DataEntry!D18","v":0},")",","]
["(",62,",",{"$f":"DataEntry!A19","v":0},",",{"$f":"DataEntry!C19","v":{"$error":"#N/A"}},",",{"$f":"DataEntry!E19","v":0},",",{"$f":"DataEntry!D19","v":0},")",","]
["(",62,",",{"$f":"DataEntry!A20","v":0},",",{"$f":"DataEntry!C20","v":{"$error":"#N/A"}},",",{"$f":"DataEntry!E20","v":0},",",{"$f":"DataEntry!D20","v":0},")",","]
["(",62,",",{"$f":"DataEntry!A21","v":0},",",{"$f":"DataEntry!C21","v":{"$error":"#N/A"}},",",{"$f":"DataEntry!E21","v":0},",",{"$f":"DataEntry!D21","v":0},")",","]
["(",62,",",{"$f":"DataEntry!A22","v":0},",",{"$f":"DataEntry!C22","v":{"$error":"#N/A"}},",",{"$f":"DataEntry!E22","v":0},",",{"$f":"DataEntry!D22","v":0},")",","]
["(",62,",",{"$f":"DataEntry!A23","v":0},",",{"$f":"DataEntry!C23","v":{"$error":"#N/A"}},",",{"$f":"DataEntry!E23","v":0},",",{"$f":"DataEntry!D23","v":0},")",","]
["(",62,",",{"$f":"DataEntry!A24","v":0},",",{"$f":"DataEntry!C24","v":{"$error":"#N/A"}},",",{"$f":"DataEntry!E24","v":0},",",{"$f":"DataEntry!D24","v":0},")",","]
["(",62,",",{"$f":"DataEntry!A25","v":0},",",{"$f":"DataEntry!C25","v":{"$error":"#N/A"}},",",{"$f":"DataEntry!E25","v":0},",",{"$f":"DataEntry!D25","v":0},")",","]
["(",62,",",{"$f":"DataEntry!A26","v":0},",",{"$f":"DataEntry!C26","v":{"$error":"#N/A"}},",",{"$f":"DataEntry!E26","v":0},",",{"$f":"DataEntry!D26","v":0},")",","]
["(",62,",",{"$f":"DataEntry!A27","v":0},",",{"$f":"DataEntry!C27","v":{"$error":"#N/A"}},",",{"$f":"DataEntry!E27","v":0},",",{"$f":"DataEntry!D27","v":0},")",","]
["(",62,",",{"$f":"DataEntry!A28","v":0},",",{"$f":"DataEntry!C28","v":{"$error":"#N/A"}},",",{"$f":"DataEntry!E28","v":0},",",{"$f":"DataEntry!D28","v":0},")",","]
["(",62,",",{"$f":"DataEntry!A29","v":0},",",{"$f":"DataEntry!C29","v":{"$error":"#N/A"}},",",{"$f":"DataEntry!E29","v":0},",",{"$f":"DataEntry!D29","v":0},")",","]
["(",62,",",{"$f":"DataEntry!A30","v":0},",",{"$f":"DataEntry!C30","v":{"$error":"#N/A"}},",",{"$f":"DataEntry!E30","v":0},",",{"$f":"DataEntry!D30","v":0},")",","]
["(",62,",",{"$f":"DataEntry!A31","v":0},",",{"$f":"DataEntry!C31","v":{"$error":"#N/A"}},",",{"$f":"DataEntry!E31","v":0},",",{"$f":"DataEntry!D31","v":0},")",","]
["(",62,",",{"$f":"DataEntry!A32","v":0},",",{"$f":"DataEntry!C32","v":{"$error":"#N/A"}},",",{"$f":"DataEntry!E32","v":0},",",{"$f":"DataEntry!D32","v":0},")",","]
["(",62,",",{"$f":"DataEntry!A33","v":0},",",{"$f":"DataEntry!C33","v":{"$error":"#N/A"}},",",{"$f":"DataEntry!E33","v":0},",",{"$f":"DataEntry!D33","v":0},")",","]
["(",62,",",{"$f":"DataEntry!A34","v":0},",",{"$f":"DataEntry!C34","v":{"$error":"#N/A"}},",",{"$f":"DataEntry!E34","v":0},",",{"$f":"DataEntry!D34","v":0},")",","]
["(",62,",",{"$f":"DataEntry!A35","v":0},",",{"$f":"DataEntry!C35","v":{"$error":"#N/A"}},",",{"$f":"DataEntry!E35","v":0},",",{"$f":"DataEntry!D35","v":0},")",","]
["(",62,",",{"$f":"DataEntry!A36","v":0},",",{"$f":"DataEntry!C36","v":{"$error":"#N/A"}},",",{"$f":"DataEntry!E36","v":0},",",{"$f":"DataEntry!D36","v":0},")",","]
["(",62,",",{"$f":"DataEntry!A37","v":0},",",{"$f":"DataEntry!C37","v":{"$error":"#N/A"}},",",{"$f":"DataEntry!E37","v":0},",",{"$f":"DataEntry!D37","v":0},")",","]
["(",62,",",{"$f":"DataEntry!A38","v":0},",",{"$f":"DataEntry!C38","v":{"$error":"#N/A"}},",",{"$f":"DataEntry!E38","v":0},",",{"$f":"DataEntry!D38","v":0},")",","]
["(",62,",",{"$f":"DataEntry!A39","v":0},",",{"$f":"DataEntry!C39","v":{"$error":"#N/A"}},",",{"$f":"DataEntry!E39","v":0},",",{"$f":"DataEntry!D39","v":0},")",","]
["(",62,",",{"$f":"DataEntry!A40","v":0},",",{"$f":"DataEntry!C40","v":{"$error":"#N/A"}},",",{"$f":"DataEntry!E40","v":0},",",{"$f":"DataEntry!D40","v":0},")",","]
["(",62,",",{"$f":"DataEntry!A41","v":0},",",{"$f":"DataEntry!C41","v":{"$error":"#N/A"}},",",{"$f":"DataEntry!E41","v":0},",",{"$f":"DataEntry!D41","v":0},")",","]
["(",62,",",{"$f":"DataEntry!A42","v":0},",",{"$f":"DataEntry!C42","v":{"$error":"#N/A"}},",",{"$f":"DataEntry!E42","v":0},",",{"$f":"DataEntry!D42","v":0},")",","]
["(",62,",",{"$f":"DataEntry!A43","v":0},",",{"$f":"DataEntry!C43","v":{"$error":"#N/A"}},",",{"$f":"DataEntry!E43","v":0},",",{"$f":"DataEntry!D43","v":0},")",","]
["(",62,",",{"$f":"DataEntry!A44","v":0},",",{"$f":"DataEntry!C44","v":{"$error":"#N/A"}},",",{"$f":"DataEntry!E44","v":0},",",{"$f":"DataEntry!D44","v":0},")",","]
["(",62,",",{"$f":"DataEntry!A45","v":0},",",{"$f":"DataEntry!C45","v":{"$error":"#N/A"}},",",{"$f":"DataEntry!E45","v":0},",",{"$f":"DataEntry!D45","v":0},")",","]
["(",62,",",{"$f":"DataEntry!A46","v":0},",",{"$f":"DataEntry!C46","v":{"$error":"#N/A"}},",",{"$f":"DataEntry!E46","v":0},",",{"$f":"DataEntry!D46","v":0},")",","]
["(",62,",",{"$f":"DataEntry!A47","v":0},",",{"$f":"DataEntry!C47","v":{"$error":"#N/A"}},",",{"$f":"DataEntry!E47","v":0},",",{"$f":"DataEntry!D47","v":0},")",","]
["(",62,",",{"$f":"DataEntry!A48","v":0},",",{"$f":"DataEntry!C48","v":{"$error":"#N/A"}},",",{"$f":"DataEntry!E48","v":0},",",{"$f":"DataEntry!D48","v":0},")",","]
["(",62,",",{"$f":"DataEntry!A49","v":0},",",{"$f":"DataEntry!C49","v":{"$error":"#N/A"}},",",{"$f":"DataEntry!E49","v":0},",",{"$f":"DataEntry!D49","v":0},")",","]
["(",62,",",{"$f":"DataEntry!A50","v":0},",",{"$f":"DataEntry!C50","v":{"$error":"#N/A"}},",",{"$f":"DataEntry!E50","v":0},",",{"$f":"DataEntry!D50","v":0},")",","]
["(",62,",",{"$f":"DataEntry!A51","v":0},",",{"$f":"DataEntry!C51","v":{"$error":"#N/A"}},",",{"$f":"DataEntry!E51","v":0},",",{"$f":"DataEntry!D51","v":0},")",","]
["(",62,",",{"$f":"DataEntry!A52","v":0},",",{"$f":"DataEntry!C52","v":{"$error":"#N/A"}},",",{"$f":"DataEntry!E52","v":0},",",{"$f":"DataEntry!D52","v":0},")",","]
["(",62,",",{"$f":"DataEntry!A53","v":0},",",{"$f":"DataEntry!C53","v":{"$error":"#N/A"}},",",{"$f":"DataEntry!E53","v":0},",",{"$f":"DataEntry!D53","v":0},")",","]
["(",62,",",{"$f":"DataEntry!A54","v":0},",",{"$f":"DataEntry!C54","v":{"$error":"#N/A"}},",",{"$f":"DataEntry!E54","v":0},",",{"$f":"DataEntry!D54","v":0},")",","]
["(",62,",",{"$f":"DataEntry!A55","v":0},",",{"$f":"DataEntry!C55","v":{"$error":"#N/A"}},",",{"$f":"DataEntry!E55","v":0},",",{"$f":"DataEntry!D55","v":0},")",","]
["(",62,",",{"$f":"DataEntry!A56","v":0},",",{"$f":"DataEntry!C56","v":{"$error":"#N/A"}},",",{"$f":"DataEntry!E56","v":0},",",{"$f":"DataEntry!D56","v":0},")",","]
["(",62,",",{"$f":"DataEntry!A57","v":0},",",{"$f":"DataEntry!C57","v":{"$error":"#N/A"}},",",{"$f":"DataEntry!E57","v":0},",",{"$f":"DataEntry!D57","v":0},")",","]
["(",62,",",{"$f":"DataEntry!A58","v":0},",",{"$f":"DataEntry!C58","v":{"$error":"#N/A"}},",",{"$f":"DataEntry!E58","v":0},",",{"$f":"DataEntry!D58","v":0},")",","]
["(",62,",",{"$f":"DataEntry!A59","v":0},",",{"$f":"DataEntry!C59","v":{"$error":"#N/A"}},",",{"$f":"DataEntry!E59","v":0},",",{"$f":"DataEntry!D59","v":0},")",","]
["(",62,",",{"$f":"DataEntry!A60","v":0},",",{"$f":"DataEntry!C60","v":{"$error":"#N/A"}},",",{"$f":"DataEntry!E60","v":0},",",{"$f":"DataEntry!D60","v":0},")",","]
["(",62,",",{"$f":"DataEntry!A61","v":0},",",{"$f":"DataEntry!C61","v":{"$error":"#N/A"}},",",{"$f":"DataEntry!E61","v":0},",",{"$f":"DataEntry!D61","v":0},")",","]
["(",62,",",{"$f":"DataEntry!A62","v":0},",",{"$f":"DataEntry!C62","v":{"$error":"#N/A"}},",",{"$f":"DataEntry!E62","v":0},",",{"$f":"DataEntry!D62","v":0},")",","]
["(",62,",",{"$f":"DataEntry!A63","v":0},",",{"$f":"DataEntry!C63","v":{"$error":"#N/A"}},",",{"$f":"DataEntry!E63","v":0},",",{"$f":"DataEntry!D63","v":0},")",","]
["(",62,",",{"$f":"DataEntry!A64","v":0},",",{"$f":"DataEntry!C64","v":{"$error":"#N/A"}},",",{"$f":"DataEntry!E64","v":0},",",{"$f":"DataEntry!D64","v":0},")",","]
["(",62,",",{"$f":"DataEntry!A65","v":0},",",{"$f":"DataEntry!C65","v":{"$error":"#N/A"}},",",{"$f":"DataEntry!E65","v":0},",",{"$f":"DataEntry!D65","v":0},")",","]
["(",62,",",{"$f":"DataEntry!A66","v":0},",",{"$f":"DataEntry!C66","v":{"$error":"#N/A"}},",",{"$f":"DataEntry!E66","v":0},",",{"$f":"DataEntry!D66","v":0},")",","]
["(",62,",",{"$f":"DataEntry!A67","v":0},",",{"$f":"DataEntry!C67","v":{"$error":"#N/A"}},",",{"$f":"DataEntry!E67","v":0},",",{"$f":"DataEntry!D67","v":0},")",","]
["(",62,",",{"$f":"DataEntry!A68","v":0},",",{"$f":"DataEntry!C68","v":{"$error":"#N/A"}},",",{"$f":"DataEntry!E68","v":0},",",{"$f":"DataEntry!D68","v":0},")",","]
["(",62,",",{"$f":"DataEntry!A69","v":0},",",{"$f":"DataEntry!C69","v":{"$error":"#N/A"}},",",{"$f":"DataEntry!E69","v":0},",",{"$f":"DataEntry!D69","v":0},")",","]
["(",62,",",{"$f":"DataEntry!A70","v":0},",",{"$f":"DataEntry!C70","v":{"$error":"#N/A"}},",",{"$f":"DataEntry!E70","v":0},",",{"$f":"DataEntry!D70","v":0},")",","]
["(",62,",",{"$f":"DataEntry!A71","v":0},",",{"$f":"DataEntry!C71","v":{"$error":"#N/A"}},",",{"$f":"DataEntry!E71","v":0},",",{"$f":"DataEntry!D71","v":0},")",","]
["(",62,",",{"$f":"DataEntry!A72","v":0},",",{"$f":"DataEntry!C72","v":{"$error":"#N/A"}},",",{"$f":"DataEntry!E72","v":0},",",{"$f":"DataEntry!D72","v":0},")",","]
["(",62,",",{"$f":"DataEntry!A73","v":0},",",{"$f":"DataEntry!C73","v":{"$error":"#N/A"}},",",{"$f":"DataEntry!E73","v":0},",",{"$f":"DataEntry!D73","v":0},")",","]
["(",62,",",{"$f":"DataEntry!A74","v":0},",",{"$f":"DataEntry!C74","v":{"$error":"#N/A"}},",",{"$f":"DataEntry!E74","v":0},",",{"$f":"DataEntry!D74","v":0},")",","]
["(",62,",",{"$f":"DataEntry!A75","v":0},",",{"$f":"DataEntry!C75","v":{"$error":"#N/A"}},",",{"$f":"DataEntry!E75","v":0},",",{"$f":"DataEntry!D75","v":0},")",","]
["(",62,",",{"$f":"DataEntry!A76","v":0},",",{"$f":"DataEntry!C76","v":{"$error":"#N/A"}},",",{"$f":"DataEntry!E76","v":0},",",{"$f":"DataEntry!D76","v":0},")",","]
["(",62,",",{"$f":"DataEntry!A77","v":0},",",{"$f":"DataEntry!C77","v":{"$error":"#N/A"}},",",{"$f":"DataEntry!E77","v":0},",",{"$f":"DataEntry!D77","v":0},")",","]
["(",62,",",{"$f":"DataEntry!A78","v":0},",",{"$f":"DataEntry!C78","v":{"$error":"#N/A"}},",",{"$f":"DataEntry!E78","v":0},",",{"$f":"DataEntry!D78","v":0},")",","]
["(",62,",",{"$f":"DataEntry!A79","v":0},",",{"$f":"DataEntry!C79","v":{"$error":"#N/A"}},",",{"$f":"DataEntry!E79","v":0},",",{"$f":"DataEntry!D79","v":0},")",","]
["(",62,",",{"$f":"DataEntry!A80","v":0},",",{"$f":"DataEntry!C80","v":{"$error":"#N/A"}},",",{"$f":"DataEntry!E80","v":0},",",{"$f":"DataEntry!D80","v":0},")",","]
["(",62,",",{"$f":"DataEntry!A81","v":0},",",{"$f":"DataEntry!C81","v":{"$error":"#N/A"}},",",{"$f":"DataEntry!E81","v":0},",",{"$f":"DataEntry!D81","v":0},")",","]
["(",62,",",{"$f":"DataEntry!A82","v":0},",",{"$f":"DataEntry!C82","v":{"$error":"#N/A"}},",",{"$f":"DataEntry!E82","v":0},",",{"$f":"DataEntry!D82","v":0},")",","]
["(",62,",",{"$f":"DataEntry!A83","v":0},",",{"$f":"DataEntry!C83","v":{"$error":"#N/A"}},",",{"$f":"DataEntry!E83","v":0},",",{"$f":"DataEntry!D83","v":0},")",","]
["(",62,",",{"$f":"DataEntry!A84","v":0},",",{"$f":"DataEntry!C84","v":{"$error":"#N/A"}},",",{"$f":"DataEntry!E84","v":0},",",{"$f":"DataEntry!D84","v":0},")",","]
["(",62,",",{"$f":"DataEntry!A85","v":0},",",{"$f":"DataEntry!C85","v":{"$error":"#N/A"}},",",{"$f":"DataEntry!E85","v":0},",",{"$f":"DataEntry!D85","v":0},")",","]
["(",62,",",{"$f":"DataEntry!A86","v":0},",",{"$f":"DataEntry!C86","v":{"$error":"#N/A"}},",",{"$f":"DataEntry!E86","v":0},",",{"$f":"DataEntry!D86","v":0},")",","]
["(",62,",",{"$f":"DataEntry!A87","v":0},",",{"$f":"DataEntry!C87","v":{"$error":"#N/A"}},",",{"$f":"DataEntry!E87","v":0},",",{"$f":"DataEntry!D87","v":0},")",","]
["(",62,",",{"$f":"DataEntry!A88","v":0},",",{"$f":"DataEntry!C88","v":{"$error":"#N/A"}},",",{"$f":"DataEntry!E88","v":0},",",{"$f":"DataEntry!D88","v":0},")",","]
["(",62,",",{"$f":"DataEntry!A89","v":0},",",{"$f":"DataEntry!C89","v":{"$error":"#N/A"}},",",{"$f":"DataEntry!E89","v":0},",",{"$f":"DataEntry!D89","v":0},")",","]
["(",62,",",{"$f":"DataEntry!A90","v":0},",",{"$f":"DataEntry!C90","v":{"$error":"#N/A"}},",",{"$f":"DataEntry!E90","v":0},",",{"$f":"DataEntry!D90","v":0},")",","]
["(",62,",",{"$f":"DataEntry!A91","v":0},",",{"$f":"DataEntry!C91","v":{"$error":"#N/A"}},",",{"$f":"DataEntry!E91","v":0},",",{"$f":"DataEntry!D91","v":0},")",","]
["(",62,",",{"$f":"DataEntry!A92","v":0},",",{"$f":"DataEntry!C92","v":{"$error":"#N/A"}},",",{"$f":"DataEntry!E92","v":0},",",{"$f":"DataEntry!D92","v":0},")",","]
["(",62,",",{"$f":"DataEntry!A93","v":0},",",{"$f":"DataEntry!C93","v":{"$error":"#N/A"}},",",{"$f":"DataEntry!E93","v":0},",",{"$f":"DataEntry!D93","v":0},")",","]
["(",62,",",{"$f":"DataEntry!A94","v":0},",",{"$f":"DataEntry!C94","v":{"$error":"#N/A"}},",",{"$f":"DataEntry!E94","v":0},",",{"$f":"DataEntry!D94","v":0},")",","]
["(",62,",",{"$f":"DataEntry!A95","v":0},",",{"$f":"DataEntry!C95","v":{"$error":"#N/A"}},",",{"$f":"DataEntry!E95","v":0},",",{"$f":"DataEntry!D95","v":0},")",","]
["(",62,",",{"$f":"DataEntry!A96","v":0},",",{"$f":"DataEntry!C96","v":{"$error":"#N/A"}},",",{"$f":"DataEntry!E96","v":0},",",{"$f":"DataEntry!D96","v":0},")",","]
["(",62,",",{"$f":"DataEntry!A97","v":0},",",{"$f":"DataEntry!C97","v":{"$error":"#N/A"}},",",{"$f":"DataEntry!E97","v":0},",",{"$f":"DataEntry!D97","v":0},")",","]
["(",62,",",{"$f":"DataEntry!A98","v":0},",",{"$f":"DataEntry!C98","v":{"$error":"#N/A"}},",",{"$f":"DataEntry!E98","v":0},",",{"$f":"DataEntry!D98","v":0},")",","]
["(",62,",",{"$f":"DataEntry!A99","v":0},",",{"$f":"DataEntry!C99","v":{"$error":"#N/A"}},",",{"$f":"DataEntry!E99","v":0},",",{"$f":"DataEntry!D99","v":0},")",","]
["(",62,",",{"$f":"DataEntry!A100","v":0},",",{"$f":"DataEntry!C100","v":{"$error":"#N/A"}},",",{"$f":"DataEntry!E100","v":0},",",{"$f":"DataEntry!D100","v":0},")",","]
["(",62,",",{"$f":"DataEntry!A101","v":0},",",{"$f":"DataEntry!C101","v":{"$error":"#N/A"}},",",{"$f":"DataEntry!E101","v":0},",",{"$f":"DataEntry!D101","v":0},")",","]
["(",62,",",{"$f":"DataEntry!A102","v":0},",",{"$f":"DataEntry!C102","v":{"$error":"#N/A"}},",",{"$f":"DataEntry!E102","v":0},",",{"$f":"DataEntry!D102","v":0},")",","]
["(",62,",",{"$f":"DataEntry!A103","v":0},",",{"$f":"DataEntry!C103","v":{"$error":"#N/A"}},",",{"$f":"DataEntry!E103","v":0},",",{"$f":"DataEntry!D103","v":0},")",","]
["(",62,",",{"$f":"DataEntry!A104","v":0},",",{"$f":"DataEntry!C104","v":{"$error":"#N/A"}},",",{"$f":"DataEntry!E104","v":0},",",{"$f":"DataEntry!D104","v":0},")",","]
["(",62,",",{"$f":"DataEntry!A105","v":0},",",{"$f":"DataEntry!C105","v":{"$error":"#N/A"}},",",{"$f":"DataEntry!E105","v":0},",",{"$f":"DataEntry!D105","v":0},")",","]
["(",62,",",{"$f":"DataEntry!A106","v":0},",",{"$f":"DataEntry!C106","v":{"$error":"#N/A"}},",",{"$f":"DataEntry!E106","v":0},",",{"$f":"DataEntry!D106","v":0},")",","]
["(",62,",",{"$f":"DataEntry!A107","v":0},",",{"$f":"DataEntry!C107","v":{"$error":"#N/A"}},",",{"$f":"DataEntry!E107","v":0},",",{"$f":"DataEntry!D107","v":0},")",","]
["(",62,",",{"$f":"DataEntry!A108","v":0},",",{"$f":"DataEntry!C108","v":{"$error":"#N/A"}},",",{"$f":"DataEntry!E108","v":0},",",{"$f":"DataEntry!D108","v":0},")",","]
["(",62,",",{"$f":"DataEntry!A109","v":0},",",{"$f":"DataEntry!C109","v":{"$error":"#N/A"}},",",{"$f":"DataEntry!E109","v":0},",",{"$f":"DataEntry!D109","v":0},")",","]
["(",62,",",{"$f":"DataEntry!A110","v":0},",",{"$f":"DataEntry!C110","v":{"$error":"#N/A"}},",",{"$f":"DataEntry!E110","v":0},",",{"$f":"DataEntry!D110","v":0},")",","]
["(",62,",",{"$f":"DataEntry!A111","v":0},",",{"$f":"DataEntry!C111","v":{"$error":"#N/A"}},",",{"$f":"DataEntry!E111","v":0},",",{"$f":"DataEntry!D111","v":0},")",","]
["(",62,",",{"$f":"DataEntry!A112","v":0},",",{"$f":"DataEntry!C112","v":{"$error":"#N/A"}},",",{"$f":"DataEntry!E112","v":0},",",{"$f":"DataEntry!D112","v":0},")",","]
["(",62,",",{"$f":"DataEntry!A113","v":0},",",{"$f":"DataEntry!C113","v":{"$error":"#N/A"}},",",{"$f":"DataEntry!E113","v":0},",",{"$f":"DataEntry!D113","v":0},")",","]
["(",62,",",{"$f":"DataEntry!A114","v":0},",",{"$f":"DataEntry!C114","v":{"$error":"#N/A"}},",",{"$f":"DataEntry!E114","v":0},",",{"$f":"DataEntry!D114","v":0},")",","]
[null,null,null,{"$f":"DataEntry!A115","v":0},",",{"$f":"DataEntry!C115","v":{"$error":"#N/A"}},",",{"$f":"DataEntry!E115","v":0},",",{"$f":"DataEntry!D115","v":0}]
[null,null,null,{"$f":"DataEntry!A116","v":0},",",{"$f":"DataEntry!C116","v":{"$error":"#N/A"}},",",{"$f":"DataEntry!E116","v":0},",",{"$f":"DataEntry!D116","v":0}]

{"sheet":"SQL2","index":10,"n_rows":989,"n_cols":12,"rows_kept":989,"cut":false,"hidden":false,"merged":[]}
["INSERT INTO vegetation_monitoring_hits (vegetation_monitoring_point_id, transect_point, hit, hit_accepted_species_id, hit_soil_surface_id)"]
["VALUES"]
["(",{"$f":"VLOOKUP(D3,$N$14:$O$113,2,FALSE)","v":{"$error":"#N/A"}},",",{"$f":"DataEntry!G14","v":0},",",{"$f":"DataEntry!H14","v":0},",",{"$f":"DataEntry!J14","v":{"$error":"#N/A"}},",",{"$f":"DataEntry!L14","v":{"$error":"#N/A"}},")",","]
["(",{"$f":"VLOOKUP(D4,$N$14:$O$113,2,FALSE)","v":{"$error":"#N/A"}},",",{"$f":"DataEntry!G15","v":0},",",{"$f":"DataEntry!H15","v":0},",",{"$f":"DataEntry!J15","v":{"$error":"#N/A"}},",",{"$f":"DataEntry!L15","v":{"$error":"#N/A"}},")",","]
["(",{"$error":"#N/A"},",",{"$f":"DataEntry!G16","v":0},",",{"$f":"DataEntry!H16","v":0},",",{"$f":"DataEntry!J16","v":{"$error":"#N/A"}},",",{"$f":"DataEntry!L16","v":{"$error":"#N/A"}},")",","]
["(",{"$error":"#N/A"},",",{"$f":"DataEntry!G17","v":0},",",{"$f":"DataEntry!H17","v":0},",",{"$f":"DataEntry!J17","v":{"$error":"#N/A"}},",",{"$f":"DataEntry!L17","v":{"$error":"#N/A"}},")",","]
["(",{"$error":"#N/A"},",",{"$f":"DataEntry!G18","v":0},",",{"$f":"DataEntry!H18","v":0},",",{"$f":"DataEntry!J18","v":{"$error":"#N/A"}},",",{"$f":"DataEntry!L18","v":{"$error":"#N/A"}},")",","]
["(",{"$error":"#N/A"},",",{"$f":"DataEntry!G19","v":0},",",{"$f":"DataEntry!H19","v":0},",",{"$f":"DataEntry!J19","v":{"$error":"#N/A"}},",",{"$f":"DataEntry!L19","v":{"$error":"#N/A"}},")",","]
["(",{"$error":"#N/A"},",",{"$f":"DataEntry!G20","v":0},",",{"$f":"DataEntry!H20","v":0},",",{"$f":"DataEntry!J20","v":{"$error":"#N/A"}},",",{"$f":"DataEntry!L20","v":{"$error":"#N/A"}},")",","]
["(",{"$error":"#N/A"},",",{"$f":"DataEntry!G21","v":0},",",{"$f":"DataEntry!H21","v":0},",",{"$f":"DataEntry!J21","v":{"$error":"#N/A"}},",",{"$f":"DataEntry!L21","v":{"$error":"#N/A"}},")",","]
["(",{"$error":"#N/A"},",",{"$f":"DataEntry!G22","v":0},",",{"$f":"DataEntry!H22","v":0},",",{"$f":"DataEntry!J22","v":{"$error":"#N/A"}},",",{"$f":"DataEntry!L22","v":{"$error":"#N/A"}},")",","]
["(",{"$error":"#N/A"},",",{"$f":"DataEntry!G23","v":0},",",{"$f":"DataEntry!H23","v":0},",",{"$f":"DataEntry!J23","v":{"$error":"#N/A"}},",",{"$f":"DataEntry!L23","v":{"$error":"#N/A"}},")",","]
["(",{"$error":"#N/A"},",",{"$f":"DataEntry!G24","v":0},",",{"$f":"DataEntry!H24","v":0},",",{"$f":"DataEntry!J24","v":{"$error":"#N/A"}},",",{"$f":"DataEntry!L24","v":{"$error":"#N/A"}},")",","]
["(",{"$error":"#N/A"},",",{"$f":"DataEntry!G25","v":0},",",{"$f":"DataEntry!H25","v":0},",",{"$f":"DataEntry!J25","v":{"$error":"#N/A"}},",",{"$f":"DataEntry!L25","v":{"$error":"#N/A"}},")",","]
["(",{"$error":"#N/A"},",",{"$f":"DataEntry!G26","v":0},",",{"$f":"DataEntry!H26","v":0},",",{"$f":"DataEntry!J26","v":{"$error":"#N/A"}},",",{"$f":"DataEntry!L26","v":{"$error":"#N/A"}},")",","]
["(",{"$error":"#N/A"},",",{"$f":"DataEntry!G27","v":0},",",{"$f":"DataEntry!H27","v":0},",",{"$f":"DataEntry!J27","v":{"$error":"#N/A"}},",",{"$f":"DataEntry!L27","v":{"$error":"#N/A"}},")",","]
["(",{"$error":"#N/A"},",",{"$f":"DataEntry!G28","v":0},",",{"$f":"DataEntry!H28","v":0},",",{"$f":"DataEntry!J28","v":{"$error":"#N/A"}},",",{"$f":"DataEntry!L28","v":{"$error":"#N/A"}},")",","]
["(",{"$error":"#N/A"},",",{"$f":"DataEntry!G29","v":0},",",{"$f":"DataEntry!H29","v":0},",",{"$f":"DataEntry!J29","v":{"$error":"#N/A"}},",",{"$f":"DataEntry!L29","v":{"$error":"#N/A"}},")",","]
["(",{"$error":"#N/A"},",",{"$f":"DataEntry!G30","v":0},",",{"$f":"DataEntry!H30","v":0},",",{"$f":"DataEntry!J30","v":{"$error":"#N/A"}},",",{"$f":"DataEntry!L30","v":{"$error":"#N/A"}},")",","]
["(",{"$error":"#N/A"},",",{"$f":"DataEntry!G31","v":0},",",{"$f":"DataEntry!H31","v":0},",",{"$f":"DataEntry!J31","v":{"$error":"#N/A"}},",",{"$f":"DataEntry!L31","v":{"$error":"#N/A"}},")",","]
["(",{"$error":"#N/A"},",",{"$f":"DataEntry!G32","v":0},",",{"$f":"DataEntry!H32","v":0},",",{"$f":"DataEntry!J32","v":{"$error":"#N/A"}},",",{"$f":"DataEntry!L32","v":{"$error":"#N/A"}},")",","]
["(",{"$error":"#N/A"},",",{"$f":"DataEntry!G33","v":0},",",{"$f":"DataEntry!H33","v":0},",",{"$f":"DataEntry!J33","v":{"$error":"#N/A"}},",",{"$f":"DataEntry!L33","v":{"$error":"#N/A"}},")",","]
["(",{"$error":"#N/A"},",",{"$f":"DataEntry!G34","v":0},",",{"$f":"DataEntry!H34","v":0},",",{"$f":"DataEntry!J34","v":{"$error":"#N/A"}},",",{"$f":"DataEntry!L34","v":{"$error":"#N/A"}},")",","]
["(",{"$error":"#N/A"},",",{"$f":"DataEntry!G35","v":0},",",{"$f":"DataEntry!H35","v":0},",",{"$f":"DataEntry!J35","v":{"$error":"#N/A"}},",",{"$f":"DataEntry!L35","v":{"$error":"#N/A"}},")",","]
["(",{"$error":"#N/A"},",",{"$f":"DataEntry!G36","v":0},",",{"$f":"DataEntry!H36","v":0},",",{"$f":"DataEntry!J36","v":{"$error":"#N/A"}},",",{"$f":"DataEntry!L36","v":{"$error":"#N/A"}},")",","]
["(",{"$error":"#N/A"},",",{"$f":"DataEntry!G37","v":0},",",{"$f":"DataEntry!H37","v":0},",",{"$f":"DataEntry!J37","v":{"$error":"#N/A"}},",",{"$f":"DataEntry!L37","v":{"$error":"#N/A"}},")",","]
["(",{"$error":"#N/A"},",",{"$f":"DataEntry!G38","v":0},",",{"$f":"DataEntry!H38","v":0},",",{"$f":"DataEntry!J38","v":{"$error":"#N/A"}},",",{"$f":"DataEntry!L38","v":{"$error":"#N/A"}},")",","]
["(",{"$error":"#N/A"},",",{"$f":"DataEntry!G39","v":0},",",{"$f":"DataEntry!H39","v":0},",",{"$f":"DataEntry!J39","v":{"$error":"#N/A"}},",",{"$f":"DataEntry!L39","v":{"$error":"#N/A"}},")",","]
["(",{"$error":"#N/A"},",",{"$f":"DataEntry!G40","v":0},",",{"$f":"DataEntry!H40","v":0},",",{"$f":"DataEntry!J40","v":{"$error":"#N/A"}},",",{"$f":"DataEntry!L40","v":{"$error":"#N/A"}},")",","]
["(",{"$error":"#N/A"},",",{"$f":"DataEntry!G41","v":0},",",{"$f":"DataEntry!H41","v":0},",",{"$f":"DataEntry!J41","v":{"$error":"#N/A"}},",",{"$f":"DataEntry!L41","v":{"$error":"#N/A"}},")",","]
["(",{"$error":"#N/A"},",",{"$f":"DataEntry!G42","v":0},",",{"$f":"DataEntry!H42","v":0},",",{"$f":"DataEntry!J42","v":{"$error":"#N/A"}},",",{"$f":"DataEntry!L42","v":{"$error":"#N/A"}},")",","]
["(",{"$error":"#N/A"},",",{"$f":"DataEntry!G43","v":0},",",{"$f":"DataEntry!H43","v":0},",",{"$f":"DataEntry!J43","v":{"$error":"#N/A"}},",",{"$f":"DataEntry!L43","v":{"$error":"#N/A"}},")",","]
["(",{"$error":"#N/A"},",",{"$f":"DataEntry!G44","v":0},",",{"$f":"DataEntry!H44","v":0},",",{"$f":"DataEntry!J44","v":{"$error":"#N/A"}},",",{"$f":"DataEntry!L44","v":{"$error":"#N/A"}},")",","]
["(",{"$error":"#N/A"},",",{"$f":"DataEntry!G45","v":0},",",{"$f":"DataEntry!H45","v":0},",",{"$f":"DataEntry!J45","v":{"$error":"#N/A"}},",",{"$f":"DataEntry!L45","v":{"$error":"#N/A"}},")",","]
["(",{"$error":"#N/A"},",",{"$f":"DataEntry!G46","v":0},",",{"$f":"DataEntry!H46","v":0},",",{"$f":"DataEntry!J46","v":{"$error":"#N/A"}},",",{"$f":"DataEntry!L46","v":{"$error":"#N/A"}},")",","]
["(",{"$error":"#N/A"},",",{"$f":"DataEntry!G47","v":0},",",{"$f":"DataEntry!H47","v":0},",",{"$f":"DataEntry!J47","v":{"$error":"#N/A"}},",",{"$f":"DataEntry!L47","v":{"$error":"#N/A"}},")",","]
["(",{"$error":"#N/A"},",",{"$f":"DataEntry!G48","v":0},",",{"$f":"DataEntry!H48","v":0},",",{"$f":"DataEntry!J48","v":{"$error":"#N/A"}},",",{"$f":"DataEntry!L48","v":{"$error":"#N/A"}},")",","]
["(",{"$error":"#N/A"},",",{"$f":"DataEntry!G49","v":0},",",{"$f":"DataEntry!H49","v":0},",",{"$f":"DataEntry!J49","v":{"$error":"#N/A"}},",",{"$f":"DataEntry!L49","v":{"$error":"#N/A"}},")",","]
["(",{"$error":"#N/A"},",",{"$f":"DataEntry!G50","v":0},",",{"$f":"DataEntry!H50","v":0},",",{"$f":"DataEntry!J50","v":{"$error":"#N/A"}},",",{"$f":"DataEntry!L50","v":{"$error":"#N/A"}},")",","]
["(",{"$error":"#N/A"},",",{"$f":"DataEntry!G51","v":0},",",{"$f":"DataEntry!H51","v":0},",",{"$f":"DataEntry!J51","v":{"$error":"#N/A"}},",",{"$f":"DataEntry!L51","v":{"$error":"#N/A"}},")",","]
["(",{"$error":"#N/A"},",",{"$f":"DataEntry!G52","v":0},",",{"$f":"DataEntry!H52","v":0},",",{"$f":"DataEntry!J52","v":{"$error":"#N/A"}},",",{"$f":"DataEntry!L52","v":{"$error":"#N/A"}},")",","]
["(",{"$error":"#N/A"},",",{"$f":"DataEntry!G53","v":0},",",{"$f":"DataEntry!H53","v":0},",",{"$f":"DataEntry!J53","v":{"$error":"#N/A"}},",",{"$f":"DataEntry!L53","v":{"$error":"#N/A"}},")",","]
["(",{"$error":"#N/A"},",",{"$f":"DataEntry!G54","v":0},",",{"$f":"DataEntry!H54","v":0},",",{"$f":"DataEntry!J54","v":{"$error":"#N/A"}},",",{"$f":"DataEntry!L54","v":{"$error":"#N/A"}},")",","]
["(",{"$error":"#N/A"},",",{"$f":"DataEntry!G55","v":0},",",{"$f":"DataEntry!H55","v":0},",",{"$f":"DataEntry!J55","v":{"$error":"#N/A"}},",",{"$f":"DataEntry!L55","v":{"$error":"#N/A"}},")",","]
["(",{"$error":"#N/A"},",",{"$f":"DataEntry!G56","v":0},",",{"$f":"DataEntry!H56","v":0},",",{"$f":"DataEntry!J56","v":{"$error":"#N/A"}},",",{"$f":"DataEntry!L56","v":{"$error":"#N/A"}},")",","]
["(",{"$error":"#N/A"},",",{"$f":"DataEntry!G57","v":0},",",{"$f":"DataEntry!H57","v":0},",",{"$f":"DataEntry!J57","v":{"$error":"#N/A"}},",",{"$f":"DataEntry!L57","v":{"$error":"#N/A"}},")",","]
["(",{"$error":"#N/A"},",",{"$f":"DataEntry!G58","v":0},",",{"$f":"DataEntry!H58","v":0},",",{"$f":"DataEntry!J58","v":{"$error":"#N/A"}},",",{"$f":"DataEntry!L58","v":{"$error":"#N/A"}},")",","]
["(",{"$error":"#N/A"},",",{"$f":"DataEntry!G59","v":0},",",{"$f":"DataEntry!H59","v":0},",",{"$f":"DataEntry!J59","v":{"$error":"#N/A"}},",",{"$f":"DataEntry!L59","v":{"$error":"#N/A"}},")",","]
["(",{"$error":"#N/A"},",",{"$f":"DataEntry!G60","v":0},",",{"$f":"DataEntry!H60","v":0},",",{"$f":"DataEntry!J60","v":{"$error":"#N/A"}},",",{"$f":"DataEntry!L60","v":{"$error":"#N/A"}},")",","]
["(",{"$error":"#N/A"},",",{"$f":"DataEntry!G61","v":0},",",{"$f":"DataEntry!H61","v":0},",",{"$f":"DataEntry!J61","v":{"$error":"#N/A"}},",",{"$f":"DataEntry!L61","v":{"$error":"#N/A"}},")",","]
["(",{"$error":"#N/A"},",",{"$f":"DataEntry!G62","v":0},",",{"$f":"DataEntry!H62","v":0},",",{"$f":"DataEntry!J62","v":{"$error":"#N/A"}},",",{"$f":"DataEntry!L62","v":{"$error":"#N/A"}},")",","]
["(",{"$error":"#N/A"},",",{"$f":"DataEntry!G63","v":0},",",{"$f":"DataEntry!H63","v":0},",",{"$f":"DataEntry!J63","v":{"$error":"#N/A"}},",",{"$f":"DataEntry!L63","v":{"$error":"#N/A"}},")",","]
["(",{"$error":"#N/A"},",",{"$f":"DataEntry!G64","v":0},",",{"$f":"DataEntry!H64","v":0},",",{"$f":"DataEntry!J64","v":{"$error":"#N/A"}},",",{"$f":"DataEntry!L64","v":{"$error":"#N/A"}},")",","]
["(",{"$error":"#N/A"},",",{"$f":"DataEntry!G65","v":0},",",{"$f":"DataEntry!H65","v":0},",",{"$f":"DataEntry!J65","v":{"$error":"#N/A"}},",",{"$f":"DataEntry!L65","v":{"$error":"#N/A"}},")",","]
["(",{"$error":"#N/A"},",",{"$f":"DataEntry!G66","v":0},",",{"$f":"DataEntry!H66","v":0},",",{"$f":"DataEntry!J66","v":{"$error":"#N/A"}},",",{"$f":"DataEntry!L66","v":{"$error":"#N/A"}},")",","]
["(",{"$error":"#N/A"},",",{"$f":"DataEntry!G67","v":0},",",{"$f":"DataEntry!H67","v":0},",",{"$f":"DataEntry!J67","v":{"$error":"#N/A"}},",",{"$f":"DataEntry!L67","v":{"$error":"#N/A"}},")",","]
["(",{"$error":"#N/A"},",",{"$f":"DataEntry!G68","v":0},",",{"$f":"DataEntry!H68","v":0},",",{"$f":"DataEntry!J68","v":{"$error":"#N/A"}},",",{"$f":"DataEntry!L68","v":{"$error":"#N/A"}},")",","]
["(",{"$error":"#N/A"},",",{"$f":"DataEntry!G69","v":0},",",{"$f":"DataEntry!H69","v":0},",",{"$f":"DataEntry!J69","v":{"$error":"#N/A"}},",",{"$f":"DataEntry!L69","v":{"$error":"#N/A"}},")",","]
["(",{"$error":"#N/A"},",",{"$f":"DataEntry!G70","v":0},",",{"$f":"DataEntry!H70","v":0},",",{"$f":"DataEntry!J70","v":{"$error":"#N/A"}},",",{"$f":"DataEntry!L70","v":{"$error":"#N/A"}},")",","]
["(",{"$error":"#N/A"},",",{"$f":"DataEntry!G71","v":0},",",{"$f":"DataEntry!H71","v":0},",",{"$f":"DataEntry!J71","v":{"$error":"#N/A"}},",",{"$f":"DataEntry!L71","v":{"$error":"#N/A"}},")",","]
["(",{"$error":"#N/A"},",",{"$f":"DataEntry!G72","v":0},",",{"$f":"DataEntry!H72","v":0},",",{"$f":"DataEntry!J72","v":{"$error":"#N/A"}},",",{"$f":"DataEntry!L72","v":{"$error":"#N/A"}},")",","]
["(",{"$error":"#N/A"},",",{"$f":"DataEntry!G73","v":0},",",{"$f":"DataEntry!H73","v":0},",",{"$f":"DataEntry!J73","v":{"$error":"#N/A"}},",",{"$f":"DataEntry!L73","v":{"$error":"#N/A"}},")",","]
["(",{"$error":"#N/A"},",",{"$f":"DataEntry!G74","v":0},",",{"$f":"DataEntry!H74","v":0},",",{"$f":"DataEntry!J74","v":{"$error":"#N/A"}},",",{"$f":"DataEntry!L74","v":{"$error":"#N/A"}},")",","]
["(",{"$error":"#N/A"},",",{"$f":"DataEntry!G75","v":0},",",{"$f":"DataEntry!H75","v":0},",",{"$f":"DataEntry!J75","v":{"$error":"#N/A"}},",",{"$f":"DataEntry!L75","v":{"$error":"#N/A"}},")",","]
["(",{"$error":"#N/A"},",",{"$f":"DataEntry!G76","v":0},",",{"$f":"DataEntry!H76","v":0},",",{"$f":"DataEntry!J76","v":{"$error":"#N/A"}},",",{"$f":"DataEntry!L76","v":{"$error":"#N/A"}},")",","]
["(",{"$error":"#N/A"},",",{"$f":"DataEntry!G77","v":0},",",{"$f":"DataEntry!H77","v":0},",",{"$f":"DataEntry!J77","v":{"$error":"#N/A"}},",",{"$f":"DataEntry!L77","v":{"$error":"#N/A"}},")",","]
["(",{"$error":"#N/A"},",",{"$f":"DataEntry!G78","v":0},",",{"$f":"DataEntry!H78","v":0},",",{"$f":"DataEntry!J78","v":{"$error":"#N/A"}},",",{"$f":"DataEntry!L78","v":{"$error":"#N/A"}},")",","]
["(",{"$f":"VLOOKUP(D68,$N$14:$O$113,2,FALSE)","v":{"$error":"#N/A"}},",",{"$f":"DataEntry!G79","v":0},",",{"$f":"DataEntry!H79","v":0},",",{"$f":"DataEntry!J79","v":{"$error":"#N/A"}},",",{"$f":"DataEntry!L79","v":{"$error":"#N/A"}},")",","]
["(",{"$error":"#N/A"},",",{"$f":"DataEntry!G80","v":0},",",{"$f":"DataEntry!H80","v":0},",",{"$f":"DataEntry!J80","v":{"$error":"#N/A"}},",",{"$f":"DataEntry!L80","v":{"$error":"#N/A"}},")",","]
["(",{"$error":"#N/A"},",",{"$f":"DataEntry!G81","v":0},",",{"$f":"DataEntry!H81","v":0},",",{"$f":"DataEntry!J81","v":{"$error":"#N/A"}},",",{"$f":"DataEntry!L81","v":{"$error":"#N/A"}},")",","]
["(",{"$error":"#N/A"},",",{"$f":"DataEntry!G82","v":0},",",{"$f":"DataEntry!H82","v":0},",",{"$f":"DataEntry!J82","v":{"$error":"#N/A"}},",",{"$f":"DataEntry!L82","v":{"$error":"#N/A"}},")",","]
["(",{"$error":"#N/A"},",",{"$f":"DataEntry!G83","v":0},",",{"$f":"DataEntry!H83","v":0},",",{"$f":"DataEntry!J83","v":{"$error":"#N/A"}},",",{"$f":"DataEntry!L83","v":{"$error":"#N/A"}},")",","]
["(",{"$error":"#N/A"},",",{"$f":"DataEntry!G84","v":0},",",{"$f":"DataEntry!H84","v":0},",",{"$f":"DataEntry!J84","v":{"$error":"#N/A"}},",",{"$f":"DataEntry!L84","v":{"$error":"#N/A"}},")",","]
["(",{"$error":"#N/A"},",",{"$f":"DataEntry!G85","v":0},",",{"$f":"DataEntry!H85","v":0},",",{"$f":"DataEntry!J85","v":{"$error":"#N/A"}},",",{"$f":"DataEntry!L85","v":{"$error":"#N/A"}},")",","]
["(",{"$error":"#N/A"},",",{"$f":"DataEntry!G86","v":0},",",{"$f":"DataEntry!H86","v":0},",",{"$f":"DataEntry!J86","v":{"$error":"#N/A"}},",",{"$f":"DataEntry!L86","v":{"$error":"#N/A"}},")",","]
["(",{"$error":"#N/A"},",",{"$f":"DataEntry!G87","v":0},",",{"$f":"DataEntry!H87","v":0},",",{"$f":"DataEntry!J87","v":{"$error":"#N/A"}},",",{"$f":"DataEntry!L87","v":{"$error":"#N/A"}},")",","]
["(",{"$error":"#N/A"},",",{"$f":"DataEntry!G88","v":0},",",{"$f":"DataEntry!H88","v":0},",",{"$f":"DataEntry!J88","v":{"$error":"#N/A"}},",",{"$f":"DataEntry!L88","v":{"$error":"#N/A"}},")",","]
["(",{"$error":"#N/A"},",",{"$f":"DataEntry!G89","v":0},",",{"$f":"DataEntry!H89","v":0},",",{"$f":"DataEntry!J89","v":{"$error":"#N/A"}},",",{"$f":"DataEntry!L89","v":{"$error":"#N/A"}},")",","]
["(",{"$error":"#N/A"},",",{"$f":"DataEntry!G90","v":0},",",{"$f":"DataEntry!H90","v":0},",",{"$f":"DataEntry!J90","v":{"$error":"#N/A"}},",",{"$f":"DataEntry!L90","v":{"$error":"#N/A"}},")",","]
["(",{"$error":"#N/A"},",",{"$f":"DataEntry!G91","v":0},",",{"$f":"DataEntry!H91","v":0},",",{"$f":"DataEntry!J91","v":{"$error":"#N/A"}},",",{"$f":"DataEntry!L91","v":{"$error":"#N/A"}},")",","]
["(",{"$error":"#N/A"},",",{"$f":"DataEntry!G92","v":0},",",{"$f":"DataEntry!H92","v":0},",",{"$f":"DataEntry!J92","v":{"$error":"#N/A"}},",",{"$f":"DataEntry!L92","v":{"$error":"#N/A"}},")",","]
["(",{"$error":"#N/A"},",",{"$f":"DataEntry!G93","v":0},",",{"$f":"DataEntry!H93","v":0},",",{"$f":"DataEntry!J93","v":{"$error":"#N/A"}},",",{"$f":"DataEntry!L93","v":{"$error":"#N/A"}},")",","]
["(",{"$error":"#N/A"},",",{"$f":"DataEntry!G94","v":0},",",{"$f":"DataEntry!H94","v":0},",",{"$f":"DataEntry!J94","v":{"$error":"#N/A"}},",",{"$f":"DataEntry!L94","v":{"$error":"#N/A"}},")",","]
["(",{"$error":"#N/A"},",",{"$f":"DataEntry!G95","v":0},",",{"$f":"DataEntry!H95","v":0},",",{"$f":"DataEntry!J95","v":{"$error":"#N/A"}},",",{"$f":"DataEntry!L95","v":{"$error":"#N/A"}},")",","]
["(",{"$error":"#N/A"},",",{"$f":"DataEntry!G96","v":0},",",{"$f":"DataEntry!H96","v":0},",",{"$f":"DataEntry!J96","v":{"$error":"#N/A"}},",",{"$f":"DataEntry!L96","v":{"$error":"#N/A"}},")",","]
["(",{"$error":"#N/A"},",",{"$f":"DataEntry!G97","v":0},",",{"$f":"DataEntry!H97","v":0},",",{"$f":"DataEntry!J97","v":{"$error":"#N/A"}},",",{"$f":"DataEntry!L97","v":{"$error":"#N/A"}},")",","]
["(",{"$error":"#N/A"},",",{"$f":"DataEntry!G98","v":0},",",{"$f":"DataEntry!H98","v":0},",",{"$f":"DataEntry!J98","v":{"$error":"#N/A"}},",",{"$f":"DataEntry!L98","v":{"$error":"#N/A"}},")",","]
["(",{"$error":"#N/A"},",",{"$f":"DataEntry!G99","v":0},",",{"$f":"DataEntry!H99","v":0},",",{"$f":"DataEntry!J99","v":{"$error":"#N/A"}},",",{"$f":"DataEntry!L99","v":{"$error":"#N/A"}},")",","]
["(",{"$error":"#N/A"},",",{"$f":"DataEntry!G100","v":0},",",{"$f":"DataEntry!H100","v":0},",",{"$f":"DataEntry!J100","v":{"$error":"#N/A"}},",",{"$f":"DataEntry!L100","v":{"$error":"#N/A"}},")",","]
["(",{"$error":"#N/A"},",",{"$f":"DataEntry!G101","v":0},",",{"$f":"DataEntry!H101","v":0},",",{"$f":"DataEntry!J101","v":{"$error":"#N/A"}},",",{"$f":"DataEntry!L101","v":{"$error":"#N/A"}},")",","]
["(",{"$error":"#N/A"},",",{"$f":"DataEntry!G102","v":0},",",{"$f":"DataEntry!H102","v":0},",",{"$f":"DataEntry!J102","v":{"$error":"#N/A"}},",",{"$f":"DataEntry!L102","v":{"$error":"#N/A"}},")",","]
["(",{"$error":"#N/A"},",",{"$f":"DataEntry!G103","v":0},",",{"$f":"DataEntry!H103","v":0},",",{"$f":"DataEntry!J103","v":{"$error":"#N/A"}},",",{"$f":"DataEntry!L103","v":{"$error":"#N/A"}},")",","]
["(",{"$error":"#N/A"},",",{"$f":"DataEntry!G104","v":0},",",{"$f":"DataEntry!H104","v":0},",",{"$f":"DataEntry!J104","v":{"$error":"#N/A"}},",",{"$f":"DataEntry!L104","v":{"$error":"#N/A"}},")",","]
["(",{"$error":"#N/A"},",",{"$f":"DataEntry!G105","v":0},",",{"$f":"DataEntry!H105","v":0},",",{"$f":"DataEntry!J105","v":{"$error":"#N/A"}},",",{"$f":"DataEntry!L105","v":{"$error":"#N/A"}},")",","]
["(",{"$error":"#N/A"},",",{"$f":"DataEntry!G106","v":0},",",{"$f":"DataEntry!H106","v":0},",",{"$f":"DataEntry!J106","v":{"$error":"#N/A"}},",",{"$f":"DataEntry!L106","v":{"$error":"#N/A"}},")",","]
["(",{"$error":"#N/A"},",",{"$f":"DataEntry!G107","v":0},",",{"$f":"DataEntry!H107","v":0},",",{"$f":"DataEntry!J107","v":{"$error":"#N/A"}},",",{"$f":"DataEntry!L107","v":{"$error":"#N/A"}},")",","]
["(",{"$error":"#N/A"},",",{"$f":"DataEntry!G108","v":0},",",{"$f":"DataEntry!H108","v":0},",",{"$f":"DataEntry!J108","v":{"$error":"#N/A"}},",",{"$f":"DataEntry!L108","v":{"$error":"#N/A"}},")",","]
["(",{"$error":"#N/A"},",",{"$f":"DataEntry!G109","v":0},",",{"$f":"DataEntry!H109","v":0},",",{"$f":"DataEntry!J109","v":{"$error":"#N/A"}},",",{"$f":"DataEntry!L109","v":{"$error":"#N/A"}},")",","]
["(",{"$error":"#N/A"},",",{"$f":"DataEntry!G110","v":0},",",{"$f":"DataEntry!H110","v":0},",",{"$f":"DataEntry!J110","v":{"$error":"#N/A"}},",",{"$f":"DataEntry!L110","v":{"$error":"#N/A"}},")",","]
["(",{"$error":"#N/A"},",",{"$f":"DataEntry!G111","v":0},",",{"$f":"DataEntry!H111","v":0},",",{"$f":"DataEntry!J111","v":{"$error":"#N/A"}},",",{"$f":"DataEntry!L111","v":{"$error":"#N/A"}},")",","]
["(",{"$error":"#N/A"},",",{"$f":"DataEntry!G112","v":0},",",{"$f":"DataEntry!H112","v":0},",",{"$f":"DataEntry!J112","v":{"$error":"#N/A"}},",",{"$f":"DataEntry!L112","v":{"$error":"#N/A"}},")",","]
["(",{"$error":"#N/A"},",",{"$f":"DataEntry!G113","v":0},",",{"$f":"DataEntry!H113","v":0},",",{"$f":"DataEntry!J113","v":{"$error":"#N/A"}},",",{"$f":"DataEntry!L113","v":{"$error":"#N/A"}},")",","]
["(",{"$error":"#N/A"},",",{"$f":"DataEntry!G114","v":0},",",{"$f":"DataEntry!H114","v":0},",",{"$f":"DataEntry!J114","v":{"$error":"#N/A"}},",",{"$f":"DataEntry!L114","v":{"$error":"#N/A"}},")",","]
["(",{"$error":"#N/A"},",",{"$f":"DataEntry!G115","v":0},",",{"$f":"DataEntry!H115","v":0},",",{"$f":"DataEntry!J115","v":{"$error":"#N/A"}},",",{"$f":"DataEntry!L115","v":{"$error":"#N/A"}},")",","]
["(",{"$error":"#N/A"},",",{"$f":"DataEntry!G116","v":0},",",{"$f":"DataEntry!H116","v":0},",",{"$f":"DataEntry!J116","v":{"$error":"#N/A"}},",",{"$f":"DataEntry!L116","v":{"$error":"#N/A"}},")",","]
["(",{"$error":"#N/A"},",",{"$f":"DataEntry!G117","v":0},",",{"$f":"DataEntry!H117","v":0},",",{"$f":"DataEntry!J117","v":{"$error":"#N/A"}},",",{"$f":"DataEntry!L117","v":{"$error":"#N/A"}},")",","]
["(",{"$error":"#N/A"},",",{"$f":"DataEntry!G118","v":0},",",{"$f":"DataEntry!H118","v":0},",",{"$f":"DataEntry!J118","v":{"$error":"#N/A"}},",",{"$f":"DataEntry!L118","v":{"$error":"#N/A"}},")",","]
["(",{"$error":"#N/A"},",",{"$f":"DataEntry!G119","v":0},",",{"$f":"DataEntry!H119","v":0},",",{"$f":"DataEntry!J119","v":{"$error":"#N/A"}},",",{"$f":"DataEntry!L119","v":{"$error":"#N/A"}},")",","]
["(",{"$error":"#N/A"},",",{"$f":"DataEntry!G120","v":0},",",{"$f":"DataEntry!H120","v":0},",",{"$f":"DataEntry!J120","v":{"$error":"#N/A"}},",",{"$f":"DataEntry!L120","v":{"$error":"#N/A"}},")",","]
["(",{"$error":"#N/A"},",",{"$f":"DataEntry!G121","v":0},",",{"$f":"DataEntry!H121","v":0},",",{"$f":"DataEntry!J121","v":{"$error":"#N/A"}},",",{"$f":"DataEntry!L121","v":{"$error":"#N/A"}},")",","]
["(",{"$error":"#N/A"},",",{"$f":"DataEntry!G122","v":0},",",{"$f":"DataEntry!H122","v":0},",",{"$f":"DataEntry!J122","v":{"$error":"#N/A"}},",",{"$f":"DataEntry!L122","v":{"$error":"#N/A"}},")",","]
["(",{"$error":"#N/A"},",",{"$f":"DataEntry!G123","v":0},",",{"$f":"DataEntry!H123","v":0},",",{"$f":"DataEntry!J123","v":{"$error":"#N/A"}},",",{"$f":"DataEntry!L123","v":{"$error":"#N/A"}},")",","]
["(",{"$error":"#N/A"},",",{"$f":"DataEntry!G124","v":0},",",{"$f":"DataEntry!H124","v":0},",",{"$f":"DataEntry!J124","v":{"$error":"#N/A"}},",",{"$f":"DataEntry!L124","v":{"$error":"#N/A"}},")",","]
["(",{"$error":"#N/A"},",",{"$f":"DataEntry!G125","v":0},",",{"$f":"DataEntry!H125","v":0},",",{"$f":"DataEntry!J125","v":{"$error":"#N/A"}},",",{"$f":"DataEntry!L125","v":{"$error":"#N/A"}},")",","]
["(",{"$error":"#N/A"},",",{"$f":"DataEntry!G126","v":0},",",{"$f":"DataEntry!H126","v":0},",",{"$f":"DataEntry!J126","v":{"$error":"#N/A"}},",",{"$f":"DataEntry!L126","v":{"$error":"#N/A"}},")",","]
["(",{"$error":"#N/A"},",",{"$f":"DataEntry!G127","v":0},",",{"$f":"DataEntry!H127","v":0},",",{"$f":"DataEntry!J127","v":{"$error":"#N/A"}},",",{"$f":"DataEntry!L127","v":{"$error":"#N/A"}},")",","]
["(",{"$error":"#N/A"},",",{"$f":"DataEntry!G128","v":0},",",{"$f":"DataEntry!H128","v":0},",",{"$f":"DataEntry!J128","v":{"$error":"#N/A"}},",",{"$f":"DataEntry!L128","v":{"$error":"#N/A"}},")",","]
["(",{"$error":"#N/A"},",",{"$f":"DataEntry!G129","v":0},",",{"$f":"DataEntry!H129","v":0},",",{"$f":"DataEntry!J129","v":{"$error":"#N/A"}},",",{"$f":"DataEntry!L129","v":{"$error":"#N/A"}},")",","]
["(",{"$error":"#N/A"},",",{"$f":"DataEntry!G130","v":0},",",{"$f":"DataEntry!H130","v":0},",",{"$f":"DataEntry!J130","v":{"$error":"#N/A"}},",",{"$f":"DataEntry!L130","v":{"$error":"#N/A"}},")",","]
["(",{"$error":"#N/A"},",",{"$f":"DataEntry!G131","v":0},",",{"$f":"DataEntry!H131","v":0},",",{"$f":"DataEntry!J131","v":{"$error":"#N/A"}},",",{"$f":"DataEntry!L131","v":{"$error":"#N/A"}},")",","]
["(",{"$error":"#N/A"},",",{"$f":"DataEntry!G132","v":0},",",{"$f":"DataEntry!H132","v":0},",",{"$f":"DataEntry!J132","v":{"$error":"#N/A"}},",",{"$f":"DataEntry!L132","v":{"$error":"#N/A"}},")",","]
["(",{"$error":"#N/A"},",",{"$f":"DataEntry!G133","v":0},",",{"$f":"DataEntry!H133","v":0},",",{"$f":"DataEntry!J133","v":{"$error":"#N/A"}},",",{"$f":"DataEntry!L133","v":{"$error":"#N/A"}},")",","]
["(",{"$error":"#N/A"},",",{"$f":"DataEntry!G134","v":0},",",{"$f":"DataEntry!H134","v":0},",",{"$f":"DataEntry!J134","v":{"$error":"#N/A"}},",",{"$f":"DataEntry!L134","v":{"$error":"#N/A"}},")",","]
["(",{"$error":"#N/A"},",",{"$f":"DataEntry!G135","v":0},",",{"$f":"DataEntry!H135","v":0},",",{"$f":"DataEntry!J135","v":{"$error":"#N/A"}},",",{"$f":"DataEntry!L135","v":{"$error":"#N/A"}},")",","]
["(",{"$error":"#N/A"},",",{"$f":"DataEntry!G136","v":0},",",{"$f":"DataEntry!H136","v":0},",",{"$f":"DataEntry!J136","v":{"$error":"#N/A"}},",",{"$f":"DataEntry!L136","v":{"$error":"#N/A"}},")",","]
["(",{"$error":"#N/A"},",",{"$f":"DataEntry!G137","v":0},",",{"$f":"DataEntry!H137","v":0},",",{"$f":"DataEntry!J137","v":{"$error":"#N/A"}},",",{"$f":"DataEntry!L137","v":{"$error":"#N/A"}},")",","]
["(",{"$error":"#N/A"},",",{"$f":"DataEntry!G138","v":0},",",{"$f":"DataEntry!H138","v":0},",",{"$f":"DataEntry!J138","v":{"$error":"#N/A"}},",",{"$f":"DataEntry!L138","v":{"$error":"#N/A"}},")",","]
["(",{"$error":"#N/A"},",",{"$f":"DataEntry!G139","v":0},",",{"$f":"DataEntry!H139","v":0},",",{"$f":"DataEntry!J139","v":{"$error":"#N/A"}},",",{"$f":"DataEntry!L139","v":{"$error":"#N/A"}},")",","]
["(",{"$error":"#N/A"},",",{"$f":"DataEntry!G140","v":0},",",{"$f":"DataEntry!H140","v":0},",",{"$f":"DataEntry!J140","v":{"$error":"#N/A"}},",",{"$f":"DataEntry!L140","v":{"$error":"#N/A"}},")",","]
["(",{"$error":"#N/A"},",",{"$f":"DataEntry!G141","v":0},",",{"$f":"DataEntry!H141","v":0},",",{"$f":"DataEntry!J141","v":{"$error":"#N/A"}},",",{"$f":"DataEntry!L141","v":{"$error":"#N/A"}},")",","]
["(",{"$error":"#N/A"},",",{"$f":"DataEntry!G142","v":0},",",{"$f":"DataEntry!H142","v":0},",",{"$f":"DataEntry!J142","v":{"$error":"#N/A"}},",",{"$f":"DataEntry!L142","v":{"$error":"#N/A"}},")",","]
["(",{"$f":"VLOOKUP(D132,$N$14:$O$113,2,FALSE)","v":{"$error":"#N/A"}},",",{"$f":"DataEntry!G143","v":0},",",{"$f":"DataEntry!H143","v":0},",",{"$f":"DataEntry!J143","v":{"$error":"#N/A"}},",",{"$f":"DataEntry!L143","v":{"$error":"#N/A"}},")",","]
["(",{"$error":"#N/A"},",",{"$f":"DataEntry!G144","v":0},",",{"$f":"DataEntry!H144","v":0},",",{"$f":"DataEntry!J144","v":{"$error":"#N/A"}},",",{"$f":"DataEntry!L144","v":{"$error":"#N/A"}},")",","]
["(",{"$error":"#N/A"},",",{"$f":"DataEntry!G145","v":0},",",{"$f":"DataEntry!H145","v":0},",",{"$f":"DataEntry!J145","v":{"$error":"#N/A"}},",",{"$f":"DataEntry!L145","v":{"$error":"#N/A"}},")",","]
["(",{"$error":"#N/A"},",",{"$f":"DataEntry!G146","v":0},",",{"$f":"DataEntry!H146","v":0},",",{"$f":"DataEntry!J146","v":{"$error":"#N/A"}},",",{"$f":"DataEntry!L146","v":{"$error":"#N/A"}},")",","]
["(",{"$error":"#N/A"},",",{"$f":"DataEntry!G147","v":0},",",{"$f":"DataEntry!H147","v":0},",",{"$f":"DataEntry!J147","v":{"$error":"#N/A"}},",",{"$f":"DataEntry!L147","v":{"$error":"#N/A"}},")",","]
["(",{"$error":"#N/A"},",",{"$f":"DataEntry!G148","v":0},",",{"$f":"DataEntry!H148","v":0},",",{"$f":"DataEntry!J148","v":{"$error":"#N/A"}},",",{"$f":"DataEntry!L148","v":{"$error":"#N/A"}},")",","]
["(",{"$error":"#N/A"},",",{"$f":"DataEntry!G149","v":0},",",{"$f":"DataEntry!H149","v":0},",",{"$f":"DataEntry!J149","v":{"$error":"#N/A"}},",",{"$f":"DataEntry!L149","v":{"$error":"#N/A"}},")",","]
["(",{"$error":"#N/A"},",",{"$f":"DataEntry!G150","v":0},",",{"$f":"DataEntry!H150","v":0},",",{"$f":"DataEntry!J150","v":{"$error":"#N/A"}},",",{"$f":"DataEntry!L150","v":{"$error":"#N/A"}},")",","]
["(",{"$error":"#N/A"},",",{"$f":"DataEntry!G151","v":0},",",{"$f":"DataEntry!H151","v":0},",",{"$f":"DataEntry!J151","v":{"$error":"#N/A"}},",",{"$f":"DataEntry!L151","v":{"$error":"#N/A"}},")",","]
["(",{"$error":"#N/A"},",",{"$f":"DataEntry!G152","v":0},",",{"$f":"DataEntry!H152","v":0},",",{"$f":"DataEntry!J152","v":{"$error":"#N/A"}},",",{"$f":"DataEntry!L152","v":{"$error":"#N/A"}},")",","]
["(",{"$error":"#N/A"},",",{"$f":"DataEntry!G153","v":0},",",{"$f":"DataEntry!H153","v":0},",",{"$f":"DataEntry!J153","v":{"$error":"#N/A"}},",",{"$f":"DataEntry!L153","v":{"$error":"#N/A"}},")",","]
["(",{"$error":"#N/A"},",",{"$f":"DataEntry!G154","v":0},",",{"$f":"DataEntry!H154","v":0},",",{"$f":"DataEntry!J154","v":{"$error":"#N/A"}},",",{"$f":"DataEntry!L154","v":{"$error":"#N/A"}},")",","]
["(",{"$error":"#N/A"},",",{"$f":"DataEntry!G155","v":0},",",{"$f":"DataEntry!H155","v":0},",",{"$f":"DataEntry!J155","v":{"$error":"#N/A"}},",",{"$f":"DataEntry!L155","v":{"$error":"#N/A"}},")",","]
["(",{"$error":"#N/A"},",",{"$f":"DataEntry!G156","v":0},",",{"$f":"DataEntry!H156","v":0},",",{"$f":"DataEntry!J156","v":{"$error":"#N/A"}},",",{"$f":"DataEntry!L156","v":{"$error":"#N/A"}},")",","]
["(",{"$error":"#N/A"},",",{"$f":"DataEntry!G157","v":0},",",{"$f":"DataEntry!H157","v":0},",",{"$f":"DataEntry!J157","v":{"$error":"#N/A"}},",",{"$f":"DataEntry!L157","v":{"$error":"#N/A"}},")",","]
["(",{"$error":"#N/A"},",",{"$f":"DataEntry!G158","v":0},",",{"$f":"DataEntry!H158","v":0},",",{"$f":"DataEntry!J158","v":{"$error":"#N/A"}},",",{"$f":"DataEntry!L158","v":{"$error":"#N/A"}},")",","]
["(",{"$error":"#N/A"},",",{"$f":"DataEntry!G159","v":0},",",{"$f":"DataEntry!H159","v":0},",",{"$f":"DataEntry!J159","v":{"$error":"#N/A"}},",",{"$f":"DataEntry!L159","v":{"$error":"#N/A"}},")",","]
["(",{"$error":"#N/A"},",",{"$f":"DataEntry!G160","v":0},",",{"$f":"DataEntry!H160","v":0},",",{"$f":"DataEntry!J160","v":{"$error":"#N/A"}},",",{"$f":"DataEntry!L160","v":{"$error":"#N/A"}},")",","]
["(",{"$error":"#N/A"},",",{"$f":"DataEntry!G161","v":0},",",{"$f":"DataEntry!H161","v":0},",",{"$f":"DataEntry!J161","v":{"$error":"#N/A"}},",",{"$f":"DataEntry!L161","v":{"$error":"#N/A"}},")",","]
["(",{"$error":"#N/A"},",",{"$f":"DataEntry!G162","v":0},",",{"$f":"DataEntry!H162","v":0},",",{"$f":"DataEntry!J162","v":{"$error":"#N/A"}},",",{"$f":"DataEntry!L162","v":{"$error":"#N/A"}},")",","]
["(",{"$error":"#N/A"},",",{"$f":"DataEntry!G163","v":0},",",{"$f":"DataEntry!H163","v":0},",",{"$f":"DataEntry!J163","v":{"$error":"#N/A"}},",",{"$f":"DataEntry!L163","v":{"$error":"#N/A"}},")",","]
["(",{"$error":"#N/A"},",",{"$f":"DataEntry!G164","v":0},",",{"$f":"DataEntry!H164","v":0},",",{"$f":"DataEntry!J164","v":{"$error":"#N/A"}},",",{"$f":"DataEntry!L164","v":{"$error":"#N/A"}},")",","]
["(",{"$error":"#N/A"},",",{"$f":"DataEntry!G165","v":0},",",{"$f":"DataEntry!H165","v":0},",",{"$f":"DataEntry!J165","v":{"$error":"#N/A"}},",",{"$f":"DataEntry!L165","v":{"$error":"#N/A"}},")",","]
["(",{"$error":"#N/A"},",",{"$f":"DataEntry!G166","v":0},",",{"$f":"DataEntry!H166","v":0},",",{"$f":"DataEntry!J166","v":{"$error":"#N/A"}},",",{"$f":"DataEntry!L166","v":{"$error":"#N/A"}},")",","]
["(",{"$error":"#N/A"},",",{"$f":"DataEntry!G167","v":0},",",{"$f":"DataEntry!H167","v":0},",",{"$f":"DataEntry!J167","v":{"$error":"#N/A"}},",",{"$f":"DataEntry!L167","v":{"$error":"#N/A"}},")",","]
["(",{"$error":"#N/A"},",",{"$f":"DataEntry!G168","v":0},",",{"$f":"DataEntry!H168","v":0},",",{"$f":"DataEntry!J168","v":{"$error":"#N/A"}},",",{"$f":"DataEntry!L168","v":{"$error":"#N/A"}},")",","]
["(",{"$error":"#N/A"},",",{"$f":"DataEntry!G169","v":0},",",{"$f":"DataEntry!H169","v":0},",",{"$f":"DataEntry!J169","v":{"$error":"#N/A"}},",",{"$f":"DataEntry!L169","v":{"$error":"#N/A"}},")",","]
["(",{"$error":"#N/A"},",",{"$f":"DataEntry!G170","v":0},",",{"$f":"DataEntry!H170","v":0},",",{"$f":"DataEntry!J170","v":{"$error":"#N/A"}},",",{"$f":"DataEntry!L170","v":{"$error":"#N/A"}},")",","]
["(",{"$error":"#N/A"},",",{"$f":"DataEntry!G171","v":0},",",{"$f":"DataEntry!H171","v":0},",",{"$f":"DataEntry!J171","v":{"$error":"#N/A"}},",",{"$f":"DataEntry!L171","v":{"$error":"#N/A"}},")",","]
["(",{"$error":"#N/A"},",",{"$f":"DataEntry!G172","v":0},",",{"$f":"DataEntry!H172","v":0},",",{"$f":"DataEntry!J172","v":{"$error":"#N/A"}},",",{"$f":"DataEntry!L172","v":{"$error":"#N/A"}},")",","]
["(",{"$error":"#N/A"},",",{"$f":"DataEntry!G173","v":0},",",{"$f":"DataEntry!H173","v":0},",",{"$f":"DataEntry!J173","v":{"$error":"#N/A"}},",",{"$f":"DataEntry!L173","v":{"$error":"#N/A"}},")",","]
["(",{"$error":"#N/A"},",",{"$f":"DataEntry!G174","v":0},",",{"$f":"DataEntry!H174","v":0},",",{"$f":"DataEntry!J174","v":{"$error":"#N/A"}},",",{"$f":"DataEntry!L174","v":{"$error":"#N/A"}},")",","]
["(",{"$error":"#N/A"},",",{"$f":"DataEntry!G175","v":0},",",{"$f":"DataEntry!H175","v":0},",",{"$f":"DataEntry!J175","v":{"$error":"#N/A"}},",",{"$f":"DataEntry!L175","v":{"$error":"#N/A"}},")",","]
["(",{"$error":"#N/A"},",",{"$f":"DataEntry!G176","v":0},",",{"$f":"DataEntry!H176","v":0},",",{"$f":"DataEntry!J176","v":{"$error":"#N/A"}},",",{"$f":"DataEntry!L176","v":{"$error":"#N/A"}},")",","]
["(",{"$error":"#N/A"},",",{"$f":"DataEntry!G177","v":0},",",{"$f":"DataEntry!H177","v":0},",",{"$f":"DataEntry!J177","v":{"$error":"#N/A"}},",",{"$f":"DataEntry!L177","v":{"$error":"#N/A"}},")",","]
["(",{"$error":"#N/A"},",",{"$f":"DataEntry!G178","v":0},",",{"$f":"DataEntry!H178","v":0},",",{"$f":"DataEntry!J178","v":{"$error":"#N/A"}},",",{"$f":"DataEntry!L178","v":{"$error":"#N/A"}},")",","]
["(",{"$error":"#N/A"},",",{"$f":"DataEntry!G179","v":0},",",{"$f":"DataEntry!H179","v":0},",",{"$f":"DataEntry!J179","v":{"$error":"#N/A"}},",",{"$f":"DataEntry!L179","v":{"$error":"#N/A"}},")",","]
["(",{"$error":"#N/A"},",",{"$f":"DataEntry!G180","v":0},",",{"$f":"DataEntry!H180","v":0},",",{"$f":"DataEntry!J180","v":{"$error":"#N/A"}},",",{"$f":"DataEntry!L180","v":{"$error":"#N/A"}},")",","]
["(",{"$error":"#N/A"},",",{"$f":"DataEntry!G181","v":0},",",{"$f":"DataEntry!H181","v":0},",",{"$f":"DataEntry!J181","v":{"$error":"#N/A"}},",",{"$f":"DataEntry!L181","v":{"$error":"#N/A"}},")",","]
["(",{"$error":"#N/A"},",",{"$f":"DataEntry!G182","v":0},",",{"$f":"DataEntry!H182","v":0},",",{"$f":"DataEntry!J182","v":{"$error":"#N/A"}},",",{"$f":"DataEntry!L182","v":{"$error":"#N/A"}},")",","]
["(",{"$error":"#N/A"},",",{"$f":"DataEntry!G183","v":0},",",{"$f":"DataEntry!H183","v":0},",",{"$f":"DataEntry!J183","v":{"$error":"#N/A"}},",",{"$f":"DataEntry!L183","v":{"$error":"#N/A"}},")",","]
["(",{"$error":"#N/A"},",",{"$f":"DataEntry!G184","v":0},",",{"$f":"DataEntry!H184","v":0},",",{"$f":"DataEntry!J184","v":{"$error":"#N/A"}},",",{"$f":"DataEntry!L184","v":{"$error":"#N/A"}},")",","]
["(",{"$error":"#N/A"},",",{"$f":"DataEntry!G185","v":0},",",{"$f":"DataEntry!H185","v":0},",",{"$f":"DataEntry!J185","v":{"$error":"#N/A"}},",",{"$f":"DataEntry!L185","v":{"$error":"#N/A"}},")",","]
["(",{"$error":"#N/A"},",",{"$f":"DataEntry!G186","v":0},",",{"$f":"DataEntry!H186","v":0},",",{"$f":"DataEntry!J186","v":{"$error":"#N/A"}},",",{"$f":"DataEntry!L186","v":{"$error":"#N/A"}},")",","]
["(",{"$error":"#N/A"},",",{"$f":"DataEntry!G187","v":0},",",{"$f":"DataEntry!H187","v":0},",",{"$f":"DataEntry!J187","v":{"$error":"#N/A"}},",",{"$f":"DataEntry!L187","v":{"$error":"#N/A"}},")",","]
["(",{"$error":"#N/A"},",",{"$f":"DataEntry!G188","v":0},",",{"$f":"DataEntry!H188","v":0},",",{"$f":"DataEntry!J188","v":{"$error":"#N/A"}},",",{"$f":"DataEntry!L188","v":{"$error":"#N/A"}},")",","]
["(",{"$error":"#N/A"},",",{"$f":"DataEntry!G189","v":0},",",{"$f":"DataEntry!H189","v":0},",",{"$f":"DataEntry!J189","v":{"$error":"#N/A"}},",",{"$f":"DataEntry!L189","v":{"$error":"#N/A"}},")",","]
["(",{"$error":"#N/A"},",",{"$f":"DataEntry!G190","v":0},",",{"$f":"DataEntry!H190","v":0},",",{"$f":"DataEntry!J190","v":{"$error":"#N/A"}},",",{"$f":"DataEntry!L190","v":{"$error":"#N/A"}},")",","]
["(",{"$error":"#N/A"},",",{"$f":"DataEntry!G191","v":0},",",{"$f":"DataEntry!H191","v":0},",",{"$f":"DataEntry!J191","v":{"$error":"#N/A"}},",",{"$f":"DataEntry!L191","v":{"$error":"#N/A"}},")",","]
["(",{"$error":"#N/A"},",",{"$f":"DataEntry!G192","v":0},",",{"$f":"DataEntry!H192","v":0},",",{"$f":"DataEntry!J192","v":{"$error":"#N/A"}},",",{"$f":"DataEntry!L192","v":{"$error":"#N/A"}},")",","]
["(",{"$error":"#N/A"},",",{"$f":"DataEntry!G193","v":0},",",{"$f":"DataEntry!H193","v":0},",",{"$f":"DataEntry!J193","v":{"$error":"#N/A"}},",",{"$f":"DataEntry!L193","v":{"$error":"#N/A"}},")",","]
["(",{"$error":"#N/A"},",",{"$f":"DataEntry!G194","v":0},",",{"$f":"DataEntry!H194","v":0},",",{"$f":"DataEntry!J194","v":{"$error":"#N/A"}},",",{"$f":"DataEntry!L194","v":{"$error":"#N/A"}},")",","]
["(",{"$error":"#N/A"},",",{"$f":"DataEntry!G195","v":0},",",{"$f":"DataEntry!H195","v":0},",",{"$f":"DataEntry!J195","v":{"$error":"#N/A"}},",",{"$f":"DataEntry!L195","v":{"$error":"#N/A"}},")",","]
["(",{"$error":"#N/A"},",",{"$f":"DataEntry!G196","v":0},",",{"$f":"DataEntry!H196","v":0},",",{"$f":"DataEntry!J196","v":{"$error":"#N/A"}},",",{"$f":"DataEntry!L196","v":{"$error":"#N/A"}},")",","]
["(",{"$error":"#N/A"},",",{"$f":"DataEntry!G197","v":0},",",{"$f":"DataEntry!H197","v":0},",",{"$f":"DataEntry!J197","v":{"$error":"#N/A"}},",",{"$f":"DataEntry!L197","v":{"$error":"#N/A"}},")",","]
["(",{"$error":"#N/A"},",",{"$f":"DataEntry!G198","v":0},",",{"$f":"DataEntry!H198","v":0},",",{"$f":"DataEntry!J198","v":{"$error":"#N/A"}},",",{"$f":"DataEntry!L198","v":{"$error":"#N/A"}},")",","]
["(",{"$error":"#N/A"},",",{"$f":"DataEntry!G199","v":0},",",{"$f":"DataEntry!H199","v":0},",",{"$f":"DataEntry!J199","v":{"$error":"#N/A"}},",",{"$f":"DataEntry!L199","v":{"$error":"#N/A"}},")",","]
["(",{"$error":"#N/A"},",",{"$f":"DataEntry!G200","v":0},",",{"$f":"DataEntry!H200","v":0},",",{"$f":"DataEntry!J200","v":{"$error":"#N/A"}},",",{"$f":"DataEntry!L200","v":{"$error":"#N/A"}},")",","]
["(",{"$error":"#N/A"},",",{"$f":"DataEntry!G201","v":0},",",{"$f":"DataEntry!H201","v":0},",",{"$f":"DataEntry!J201","v":{"$error":"#N/A"}},",",{"$f":"DataEntry!L201","v":{"$error":"#N/A"}},")",","]
["(",{"$error":"#N/A"},",",{"$f":"DataEntry!G202","v":0},",",{"$f":"DataEntry!H202","v":0},",",{"$f":"DataEntry!J202","v":{"$error":"#N/A"}},",",{"$f":"DataEntry!L202","v":{"$error":"#N/A"}},")",","]
["(",{"$error":"#N/A"},",",{"$f":"DataEntry!G203","v":0},",",{"$f":"DataEntry!H203","v":0},",",{"$f":"DataEntry!J203","v":{"$error":"#N/A"}},",",{"$f":"DataEntry!L203","v":{"$error":"#N/A"}},")",","]
["(",{"$error":"#N/A"},",",{"$f":"DataEntry!G204","v":0},",",{"$f":"DataEntry!H204","v":0},",",{"$f":"DataEntry!J204","v":{"$error":"#N/A"}},",",{"$f":"DataEntry!L204","v":{"$error":"#N/A"}},")",","]
["(",{"$error":"#N/A"},",",{"$f":"DataEntry!G205","v":0},",",{"$f":"DataEntry!H205","v":0},",",{"$f":"DataEntry!J205","v":{"$error":"#N/A"}},",",{"$f":"DataEntry!L205","v":{"$error":"#N/A"}},")",","]
["(",{"$error":"#N/A"},",",{"$f":"DataEntry!G206","v":0},",",{"$f":"DataEntry!H206","v":0},",",{"$f":"DataEntry!J206","v":{"$error":"#N/A"}},",",{"$f":"DataEntry!L206","v":{"$error":"#N/A"}},")",","]
["(",{"$f":"VLOOKUP(D196,$N$14:$O$113,2,FALSE)","v":{"$error":"#N/A"}},",",{"$f":"DataEntry!G207","v":0},",",{"$f":"DataEntry!H207","v":0},",",{"$f":"DataEntry!J207","v":{"$error":"#N/A"}},",",{"$f":"DataEntry!L207","v":{"$error":"#N/A"}},")",","]
["(",{"$error":"#N/A"},",",{"$f":"DataEntry!G208","v":0},",",{"$f":"DataEntry!H208","v":0},",",{"$f":"DataEntry!J208","v":{"$error":"#N/A"}},",",{"$f":"DataEntry!L208","v":{"$error":"#N/A"}},")",","]
["(",{"$error":"#N/A"},",",{"$f":"DataEntry!G209","v":0},",",{"$f":"DataEntry!H209","v":0},",",{"$f":"DataEntry!J209","v":{"$error":"#N/A"}},",",{"$f":"DataEntry!L209","v":{"$error":"#N/A"}},")",","]
["(",{"$error":"#N/A"},",",{"$f":"DataEntry!G210","v":0},",",{"$f":"DataEntry!H210","v":0},",",{"$f":"DataEntry!J210","v":{"$error":"#N/A"}},",",{"$f":"DataEntry!L210","v":{"$error":"#N/A"}},")",","]
["(",{"$error":"#N/A"},",",{"$f":"DataEntry!G211","v":0},",",{"$f":"DataEntry!H211","v":0},",",{"$f":"DataEntry!J211","v":{"$error":"#N/A"}},",",{"$f":"DataEntry!L211","v":{"$error":"#N/A"}},")",","]
["(",{"$error":"#N/A"},",",{"$f":"DataEntry!G212","v":0},",",{"$f":"DataEntry!H212","v":0},",",{"$f":"DataEntry!J212","v":{"$error":"#N/A"}},",",{"$f":"DataEntry!L212","v":{"$error":"#N/A"}},")",","]
["(",{"$error":"#N/A"},",",{"$f":"DataEntry!G213","v":0},",",{"$f":"DataEntry!H213","v":0},",",{"$f":"DataEntry!J213","v":{"$error":"#N/A"}},",",{"$f":"DataEntry!L213","v":{"$error":"#N/A"}},")",","]
["(",{"$error":"#N/A"},",",{"$f":"DataEntry!G214","v":0},",",{"$f":"DataEntry!H214","v":0},",",{"$f":"DataEntry!J214","v":{"$error":"#N/A"}},",",{"$f":"DataEntry!L214","v":{"$error":"#N/A"}},")",","]
["(",{"$error":"#N/A"},",",{"$f":"DataEntry!G215","v":0},",",{"$f":"DataEntry!H215","v":0},",",{"$f":"DataEntry!J215","v":{"$error":"#N/A"}},",",{"$f":"DataEntry!L215","v":{"$error":"#N/A"}},")",","]
["(",{"$error":"#N/A"},",",{"$f":"DataEntry!G216","v":0},",",{"$f":"DataEntry!H216","v":0},",",{"$f":"DataEntry!J216","v":{"$error":"#N/A"}},",",{"$f":"DataEntry!L216","v":{"$error":"#N/A"}},")",","]
["(",{"$error":"#N/A"},",",{"$f":"DataEntry!G217","v":0},",",{"$f":"DataEntry!H217","v":0},",",{"$f":"DataEntry!J217","v":{"$error":"#N/A"}},",",{"$f":"DataEntry!L217","v":{"$error":"#N/A"}},")",","]
["(",{"$error":"#N/A"},",",{"$f":"DataEntry!G218","v":0},",",{"$f":"DataEntry!H218","v":0},",",{"$f":"DataEntry!J218","v":{"$error":"#N/A"}},",",{"$f":"DataEntry!L218","v":{"$error":"#N/A"}},")",","]
["(",{"$error":"#N/A"},",",{"$f":"DataEntry!G219","v":0},",",{"$f":"DataEntry!H219","v":0},",",{"$f":"DataEntry!J219","v":{"$error":"#N/A"}},",",{"$f":"DataEntry!L219","v":{"$error":"#N/A"}},")",","]
["(",{"$error":"#N/A"},",",{"$f":"DataEntry!G220","v":0},",",{"$f":"DataEntry!H220","v":0},",",{"$f":"DataEntry!J220","v":{"$error":"#N/A"}},",",{"$f":"DataEntry!L220","v":{"$error":"#N/A"}},")",","]
["(",{"$error":"#N/A"},",",{"$f":"DataEntry!G221","v":0},",",{"$f":"DataEntry!H221","v":0},",",{"$f":"DataEntry!J221","v":{"$error":"#N/A"}},",",{"$f":"DataEntry!L221","v":{"$error":"#N/A"}},")",","]
["(",{"$error":"#N/A"},",",{"$f":"DataEntry!G222","v":0},",",{"$f":"DataEntry!H222","v":0},",",{"$f":"DataEntry!J222","v":{"$error":"#N/A"}},",",{"$f":"DataEntry!L222","v":{"$error":"#N/A"}},")",","]
["(",{"$error":"#N/A"},",",{"$f":"DataEntry!G223","v":0},",",{"$f":"DataEntry!H223","v":0},",",{"$f":"DataEntry!J223","v":{"$error":"#N/A"}},",",{"$f":"DataEntry!L223","v":{"$error":"#N/A"}},")",","]
["(",{"$error":"#N/A"},",",{"$f":"DataEntry!G224","v":0},",",{"$f":"DataEntry!H224","v":0},",",{"$f":"DataEntry!J224","v":{"$error":"#N/A"}},",",{"$f":"DataEntry!L224","v":{"$error":"#N/A"}},")",","]
["(",{"$error":"#N/A"},",",{"$f":"DataEntry!G225","v":0},",",{"$f":"DataEntry!H225","v":0},",",{"$f":"DataEntry!J225","v":{"$error":"#N/A"}},",",{"$f":"DataEntry!L225","v":{"$error":"#N/A"}},")",","]
["(",{"$error":"#N/A"},",",{"$f":"DataEntry!G226","v":0},",",{"$f":"DataEntry!H226","v":0},",",{"$f":"DataEntry!J226","v":{"$error":"#N/A"}},",",{"$f":"DataEntry!L226","v":{"$error":"#N/A"}},")",","]
["(",{"$error":"#N/A"},",",{"$f":"DataEntry!G227","v":0},",",{"$f":"DataEntry!H227","v":0},",",{"$f":"DataEntry!J227","v":{"$error":"#N/A"}},",",{"$f":"DataEntry!L227","v":{"$error":"#N/A"}},")",","]
["(",{"$error":"#N/A"},",",{"$f":"DataEntry!G228","v":0},",",{"$f":"DataEntry!H228","v":0},",",{"$f":"DataEntry!J228","v":{"$error":"#N/A"}},",",{"$f":"DataEntry!L228","v":{"$error":"#N/A"}},")",","]
["(",{"$error":"#N/A"},",",{"$f":"DataEntry!G229","v":0},",",{"$f":"DataEntry!H229","v":0},",",{"$f":"DataEntry!J229","v":{"$error":"#N/A"}},",",{"$f":"DataEntry!L229","v":{"$error":"#N/A"}},")",","]
["(",{"$error":"#N/A"},",",{"$f":"DataEntry!G230","v":0},",",{"$f":"DataEntry!H230","v":0},",",{"$f":"DataEntry!J230","v":{"$error":"#N/A"}},",",{"$f":"DataEntry!L230","v":{"$error":"#N/A"}},")",","]
["(",{"$error":"#N/A"},",",{"$f":"DataEntry!G231","v":0},",",{"$f":"DataEntry!H231","v":0},",",{"$f":"DataEntry!J231","v":{"$error":"#N/A"}},",",{"$f":"DataEntry!L231","v":{"$error":"#N/A"}},")",","]
["(",{"$error":"#N/A"},",",{"$f":"DataEntry!G232","v":0},",",{"$f":"DataEntry!H232","v":0},",",{"$f":"DataEntry!J232","v":{"$error":"#N/A"}},",",{"$f":"DataEntry!L232","v":{"$error":"#N/A"}},")",","]
["(",{"$error":"#N/A"},",",{"$f":"DataEntry!G233","v":0},",",{"$f":"DataEntry!H233","v":0},",",{"$f":"DataEntry!J233","v":{"$error":"#N/A"}},",",{"$f":"DataEntry!L233","v":{"$error":"#N/A"}},")",","]
["(",{"$error":"#N/A"},",",{"$f":"DataEntry!G234","v":0},",",{"$f":"DataEntry!H234","v":0},",",{"$f":"DataEntry!J234","v":{"$error":"#N/A"}},",",{"$f":"DataEntry!L234","v":{"$error":"#N/A"}},")",","]
["(",{"$error":"#N/A"},",",{"$f":"DataEntry!G235","v":0},",",{"$f":"DataEntry!H235","v":0},",",{"$f":"DataEntry!J235","v":{"$error":"#N/A"}},",",{"$f":"DataEntry!L235","v":{"$error":"#N/A"}},")",","]
["(",{"$error":"#N/A"},",",{"$f":"DataEntry!G236","v":0},",",{"$f":"DataEntry!H236","v":0},",",{"$f":"DataEntry!J236","v":{"$error":"#N/A"}},",",{"$f":"DataEntry!L236","v":{"$error":"#N/A"}},")",","]
["(",{"$error":"#N/A"},",",{"$f":"DataEntry!G237","v":0},",",{"$f":"DataEntry!H237","v":0},",",{"$f":"DataEntry!J237","v":{"$error":"#N/A"}},",",{"$f":"DataEntry!L237","v":{"$error":"#N/A"}},")",","]
["(",{"$error":"#N/A"},",",{"$f":"DataEntry!G238","v":0},",",{"$f":"DataEntry!H238","v":0},",",{"$f":"DataEntry!J238","v":{"$error":"#N/A"}},",",{"$f":"DataEntry!L238","v":{"$error":"#N/A"}},")",","]
["(",{"$error":"#N/A"},",",{"$f":"DataEntry!G239","v":0},",",{"$f":"DataEntry!H239","v":0},",",{"$f":"DataEntry!J239","v":{"$error":"#N/A"}},",",{"$f":"DataEntry!L239","v":{"$error":"#N/A"}},")",","]
["(",{"$error":"#N/A"},",",{"$f":"DataEntry!G240","v":0},",",{"$f":"DataEntry!H240","v":0},",",{"$f":"DataEntry!J240","v":{"$error":"#N/A"}},",",{"$f":"DataEntry!L240","v":{"$error":"#N/A"}},")",","]
["(",{"$error":"#N/A"},",",{"$f":"DataEntry!G241","v":0},",",{"$f":"DataEntry!H241","v":0},",",{"$f":"DataEntry!J241","v":{"$error":"#N/A"}},",",{"$f":"DataEntry!L241","v":{"$error":"#N/A"}},")",","]
["(",{"$error":"#N/A"},",",{"$f":"DataEntry!G242","v":0},",",{"$f":"DataEntry!H242","v":0},",",{"$f":"DataEntry!J242","v":{"$error":"#N/A"}},",",{"$f":"DataEntry!L242","v":{"$error":"#N/A"}},")",","]
["(",{"$error":"#N/A"},",",{"$f":"DataEntry!G243","v":0},",",{"$f":"DataEntry!H243","v":0},",",{"$f":"DataEntry!J243","v":{"$error":"#N/A"}},",",{"$f":"DataEntry!L243","v":{"$error":"#N/A"}},")",","]
["(",{"$error":"#N/A"},",",{"$f":"DataEntry!G244","v":0},",",{"$f":"DataEntry!H244","v":0},",",{"$f":"DataEntry!J244","v":{"$error":"#N/A"}},",",{"$f":"DataEntry!L244","v":{"$error":"#N/A"}},")",","]
["(",{"$error":"#N/A"},",",{"$f":"DataEntry!G245","v":0},",",{"$f":"DataEntry!H245","v":0},",",{"$f":"DataEntry!J245","v":{"$error":"#N/A"}},",",{"$f":"DataEntry!L245","v":{"$error":"#N/A"}},")",","]
["(",{"$error":"#N/A"},",",{"$f":"DataEntry!G246","v":0},",",{"$f":"DataEntry!H246","v":0},",",{"$f":"DataEntry!J246","v":{"$error":"#N/A"}},",",{"$f":"DataEntry!L246","v":{"$error":"#N/A"}},")",","]
["(",{"$error":"#N/A"},",",{"$f":"DataEntry!G247","v":0},",",{"$f":"DataEntry!H247","v":0},",",{"$f":"DataEntry!J247","v":{"$error":"#N/A"}},",",{"$f":"DataEntry!L247","v":{"$error":"#N/A"}},")",","]
["(",{"$error":"#N/A"},",",{"$f":"DataEntry!G248","v":0},",",{"$f":"DataEntry!H248","v":0},",",{"$f":"DataEntry!J248","v":{"$error":"#N/A"}},",",{"$f":"DataEntry!L248","v":{"$error":"#N/A"}},")",","]
["(",{"$error":"#N/A"},",",{"$f":"DataEntry!G249","v":0},",",{"$f":"DataEntry!H249","v":0},",",{"$f":"DataEntry!J249","v":{"$error":"#N/A"}},",",{"$f":"DataEntry!L249","v":{"$error":"#N/A"}},")",","]
["(",{"$error":"#N/A"},",",{"$f":"DataEntry!G250","v":0},",",{"$f":"DataEntry!H250","v":0},",",{"$f":"DataEntry!J250","v":{"$error":"#N/A"}},",",{"$f":"DataEntry!L250","v":{"$error":"#N/A"}},")",","]
["(",{"$error":"#N/A"},",",{"$f":"DataEntry!G251","v":0},",",{"$f":"DataEntry!H251","v":0},",",{"$f":"DataEntry!J251","v":{"$error":"#N/A"}},",",{"$f":"DataEntry!L251","v":{"$error":"#N/A"}},")",","]
["(",{"$error":"#N/A"},",",{"$f":"DataEntry!G252","v":0},",",{"$f":"DataEntry!H252","v":0},",",{"$f":"DataEntry!J252","v":{"$error":"#N/A"}},",",{"$f":"DataEntry!L252","v":{"$error":"#N/A"}},")",","]
["(",{"$error":"#N/A"},",",{"$f":"DataEntry!G253","v":0},",",{"$f":"DataEntry!H253","v":0},",",{"$f":"DataEntry!J253","v":{"$error":"#N/A"}},",",{"$f":"DataEntry!L253","v":{"$error":"#N/A"}},")",","]
["(",{"$error":"#N/A"},",",{"$f":"DataEntry!G254","v":0},",",{"$f":"DataEntry!H254","v":0},",",{"$f":"DataEntry!J254","v":{"$error":"#N/A"}},",",{"$f":"DataEntry!L254","v":{"$error":"#N/A"}},")",","]
["(",{"$error":"#N/A"},",",{"$f":"DataEntry!G255","v":0},",",{"$f":"DataEntry!H255","v":0},",",{"$f":"DataEntry!J255","v":{"$error":"#N/A"}},",",{"$f":"DataEntry!L255","v":{"$error":"#N/A"}},")",","]
["(",{"$error":"#N/A"},",",{"$f":"DataEntry!G256","v":0},",",{"$f":"DataEntry!H256","v":0},",",{"$f":"DataEntry!J256","v":{"$error":"#N/A"}},",",{"$f":"DataEntry!L256","v":{"$error":"#N/A"}},")",","]
["(",{"$error":"#N/A"},",",{"$f":"DataEntry!G257","v":0},",",{"$f":"DataEntry!H257","v":0},",",{"$f":"DataEntry!J257","v":{"$error":"#N/A"}},",",{"$f":"DataEntry!L257","v":{"$error":"#N/A"}},")",","]
["(",{"$error":"#N/A"},",",{"$f":"DataEntry!G258","v":0},",",{"$f":"DataEntry!H258","v":0},",",{"$f":"DataEntry!J258","v":{"$error":"#N/A"}},",",{"$f":"DataEntry!L258","v":{"$error":"#N/A"}},")",","]
["(",{"$error":"#N/A"},",",{"$f":"DataEntry!G259","v":0},",",{"$f":"DataEntry!H259","v":0},",",{"$f":"DataEntry!J259","v":{"$error":"#N/A"}},",",{"$f":"DataEntry!L259","v":{"$error":"#N/A"}},")",","]
["(",{"$error":"#N/A"},",",{"$f":"DataEntry!G260","v":0},",",{"$f":"DataEntry!H260","v":0},",",{"$f":"DataEntry!J260","v":{"$error":"#N/A"}},",",{"$f":"DataEntry!L260","v":{"$error":"#N/A"}},")",","]
["(",{"$error":"#N/A"},",",{"$f":"DataEntry!G261","v":0},",",{"$f":"DataEntry!H261","v":0},",",{"$f":"DataEntry!J261","v":{"$error":"#N/A"}},",",{"$f":"DataEntry!L261","v":{"$error":"#N/A"}},")",","]
["(",{"$error":"#N/A"},",",{"$f":"DataEntry!G262","v":0},",",{"$f":"DataEntry!H262","v":0},",",{"$f":"DataEntry!J262","v":{"$error":"#N/A"}},",",{"$f":"DataEntry!L262","v":{"$error":"#N/A"}},")",","]
["(",{"$error":"#N/A"},",",{"$f":"DataEntry!G263","v":0},",",{"$f":"DataEntry!H263","v":0},",",{"$f":"DataEntry!J263","v":{"$error":"#N/A"}},",",{"$f":"DataEntry!L263","v":{"$error":"#N/A"}},")",","]
["(",null,",",{"$f":"DataEntry!G264","v":0},",",{"$f":"DataEntry!H264","v":0},",",{"$f":"DataEntry!J264","v":{"$error":"#N/A"}},",",{"$f":"DataEntry!L264","v":{"$error":"#N/A"}},")",","]
["(",null,",",{"$f":"DataEntry!G265","v":0},",",{"$f":"DataEntry!H265","v":0},",",{"$f":"DataEntry!J265","v":{"$error":"#N/A"}},",",{"$f":"DataEntry!L265","v":{"$error":"#N/A"}},")",","]
["(",null,",",{"$f":"DataEntry!G266","v":0},",",{"$f":"DataEntry!H266","v":0},",",{"$f":"DataEntry!J266","v":{"$error":"#N/A"}},",",{"$f":"DataEntry!L266","v":{"$error":"#N/A"}},")",","]
["(",null,",",{"$f":"DataEntry!G267","v":0},",",{"$f":"DataEntry!H267","v":0},",",{"$f":"DataEntry!J267","v":{"$error":"#N/A"}},",",{"$f":"DataEntry!L267","v":{"$error":"#N/A"}},")",","]
["(",null,",",{"$f":"DataEntry!G268","v":0},",",{"$f":"DataEntry!H268","v":0},",",{"$f":"DataEntry!J268","v":{"$error":"#N/A"}},",",{"$f":"DataEntry!L268","v":{"$error":"#N/A"}},")",","]
["(",null,",",{"$f":"DataEntry!G269","v":0},",",{"$f":"DataEntry!H269","v":0},",",{"$f":"DataEntry!J269","v":{"$error":"#N/A"}},",",{"$f":"DataEntry!L269","v":{"$error":"#N/A"}},")",","]
["(",null,",",{"$f":"DataEntry!G270","v":0},",",{"$f":"DataEntry!H270","v":0},",",{"$f":"DataEntry!J270","v":{"$error":"#N/A"}},",",{"$f":"DataEntry!L270","v":{"$error":"#N/A"}},")",","]
["(",null,",",{"$f":"DataEntry!G271","v":0},",",{"$f":"DataEntry!H271","v":0},",",{"$f":"DataEntry!J271","v":{"$error":"#N/A"}},",",{"$f":"DataEntry!L271","v":{"$error":"#N/A"}},")",","]
["(",null,",",{"$f":"DataEntry!G272","v":0},",",{"$f":"DataEntry!H272","v":0},",",{"$f":"DataEntry!J272","v":{"$error":"#N/A"}},",",{"$f":"DataEntry!L272","v":{"$error":"#N/A"}},")",","]
["(",null,",",{"$f":"DataEntry!G273","v":0},",",{"$f":"DataEntry!H273","v":0},",",{"$f":"DataEntry!J273","v":{"$error":"#N/A"}},",",{"$f":"DataEntry!L273","v":{"$error":"#N/A"}},")",","]
["(",null,",",{"$f":"DataEntry!G274","v":0},",",{"$f":"DataEntry!H274","v":0},",",{"$f":"DataEntry!J274","v":{"$error":"#N/A"}},",",{"$f":"DataEntry!L274","v":{"$error":"#N/A"}},")",","]
["(",null,",",{"$f":"DataEntry!G275","v":0},",",{"$f":"DataEntry!H275","v":0},",",{"$f":"DataEntry!J275","v":{"$error":"#N/A"}},",",{"$f":"DataEntry!L275","v":{"$error":"#N/A"}},")",","]
["(",null,",",{"$f":"DataEntry!G276","v":0},",",{"$f":"DataEntry!H276","v":0},",",{"$f":"DataEntry!J276","v":{"$error":"#N/A"}},",",{"$f":"DataEntry!L276","v":{"$error":"#N/A"}},")",","]
["(",null,",",{"$f":"DataEntry!G277","v":0},",",{"$f":"DataEntry!H277","v":0},",",{"$f":"DataEntry!J277","v":{"$error":"#N/A"}},",",{"$f":"DataEntry!L277","v":{"$error":"#N/A"}},")",","]
["(",null,",",{"$f":"DataEntry!G278","v":0},",",{"$f":"DataEntry!H278","v":0},",",{"$f":"DataEntry!J278","v":{"$error":"#N/A"}},",",{"$f":"DataEntry!L278","v":{"$error":"#N/A"}},")",","]
["(",null,",",{"$f":"DataEntry!G279","v":0},",",{"$f":"DataEntry!H279","v":0},",",{"$f":"DataEntry!J279","v":{"$error":"#N/A"}},",",{"$f":"DataEntry!L279","v":{"$error":"#N/A"}},")",","]
["(",null,",",{"$f":"DataEntry!G280","v":0},",",{"$f":"DataEntry!H280","v":0},",",{"$f":"DataEntry!J280","v":{"$error":"#N/A"}},",",{"$f":"DataEntry!L280","v":{"$error":"#N/A"}},")",","]
["(",null,",",{"$f":"DataEntry!G281","v":0},",",{"$f":"DataEntry!H281","v":0},",",{"$f":"DataEntry!J281","v":{"$error":"#N/A"}},",",{"$f":"DataEntry!L281","v":{"$error":"#N/A"}},")",","]
["(",null,",",{"$f":"DataEntry!G282","v":0},",",{"$f":"DataEntry!H282","v":0},",",{"$f":"DataEntry!J282","v":{"$error":"#N/A"}},",",{"$f":"DataEntry!L282","v":{"$error":"#N/A"}},")",","]
["(",null,",",{"$f":"DataEntry!G283","v":0},",",{"$f":"DataEntry!H283","v":0},",",{"$f":"DataEntry!J283","v":{"$error":"#N/A"}},",",{"$f":"DataEntry!L283","v":{"$error":"#N/A"}},")",","]
["(",null,",",{"$f":"DataEntry!G284","v":0},",",{"$f":"DataEntry!H284","v":0},",",{"$f":"DataEntry!J284","v":{"$error":"#N/A"}},",",{"$f":"DataEntry!L284","v":{"$error":"#N/A"}},")",","]
["(",null,",",{"$f":"DataEntry!G285","v":0},",",{"$f":"DataEntry!H285","v":0},",",{"$f":"DataEntry!J285","v":{"$error":"#N/A"}},",",{"$f":"DataEntry!L285","v":{"$error":"#N/A"}},")",","]
["(",null,",",{"$f":"DataEntry!G286","v":0},",",{"$f":"DataEntry!H286","v":0},",",{"$f":"DataEntry!J286","v":{"$error":"#N/A"}},",",{"$f":"DataEntry!L286","v":{"$error":"#N/A"}},")",","]
["(",null,",",{"$f":"DataEntry!G287","v":0},",",{"$f":"DataEntry!H287","v":0},",",{"$f":"DataEntry!J287","v":{"$error":"#N/A"}},",",{"$f":"DataEntry!L287","v":{"$error":"#N/A"}},")",","]
["(",null,",",{"$f":"DataEntry!G288","v":0},",",{"$f":"DataEntry!H288","v":0},",",{"$f":"DataEntry!J288","v":{"$error":"#N/A"}},",",{"$f":"DataEntry!L288","v":{"$error":"#N/A"}},")",","]
["(",null,",",{"$f":"DataEntry!G289","v":0},",",{"$f":"DataEntry!H289","v":0},",",{"$f":"DataEntry!J289","v":{"$error":"#N/A"}},",",{"$f":"DataEntry!L289","v":{"$error":"#N/A"}},")",","]
["(",null,",",{"$f":"DataEntry!G290","v":0},",",{"$f":"DataEntry!H290","v":0},",",{"$f":"DataEntry!J290","v":{"$error":"#N/A"}},",",{"$f":"DataEntry!L290","v":{"$error":"#N/A"}},")",","]
["(",null,",",{"$f":"DataEntry!G291","v":0},",",{"$f":"DataEntry!H291","v":0},",",{"$f":"DataEntry!J291","v":{"$error":"#N/A"}},",",{"$f":"DataEntry!L291","v":{"$error":"#N/A"}},")",","]
["(",null,",",{"$f":"DataEntry!G292","v":0},",",{"$f":"DataEntry!H292","v":0},",",{"$f":"DataEntry!J292","v":{"$error":"#N/A"}},",",{"$f":"DataEntry!L292","v":{"$error":"#N/A"}},")",","]
["(",null,",",{"$f":"DataEntry!G293","v":0},",",{"$f":"DataEntry!H293","v":0},",",{"$f":"DataEntry!J293","v":{"$error":"#N/A"}},",",{"$f":"DataEntry!L293","v":{"$error":"#N/A"}},")",","]
["(",null,",",{"$f":"DataEntry!G294","v":0},",",{"$f":"DataEntry!H294","v":0},",",{"$f":"DataEntry!J294","v":{"$error":"#N/A"}},",",{"$f":"DataEntry!L294","v":{"$error":"#N/A"}},")",","]
["(",null,",",{"$f":"DataEntry!G295","v":0},",",{"$f":"DataEntry!H295","v":0},",",{"$f":"DataEntry!J295","v":{"$error":"#N/A"}},",",{"$f":"DataEntry!L295","v":{"$error":"#N/A"}},")",","]
["(",null,",",{"$f":"DataEntry!G296","v":0},",",{"$f":"DataEntry!H296","v":0},",",{"$f":"DataEntry!J296","v":{"$error":"#N/A"}},",",{"$f":"DataEntry!L296","v":{"$error":"#N/A"}},")",","]
["(",null,",",{"$f":"DataEntry!G297","v":0},",",{"$f":"DataEntry!H297","v":0},",",{"$f":"DataEntry!J297","v":{"$error":"#N/A"}},",",{"$f":"DataEntry!L297","v":{"$error":"#N/A"}},")",","]
["(",null,",",{"$f":"DataEntry!G298","v":0},",",{"$f":"DataEntry!H298","v":0},",",{"$f":"DataEntry!J298","v":{"$error":"#N/A"}},",",{"$f":"DataEntry!L298","v":{"$error":"#N/A"}},")",","]
["(",null,",",{"$f":"DataEntry!G299","v":0},",",{"$f":"DataEntry!H299","v":0},",",{"$f":"DataEntry!J299","v":{"$error":"#N/A"}},",",{"$f":"DataEntry!L299","v":{"$error":"#N/A"}},")",","]
["(",null,",",{"$f":"DataEntry!G300","v":0},",",{"$f":"DataEntry!H300","v":0},",",{"$f":"DataEntry!J300","v":{"$error":"#N/A"}},",",{"$f":"DataEntry!L300","v":{"$error":"#N/A"}},")",","]
["(",null,",",{"$f":"DataEntry!G301","v":0},",",{"$f":"DataEntry!H301","v":0},",",{"$f":"DataEntry!J301","v":{"$error":"#N/A"}},",",{"$f":"DataEntry!L301","v":{"$error":"#N/A"}},")",","]
["(",null,",",{"$f":"DataEntry!G302","v":0},",",{"$f":"DataEntry!H302","v":0},",",{"$f":"DataEntry!J302","v":{"$error":"#N/A"}},",",{"$f":"DataEntry!L302","v":{"$error":"#N/A"}},")",","]
["(",null,",",{"$f":"DataEntry!G303","v":0},",",{"$f":"DataEntry!H303","v":0},",",{"$f":"DataEntry!J303","v":{"$error":"#N/A"}},",",{"$f":"DataEntry!L303","v":{"$error":"#N/A"}},")",","]
["(",null,",",{"$f":"DataEntry!G304","v":0},",",{"$f":"DataEntry!H304","v":0},",",{"$f":"DataEntry!J304","v":{"$error":"#N/A"}},",",{"$f":"DataEntry!L304","v":{"$error":"#N/A"}},")",","]
["(",null,",",{"$f":"DataEntry!G305","v":0},",",{"$f":"DataEntry!H305","v":0},",",{"$f":"DataEntry!J305","v":{"$error":"#N/A"}},",",{"$f":"DataEntry!L305","v":{"$error":"#N/A"}},")",","]
["(",null,",",{"$f":"DataEntry!G306","v":0},",",{"$f":"DataEntry!H306","v":0},",",{"$f":"DataEntry!J306","v":{"$error":"#N/A"}},",",{"$f":"DataEntry!L306","v":{"$error":"#N/A"}},")",","]
["(",null,",",{"$f":"DataEntry!G307","v":0},",",{"$f":"DataEntry!H307","v":0},",",{"$f":"DataEntry!J307","v":{"$error":"#N/A"}},",",{"$f":"DataEntry!L307","v":{"$error":"#N/A"}},")",","]
["(",null,",",{"$f":"DataEntry!G308","v":0},",",{"$f":"DataEntry!H308","v":0},",",{"$f":"DataEntry!J308","v":{"$error":"#N/A"}},",",{"$f":"DataEntry!L308","v":{"$error":"#N/A"}},")",","]
["(",null,",",{"$f":"DataEntry!G309","v":0},",",{"$f":"DataEntry!H309","v":0},",",{"$f":"DataEntry!J309","v":{"$error":"#N/A"}},",",{"$f":"DataEntry!L309","v":{"$error":"#N/A"}},")",","]
["(",null,",",{"$f":"DataEntry!G310","v":0},",",{"$f":"DataEntry!H310","v":0},",",{"$f":"DataEntry!J310","v":{"$error":"#N/A"}},",",{"$f":"DataEntry!L310","v":{"$error":"#N/A"}},")",","]
["(",null,",",{"$f":"DataEntry!G311","v":0},",",{"$f":"DataEntry!H311","v":0},",",{"$f":"DataEntry!J311","v":{"$error":"#N/A"}},",",{"$f":"DataEntry!L311","v":{"$error":"#N/A"}},")",","]
["(",null,",",{"$f":"DataEntry!G312","v":0},",",{"$f":"DataEntry!H312","v":0},",",{"$f":"DataEntry!J312","v":{"$error":"#N/A"}},",",{"$f":"DataEntry!L312","v":{"$error":"#N/A"}},")",","]
["(",null,",",{"$f":"DataEntry!G313","v":0},",",{"$f":"DataEntry!H313","v":0},",",{"$f":"DataEntry!J313","v":{"$error":"#N/A"}},",",{"$f":"DataEntry!L313","v":{"$error":"#N/A"}},")",","]
["(",null,",",{"$f":"DataEntry!G314","v":0},",",{"$f":"DataEntry!H314","v":0},",",{"$f":"DataEntry!J314","v":{"$error":"#N/A"}},",",{"$f":"DataEntry!L314","v":{"$error":"#N/A"}},")",","]
["(",null,",",{"$f":"DataEntry!G315","v":0},",",{"$f":"DataEntry!H315","v":0},",",{"$f":"DataEntry!J315","v":{"$error":"#N/A"}},",",{"$f":"DataEntry!L315","v":{"$error":"#N/A"}},")",","]
["(",null,",",{"$f":"DataEntry!G316","v":0},",",{"$f":"DataEntry!H316","v":0},",",{"$f":"DataEntry!J316","v":{"$error":"#N/A"}},",",{"$f":"DataEntry!L316","v":{"$error":"#N/A"}},")",","]
["(",null,",",{"$f":"DataEntry!G317","v":0},",",{"$f":"DataEntry!H317","v":0},",",{"$f":"DataEntry!J317","v":{"$error":"#N/A"}},",",{"$f":"DataEntry!L317","v":{"$error":"#N/A"}},")",","]
["(",null,",",{"$f":"DataEntry!G318","v":0},",",{"$f":"DataEntry!H318","v":0},",",{"$f":"DataEntry!J318","v":{"$error":"#N/A"}},",",{"$f":"DataEntry!L318","v":{"$error":"#N/A"}},")",","]
["(",null,",",{"$f":"DataEntry!G319","v":0},",",{"$f":"DataEntry!H319","v":0},",",{"$f":"DataEntry!J319","v":{"$error":"#N/A"}},",",{"$f":"DataEntry!L319","v":{"$error":"#N/A"}},")",","]
["(",null,",",{"$f":"DataEntry!G320","v":0},",",{"$f":"DataEntry!H320","v":0},",",{"$f":"DataEntry!J320","v":{"$error":"#N/A"}},",",{"$f":"DataEntry!L320","v":{"$error":"#N/A"}},")",","]
["(",null,",",{"$f":"DataEntry!G321","v":0},",",{"$f":"DataEntry!H321","v":0},",",{"$f":"DataEntry!J321","v":{"$error":"#N/A"}},",",{"$f":"DataEntry!L321","v":{"$error":"#N/A"}},")",","]
["(",null,",",{"$f":"DataEntry!G322","v":0},",",{"$f":"DataEntry!H322","v":0},",",{"$f":"DataEntry!J322","v":{"$error":"#N/A"}},",",{"$f":"DataEntry!L322","v":{"$error":"#N/A"}},")",","]
["(",null,",",{"$f":"DataEntry!G323","v":0},",",{"$f":"DataEntry!H323","v":0},",",{"$f":"DataEntry!J323","v":{"$error":"#N/A"}},",",{"$f":"DataEntry!L323","v":{"$error":"#N/A"}},")",","]
["(",null,",",{"$f":"DataEntry!G324","v":0},",",{"$f":"DataEntry!H324","v":0},",",{"$f":"DataEntry!J324","v":{"$error":"#N/A"}},",",{"$f":"DataEntry!L324","v":{"$error":"#N/A"}},")",","]
["(",null,",",{"$f":"DataEntry!G325","v":0},",",{"$f":"DataEntry!H325","v":0},",",{"$f":"DataEntry!J325","v":{"$error":"#N/A"}},",",{"$f":"DataEntry!L325","v":{"$error":"#N/A"}},")",","]
["(",null,",",{"$f":"DataEntry!G326","v":0},",",{"$f":"DataEntry!H326","v":0},",",{"$f":"DataEntry!J326","v":{"$error":"#N/A"}},",",{"$f":"DataEntry!L326","v":{"$error":"#N/A"}},")",","]
["(",null,",",{"$f":"DataEntry!G327","v":0},",",{"$f":"DataEntry!H327","v":0},",",{"$f":"DataEntry!J327","v":{"$error":"#N/A"}},",",{"$f":"DataEntry!L327","v":{"$error":"#N/A"}},")",","]
["(",null,",",{"$f":"DataEntry!G328","v":0},",",{"$f":"DataEntry!H328","v":0},",",{"$f":"DataEntry!J328","v":{"$error":"#N/A"}},",",{"$f":"DataEntry!L328","v":{"$error":"#N/A"}},")",","]
["(",null,",",{"$f":"DataEntry!G329","v":0},",",{"$f":"DataEntry!H329","v":0},",",{"$f":"DataEntry!J329","v":{"$error":"#N/A"}},",",{"$f":"DataEntry!L329","v":{"$error":"#N/A"}},")",","]
["(",null,",",{"$f":"DataEntry!G330","v":0},",",{"$f":"DataEntry!H330","v":0},",",{"$f":"DataEntry!J330","v":{"$error":"#N/A"}},",",{"$f":"DataEntry!L330","v":{"$error":"#N/A"}},")",","]
["(",null,",",{"$f":"DataEntry!G331","v":0},",",{"$f":"DataEntry!H331","v":0},",",{"$f":"DataEntry!J331","v":{"$error":"#N/A"}},",",{"$f":"DataEntry!L331","v":{"$error":"#N/A"}},")",","]
["(",null,",",{"$f":"DataEntry!G332","v":0},",",{"$f":"DataEntry!H332","v":0},",",{"$f":"DataEntry!J332","v":{"$error":"#N/A"}},",",{"$f":"DataEntry!L332","v":{"$error":"#N/A"}},")",","]
["(",null,",",{"$f":"DataEntry!G333","v":0},",",{"$f":"DataEntry!H333","v":0},",",{"$f":"DataEntry!J333","v":{"$error":"#N/A"}},",",{"$f":"DataEntry!L333","v":{"$error":"#N/A"}},")",","]
["(",null,",",{"$f":"DataEntry!G334","v":0},",",{"$f":"DataEntry!H334","v":0},",",{"$f":"DataEntry!J334","v":{"$error":"#N/A"}},",",{"$f":"DataEntry!L334","v":{"$error":"#N/A"}},")",","]
["(",null,",",{"$f":"DataEntry!G335","v":0},",",{"$f":"DataEntry!H335","v":0},",",{"$f":"DataEntry!J335","v":{"$error":"#N/A"}},",",{"$f":"DataEntry!L335","v":{"$error":"#N/A"}},")",","]
["(",null,",",{"$f":"DataEntry!G336","v":0},",",{"$f":"DataEntry!H336","v":0},",",{"$f":"DataEntry!J336","v":{"$error":"#N/A"}},",",{"$f":"DataEntry!L336","v":{"$error":"#N/A"}},")",","]
["(",null,",",{"$f":"DataEntry!G337","v":0},",",{"$f":"DataEntry!H337","v":0},",",{"$f":"DataEntry!J337","v":{"$error":"#N/A"}},",",{"$f":"DataEntry!L337","v":{"$error":"#N/A"}},")",","]
["(",null,",",{"$f":"DataEntry!G338","v":0},",",{"$f":"DataEntry!H338","v":0},",",{"$f":"DataEntry!J338","v":{"$error":"#N/A"}},",",{"$f":"DataEntry!L338","v":{"$error":"#N/A"}},")",","]
["(",null,",",{"$f":"DataEntry!G339","v":0},",",{"$f":"DataEntry!H339","v":0},",",{"$f":"DataEntry!J339","v":{"$error":"#N/A"}},",",{"$f":"DataEntry!L339","v":{"$error":"#N/A"}},")",","]
["(",null,",",{"$f":"DataEntry!G340","v":0},",",{"$f":"DataEntry!H340","v":0},",",{"$f":"DataEntry!J340","v":{"$error":"#N/A"}},",",{"$f":"DataEntry!L340","v":{"$error":"#N/A"}},")",","]
["(",null,",",{"$f":"DataEntry!G341","v":0},",",{"$f":"DataEntry!H341","v":0},",",{"$f":"DataEntry!J341","v":{"$error":"#N/A"}},",",{"$f":"DataEntry!L341","v":{"$error":"#N/A"}},")",","]
["(",null,",",{"$f":"DataEntry!G342","v":0},",",{"$f":"DataEntry!H342","v":0},",",{"$f":"DataEntry!J342","v":{"$error":"#N/A"}},",",{"$f":"DataEntry!L342","v":{"$error":"#N/A"}},")",","]
["(",null,",",{"$f":"DataEntry!G343","v":0},",",{"$f":"DataEntry!H343","v":0},",",{"$f":"DataEntry!J343","v":{"$error":"#N/A"}},",",{"$f":"DataEntry!L343","v":{"$error":"#N/A"}},")",","]
["(",null,",",{"$f":"DataEntry!G344","v":0},",",{"$f":"DataEntry!H344","v":0},",",{"$f":"DataEntry!J344","v":{"$error":"#N/A"}},",",{"$f":"DataEntry!L344","v":{"$error":"#N/A"}},")",","]
["(",null,",",{"$f":"DataEntry!G345","v":0},",",{"$f":"DataEntry!H345","v":0},",",{"$f":"DataEntry!J345","v":{"$error":"#N/A"}},",",{"$f":"DataEntry!L345","v":{"$error":"#N/A"}},")",","]
["(",null,",",{"$f":"DataEntry!G346","v":0},",",{"$f":"DataEntry!H346","v":0},",",{"$f":"DataEntry!J346","v":{"$error":"#N/A"}},",",{"$f":"DataEntry!L346","v":{"$error":"#N/A"}},")",","]
["(",null,",",{"$f":"DataEntry!G347","v":0},",",{"$f":"DataEntry!H347","v":0},",",{"$f":"DataEntry!J347","v":{"$error":"#N/A"}},",",{"$f":"DataEntry!L347","v":{"$error":"#N/A"}},")",","]
["(",null,",",{"$f":"DataEntry!G348","v":0},",",{"$f":"DataEntry!H348","v":0},",",{"$f":"DataEntry!J348","v":{"$error":"#N/A"}},",",{"$f":"DataEntry!L348","v":{"$error":"#N/A"}},")",","]
["(",null,",",{"$f":"DataEntry!G349","v":0},",",{"$f":"DataEntry!H349","v":0},",",{"$f":"DataEntry!J349","v":{"$error":"#N/A"}},",",{"$f":"DataEntry!L349","v":{"$error":"#N/A"}},")",","]
["(",null,",",{"$f":"DataEntry!G350","v":0},",",{"$f":"DataEntry!H350","v":0},",",{"$f":"DataEntry!J350","v":{"$error":"#N/A"}},",",{"$f":"DataEntry!L350","v":{"$error":"#N/A"}},")",","]
["(",null,",",{"$f":"DataEntry!G351","v":0},",",{"$f":"DataEntry!H351","v":0},",",{"$f":"DataEntry!J351","v":{"$error":"#N/A"}},",",{"$f":"DataEntry!L351","v":{"$error":"#N/A"}},")",","]
["(",null,",",{"$f":"DataEntry!G352","v":0},",",{"$f":"DataEntry!H352","v":0},",",{"$f":"DataEntry!J352","v":{"$error":"#N/A"}},",",{"$f":"DataEntry!L352","v":{"$error":"#N/A"}},")",","]
["(",null,",",{"$f":"DataEntry!G353","v":0},",",{"$f":"DataEntry!H353","v":0},",",{"$f":"DataEntry!J353","v":{"$error":"#N/A"}},",",{"$f":"DataEntry!L353","v":{"$error":"#N/A"}},")",","]
["(",null,",",{"$f":"DataEntry!G354","v":0},",",{"$f":"DataEntry!H354","v":0},",",{"$f":"DataEntry!J354","v":{"$error":"#N/A"}},",",{"$f":"DataEntry!L354","v":{"$error":"#N/A"}},")",","]
["(",null,",",{"$f":"DataEntry!G355","v":0},",",{"$f":"DataEntry!H355","v":0},",",{"$f":"DataEntry!J355","v":{"$error":"#N/A"}},",",{"$f":"DataEntry!L355","v":{"$error":"#N/A"}},")",","]
["(",null,",",{"$f":"DataEntry!G356","v":0},",",{"$f":"DataEntry!H356","v":0},",",{"$f":"DataEntry!J356","v":{"$error":"#N/A"}},",",{"$f":"DataEntry!L356","v":{"$error":"#N/A"}},")",","]
["(",null,",",{"$f":"DataEntry!G357","v":0},",",{"$f":"DataEntry!H357","v":0},",",{"$f":"DataEntry!J357","v":{"$error":"#N/A"}},",",{"$f":"DataEntry!L357","v":{"$error":"#N/A"}},")",","]
["(",null,",",{"$f":"DataEntry!G358","v":0},",",{"$f":"DataEntry!H358","v":0},",",{"$f":"DataEntry!J358","v":{"$error":"#N/A"}},",",{"$f":"DataEntry!L358","v":{"$error":"#N/A"}},")",","]
["(",null,",",{"$f":"DataEntry!G359","v":0},",",{"$f":"DataEntry!H359","v":0},",",{"$f":"DataEntry!J359","v":{"$error":"#N/A"}},",",{"$f":"DataEntry!L359","v":{"$error":"#N/A"}},")",","]
["(",null,",",{"$f":"DataEntry!G360","v":0},",",{"$f":"DataEntry!H360","v":0},",",{"$f":"DataEntry!J360","v":{"$error":"#N/A"}},",",{"$f":"DataEntry!L360","v":{"$error":"#N/A"}},")",","]
["(",null,",",{"$f":"DataEntry!G361","v":0},",",{"$f":"DataEntry!H361","v":0},",",{"$f":"DataEntry!J361","v":{"$error":"#N/A"}},",",{"$f":"DataEntry!L361","v":{"$error":"#N/A"}},")",","]
["(",null,",",{"$f":"DataEntry!G362","v":0},",",{"$f":"DataEntry!H362","v":0},",",{"$f":"DataEntry!J362","v":{"$error":"#N/A"}},",",{"$f":"DataEntry!L362","v":{"$error":"#N/A"}},")",","]
["(",null,",",{"$f":"DataEntry!G363","v":0},",",{"$f":"DataEntry!H363","v":0},",",{"$f":"DataEntry!J363","v":{"$error":"#N/A"}},",",{"$f":"DataEntry!L363","v":{"$error":"#N/A"}},")",","]
["(",null,",",{"$f":"DataEntry!G364","v":0},",",{"$f":"DataEntry!H364","v":0},",",{"$f":"DataEntry!J364","v":{"$error":"#N/A"}},",",{"$f":"DataEntry!L364","v":{"$error":"#N/A"}},")",","]
["(",null,",",{"$f":"DataEntry!G365","v":0},",",{"$f":"DataEntry!H365","v":0},",",{"$f":"DataEntry!J365","v":{"$error":"#N/A"}},",",{"$f":"DataEntry!L365","v":{"$error":"#N/A"}},")",","]
["(",null,",",{"$f":"DataEntry!G366","v":0},",",{"$f":"DataEntry!H366","v":0},",",{"$f":"DataEntry!J366","v":{"$error":"#N/A"}},",",{"$f":"DataEntry!L366","v":{"$error":"#N/A"}},")",","]
["(",null,",",{"$f":"DataEntry!G367","v":0},",",{"$f":"DataEntry!H367","v":0},",",{"$f":"DataEntry!J367","v":{"$error":"#N/A"}},",",{"$f":"DataEntry!L367","v":{"$error":"#N/A"}},")",","]
["(",null,",",{"$f":"DataEntry!G368","v":0},",",{"$f":"DataEntry!H368","v":0},",",{"$f":"DataEntry!J368","v":{"$error":"#N/A"}},",",{"$f":"DataEntry!L368","v":{"$error":"#N/A"}},")",","]
["(",null,",",{"$f":"DataEntry!G369","v":0},",",{"$f":"DataEntry!H369","v":0},",",{"$f":"DataEntry!J369","v":{"$error":"#N/A"}},",",{"$f":"DataEntry!L369","v":{"$error":"#N/A"}},")",","]
["(",null,",",{"$f":"DataEntry!G370","v":0},",",{"$f":"DataEntry!H370","v":0},",",{"$f":"DataEntry!J370","v":{"$error":"#N/A"}},",",{"$f":"DataEntry!L370","v":{"$error":"#N/A"}},")",","]
["(",null,",",{"$f":"DataEntry!G371","v":0},",",{"$f":"DataEntry!H371","v":0},",",{"$f":"DataEntry!J371","v":{"$error":"#N/A"}},",",{"$f":"DataEntry!L371","v":{"$error":"#N/A"}},")",","]
["(",null,",",{"$f":"DataEntry!G372","v":0},",",{"$f":"DataEntry!H372","v":0},",",{"$f":"DataEntry!J372","v":{"$error":"#N/A"}},",",{"$f":"DataEntry!L372","v":{"$error":"#N/A"}},")",","]
["(",null,",",{"$f":"DataEntry!G373","v":0},",",{"$f":"DataEntry!H373","v":0},",",{"$f":"DataEntry!J373","v":{"$error":"#N/A"}},",",{"$f":"DataEntry!L373","v":{"$error":"#N/A"}},")",","]
["(",null,",",{"$f":"DataEntry!G374","v":0},",",{"$f":"DataEntry!H374","v":0},",",{"$f":"DataEntry!J374","v":{"$error":"#N/A"}},",",{"$f":"DataEntry!L374","v":{"$error":"#N/A"}},")",","]
["(",null,",",{"$f":"DataEntry!G375","v":0},",",{"$f":"DataEntry!H375","v":0},",",{"$f":"DataEntry!J375","v":{"$error":"#N/A"}},",",{"$f":"DataEntry!L375","v":{"$error":"#N/A"}},")",","]
["(",null,",",{"$f":"DataEntry!G376","v":0},",",{"$f":"DataEntry!H376","v":0},",",{"$f":"DataEntry!J376","v":{"$error":"#N/A"}},",",{"$f":"DataEntry!L376","v":{"$error":"#N/A"}},")",","]
["(",null,",",{"$f":"DataEntry!G377","v":0},",",{"$f":"DataEntry!H377","v":0},",",{"$f":"DataEntry!J377","v":{"$error":"#N/A"}},",",{"$f":"DataEntry!L377","v":{"$error":"#N/A"}},")",","]
["(",null,",",{"$f":"DataEntry!G378","v":0},",",{"$f":"DataEntry!H378","v":0},",",{"$f":"DataEntry!J378","v":{"$error":"#N/A"}},",",{"$f":"DataEntry!L378","v":{"$error":"#N/A"}},")",","]
["(",null,",",{"$f":"DataEntry!G379","v":0},",",{"$f":"DataEntry!H379","v":0},",",{"$f":"DataEntry!J379","v":{"$error":"#N/A"}},",",{"$f":"DataEntry!L379","v":{"$error":"#N/A"}},")",","]
["(",null,",",{"$f":"DataEntry!G380","v":0},",",{"$f":"DataEntry!H380","v":0},",",{"$f":"DataEntry!J380","v":{"$error":"#N/A"}},",",{"$f":"DataEntry!L380","v":{"$error":"#N/A"}},")",","]
["(",null,",",{"$f":"DataEntry!G381","v":0},",",{"$f":"DataEntry!H381","v":0},",",{"$f":"DataEntry!J381","v":{"$error":"#N/A"}},",",{"$f":"DataEntry!L381","v":{"$error":"#N/A"}},")",","]
["(",null,",",{"$f":"DataEntry!G382","v":0},",",{"$f":"DataEntry!H382","v":0},",",{"$f":"DataEntry!J382","v":{"$error":"#N/A"}},",",{"$f":"DataEntry!L382","v":{"$error":"#N/A"}},")",","]
["(",null,",",{"$f":"DataEntry!G383","v":0},",",{"$f":"DataEntry!H383","v":0},",",{"$f":"DataEntry!J383","v":{"$error":"#N/A"}},",",{"$f":"DataEntry!L383","v":{"$error":"#N/A"}},")",","]
["(",null,",",{"$f":"DataEntry!G384","v":0},",",{"$f":"DataEntry!H384","v":0},",",{"$f":"DataEntry!J384","v":{"$error":"#N/A"}},",",{"$f":"DataEntry!L384","v":{"$error":"#N/A"}},")",","]
["(",null,",",{"$f":"DataEntry!G385","v":0},",",{"$f":"DataEntry!H385","v":0},",",{"$f":"DataEntry!J385","v":{"$error":"#N/A"}},",",{"$f":"DataEntry!L385","v":{"$error":"#N/A"}},")",","]
["(",null,",",{"$f":"DataEntry!G386","v":0},",",{"$f":"DataEntry!H386","v":0},",",{"$f":"DataEntry!J386","v":{"$error":"#N/A"}},",",{"$f":"DataEntry!L386","v":{"$error":"#N/A"}},")",","]
["(",null,",",{"$f":"DataEntry!G387","v":0},",",{"$f":"DataEntry!H387","v":0},",",{"$f":"DataEntry!J387","v":{"$error":"#N/A"}},",",{"$f":"DataEntry!L387","v":{"$error":"#N/A"}},")",","]
["(",null,",",{"$f":"DataEntry!G388","v":0},",",{"$f":"DataEntry!H388","v":0},",",{"$f":"DataEntry!J388","v":{"$error":"#N/A"}},",",{"$f":"DataEntry!L388","v":{"$error":"#N/A"}},")",","]
["(",null,",",{"$f":"DataEntry!G389","v":0},",",{"$f":"DataEntry!H389","v":0},",",{"$f":"DataEntry!J389","v":{"$error":"#N/A"}},",",{"$f":"DataEntry!L389","v":{"$error":"#N/A"}},")",","]
["(",null,",",{"$f":"DataEntry!G390","v":0},",",{"$f":"DataEntry!H390","v":0},",",{"$f":"DataEntry!J390","v":{"$error":"#N/A"}},",",{"$f":"DataEntry!L390","v":{"$error":"#N/A"}},")",","]
["(",null,",",{"$f":"DataEntry!G391","v":0},",",{"$f":"DataEntry!H391","v":0},",",{"$f":"DataEntry!J391","v":{"$error":"#N/A"}},",",{"$f":"DataEntry!L391","v":{"$error":"#N/A"}},")",","]
["(",null,",",{"$f":"DataEntry!G392","v":0},",",{"$f":"DataEntry!H392","v":0},",",{"$f":"DataEntry!J392","v":{"$error":"#N/A"}},",",{"$f":"DataEntry!L392","v":{"$error":"#N/A"}},")",","]
["(",null,",",{"$f":"DataEntry!G393","v":0},",",{"$f":"DataEntry!H393","v":0},",",{"$f":"DataEntry!J393","v":{"$error":"#N/A"}},",",{"$f":"DataEntry!L393","v":{"$error":"#N/A"}},")",","]
["(",null,",",{"$f":"DataEntry!G394","v":0},",",{"$f":"DataEntry!H394","v":0},",",{"$f":"DataEntry!J394","v":{"$error":"#N/A"}},",",{"$f":"DataEntry!L394","v":{"$error":"#N/A"}},")",","]
["(",null,",",{"$f":"DataEntry!G395","v":0},",",{"$f":"DataEntry!H395","v":0},",",{"$f":"DataEntry!J395","v":{"$error":"#N/A"}},",",{"$f":"DataEntry!L395","v":{"$error":"#N/A"}},")",","]
["(",null,",",{"$f":"DataEntry!G396","v":0},",",{"$f":"DataEntry!H396","v":0},",",{"$f":"DataEntry!J396","v":{"$error":"#N/A"}},",",{"$f":"DataEntry!L396","v":{"$error":"#N/A"}},")",","]
["(",null,",",{"$f":"DataEntry!G397","v":0},",",{"$f":"DataEntry!H397","v":0},",",{"$f":"DataEntry!J397","v":{"$error":"#N/A"}},",",{"$f":"DataEntry!L397","v":{"$error":"#N/A"}},")",","]
["(",null,",",{"$f":"DataEntry!G398","v":0},",",{"$f":"DataEntry!H398","v":0},",",{"$f":"DataEntry!J398","v":{"$error":"#N/A"}},",",{"$f":"DataEntry!L398","v":{"$error":"#N/A"}},")",","]
["(",null,",",{"$f":"DataEntry!G399","v":0},",",{"$f":"DataEntry!H399","v":0},",",{"$f":"DataEntry!J399","v":{"$error":"#N/A"}},",",{"$f":"DataEntry!L399","v":{"$error":"#N/A"}},")",","]
["(",null,",",{"$f":"DataEntry!G400","v":0},",",{"$f":"DataEntry!H400","v":0},",",{"$f":"DataEntry!J400","v":{"$error":"#N/A"}},",",{"$f":"DataEntry!L400","v":{"$error":"#N/A"}},")",","]
["(",null,",",{"$f":"DataEntry!G401","v":0},",",{"$f":"DataEntry!H401","v":0},",",{"$f":"DataEntry!J401","v":{"$error":"#N/A"}},",",{"$f":"DataEntry!L401","v":{"$error":"#N/A"}},")",","]
["(",null,",",{"$f":"DataEntry!G402","v":0},",",{"$f":"DataEntry!H402","v":0},",",{"$f":"DataEntry!J402","v":{"$error":"#N/A"}},",",{"$f":"DataEntry!L402","v":{"$error":"#N/A"}},")",","]
["(",null,",",{"$f":"DataEntry!G403","v":0},",",{"$f":"DataEntry!H403","v":0},",",{"$f":"DataEntry!J403","v":{"$error":"#N/A"}},",",{"$f":"DataEntry!L403","v":{"$error":"#N/A"}},")",","]
["(",null,",",{"$f":"DataEntry!G404","v":0},",",{"$f":"DataEntry!H404","v":0},",",{"$f":"DataEntry!J404","v":{"$error":"#N/A"}},",",{"$f":"DataEntry!L404","v":{"$error":"#N/A"}},")",","]
["(",null,",",{"$f":"DataEntry!G405","v":0},",",{"$f":"DataEntry!H405","v":0},",",{"$f":"DataEntry!J405","v":{"$error":"#N/A"}},",",{"$f":"DataEntry!L405","v":{"$error":"#N/A"}},")",","]
["(",null,",",{"$f":"DataEntry!G406","v":0},",",{"$f":"DataEntry!H406","v":0},",",{"$f":"DataEntry!J406","v":{"$error":"#N/A"}},",",{"$f":"DataEntry!L406","v":{"$error":"#N/A"}},")",","]
["(",null,",",{"$f":"DataEntry!G407","v":0},",",{"$f":"DataEntry!H407","v":0},",",{"$f":"DataEntry!J407","v":{"$error":"#N/A"}},",",{"$f":"DataEntry!L407","v":{"$error":"#N/A"}},")",","]
["(",null,",",{"$f":"DataEntry!G408","v":0},",",{"$f":"DataEntry!H408","v":0},",",{"$f":"DataEntry!J408","v":{"$error":"#N/A"}},",",{"$f":"DataEntry!L408","v":{"$error":"#N/A"}},")",","]
["(",null,",",{"$f":"DataEntry!G409","v":0},",",{"$f":"DataEntry!H409","v":0},",",{"$f":"DataEntry!J409","v":{"$error":"#N/A"}},",",{"$f":"DataEntry!L409","v":{"$error":"#N/A"}},")",","]
["(",null,",",{"$f":"DataEntry!G410","v":0},",",{"$f":"DataEntry!H410","v":0},",",{"$f":"DataEntry!J410","v":{"$error":"#N/A"}},",",{"$f":"DataEntry!L410","v":{"$error":"#N/A"}},")",","]
["(",null,",",{"$f":"DataEntry!G411","v":0},",",{"$f":"DataEntry!H411","v":0},",",{"$f":"DataEntry!J411","v":{"$error":"#N/A"}},",",{"$f":"DataEntry!L411","v":{"$error":"#N/A"}},")",","]
["(",null,",",{"$f":"DataEntry!G412","v":0},",",{"$f":"DataEntry!H412","v":0},",",{"$f":"DataEntry!J412","v":{"$error":"#N/A"}},",",{"$f":"DataEntry!L412","v":{"$error":"#N/A"}},")",","]
["(",null,",",{"$f":"DataEntry!G413","v":0},",",{"$f":"DataEntry!H413","v":0},",",{"$f":"DataEntry!J413","v":{"$error":"#N/A"}},",",{"$f":"DataEntry!L413","v":{"$error":"#N/A"}},")",","]
["(",null,",",{"$f":"DataEntry!G414","v":0},",",{"$f":"DataEntry!H414","v":0},",",{"$f":"DataEntry!J414","v":{"$error":"#N/A"}},",",{"$f":"DataEntry!L414","v":{"$error":"#N/A"}},")",","]
["(",null,",",{"$f":"DataEntry!G415","v":0},",",{"$f":"DataEntry!H415","v":0},",",{"$f":"DataEntry!J415","v":{"$error":"#N/A"}},",",{"$f":"DataEntry!L415","v":{"$error":"#N/A"}},")",","]
["(",null,",",{"$f":"DataEntry!G416","v":0},",",{"$f":"DataEntry!H416","v":0},",",{"$f":"DataEntry!J416","v":{"$error":"#N/A"}},",",{"$f":"DataEntry!L416","v":{"$error":"#N/A"}},")",","]
["(",null,",",{"$f":"DataEntry!G417","v":0},",",{"$f":"DataEntry!H417","v":0},",",{"$f":"DataEntry!J417","v":{"$error":"#N/A"}},",",{"$f":"DataEntry!L417","v":{"$error":"#N/A"}},")",","]
["(",null,",",{"$f":"DataEntry!G418","v":0},",",{"$f":"DataEntry!H418","v":0},",",{"$f":"DataEntry!J418","v":{"$error":"#N/A"}},",",{"$f":"DataEntry!L418","v":{"$error":"#N/A"}},")",","]
["(",null,",",{"$f":"DataEntry!G419","v":0},",",{"$f":"DataEntry!H419","v":0},",",{"$f":"DataEntry!J419","v":{"$error":"#N/A"}},",",{"$f":"DataEntry!L419","v":{"$error":"#N/A"}},")",","]
["(",null,",",{"$f":"DataEntry!G420","v":0},",",{"$f":"DataEntry!H420","v":0},",",{"$f":"DataEntry!J420","v":{"$error":"#N/A"}},",",{"$f":"DataEntry!L420","v":{"$error":"#N/A"}},")",","]
["(",null,",",{"$f":"DataEntry!G421","v":0},",",{"$f":"DataEntry!H421","v":0},",",{"$f":"DataEntry!J421","v":{"$error":"#N/A"}},",",{"$f":"DataEntry!L421","v":{"$error":"#N/A"}},")",","]
["(",null,",",{"$f":"DataEntry!G422","v":0},",",{"$f":"DataEntry!H422","v":0},",",{"$f":"DataEntry!J422","v":{"$error":"#N/A"}},",",{"$f":"DataEntry!L422","v":{"$error":"#N/A"}},")",","]
["(",null,",",{"$f":"DataEntry!G423","v":0},",",{"$f":"DataEntry!H423","v":0},",",{"$f":"DataEntry!J423","v":{"$error":"#N/A"}},",",{"$f":"DataEntry!L423","v":{"$error":"#N/A"}},")",","]
["(",null,",",{"$f":"DataEntry!G424","v":0},",",{"$f":"DataEntry!H424","v":0},",",{"$f":"DataEntry!J424","v":{"$error":"#N/A"}},",",{"$f":"DataEntry!L424","v":{"$error":"#N/A"}},")",","]
["(",null,",",{"$f":"DataEntry!G425","v":0},",",{"$f":"DataEntry!H425","v":0},",",{"$f":"DataEntry!J425","v":{"$error":"#N/A"}},",",{"$f":"DataEntry!L425","v":{"$error":"#N/A"}},")",","]
["(",null,",",{"$f":"DataEntry!G426","v":0},",",{"$f":"DataEntry!H426","v":0},",",{"$f":"DataEntry!J426","v":{"$error":"#N/A"}},",",{"$f":"DataEntry!L426","v":{"$error":"#N/A"}},")",","]
["(",null,",",{"$f":"DataEntry!G427","v":0},",",{"$f":"DataEntry!H427","v":0},",",{"$f":"DataEntry!J427","v":{"$error":"#N/A"}},",",{"$f":"DataEntry!L427","v":{"$error":"#N/A"}},")",","]
["(",null,",",{"$f":"DataEntry!G428","v":0},",",{"$f":"DataEntry!H428","v":0},",",{"$f":"DataEntry!J428","v":{"$error":"#N/A"}},",",{"$f":"DataEntry!L428","v":{"$error":"#N/A"}},")",","]
["(",null,",",{"$f":"DataEntry!G429","v":0},",",{"$f":"DataEntry!H429","v":0},",",{"$f":"DataEntry!J429","v":{"$error":"#N/A"}},",",{"$f":"DataEntry!L429","v":{"$error":"#N/A"}},")",","]
["(",null,",",{"$f":"DataEntry!G430","v":0},",",{"$f":"DataEntry!H430","v":0},",",{"$f":"DataEntry!J430","v":{"$error":"#N/A"}},",",{"$f":"DataEntry!L430","v":{"$error":"#N/A"}},")",","]
["(",null,",",{"$f":"DataEntry!G431","v":0},",",{"$f":"DataEntry!H431","v":0},",",{"$f":"DataEntry!J431","v":{"$error":"#N/A"}},",",{"$f":"DataEntry!L431","v":{"$error":"#N/A"}},")",","]
["(",null,",",{"$f":"DataEntry!G432","v":0},",",{"$f":"DataEntry!H432","v":0},",",{"$f":"DataEntry!J432","v":{"$error":"#N/A"}},",",{"$f":"DataEntry!L432","v":{"$error":"#N/A"}},")",","]
["(",null,",",{"$f":"DataEntry!G433","v":0},",",{"$f":"DataEntry!H433","v":0},",",{"$f":"DataEntry!J433","v":{"$error":"#N/A"}},",",{"$f":"DataEntry!L433","v":{"$error":"#N/A"}},")",","]
["(",null,",",{"$f":"DataEntry!G434","v":0},",",{"$f":"DataEntry!H434","v":0},",",{"$f":"DataEntry!J434","v":{"$error":"#N/A"}},",",{"$f":"DataEntry!L434","v":{"$error":"#N/A"}},")",","]
["(",null,",",{"$f":"DataEntry!G435","v":0},",",{"$f":"DataEntry!H435","v":0},",",{"$f":"DataEntry!J435","v":{"$error":"#N/A"}},",",{"$f":"DataEntry!L435","v":{"$error":"#N/A"}},")",","]
["(",null,",",{"$f":"DataEntry!G436","v":0},",",{"$f":"DataEntry!H436","v":0},",",{"$f":"DataEntry!J436","v":{"$error":"#N/A"}},",",{"$f":"DataEntry!L436","v":{"$error":"#N/A"}},")",","]
["(",null,",",{"$f":"DataEntry!G437","v":0},",",{"$f":"DataEntry!H437","v":0},",",{"$f":"DataEntry!J437","v":{"$error":"#N/A"}},",",{"$f":"DataEntry!L437","v":{"$error":"#N/A"}},")",","]
["(",null,",",{"$f":"DataEntry!G438","v":0},",",{"$f":"DataEntry!H438","v":0},",",{"$f":"DataEntry!J438","v":{"$error":"#N/A"}},",",{"$f":"DataEntry!L438","v":{"$error":"#N/A"}},")",","]
["(",null,",",{"$f":"DataEntry!G439","v":0},",",{"$f":"DataEntry!H439","v":0},",",{"$f":"DataEntry!J439","v":{"$error":"#N/A"}},",",{"$f":"DataEntry!L439","v":{"$error":"#N/A"}},")",","]
["(",null,",",{"$f":"DataEntry!G440","v":0},",",{"$f":"DataEntry!H440","v":0},",",{"$f":"DataEntry!J440","v":{"$error":"#N/A"}},",",{"$f":"DataEntry!L440","v":{"$error":"#N/A"}},")",","]
["(",null,",",{"$f":"DataEntry!G441","v":0},",",{"$f":"DataEntry!H441","v":0},",",{"$f":"DataEntry!J441","v":{"$error":"#N/A"}},",",{"$f":"DataEntry!L441","v":{"$error":"#N/A"}},")",","]
["(",null,",",{"$f":"DataEntry!G442","v":0},",",{"$f":"DataEntry!H442","v":0},",",{"$f":"DataEntry!J442","v":{"$error":"#N/A"}},",",{"$f":"DataEntry!L442","v":{"$error":"#N/A"}},")",","]
["(",null,",",{"$f":"DataEntry!G443","v":0},",",{"$f":"DataEntry!H443","v":0},",",{"$f":"DataEntry!J443","v":{"$error":"#N/A"}},",",{"$f":"DataEntry!L443","v":{"$error":"#N/A"}},")",","]
["(",null,",",{"$f":"DataEntry!G444","v":0},",",{"$f":"DataEntry!H444","v":0},",",{"$f":"DataEntry!J444","v":{"$error":"#N/A"}},",",{"$f":"DataEntry!L444","v":{"$error":"#N/A"}},")",","]
["(",null,",",{"$f":"DataEntry!G445","v":0},",",{"$f":"DataEntry!H445","v":0},",",{"$f":"DataEntry!J445","v":{"$error":"#N/A"}},",",{"$f":"DataEntry!L445","v":{"$error":"#N/A"}},")",","]
["(",null,",",{"$f":"DataEntry!G446","v":0},",",{"$f":"DataEntry!H446","v":0},",",{"$f":"DataEntry!J446","v":{"$error":"#N/A"}},",",{"$f":"DataEntry!L446","v":{"$error":"#N/A"}},")",","]
["(",null,",",{"$f":"DataEntry!G447","v":0},",",{"$f":"DataEntry!H447","v":0},",",{"$f":"DataEntry!J447","v":{"$error":"#N/A"}},",",{"$f":"DataEntry!L447","v":{"$error":"#N/A"}},")",","]
["(",null,",",{"$f":"DataEntry!G448","v":0},",",{"$f":"DataEntry!H448","v":0},",",{"$f":"DataEntry!J448","v":{"$error":"#N/A"}},",",{"$f":"DataEntry!L448","v":{"$error":"#N/A"}},")",","]
["(",null,",",{"$f":"DataEntry!G449","v":0},",",{"$f":"DataEntry!H449","v":0},",",{"$f":"DataEntry!J449","v":{"$error":"#N/A"}},",",{"$f":"DataEntry!L449","v":{"$error":"#N/A"}},")",","]
["(",null,",",{"$f":"DataEntry!G450","v":0},",",{"$f":"DataEntry!H450","v":0},",",{"$f":"DataEntry!J450","v":{"$error":"#N/A"}},",",{"$f":"DataEntry!L450","v":{"$error":"#N/A"}},")",","]
["(",null,",",{"$f":"DataEntry!G451","v":0},",",{"$f":"DataEntry!H451","v":0},",",{"$f":"DataEntry!J451","v":{"$error":"#N/A"}},",",{"$f":"DataEntry!L451","v":{"$error":"#N/A"}},")",","]
["(",null,",",{"$f":"DataEntry!G452","v":0},",",{"$f":"DataEntry!H452","v":0},",",{"$f":"DataEntry!J452","v":{"$error":"#N/A"}},",",{"$f":"DataEntry!L452","v":{"$error":"#N/A"}},")",","]
["(",null,",",{"$f":"DataEntry!G453","v":0},",",{"$f":"DataEntry!H453","v":0},",",{"$f":"DataEntry!J453","v":{"$error":"#N/A"}},",",{"$f":"DataEntry!L453","v":{"$error":"#N/A"}},")",","]
["(",null,",",{"$f":"DataEntry!G454","v":0},",",{"$f":"DataEntry!H454","v":0},",",{"$f":"DataEntry!J454","v":{"$error":"#N/A"}},",",{"$f":"DataEntry!L454","v":{"$error":"#N/A"}},")",","]
["(",null,",",{"$f":"DataEntry!G455","v":0},",",{"$f":"DataEntry!H455","v":0},",",{"$f":"DataEntry!J455","v":{"$error":"#N/A"}},",",{"$f":"DataEntry!L455","v":{"$error":"#N/A"}},")",","]
["(",null,",",{"$f":"DataEntry!G456","v":0},",",{"$f":"DataEntry!H456","v":0},",",{"$f":"DataEntry!J456","v":{"$error":"#N/A"}},",",{"$f":"DataEntry!L456","v":{"$error":"#N/A"}},")",","]
["(",null,",",{"$f":"DataEntry!G457","v":0},",",{"$f":"DataEntry!H457","v":0},",",{"$f":"DataEntry!J457","v":{"$error":"#N/A"}},",",{"$f":"DataEntry!L457","v":{"$error":"#N/A"}},")",","]
["(",null,",",{"$f":"DataEntry!G458","v":0},",",{"$f":"DataEntry!H458","v":0},",",{"$f":"DataEntry!J458","v":{"$error":"#N/A"}},",",{"$f":"DataEntry!L458","v":{"$error":"#N/A"}},")",","]
["(",null,",",{"$f":"DataEntry!G459","v":0},",",{"$f":"DataEntry!H459","v":0},",",{"$f":"DataEntry!J459","v":{"$error":"#N/A"}},",",{"$f":"DataEntry!L459","v":{"$error":"#N/A"}},")",","]
["(",null,",",{"$f":"DataEntry!G460","v":0},",",{"$f":"DataEntry!H460","v":0},",",{"$f":"DataEntry!J460","v":{"$error":"#N/A"}},",",{"$f":"DataEntry!L460","v":{"$error":"#N/A"}},")",","]
["(",null,",",{"$f":"DataEntry!G461","v":0},",",{"$f":"DataEntry!H461","v":0},",",{"$f":"DataEntry!J461","v":{"$error":"#N/A"}},",",{"$f":"DataEntry!L461","v":{"$error":"#N/A"}},")",","]
["(",null,",",{"$f":"DataEntry!G462","v":0},",",{"$f":"DataEntry!H462","v":0},",",{"$f":"DataEntry!J462","v":{"$error":"#N/A"}},",",{"$f":"DataEntry!L462","v":{"$error":"#N/A"}},")",","]
["(",null,",",{"$f":"DataEntry!G463","v":0},",",{"$f":"DataEntry!H463","v":0},",",{"$f":"DataEntry!J463","v":{"$error":"#N/A"}},",",{"$f":"DataEntry!L463","v":{"$error":"#N/A"}},")",","]
["(",null,",",{"$f":"DataEntry!G464","v":0},",",{"$f":"DataEntry!H464","v":0},",",{"$f":"DataEntry!J464","v":{"$error":"#N/A"}},",",{"$f":"DataEntry!L464","v":{"$error":"#N/A"}},")",","]
["(",null,",",{"$f":"DataEntry!G465","v":0},",",{"$f":"DataEntry!H465","v":0},",",{"$f":"DataEntry!J465","v":{"$error":"#N/A"}},",",{"$f":"DataEntry!L465","v":{"$error":"#N/A"}},")",","]
["(",null,",",{"$f":"DataEntry!G466","v":0},",",{"$f":"DataEntry!H466","v":0},",",{"$f":"DataEntry!J466","v":{"$error":"#N/A"}},",",{"$f":"DataEntry!L466","v":{"$error":"#N/A"}},")",","]
["(",null,",",{"$f":"DataEntry!G467","v":0},",",{"$f":"DataEntry!H467","v":0},",",{"$f":"DataEntry!J467","v":{"$error":"#N/A"}},",",{"$f":"DataEntry!L467","v":{"$error":"#N/A"}},")",","]
["(",null,",",{"$f":"DataEntry!G468","v":0},",",{"$f":"DataEntry!H468","v":0},",",{"$f":"DataEntry!J468","v":{"$error":"#N/A"}},",",{"$f":"DataEntry!L468","v":{"$error":"#N/A"}},")",","]
["(",null,",",{"$f":"DataEntry!G469","v":0},",",{"$f":"DataEntry!H469","v":0},",",{"$f":"DataEntry!J469","v":{"$error":"#N/A"}},",",{"$f":"DataEntry!L469","v":{"$error":"#N/A"}},")",","]
["(",null,",",{"$f":"DataEntry!G470","v":0},",",{"$f":"DataEntry!H470","v":0},",",{"$f":"DataEntry!J470","v":{"$error":"#N/A"}},",",{"$f":"DataEntry!L470","v":{"$error":"#N/A"}},")",","]
["(",null,",",{"$f":"DataEntry!G471","v":0},",",{"$f":"DataEntry!H471","v":0},",",{"$f":"DataEntry!J471","v":{"$error":"#N/A"}},",",{"$f":"DataEntry!L471","v":{"$error":"#N/A"}},")",","]
["(",null,",",{"$f":"DataEntry!G472","v":0},",",{"$f":"DataEntry!H472","v":0},",",{"$f":"DataEntry!J472","v":{"$error":"#N/A"}},",",{"$f":"DataEntry!L472","v":{"$error":"#N/A"}},")",","]
["(",null,",",{"$f":"DataEntry!G473","v":0},",",{"$f":"DataEntry!H473","v":0},",",{"$f":"DataEntry!J473","v":{"$error":"#N/A"}},",",{"$f":"DataEntry!L473","v":{"$error":"#N/A"}},")",","]
["(",null,",",{"$f":"DataEntry!G474","v":0},",",{"$f":"DataEntry!H474","v":0},",",{"$f":"DataEntry!J474","v":{"$error":"#N/A"}},",",{"$f":"DataEntry!L474","v":{"$error":"#N/A"}},")",","]
["(",null,",",{"$f":"DataEntry!G475","v":0},",",{"$f":"DataEntry!H475","v":0},",",{"$f":"DataEntry!J475","v":{"$error":"#N/A"}},",",{"$f":"DataEntry!L475","v":{"$error":"#N/A"}},")",","]
["(",null,",",{"$f":"DataEntry!G476","v":0},",",{"$f":"DataEntry!H476","v":0},",",{"$f":"DataEntry!J476","v":{"$error":"#N/A"}},",",{"$f":"DataEntry!L476","v":{"$error":"#N/A"}},")",","]
["(",null,",",{"$f":"DataEntry!G477","v":0},",",{"$f":"DataEntry!H477","v":0},",",{"$f":"DataEntry!J477","v":{"$error":"#N/A"}},",",{"$f":"DataEntry!L477","v":{"$error":"#N/A"}},")",","]
["(",null,",",{"$f":"DataEntry!G478","v":0},",",{"$f":"DataEntry!H478","v":0},",",{"$f":"DataEntry!J478","v":{"$error":"#N/A"}},",",{"$f":"DataEntry!L478","v":{"$error":"#N/A"}},")",","]
["(",null,",",{"$f":"DataEntry!G479","v":0},",",{"$f":"DataEntry!H479","v":0},",",{"$f":"DataEntry!J479","v":{"$error":"#N/A"}},",",{"$f":"DataEntry!L479","v":{"$error":"#N/A"}},")",","]
["(",null,",",{"$f":"DataEntry!G480","v":0},",",{"$f":"DataEntry!H480","v":0},",",{"$f":"DataEntry!J480","v":{"$error":"#N/A"}},",",{"$f":"DataEntry!L480","v":{"$error":"#N/A"}},")",","]
["(",null,",",{"$f":"DataEntry!G481","v":0},",",{"$f":"DataEntry!H481","v":0},",",{"$f":"DataEntry!J481","v":{"$error":"#N/A"}},",",{"$f":"DataEntry!L481","v":{"$error":"#N/A"}},")",","]
["(",null,",",{"$f":"DataEntry!G482","v":0},",",{"$f":"DataEntry!H482","v":0},",",{"$f":"DataEntry!J482","v":{"$error":"#N/A"}},",",{"$f":"DataEntry!L482","v":{"$error":"#N/A"}},")",","]
["(",null,",",{"$f":"DataEntry!G483","v":0},",",{"$f":"DataEntry!H483","v":0},",",{"$f":"DataEntry!J483","v":{"$error":"#N/A"}},",",{"$f":"DataEntry!L483","v":{"$error":"#N/A"}},")",","]
["(",null,",",{"$f":"DataEntry!G484","v":0},",",{"$f":"DataEntry!H484","v":0},",",{"$f":"DataEntry!J484","v":{"$error":"#N/A"}},",",{"$f":"DataEntry!L484","v":{"$error":"#N/A"}},")",","]
["(",null,",",{"$f":"DataEntry!G485","v":0},",",{"$f":"DataEntry!H485","v":0},",",{"$f":"DataEntry!J485","v":{"$error":"#N/A"}},",",{"$f":"DataEntry!L485","v":{"$error":"#N/A"}},")",","]
["(",null,",",{"$f":"DataEntry!G486","v":0},",",{"$f":"DataEntry!H486","v":0},",",{"$f":"DataEntry!J486","v":{"$error":"#N/A"}},",",{"$f":"DataEntry!L486","v":{"$error":"#N/A"}},")",","]
["(",null,",",{"$f":"DataEntry!G487","v":0},",",{"$f":"DataEntry!H487","v":0},",",{"$f":"DataEntry!J487","v":{"$error":"#N/A"}},",",{"$f":"DataEntry!L487","v":{"$error":"#N/A"}},")",","]
["(",null,",",{"$f":"DataEntry!G488","v":0},",",{"$f":"DataEntry!H488","v":0},",",{"$f":"DataEntry!J488","v":{"$error":"#N/A"}},",",{"$f":"DataEntry!L488","v":{"$error":"#N/A"}},")",","]
["(",null,",",{"$f":"DataEntry!G489","v":0},",",{"$f":"DataEntry!H489","v":0},",",{"$f":"DataEntry!J489","v":{"$error":"#N/A"}},",",{"$f":"DataEntry!L489","v":{"$error":"#N/A"}},")",","]
["(",null,",",{"$f":"DataEntry!G490","v":0},",",{"$f":"DataEntry!H490","v":0},",",{"$f":"DataEntry!J490","v":{"$error":"#N/A"}},",",{"$f":"DataEntry!L490","v":{"$error":"#N/A"}},")",","]
["(",null,",",{"$f":"DataEntry!G491","v":0},",",{"$f":"DataEntry!H491","v":0},",",{"$f":"DataEntry!J491","v":{"$error":"#N/A"}},",",{"$f":"DataEntry!L491","v":{"$error":"#N/A"}},")",","]
["(",null,",",{"$f":"DataEntry!G492","v":0},",",{"$f":"DataEntry!H492","v":0},",",{"$f":"DataEntry!J492","v":{"$error":"#N/A"}},",",{"$f":"DataEntry!L492","v":{"$error":"#N/A"}},")",","]
["(",null,",",{"$f":"DataEntry!G493","v":0},",",{"$f":"DataEntry!H493","v":0},",",{"$f":"DataEntry!J493","v":{"$error":"#N/A"}},",",{"$f":"DataEntry!L493","v":{"$error":"#N/A"}},")",","]
["(",null,",",{"$f":"DataEntry!G494","v":0},",",{"$f":"DataEntry!H494","v":0},",",{"$f":"DataEntry!J494","v":{"$error":"#N/A"}},",",{"$f":"DataEntry!L494","v":{"$error":"#N/A"}},")",","]
["(",null,",",{"$f":"DataEntry!G495","v":0},",",{"$f":"DataEntry!H495","v":0},",",{"$f":"DataEntry!J495","v":{"$error":"#N/A"}},",",{"$f":"DataEntry!L495","v":{"$error":"#N/A"}},")",","]
["(",null,",",{"$f":"DataEntry!G496","v":0},",",{"$f":"DataEntry!H496","v":0},",",{"$f":"DataEntry!J496","v":{"$error":"#N/A"}},",",{"$f":"DataEntry!L496","v":{"$error":"#N/A"}},")",","]
["(",null,",",{"$f":"DataEntry!G497","v":0},",",{"$f":"DataEntry!H497","v":0},",",{"$f":"DataEntry!J497","v":{"$error":"#N/A"}},",",{"$f":"DataEntry!L497","v":{"$error":"#N/A"}},")",","]
["(",null,",",{"$f":"DataEntry!G498","v":0},",",{"$f":"DataEntry!H498","v":0},",",{"$f":"DataEntry!J498","v":{"$error":"#N/A"}},",",{"$f":"DataEntry!L498","v":{"$error":"#N/A"}},")",","]
["(",null,",",{"$f":"DataEntry!G499","v":0},",",{"$f":"DataEntry!H499","v":0},",",{"$f":"DataEntry!J499","v":{"$error":"#N/A"}},",",{"$f":"DataEntry!L499","v":{"$error":"#N/A"}},")",","]
["(",null,",",{"$f":"DataEntry!G500","v":0},",",{"$f":"DataEntry!H500","v":0},",",{"$f":"DataEntry!J500","v":{"$error":"#N/A"}},",",{"$f":"DataEntry!L500","v":{"$error":"#N/A"}},")",","]
["(",null,",",{"$f":"DataEntry!G501","v":0},",",{"$f":"DataEntry!H501","v":0},",",{"$f":"DataEntry!J501","v":{"$error":"#N/A"}},",",{"$f":"DataEntry!L501","v":{"$error":"#N/A"}},")",","]
["(",null,",",{"$f":"DataEntry!G502","v":0},",",{"$f":"DataEntry!H502","v":0},",",{"$f":"DataEntry!J502","v":{"$error":"#N/A"}},",",{"$f":"DataEntry!L502","v":{"$error":"#N/A"}},")",","]
["(",null,",",{"$f":"DataEntry!G503","v":0},",",{"$f":"DataEntry!H503","v":0},",",{"$f":"DataEntry!J503","v":{"$error":"#N/A"}},",",{"$f":"DataEntry!L503","v":{"$error":"#N/A"}},")",","]
["(",null,",",{"$f":"DataEntry!G504","v":0},",",{"$f":"DataEntry!H504","v":0},",",{"$f":"DataEntry!J504","v":{"$error":"#N/A"}},",",{"$f":"DataEntry!L504","v":{"$error":"#N/A"}},")",","]
["(",null,",",{"$f":"DataEntry!G505","v":0},",",{"$f":"DataEntry!H505","v":0},",",{"$f":"DataEntry!J505","v":{"$error":"#N/A"}},",",{"$f":"DataEntry!L505","v":{"$error":"#N/A"}},")",","]
["(",null,",",{"$f":"DataEntry!G506","v":0},",",{"$f":"DataEntry!H506","v":0},",",{"$f":"DataEntry!J506","v":{"$error":"#N/A"}},",",{"$f":"DataEntry!L506","v":{"$error":"#N/A"}},")",","]
["(",null,",",{"$f":"DataEntry!G507","v":0},",",{"$f":"DataEntry!H507","v":0},",",{"$f":"DataEntry!J507","v":{"$error":"#N/A"}},",",{"$f":"DataEntry!L507","v":{"$error":"#N/A"}},")",","]
["(",null,",",{"$f":"DataEntry!G508","v":0},",",{"$f":"DataEntry!H508","v":0},",",{"$f":"DataEntry!J508","v":{"$error":"#N/A"}},",",{"$f":"DataEntry!L508","v":{"$error":"#N/A"}},")",","]
["(",null,",",{"$f":"DataEntry!G509","v":0},",",{"$f":"DataEntry!H509","v":0},",",{"$f":"DataEntry!J509","v":{"$error":"#N/A"}},",",{"$f":"DataEntry!L509","v":{"$error":"#N/A"}},")",","]
["(",null,",",{"$f":"DataEntry!G510","v":0},",",{"$f":"DataEntry!H510","v":0},",",{"$f":"DataEntry!J510","v":{"$error":"#N/A"}},",",{"$f":"DataEntry!L510","v":{"$error":"#N/A"}},")",","]
["(",null,",",{"$f":"DataEntry!G511","v":0},",",{"$f":"DataEntry!H511","v":0},",",{"$f":"DataEntry!J511","v":{"$error":"#N/A"}},",",{"$f":"DataEntry!L511","v":{"$error":"#N/A"}},")",","]
["(",null,",",{"$f":"DataEntry!G512","v":0},",",{"$f":"DataEntry!H512","v":0},",",{"$f":"DataEntry!J512","v":{"$error":"#N/A"}},",",{"$f":"DataEntry!L512","v":{"$error":"#N/A"}},")",","]
["(",null,",",{"$f":"DataEntry!G513","v":0},",",{"$f":"DataEntry!H513","v":0},",",{"$f":"DataEntry!J513","v":{"$error":"#N/A"}},",",{"$f":"DataEntry!L513","v":{"$error":"#N/A"}},")",","]
["(",null,",",{"$f":"DataEntry!G514","v":0},",",{"$f":"DataEntry!H514","v":0},",",{"$f":"DataEntry!J514","v":{"$error":"#N/A"}},",",{"$f":"DataEntry!L514","v":{"$error":"#N/A"}},")",","]
["(",null,",",{"$f":"DataEntry!G515","v":0},",",{"$f":"DataEntry!H515","v":0},",",{"$f":"DataEntry!J515","v":{"$error":"#N/A"}},",",{"$f":"DataEntry!L515","v":{"$error":"#N/A"}},")",","]
["(",null,",",{"$f":"DataEntry!G516","v":0},",",{"$f":"DataEntry!H516","v":0},",",{"$f":"DataEntry!J516","v":{"$error":"#N/A"}},",",{"$f":"DataEntry!L516","v":{"$error":"#N/A"}},")",","]
["(",null,",",{"$f":"DataEntry!G517","v":0},",",{"$f":"DataEntry!H517","v":0},",",{"$f":"DataEntry!J517","v":{"$error":"#N/A"}},",",{"$f":"DataEntry!L517","v":{"$error":"#N/A"}},")",","]
["(",null,",",{"$f":"DataEntry!G518","v":0},",",{"$f":"DataEntry!H518","v":0},",",{"$f":"DataEntry!J518","v":{"$error":"#N/A"}},",",{"$f":"DataEntry!L518","v":{"$error":"#N/A"}},")",","]
["(",null,",",{"$f":"DataEntry!G519","v":0},",",{"$f":"DataEntry!H519","v":0},",",{"$f":"DataEntry!J519","v":{"$error":"#N/A"}},",",{"$f":"DataEntry!L519","v":{"$error":"#N/A"}},")",","]
["(",null,",",{"$f":"DataEntry!G520","v":0},",",{"$f":"DataEntry!H520","v":0},",",{"$f":"DataEntry!J520","v":{"$error":"#N/A"}},",",{"$f":"DataEntry!L520","v":{"$error":"#N/A"}},")",","]
["(",null,",",{"$f":"DataEntry!G521","v":0},",",{"$f":"DataEntry!H521","v":0},",",{"$f":"DataEntry!J521","v":{"$error":"#N/A"}},",",{"$f":"DataEntry!L521","v":{"$error":"#N/A"}},")",","]
["(",null,",",{"$f":"DataEntry!G522","v":0},",",{"$f":"DataEntry!H522","v":0},",",{"$f":"DataEntry!J522","v":{"$error":"#N/A"}},",",{"$f":"DataEntry!L522","v":{"$error":"#N/A"}},")",","]
["(",null,",",{"$f":"DataEntry!G523","v":0},",",{"$f":"DataEntry!H523","v":0},",",{"$f":"DataEntry!J523","v":{"$error":"#N/A"}},",",{"$f":"DataEntry!L523","v":{"$error":"#N/A"}},")",","]
["(",null,",",{"$f":"DataEntry!G524","v":0},",",{"$f":"DataEntry!H524","v":0},",",{"$f":"DataEntry!J524","v":{"$error":"#N/A"}},",",{"$f":"DataEntry!L524","v":{"$error":"#N/A"}},")",","]
["(",null,",",{"$f":"DataEntry!G525","v":0},",",{"$f":"DataEntry!H525","v":0},",",{"$f":"DataEntry!J525","v":{"$error":"#N/A"}},",",{"$f":"DataEntry!L525","v":{"$error":"#N/A"}},")",","]
["(",null,",",{"$f":"DataEntry!G526","v":0},",",{"$f":"DataEntry!H526","v":0},",",{"$f":"DataEntry!J526","v":{"$error":"#N/A"}},",",{"$f":"DataEntry!L526","v":{"$error":"#N/A"}},")",","]
["(",null,",",{"$f":"DataEntry!G527","v":0},",",{"$f":"DataEntry!H527","v":0},",",{"$f":"DataEntry!J527","v":{"$error":"#N/A"}},",",{"$f":"DataEntry!L527","v":{"$error":"#N/A"}},")",","]
["(",null,",",{"$f":"DataEntry!G528","v":0},",",{"$f":"DataEntry!H528","v":0},",",{"$f":"DataEntry!J528","v":{"$error":"#N/A"}},",",{"$f":"DataEntry!L528","v":{"$error":"#N/A"}},")",","]
["(",null,",",{"$f":"DataEntry!G529","v":0},",",{"$f":"DataEntry!H529","v":0},",",{"$f":"DataEntry!J529","v":{"$error":"#N/A"}},",",{"$f":"DataEntry!L529","v":{"$error":"#N/A"}},")",","]
["(",null,",",{"$f":"DataEntry!G530","v":0},",",{"$f":"DataEntry!H530","v":0},",",{"$f":"DataEntry!J530","v":{"$error":"#N/A"}},",",{"$f":"DataEntry!L530","v":{"$error":"#N/A"}},")",","]
["(",null,",",{"$f":"DataEntry!G531","v":0},",",{"$f":"DataEntry!H531","v":0},",",{"$f":"DataEntry!J531","v":{"$error":"#N/A"}},",",{"$f":"DataEntry!L531","v":{"$error":"#N/A"}},")",","]
["(",null,",",{"$f":"DataEntry!G532","v":0},",",{"$f":"DataEntry!H532","v":0},",",{"$f":"DataEntry!J532","v":{"$error":"#N/A"}},",",{"$f":"DataEntry!L532","v":{"$error":"#N/A"}},")",","]
["(",null,",",{"$f":"DataEntry!G533","v":0},",",{"$f":"DataEntry!H533","v":0},",",{"$f":"DataEntry!J533","v":{"$error":"#N/A"}},",",{"$f":"DataEntry!L533","v":{"$error":"#N/A"}},")",","]
["(",null,",",{"$f":"DataEntry!G534","v":0},",",{"$f":"DataEntry!H534","v":0},",",{"$f":"DataEntry!J534","v":{"$error":"#N/A"}},",",{"$f":"DataEntry!L534","v":{"$error":"#N/A"}},")",","]
["(",null,",",{"$f":"DataEntry!G535","v":0},",",{"$f":"DataEntry!H535","v":0},",",{"$f":"DataEntry!J535","v":{"$error":"#N/A"}},",",{"$f":"DataEntry!L535","v":{"$error":"#N/A"}},")",","]
["(",null,",",{"$f":"DataEntry!G536","v":0},",",{"$f":"DataEntry!H536","v":0},",",{"$f":"DataEntry!J536","v":{"$error":"#N/A"}},",",{"$f":"DataEntry!L536","v":{"$error":"#N/A"}},")",","]
["(",null,",",{"$f":"DataEntry!G537","v":0},",",{"$f":"DataEntry!H537","v":0},",",{"$f":"DataEntry!J537","v":{"$error":"#N/A"}},",",{"$f":"DataEntry!L537","v":{"$error":"#N/A"}},")",","]
["(",null,",",{"$f":"DataEntry!G538","v":0},",",{"$f":"DataEntry!H538","v":0},",",{"$f":"DataEntry!J538","v":{"$error":"#N/A"}},",",{"$f":"DataEntry!L538","v":{"$error":"#N/A"}},")",","]
["(",null,",",{"$f":"DataEntry!G539","v":0},",",{"$f":"DataEntry!H539","v":0},",",{"$f":"DataEntry!J539","v":{"$error":"#N/A"}},",",{"$f":"DataEntry!L539","v":{"$error":"#N/A"}},")",","]
["(",null,",",{"$f":"DataEntry!G540","v":0},",",{"$f":"DataEntry!H540","v":0},",",{"$f":"DataEntry!J540","v":{"$error":"#N/A"}},",",{"$f":"DataEntry!L540","v":{"$error":"#N/A"}},")",","]
["(",null,",",{"$f":"DataEntry!G541","v":0},",",{"$f":"DataEntry!H541","v":0},",",{"$f":"DataEntry!J541","v":{"$error":"#N/A"}},",",{"$f":"DataEntry!L541","v":{"$error":"#N/A"}},")",","]
["(",null,",",{"$f":"DataEntry!G542","v":0},",",{"$f":"DataEntry!H542","v":0},",",{"$f":"DataEntry!J542","v":{"$error":"#N/A"}},",",{"$f":"DataEntry!L542","v":{"$error":"#N/A"}},")",","]
["(",null,",",{"$f":"DataEntry!G543","v":0},",",{"$f":"DataEntry!H543","v":0},",",{"$f":"DataEntry!J543","v":{"$error":"#N/A"}},",",{"$f":"DataEntry!L543","v":{"$error":"#N/A"}},")",","]
["(",null,",",{"$f":"DataEntry!G544","v":0},",",{"$f":"DataEntry!H544","v":0},",",{"$f":"DataEntry!J544","v":{"$error":"#N/A"}},",",{"$f":"DataEntry!L544","v":{"$error":"#N/A"}},")",","]
["(",null,",",{"$f":"DataEntry!G545","v":0},",",{"$f":"DataEntry!H545","v":0},",",{"$f":"DataEntry!J545","v":{"$error":"#N/A"}},",",{"$f":"DataEntry!L545","v":{"$error":"#N/A"}},")",","]
["(",null,",",{"$f":"DataEntry!G546","v":0},",",{"$f":"DataEntry!H546","v":0},",",{"$f":"DataEntry!J546","v":{"$error":"#N/A"}},",",{"$f":"DataEntry!L546","v":{"$error":"#N/A"}},")",","]
["(",null,",",{"$f":"DataEntry!G547","v":0},",",{"$f":"DataEntry!H547","v":0},",",{"$f":"DataEntry!J547","v":{"$error":"#N/A"}},",",{"$f":"DataEntry!L547","v":{"$error":"#N/A"}},")",","]
["(",null,",",{"$f":"DataEntry!G548","v":0},",",{"$f":"DataEntry!H548","v":0},",",{"$f":"DataEntry!J548","v":{"$error":"#N/A"}},",",{"$f":"DataEntry!L548","v":{"$error":"#N/A"}},")",","]
["(",null,",",{"$f":"DataEntry!G549","v":0},",",{"$f":"DataEntry!H549","v":0},",",{"$f":"DataEntry!J549","v":{"$error":"#N/A"}},",",{"$f":"DataEntry!L549","v":{"$error":"#N/A"}},")",","]
["(",null,",",{"$f":"DataEntry!G550","v":0},",",{"$f":"DataEntry!H550","v":0},",",{"$f":"DataEntry!J550","v":{"$error":"#N/A"}},",",{"$f":"DataEntry!L550","v":{"$error":"#N/A"}},")",","]
["(",null,",",{"$f":"DataEntry!G551","v":0},",",{"$f":"DataEntry!H551","v":0},",",{"$f":"DataEntry!J551","v":{"$error":"#N/A"}},",",{"$f":"DataEntry!L551","v":{"$error":"#N/A"}},")",","]
["(",null,",",{"$f":"DataEntry!G552","v":0},",",{"$f":"DataEntry!H552","v":0},",",{"$f":"DataEntry!J552","v":{"$error":"#N/A"}},",",{"$f":"DataEntry!L552","v":{"$error":"#N/A"}},")",","]
["(",null,",",{"$f":"DataEntry!G553","v":0},",",{"$f":"DataEntry!H553","v":0},",",{"$f":"DataEntry!J553","v":{"$error":"#N/A"}},",",{"$f":"DataEntry!L553","v":{"$error":"#N/A"}},")",","]
["(",null,",",{"$f":"DataEntry!G554","v":0},",",{"$f":"DataEntry!H554","v":0},",",{"$f":"DataEntry!J554","v":{"$error":"#N/A"}},",",{"$f":"DataEntry!L554","v":{"$error":"#N/A"}},")",","]
["(",null,",",{"$f":"DataEntry!G555","v":0},",",{"$f":"DataEntry!H555","v":0},",",{"$f":"DataEntry!J555","v":{"$error":"#N/A"}},",",{"$f":"DataEntry!L555","v":{"$error":"#N/A"}},")",","]
["(",null,",",{"$f":"DataEntry!G556","v":0},",",{"$f":"DataEntry!H556","v":0},",",{"$f":"DataEntry!J556","v":{"$error":"#N/A"}},",",{"$f":"DataEntry!L556","v":{"$error":"#N/A"}},")",","]
["(",null,",",{"$f":"DataEntry!G557","v":0},",",{"$f":"DataEntry!H557","v":0},",",{"$f":"DataEntry!J557","v":{"$error":"#N/A"}},",",{"$f":"DataEntry!L557","v":{"$error":"#N/A"}},")",","]
["(",null,",",{"$f":"DataEntry!G558","v":0},",",{"$f":"DataEntry!H558","v":0},",",{"$f":"DataEntry!J558","v":{"$error":"#N/A"}},",",{"$f":"DataEntry!L558","v":{"$error":"#N/A"}},")",","]
["(",null,",",{"$f":"DataEntry!G559","v":0},",",{"$f":"DataEntry!H559","v":0},",",{"$f":"DataEntry!J559","v":{"$error":"#N/A"}},",",{"$f":"DataEntry!L559","v":{"$error":"#N/A"}},")",","]
["(",null,",",{"$f":"DataEntry!G560","v":0},",",{"$f":"DataEntry!H560","v":0},",",{"$f":"DataEntry!J560","v":{"$error":"#N/A"}},",",{"$f":"DataEntry!L560","v":{"$error":"#N/A"}},")",","]
["(",null,",",{"$f":"DataEntry!G561","v":0},",",{"$f":"DataEntry!H561","v":0},",",{"$f":"DataEntry!J561","v":{"$error":"#N/A"}},",",{"$f":"DataEntry!L561","v":{"$error":"#N/A"}},")",","]
["(",null,",",{"$f":"DataEntry!G562","v":0},",",{"$f":"DataEntry!H562","v":0},",",{"$f":"DataEntry!J562","v":{"$error":"#N/A"}},",",{"$f":"DataEntry!L562","v":{"$error":"#N/A"}},")",","]
["(",null,",",{"$f":"DataEntry!G563","v":0},",",{"$f":"DataEntry!H563","v":0},",",{"$f":"DataEntry!J563","v":{"$error":"#N/A"}},",",{"$f":"DataEntry!L563","v":{"$error":"#N/A"}},")",","]
["(",null,",",{"$f":"DataEntry!G564","v":0},",",{"$f":"DataEntry!H564","v":0},",",{"$f":"DataEntry!J564","v":{"$error":"#N/A"}},",",{"$f":"DataEntry!L564","v":{"$error":"#N/A"}},")",","]
["(",null,",",{"$f":"DataEntry!G565","v":0},",",{"$f":"DataEntry!H565","v":0},",",{"$f":"DataEntry!J565","v":{"$error":"#N/A"}},",",{"$f":"DataEntry!L565","v":{"$error":"#N/A"}},")",","]
["(",null,",",{"$f":"DataEntry!G566","v":0},",",{"$f":"DataEntry!H566","v":0},",",{"$f":"DataEntry!J566","v":{"$error":"#N/A"}},",",{"$f":"DataEntry!L566","v":{"$error":"#N/A"}},")",","]
["(",null,",",{"$f":"DataEntry!G567","v":0},",",{"$f":"DataEntry!H567","v":0},",",{"$f":"DataEntry!J567","v":{"$error":"#N/A"}},",",{"$f":"DataEntry!L567","v":{"$error":"#N/A"}},")",","]
["(",null,",",{"$f":"DataEntry!G568","v":0},",",{"$f":"DataEntry!H568","v":0},",",{"$f":"DataEntry!J568","v":{"$error":"#N/A"}},",",{"$f":"DataEntry!L568","v":{"$error":"#N/A"}},")",","]
["(",null,",",{"$f":"DataEntry!G569","v":0},",",{"$f":"DataEntry!H569","v":0},",",{"$f":"DataEntry!J569","v":{"$error":"#N/A"}},",",{"$f":"DataEntry!L569","v":{"$error":"#N/A"}},")",","]
["(",null,",",{"$f":"DataEntry!G570","v":0},",",{"$f":"DataEntry!H570","v":0},",",{"$f":"DataEntry!J570","v":{"$error":"#N/A"}},",",{"$f":"DataEntry!L570","v":{"$error":"#N/A"}},")",","]
["(",null,",",{"$f":"DataEntry!G571","v":0},",",{"$f":"DataEntry!H571","v":0},",",{"$f":"DataEntry!J571","v":{"$error":"#N/A"}},",",{"$f":"DataEntry!L571","v":{"$error":"#N/A"}},")",","]
["(",null,",",{"$f":"DataEntry!G572","v":0},",",{"$f":"DataEntry!H572","v":0},",",{"$f":"DataEntry!J572","v":{"$error":"#N/A"}},",",{"$f":"DataEntry!L572","v":{"$error":"#N/A"}},")",","]
["(",null,",",{"$f":"DataEntry!G573","v":0},",",{"$f":"DataEntry!H573","v":0},",",{"$f":"DataEntry!J573","v":{"$error":"#N/A"}},",",{"$f":"DataEntry!L573","v":{"$error":"#N/A"}},")",","]
["(",null,",",{"$f":"DataEntry!G574","v":0},",",{"$f":"DataEntry!H574","v":0},",",{"$f":"DataEntry!J574","v":{"$error":"#N/A"}},",",{"$f":"DataEntry!L574","v":{"$error":"#N/A"}},")",","]
["(",null,",",{"$f":"DataEntry!G575","v":0},",",{"$f":"DataEntry!H575","v":0},",",{"$f":"DataEntry!J575","v":{"$error":"#N/A"}},",",{"$f":"DataEntry!L575","v":{"$error":"#N/A"}},")",","]
["(",null,",",{"$f":"DataEntry!G576","v":0},",",{"$f":"DataEntry!H576","v":0},",",{"$f":"DataEntry!J576","v":{"$error":"#N/A"}},",",{"$f":"DataEntry!L576","v":{"$error":"#N/A"}},")",","]
["(",null,",",{"$f":"DataEntry!G577","v":0},",",{"$f":"DataEntry!H577","v":0},",",{"$f":"DataEntry!J577","v":{"$error":"#N/A"}},",",{"$f":"DataEntry!L577","v":{"$error":"#N/A"}},")",","]
["(",null,",",{"$f":"DataEntry!G578","v":0},",",{"$f":"DataEntry!H578","v":0},",",{"$f":"DataEntry!J578","v":{"$error":"#N/A"}},",",{"$f":"DataEntry!L578","v":{"$error":"#N/A"}},")",","]
["(",null,",",{"$f":"DataEntry!G579","v":0},",",{"$f":"DataEntry!H579","v":0},",",{"$f":"DataEntry!J579","v":{"$error":"#N/A"}},",",{"$f":"DataEntry!L579","v":{"$error":"#N/A"}},")",","]
["(",null,",",{"$f":"DataEntry!G580","v":0},",",{"$f":"DataEntry!H580","v":0},",",{"$f":"DataEntry!J580","v":{"$error":"#N/A"}},",",{"$f":"DataEntry!L580","v":{"$error":"#N/A"}},")",","]
["(",null,",",{"$f":"DataEntry!G581","v":0},",",{"$f":"DataEntry!H581","v":0},",",{"$f":"DataEntry!J581","v":{"$error":"#N/A"}},",",{"$f":"DataEntry!L581","v":{"$error":"#N/A"}},")",","]
["(",null,",",{"$f":"DataEntry!G582","v":0},",",{"$f":"DataEntry!H582","v":0},",",{"$f":"DataEntry!J582","v":{"$error":"#N/A"}},",",{"$f":"DataEntry!L582","v":{"$error":"#N/A"}},")",","]
["(",null,",",{"$f":"DataEntry!G583","v":0},",",{"$f":"DataEntry!H583","v":0},",",{"$f":"DataEntry!J583","v":{"$error":"#N/A"}},",",{"$f":"DataEntry!L583","v":{"$error":"#N/A"}},")",","]
["(",null,",",{"$f":"DataEntry!G584","v":0},",",{"$f":"DataEntry!H584","v":0},",",{"$f":"DataEntry!J584","v":{"$error":"#N/A"}},",",{"$f":"DataEntry!L584","v":{"$error":"#N/A"}},")",","]
["(",null,",",{"$f":"DataEntry!G585","v":0},",",{"$f":"DataEntry!H585","v":0},",",{"$f":"DataEntry!J585","v":{"$error":"#N/A"}},",",{"$f":"DataEntry!L585","v":{"$error":"#N/A"}},")",","]
["(",null,",",{"$f":"DataEntry!G586","v":0},",",{"$f":"DataEntry!H586","v":0},",",{"$f":"DataEntry!J586","v":{"$error":"#N/A"}},",",{"$f":"DataEntry!L586","v":{"$error":"#N/A"}},")",","]
["(",null,",",{"$f":"DataEntry!G587","v":0},",",{"$f":"DataEntry!H587","v":0},",",{"$f":"DataEntry!J587","v":{"$error":"#N/A"}},",",{"$f":"DataEntry!L587","v":{"$error":"#N/A"}},")",","]
["(",null,",",{"$f":"DataEntry!G588","v":0},",",{"$f":"DataEntry!H588","v":0},",",{"$f":"DataEntry!J588","v":{"$error":"#N/A"}},",",{"$f":"DataEntry!L588","v":{"$error":"#N/A"}},")",","]
["(",null,",",{"$f":"DataEntry!G589","v":0},",",{"$f":"DataEntry!H589","v":0},",",{"$f":"DataEntry!J589","v":{"$error":"#N/A"}},",",{"$f":"DataEntry!L589","v":{"$error":"#N/A"}},")",","]
["(",null,",",{"$f":"DataEntry!G590","v":0},",",{"$f":"DataEntry!H590","v":0},",",{"$f":"DataEntry!J590","v":{"$error":"#N/A"}},",",{"$f":"DataEntry!L590","v":{"$error":"#N/A"}},")",","]
["(",null,",",{"$f":"DataEntry!G591","v":0},",",{"$f":"DataEntry!H591","v":0},",",{"$f":"DataEntry!J591","v":{"$error":"#N/A"}},",",{"$f":"DataEntry!L591","v":{"$error":"#N/A"}},")",","]
["(",null,",",{"$f":"DataEntry!G592","v":0},",",{"$f":"DataEntry!H592","v":0},",",{"$f":"DataEntry!J592","v":{"$error":"#N/A"}},",",{"$f":"DataEntry!L592","v":{"$error":"#N/A"}},")",","]
["(",null,",",{"$f":"DataEntry!G593","v":0},",",{"$f":"DataEntry!H593","v":0},",",{"$f":"DataEntry!J593","v":{"$error":"#N/A"}},",",{"$f":"DataEntry!L593","v":{"$error":"#N/A"}},")",","]
["(",null,",",{"$f":"DataEntry!G594","v":0},",",{"$f":"DataEntry!H594","v":0},",",{"$f":"DataEntry!J594","v":{"$error":"#N/A"}},",",{"$f":"DataEntry!L594","v":{"$error":"#N/A"}},")",","]
["(",null,",",{"$f":"DataEntry!G595","v":0},",",{"$f":"DataEntry!H595","v":0},",",{"$f":"DataEntry!J595","v":{"$error":"#N/A"}},",",{"$f":"DataEntry!L595","v":{"$error":"#N/A"}},")",","]
["(",null,",",{"$f":"DataEntry!G596","v":0},",",{"$f":"DataEntry!H596","v":0},",",{"$f":"DataEntry!J596","v":{"$error":"#N/A"}},",",{"$f":"DataEntry!L596","v":{"$error":"#N/A"}},")",","]
["(",null,",",{"$f":"DataEntry!G597","v":0},",",{"$f":"DataEntry!H597","v":0},",",{"$f":"DataEntry!J597","v":{"$error":"#N/A"}},",",{"$f":"DataEntry!L597","v":{"$error":"#N/A"}},")",","]
["(",null,",",{"$f":"DataEntry!G598","v":0},",",{"$f":"DataEntry!H598","v":0},",",{"$f":"DataEntry!J598","v":{"$error":"#N/A"}},",",{"$f":"DataEntry!L598","v":{"$error":"#N/A"}},")",","]
["(",null,",",{"$f":"DataEntry!G599","v":0},",",{"$f":"DataEntry!H599","v":0},",",{"$f":"DataEntry!J599","v":{"$error":"#N/A"}},",",{"$f":"DataEntry!L599","v":{"$error":"#N/A"}},")",","]
["(",null,",",{"$f":"DataEntry!G600","v":0},",",{"$f":"DataEntry!H600","v":0},",",{"$f":"DataEntry!J600","v":{"$error":"#N/A"}},",",{"$f":"DataEntry!L600","v":{"$error":"#N/A"}},")",","]
["(",null,",",{"$f":"DataEntry!G601","v":0},",",{"$f":"DataEntry!H601","v":0},",",{"$f":"DataEntry!J601","v":{"$error":"#N/A"}},",",{"$f":"DataEntry!L601","v":{"$error":"#N/A"}},")",","]
["(",null,",",{"$f":"DataEntry!G602","v":0},",",{"$f":"DataEntry!H602","v":0},",",{"$f":"DataEntry!J602","v":{"$error":"#N/A"}},",",{"$f":"DataEntry!L602","v":{"$error":"#N/A"}},")",","]
["(",null,",",{"$f":"DataEntry!G603","v":0},",",{"$f":"DataEntry!H603","v":0},",",{"$f":"DataEntry!J603","v":{"$error":"#N/A"}},",",{"$f":"DataEntry!L603","v":{"$error":"#N/A"}},")",","]
["(",null,",",{"$f":"DataEntry!G604","v":0},",",{"$f":"DataEntry!H604","v":0},",",{"$f":"DataEntry!J604","v":{"$error":"#N/A"}},",",{"$f":"DataEntry!L604","v":{"$error":"#N/A"}},")",","]
["(",null,",",{"$f":"DataEntry!G605","v":0},",",{"$f":"DataEntry!H605","v":0},",",{"$f":"DataEntry!J605","v":{"$error":"#N/A"}},",",{"$f":"DataEntry!L605","v":{"$error":"#N/A"}},")",","]
["(",null,",",{"$f":"DataEntry!G606","v":0},",",{"$f":"DataEntry!H606","v":0},",",{"$f":"DataEntry!J606","v":{"$error":"#N/A"}},",",{"$f":"DataEntry!L606","v":{"$error":"#N/A"}},")",","]
["(",null,",",{"$f":"DataEntry!G607","v":0},",",{"$f":"DataEntry!H607","v":0},",",{"$f":"DataEntry!J607","v":{"$error":"#N/A"}},",",{"$f":"DataEntry!L607","v":{"$error":"#N/A"}},")",","]
["(",null,",",{"$f":"DataEntry!G608","v":0},",",{"$f":"DataEntry!H608","v":0},",",{"$f":"DataEntry!J608","v":{"$error":"#N/A"}},",",{"$f":"DataEntry!L608","v":{"$error":"#N/A"}},")",","]
["(",null,",",{"$f":"DataEntry!G609","v":0},",",{"$f":"DataEntry!H609","v":0},",",{"$f":"DataEntry!J609","v":{"$error":"#N/A"}},",",{"$f":"DataEntry!L609","v":{"$error":"#N/A"}},")",","]
["(",null,",",{"$f":"DataEntry!G610","v":0},",",{"$f":"DataEntry!H610","v":0},",",{"$f":"DataEntry!J610","v":{"$error":"#N/A"}},",",{"$f":"DataEntry!L610","v":{"$error":"#N/A"}},")",","]
["(",null,",",{"$f":"DataEntry!G611","v":0},",",{"$f":"DataEntry!H611","v":0},",",{"$f":"DataEntry!J611","v":{"$error":"#N/A"}},",",{"$f":"DataEntry!L611","v":{"$error":"#N/A"}},")",","]
["(",null,",",{"$f":"DataEntry!G612","v":0},",",{"$f":"DataEntry!H612","v":0},",",{"$f":"DataEntry!J612","v":{"$error":"#N/A"}},",",{"$f":"DataEntry!L612","v":{"$error":"#N/A"}},")",","]
["(",null,",",{"$f":"DataEntry!G613","v":0},",",{"$f":"DataEntry!H613","v":0},",",{"$f":"DataEntry!J613","v":{"$error":"#N/A"}},",",{"$f":"DataEntry!L613","v":{"$error":"#N/A"}},")",","]
["(",null,",",{"$f":"DataEntry!G614","v":0},",",{"$f":"DataEntry!H614","v":0},",",{"$f":"DataEntry!J614","v":{"$error":"#N/A"}},",",{"$f":"DataEntry!L614","v":{"$error":"#N/A"}},")",","]
["(",null,",",{"$f":"DataEntry!G615","v":0},",",{"$f":"DataEntry!H615","v":0},",",{"$f":"DataEntry!J615","v":{"$error":"#N/A"}},",",{"$f":"DataEntry!L615","v":{"$error":"#N/A"}},")",","]
["(",null,",",{"$f":"DataEntry!G616","v":0},",",{"$f":"DataEntry!H616","v":0},",",{"$f":"DataEntry!J616","v":{"$error":"#N/A"}},",",{"$f":"DataEntry!L616","v":{"$error":"#N/A"}},")",","]
["(",null,",",{"$f":"DataEntry!G617","v":0},",",{"$f":"DataEntry!H617","v":0},",",{"$f":"DataEntry!J617","v":{"$error":"#N/A"}},",",{"$f":"DataEntry!L617","v":{"$error":"#N/A"}},")",","]
["(",null,",",{"$f":"DataEntry!G618","v":0},",",{"$f":"DataEntry!H618","v":0},",",{"$f":"DataEntry!J618","v":{"$error":"#N/A"}},",",{"$f":"DataEntry!L618","v":{"$error":"#N/A"}},")",","]
["(",null,",",{"$f":"DataEntry!G619","v":0},",",{"$f":"DataEntry!H619","v":0},",",{"$f":"DataEntry!J619","v":{"$error":"#N/A"}},",",{"$f":"DataEntry!L619","v":{"$error":"#N/A"}},")",","]
["(",null,",",{"$f":"DataEntry!G620","v":0},",",{"$f":"DataEntry!H620","v":0},",",{"$f":"DataEntry!J620","v":{"$error":"#N/A"}},",",{"$f":"DataEntry!L620","v":{"$error":"#N/A"}},")",","]
["(",null,",",{"$f":"DataEntry!G621","v":0},",",{"$f":"DataEntry!H621","v":0},",",{"$f":"DataEntry!J621","v":{"$error":"#N/A"}},",",{"$f":"DataEntry!L621","v":{"$error":"#N/A"}},")",","]
["(",null,",",{"$f":"DataEntry!G622","v":0},",",{"$f":"DataEntry!H622","v":0},",",{"$f":"DataEntry!J622","v":{"$error":"#N/A"}},",",{"$f":"DataEntry!L622","v":{"$error":"#N/A"}},")",","]
["(",null,",",{"$f":"DataEntry!G623","v":0},",",{"$f":"DataEntry!H623","v":0},",",{"$f":"DataEntry!J623","v":{"$error":"#N/A"}},",",{"$f":"DataEntry!L623","v":{"$error":"#N/A"}},")",","]
["(",null,",",{"$f":"DataEntry!G624","v":0},",",{"$f":"DataEntry!H624","v":0},",",{"$f":"DataEntry!J624","v":{"$error":"#N/A"}},",",{"$f":"DataEntry!L624","v":{"$error":"#N/A"}},")",","]
["(",null,",",{"$f":"DataEntry!G625","v":0},",",{"$f":"DataEntry!H625","v":0},",",{"$f":"DataEntry!J625","v":{"$error":"#N/A"}},",",{"$f":"DataEntry!L625","v":{"$error":"#N/A"}},")",","]
["(",null,",",{"$f":"DataEntry!G626","v":0},",",{"$f":"DataEntry!H626","v":0},",",{"$f":"DataEntry!J626","v":{"$error":"#N/A"}},",",{"$f":"DataEntry!L626","v":{"$error":"#N/A"}},")",","]
["(",null,",",{"$f":"DataEntry!G627","v":0},",",{"$f":"DataEntry!H627","v":0},",",{"$f":"DataEntry!J627","v":{"$error":"#N/A"}},",",{"$f":"DataEntry!L627","v":{"$error":"#N/A"}},")",","]
["(",null,",",{"$f":"DataEntry!G628","v":0},",",{"$f":"DataEntry!H628","v":0},",",{"$f":"DataEntry!J628","v":{"$error":"#N/A"}},",",{"$f":"DataEntry!L628","v":{"$error":"#N/A"}},")",","]
["(",null,",",{"$f":"DataEntry!G629","v":0},",",{"$f":"DataEntry!H629","v":0},",",{"$f":"DataEntry!J629","v":{"$error":"#N/A"}},",",{"$f":"DataEntry!L629","v":{"$error":"#N/A"}},")",","]
["(",null,",",{"$f":"DataEntry!G630","v":0},",",{"$f":"DataEntry!H630","v":0},",",{"$f":"DataEntry!J630","v":{"$error":"#N/A"}},",",{"$f":"DataEntry!L630","v":{"$error":"#N/A"}},")",","]
["(",null,",",{"$f":"DataEntry!G631","v":0},",",{"$f":"DataEntry!H631","v":0},",",{"$f":"DataEntry!J631","v":{"$error":"#N/A"}},",",{"$f":"DataEntry!L631","v":{"$error":"#N/A"}},")",","]
["(",null,",",{"$f":"DataEntry!G632","v":0},",",{"$f":"DataEntry!H632","v":0},",",{"$f":"DataEntry!J632","v":{"$error":"#N/A"}},",",{"$f":"DataEntry!L632","v":{"$error":"#N/A"}},")",","]
["(",null,",",{"$f":"DataEntry!G633","v":0},",",{"$f":"DataEntry!H633","v":0},",",{"$f":"DataEntry!J633","v":{"$error":"#N/A"}},",",{"$f":"DataEntry!L633","v":{"$error":"#N/A"}},")",","]
["(",null,",",{"$f":"DataEntry!G634","v":0},",",{"$f":"DataEntry!H634","v":0},",",{"$f":"DataEntry!J634","v":{"$error":"#N/A"}},",",{"$f":"DataEntry!L634","v":{"$error":"#N/A"}},")",","]
["(",null,",",{"$f":"DataEntry!G635","v":0},",",{"$f":"DataEntry!H635","v":0},",",{"$f":"DataEntry!J635","v":{"$error":"#N/A"}},",",{"$f":"DataEntry!L635","v":{"$error":"#N/A"}},")",","]
["(",null,",",{"$f":"DataEntry!G636","v":0},",",{"$f":"DataEntry!H636","v":0},",",{"$f":"DataEntry!J636","v":{"$error":"#N/A"}},",",{"$f":"DataEntry!L636","v":{"$error":"#N/A"}},")",","]
["(",null,",",{"$f":"DataEntry!G637","v":0},",",{"$f":"DataEntry!H637","v":0},",",{"$f":"DataEntry!J637","v":{"$error":"#N/A"}},",",{"$f":"DataEntry!L637","v":{"$error":"#N/A"}},")",","]
["(",null,",",{"$f":"DataEntry!G638","v":0},",",{"$f":"DataEntry!H638","v":0},",",{"$f":"DataEntry!J638","v":{"$error":"#N/A"}},",",{"$f":"DataEntry!L638","v":{"$error":"#N/A"}},")",","]
["(",null,",",{"$f":"DataEntry!G639","v":0},",",{"$f":"DataEntry!H639","v":0},",",{"$f":"DataEntry!J639","v":{"$error":"#N/A"}},",",{"$f":"DataEntry!L639","v":{"$error":"#N/A"}},")",","]
["(",null,",",{"$f":"DataEntry!G640","v":0},",",{"$f":"DataEntry!H640","v":0},",",{"$f":"DataEntry!J640","v":{"$error":"#N/A"}},",",{"$f":"DataEntry!L640","v":{"$error":"#N/A"}},")",","]
["(",null,",",{"$f":"DataEntry!G641","v":0},",",{"$f":"DataEntry!H641","v":0},",",{"$f":"DataEntry!J641","v":{"$error":"#N/A"}},",",{"$f":"DataEntry!L641","v":{"$error":"#N/A"}},")",","]
["(",null,",",{"$f":"DataEntry!G642","v":0},",",{"$f":"DataEntry!H642","v":0},",",{"$f":"DataEntry!J642","v":{"$error":"#N/A"}},",",{"$f":"DataEntry!L642","v":{"$error":"#N/A"}},")",","]
["(",null,",",{"$f":"DataEntry!G643","v":0},",",{"$f":"DataEntry!H643","v":0},",",{"$f":"DataEntry!J643","v":{"$error":"#N/A"}},",",{"$f":"DataEntry!L643","v":{"$error":"#N/A"}},")",","]
["(",null,",",{"$f":"DataEntry!G644","v":0},",",{"$f":"DataEntry!H644","v":0},",",{"$f":"DataEntry!J644","v":{"$error":"#N/A"}},",",{"$f":"DataEntry!L644","v":{"$error":"#N/A"}},")",","]
["(",null,",",{"$f":"DataEntry!G645","v":0},",",{"$f":"DataEntry!H645","v":0},",",{"$f":"DataEntry!J645","v":{"$error":"#N/A"}},",",{"$f":"DataEntry!L645","v":{"$error":"#N/A"}},")",","]
["(",null,",",{"$f":"DataEntry!G646","v":0},",",{"$f":"DataEntry!H646","v":0},",",{"$f":"DataEntry!J646","v":{"$error":"#N/A"}},",",{"$f":"DataEntry!L646","v":{"$error":"#N/A"}},")",","]
["(",null,",",{"$f":"DataEntry!G647","v":0},",",{"$f":"DataEntry!H647","v":0},",",{"$f":"DataEntry!J647","v":{"$error":"#N/A"}},",",{"$f":"DataEntry!L647","v":{"$error":"#N/A"}},")",","]
["(",null,",",{"$f":"DataEntry!G648","v":0},",",{"$f":"DataEntry!H648","v":0},",",{"$f":"DataEntry!J648","v":{"$error":"#N/A"}},",",{"$f":"DataEntry!L648","v":{"$error":"#N/A"}},")",","]
["(",null,",",{"$f":"DataEntry!G649","v":0},",",{"$f":"DataEntry!H649","v":0},",",{"$f":"DataEntry!J649","v":{"$error":"#N/A"}},",",{"$f":"DataEntry!L649","v":{"$error":"#N/A"}},")",","]
["(",null,",",{"$f":"DataEntry!G650","v":0},",",{"$f":"DataEntry!H650","v":0},",",{"$f":"DataEntry!J650","v":{"$error":"#N/A"}},",",{"$f":"DataEntry!L650","v":{"$error":"#N/A"}},")",","]
["(",null,",",{"$f":"DataEntry!G651","v":0},",",{"$f":"DataEntry!H651","v":0},",",{"$f":"DataEntry!J651","v":{"$error":"#N/A"}},",",{"$f":"DataEntry!L651","v":{"$error":"#N/A"}},")",","]
["(",null,",",{"$f":"DataEntry!G652","v":0},",",{"$f":"DataEntry!H652","v":0},",",{"$f":"DataEntry!J652","v":{"$error":"#N/A"}},",",{"$f":"DataEntry!L652","v":{"$error":"#N/A"}},")",","]
["(",null,",",{"$f":"DataEntry!G653","v":0},",",{"$f":"DataEntry!H653","v":0},",",{"$f":"DataEntry!J653","v":{"$error":"#N/A"}},",",{"$f":"DataEntry!L653","v":{"$error":"#N/A"}},")",","]
["(",null,",",{"$f":"DataEntry!G654","v":0},",",{"$f":"DataEntry!H654","v":0},",",{"$f":"DataEntry!J654","v":{"$error":"#N/A"}},",",{"$f":"DataEntry!L654","v":{"$error":"#N/A"}},")",","]
["(",null,",",{"$f":"DataEntry!G655","v":0},",",{"$f":"DataEntry!H655","v":0},",",{"$f":"DataEntry!J655","v":{"$error":"#N/A"}},",",{"$f":"DataEntry!L655","v":{"$error":"#N/A"}},")",","]
["(",null,",",{"$f":"DataEntry!G656","v":0},",",{"$f":"DataEntry!H656","v":0},",",{"$f":"DataEntry!J656","v":{"$error":"#N/A"}},",",{"$f":"DataEntry!L656","v":{"$error":"#N/A"}},")",","]
["(",null,",",{"$f":"DataEntry!G657","v":0},",",{"$f":"DataEntry!H657","v":0},",",{"$f":"DataEntry!J657","v":{"$error":"#N/A"}},",",{"$f":"DataEntry!L657","v":{"$error":"#N/A"}},")",","]
["(",null,",",{"$f":"DataEntry!G658","v":0},",",{"$f":"DataEntry!H658","v":0},",",{"$f":"DataEntry!J658","v":{"$error":"#N/A"}},",",{"$f":"DataEntry!L658","v":{"$error":"#N/A"}},")",","]
["(",null,",",{"$f":"DataEntry!G659","v":0},",",{"$f":"DataEntry!H659","v":0},",",{"$f":"DataEntry!J659","v":{"$error":"#N/A"}},",",{"$f":"DataEntry!L659","v":{"$error":"#N/A"}},")",","]
["(",null,",",{"$f":"DataEntry!G660","v":0},",",{"$f":"DataEntry!H660","v":0},",",{"$f":"DataEntry!J660","v":{"$error":"#N/A"}},",",{"$f":"DataEntry!L660","v":{"$error":"#N/A"}},")",","]
["(",null,",",{"$f":"DataEntry!G661","v":0},",",{"$f":"DataEntry!H661","v":0},",",{"$f":"DataEntry!J661","v":{"$error":"#N/A"}},",",{"$f":"DataEntry!L661","v":{"$error":"#N/A"}},")",","]
["(",null,",",{"$f":"DataEntry!G662","v":0},",",{"$f":"DataEntry!H662","v":0},",",{"$f":"DataEntry!J662","v":{"$error":"#N/A"}},",",{"$f":"DataEntry!L662","v":{"$error":"#N/A"}},")",","]
["(",null,",",{"$f":"DataEntry!G663","v":0},",",{"$f":"DataEntry!H663","v":0},",",{"$f":"DataEntry!J663","v":{"$error":"#N/A"}},",",{"$f":"DataEntry!L663","v":{"$error":"#N/A"}},")",","]
["(",null,",",{"$f":"DataEntry!G664","v":0},",",{"$f":"DataEntry!H664","v":0},",",{"$f":"DataEntry!J664","v":{"$error":"#N/A"}},",",{"$f":"DataEntry!L664","v":{"$error":"#N/A"}},")",","]
["(",null,",",{"$f":"DataEntry!G665","v":0},",",{"$f":"DataEntry!H665","v":0},",",{"$f":"DataEntry!J665","v":{"$error":"#N/A"}},",",{"$f":"DataEntry!L665","v":{"$error":"#N/A"}},")",","]
["(",null,",",{"$f":"DataEntry!G666","v":0},",",{"$f":"DataEntry!H666","v":0},",",{"$f":"DataEntry!J666","v":{"$error":"#N/A"}},",",{"$f":"DataEntry!L666","v":{"$error":"#N/A"}},")",","]
["(",null,",",{"$f":"DataEntry!G667","v":0},",",{"$f":"DataEntry!H667","v":0},",",{"$f":"DataEntry!J667","v":{"$error":"#N/A"}},",",{"$f":"DataEntry!L667","v":{"$error":"#N/A"}},")",","]
["(",null,",",{"$f":"DataEntry!G668","v":0},",",{"$f":"DataEntry!H668","v":0},",",{"$f":"DataEntry!J668","v":{"$error":"#N/A"}},",",{"$f":"DataEntry!L668","v":{"$error":"#N/A"}},")",","]
["(",null,",",{"$f":"DataEntry!G669","v":0},",",{"$f":"DataEntry!H669","v":0},",",{"$f":"DataEntry!J669","v":{"$error":"#N/A"}},",",{"$f":"DataEntry!L669","v":{"$error":"#N/A"}},")",","]
["(",null,",",{"$f":"DataEntry!G670","v":0},",",{"$f":"DataEntry!H670","v":0},",",{"$f":"DataEntry!J670","v":{"$error":"#N/A"}},",",{"$f":"DataEntry!L670","v":{"$error":"#N/A"}},")",","]
["(",null,",",{"$f":"DataEntry!G671","v":0},",",{"$f":"DataEntry!H671","v":0},",",{"$f":"DataEntry!J671","v":{"$error":"#N/A"}},",",{"$f":"DataEntry!L671","v":{"$error":"#N/A"}},")",","]
["(",null,",",{"$f":"DataEntry!G672","v":0},",",{"$f":"DataEntry!H672","v":0},",",{"$f":"DataEntry!J672","v":{"$error":"#N/A"}},",",{"$f":"DataEntry!L672","v":{"$error":"#N/A"}},")",","]
["(",null,",",{"$f":"DataEntry!G673","v":0},",",{"$f":"DataEntry!H673","v":0},",",{"$f":"DataEntry!J673","v":{"$error":"#N/A"}},",",{"$f":"DataEntry!L673","v":{"$error":"#N/A"}},")",","]
["(",null,",",{"$f":"DataEntry!G674","v":0},",",{"$f":"DataEntry!H674","v":0},",",{"$f":"DataEntry!J674","v":{"$error":"#N/A"}},",",{"$f":"DataEntry!L674","v":{"$error":"#N/A"}},")",","]
["(",null,",",{"$f":"DataEntry!G675","v":0},",",{"$f":"DataEntry!H675","v":0},",",{"$f":"DataEntry!J675","v":{"$error":"#N/A"}},",",{"$f":"DataEntry!L675","v":{"$error":"#N/A"}},")",","]
["(",null,",",{"$f":"DataEntry!G676","v":0},",",{"$f":"DataEntry!H676","v":0},",",{"$f":"DataEntry!J676","v":{"$error":"#N/A"}},",",{"$f":"DataEntry!L676","v":{"$error":"#N/A"}},")",","]
["(",null,",",{"$f":"DataEntry!G677","v":0},",",{"$f":"DataEntry!H677","v":0},",",{"$f":"DataEntry!J677","v":{"$error":"#N/A"}},",",{"$f":"DataEntry!L677","v":{"$error":"#N/A"}},")",","]
["(",null,",",{"$f":"DataEntry!G678","v":0},",",{"$f":"DataEntry!H678","v":0},",",{"$f":"DataEntry!J678","v":{"$error":"#N/A"}},",",{"$f":"DataEntry!L678","v":{"$error":"#N/A"}},")",","]
["(",null,",",{"$f":"DataEntry!G679","v":0},",",{"$f":"DataEntry!H679","v":0},",",{"$f":"DataEntry!J679","v":{"$error":"#N/A"}},",",{"$f":"DataEntry!L679","v":{"$error":"#N/A"}},")",","]
["(",null,",",{"$f":"DataEntry!G680","v":0},",",{"$f":"DataEntry!H680","v":0},",",{"$f":"DataEntry!J680","v":{"$error":"#N/A"}},",",{"$f":"DataEntry!L680","v":{"$error":"#N/A"}},")",","]
["(",null,",",{"$f":"DataEntry!G681","v":0},",",{"$f":"DataEntry!H681","v":0},",",{"$f":"DataEntry!J681","v":{"$error":"#N/A"}},",",{"$f":"DataEntry!L681","v":{"$error":"#N/A"}},")",","]
["(",null,",",{"$f":"DataEntry!G682","v":0},",",{"$f":"DataEntry!H682","v":0},",",{"$f":"DataEntry!J682","v":{"$error":"#N/A"}},",",{"$f":"DataEntry!L682","v":{"$error":"#N/A"}},")",","]
["(",null,",",{"$f":"DataEntry!G683","v":0},",",{"$f":"DataEntry!H683","v":0},",",{"$f":"DataEntry!J683","v":{"$error":"#N/A"}},",",{"$f":"DataEntry!L683","v":{"$error":"#N/A"}},")",","]
["(",null,",",{"$f":"DataEntry!G684","v":0},",",{"$f":"DataEntry!H684","v":0},",",{"$f":"DataEntry!J684","v":{"$error":"#N/A"}},",",{"$f":"DataEntry!L684","v":{"$error":"#N/A"}},")",","]
["(",null,",",{"$f":"DataEntry!G685","v":0},",",{"$f":"DataEntry!H685","v":0},",",{"$f":"DataEntry!J685","v":{"$error":"#N/A"}},",",{"$f":"DataEntry!L685","v":{"$error":"#N/A"}},")",","]
["(",null,",",{"$f":"DataEntry!G686","v":0},",",{"$f":"DataEntry!H686","v":0},",",{"$f":"DataEntry!J686","v":{"$error":"#N/A"}},",",{"$f":"DataEntry!L686","v":{"$error":"#N/A"}},")",","]
["(",null,",",{"$f":"DataEntry!G687","v":0},",",{"$f":"DataEntry!H687","v":0},",",{"$f":"DataEntry!J687","v":{"$error":"#N/A"}},",",{"$f":"DataEntry!L687","v":{"$error":"#N/A"}},")",","]
["(",null,",",{"$f":"DataEntry!G688","v":0},",",{"$f":"DataEntry!H688","v":0},",",{"$f":"DataEntry!J688","v":{"$error":"#N/A"}},",",{"$f":"DataEntry!L688","v":{"$error":"#N/A"}},")",","]
["(",null,",",{"$f":"DataEntry!G689","v":0},",",{"$f":"DataEntry!H689","v":0},",",{"$f":"DataEntry!J689","v":{"$error":"#N/A"}},",",{"$f":"DataEntry!L689","v":{"$error":"#N/A"}},")",","]
["(",null,",",{"$f":"DataEntry!G690","v":0},",",{"$f":"DataEntry!H690","v":0},",",{"$f":"DataEntry!J690","v":{"$error":"#N/A"}},",",{"$f":"DataEntry!L690","v":{"$error":"#N/A"}},")",","]
["(",null,",",{"$f":"DataEntry!G691","v":0},",",{"$f":"DataEntry!H691","v":0},",",{"$f":"DataEntry!J691","v":{"$error":"#N/A"}},",",{"$f":"DataEntry!L691","v":{"$error":"#N/A"}},")",","]
["(",null,",",{"$f":"DataEntry!G692","v":0},",",{"$f":"DataEntry!H692","v":0},",",{"$f":"DataEntry!J692","v":{"$error":"#N/A"}},",",{"$f":"DataEntry!L692","v":{"$error":"#N/A"}},")",","]
["(",null,",",{"$f":"DataEntry!G693","v":0},",",{"$f":"DataEntry!H693","v":0},",",{"$f":"DataEntry!J693","v":{"$error":"#N/A"}},",",{"$f":"DataEntry!L693","v":{"$error":"#N/A"}},")",","]
["(",null,",",{"$f":"DataEntry!G694","v":0},",",{"$f":"DataEntry!H694","v":0},",",{"$f":"DataEntry!J694","v":{"$error":"#N/A"}},",",{"$f":"DataEntry!L694","v":{"$error":"#N/A"}},")",","]
["(",null,",",{"$f":"DataEntry!G695","v":0},",",{"$f":"DataEntry!H695","v":0},",",{"$f":"DataEntry!J695","v":{"$error":"#N/A"}},",",{"$f":"DataEntry!L695","v":{"$error":"#N/A"}},")",","]
["(",null,",",{"$f":"DataEntry!G696","v":0},",",{"$f":"DataEntry!H696","v":0},",",{"$f":"DataEntry!J696","v":{"$error":"#N/A"}},",",{"$f":"DataEntry!L696","v":{"$error":"#N/A"}},")",","]
["(",null,",",{"$f":"DataEntry!G697","v":0},",",{"$f":"DataEntry!H697","v":0},",",{"$f":"DataEntry!J697","v":{"$error":"#N/A"}},",",{"$f":"DataEntry!L697","v":{"$error":"#N/A"}},")",","]
["(",null,",",{"$f":"DataEntry!G698","v":0},",",{"$f":"DataEntry!H698","v":0},",",{"$f":"DataEntry!J698","v":{"$error":"#N/A"}},",",{"$f":"DataEntry!L698","v":{"$error":"#N/A"}},")",","]
["(",null,",",{"$f":"DataEntry!G699","v":0},",",{"$f":"DataEntry!H699","v":0},",",{"$f":"DataEntry!J699","v":{"$error":"#N/A"}},",",{"$f":"DataEntry!L699","v":{"$error":"#N/A"}},")",","]
["(",null,",",{"$f":"DataEntry!G700","v":0},",",{"$f":"DataEntry!H700","v":0},",",{"$f":"DataEntry!J700","v":{"$error":"#N/A"}},",",{"$f":"DataEntry!L700","v":{"$error":"#N/A"}},")",","]
["(",null,",",{"$f":"DataEntry!G701","v":0},",",{"$f":"DataEntry!H701","v":0},",",{"$f":"DataEntry!J701","v":{"$error":"#N/A"}},",",{"$f":"DataEntry!L701","v":{"$error":"#N/A"}},")",","]
["(",null,",",{"$f":"DataEntry!G702","v":0},",",{"$f":"DataEntry!H702","v":0},",",{"$f":"DataEntry!J702","v":{"$error":"#N/A"}},",",{"$f":"DataEntry!L702","v":{"$error":"#N/A"}},")",","]
["(",null,",",{"$f":"DataEntry!G703","v":0},",",{"$f":"DataEntry!H703","v":0},",",{"$f":"DataEntry!J703","v":{"$error":"#N/A"}},",",{"$f":"DataEntry!L703","v":{"$error":"#N/A"}},")",","]
["(",null,",",{"$f":"DataEntry!G704","v":0},",",{"$f":"DataEntry!H704","v":0},",",{"$f":"DataEntry!J704","v":{"$error":"#N/A"}},",",{"$f":"DataEntry!L704","v":{"$error":"#N/A"}},")",","]
["(",null,",",{"$f":"DataEntry!G705","v":0},",",{"$f":"DataEntry!H705","v":0},",",{"$f":"DataEntry!J705","v":{"$error":"#N/A"}},",",{"$f":"DataEntry!L705","v":{"$error":"#N/A"}},")",","]
["(",null,",",{"$f":"DataEntry!G706","v":0},",",{"$f":"DataEntry!H706","v":0},",",{"$f":"DataEntry!J706","v":{"$error":"#N/A"}},",",{"$f":"DataEntry!L706","v":{"$error":"#N/A"}},")",","]
["(",null,",",{"$f":"DataEntry!G707","v":0},",",{"$f":"DataEntry!H707","v":0},",",{"$f":"DataEntry!J707","v":{"$error":"#N/A"}},",",{"$f":"DataEntry!L707","v":{"$error":"#N/A"}},")",","]
["(",null,",",{"$f":"DataEntry!G708","v":0},",",{"$f":"DataEntry!H708","v":0},",",{"$f":"DataEntry!J708","v":{"$error":"#N/A"}},",",{"$f":"DataEntry!L708","v":{"$error":"#N/A"}},")",","]
["(",null,",",{"$f":"DataEntry!G709","v":0},",",{"$f":"DataEntry!H709","v":0},",",{"$f":"DataEntry!J709","v":{"$error":"#N/A"}},",",{"$f":"DataEntry!L709","v":{"$error":"#N/A"}},")",","]
["(",null,",",{"$f":"DataEntry!G710","v":0},",",{"$f":"DataEntry!H710","v":0},",",{"$f":"DataEntry!J710","v":{"$error":"#N/A"}},",",{"$f":"DataEntry!L710","v":{"$error":"#N/A"}},")",","]
["(",null,",",{"$f":"DataEntry!G711","v":0},",",{"$f":"DataEntry!H711","v":0},",",{"$f":"DataEntry!J711","v":{"$error":"#N/A"}},",",{"$f":"DataEntry!L711","v":{"$error":"#N/A"}},")",","]
["(",null,",",{"$f":"DataEntry!G712","v":0},",",{"$f":"DataEntry!H712","v":0},",",{"$f":"DataEntry!J712","v":{"$error":"#N/A"}},",",{"$f":"DataEntry!L712","v":{"$error":"#N/A"}},")",","]
["(",null,",",{"$f":"DataEntry!G713","v":0},",",{"$f":"DataEntry!H713","v":0},",",{"$f":"DataEntry!J713","v":{"$error":"#N/A"}},",",{"$f":"DataEntry!L713","v":{"$error":"#N/A"}},")",","]
["(",null,",",{"$f":"DataEntry!G714","v":0},",",{"$f":"DataEntry!H714","v":0},",",{"$f":"DataEntry!J714","v":{"$error":"#N/A"}},",",{"$f":"DataEntry!L714","v":{"$error":"#N/A"}},")",","]
["(",null,",",{"$f":"DataEntry!G715","v":0},",",{"$f":"DataEntry!H715","v":0},",",{"$f":"DataEntry!J715","v":{"$error":"#N/A"}},",",{"$f":"DataEntry!L715","v":{"$error":"#N/A"}},")",","]
["(",null,",",{"$f":"DataEntry!G716","v":0},",",{"$f":"DataEntry!H716","v":0},",",{"$f":"DataEntry!J716","v":{"$error":"#N/A"}},",",{"$f":"DataEntry!L716","v":{"$error":"#N/A"}},")",","]
["(",null,",",{"$f":"DataEntry!G717","v":0},",",{"$f":"DataEntry!H717","v":0},",",{"$f":"DataEntry!J717","v":{"$error":"#N/A"}},",",{"$f":"DataEntry!L717","v":{"$error":"#N/A"}},")",","]
["(",null,",",{"$f":"DataEntry!G718","v":0},",",{"$f":"DataEntry!H718","v":0},",",{"$f":"DataEntry!J718","v":{"$error":"#N/A"}},",",{"$f":"DataEntry!L718","v":{"$error":"#N/A"}},")",","]
["(",null,",",{"$f":"DataEntry!G719","v":0},",",{"$f":"DataEntry!H719","v":0},",",{"$f":"DataEntry!J719","v":{"$error":"#N/A"}},",",{"$f":"DataEntry!L719","v":{"$error":"#N/A"}},")",","]
["(",null,",",{"$f":"DataEntry!G720","v":0},",",{"$f":"DataEntry!H720","v":0},",",{"$f":"DataEntry!J720","v":{"$error":"#N/A"}},",",{"$f":"DataEntry!L720","v":{"$error":"#N/A"}},")",","]
["(",null,",",{"$f":"DataEntry!G721","v":0},",",{"$f":"DataEntry!H721","v":0},",",{"$f":"DataEntry!J721","v":{"$error":"#N/A"}},",",{"$f":"DataEntry!L721","v":{"$error":"#N/A"}},")",","]
["(",null,",",{"$f":"DataEntry!G722","v":0},",",{"$f":"DataEntry!H722","v":0},",",{"$f":"DataEntry!J722","v":{"$error":"#N/A"}},",",{"$f":"DataEntry!L722","v":{"$error":"#N/A"}},")",","]
["(",null,",",{"$f":"DataEntry!G723","v":0},",",{"$f":"DataEntry!H723","v":0},",",{"$f":"DataEntry!J723","v":{"$error":"#N/A"}},",",{"$f":"DataEntry!L723","v":{"$error":"#N/A"}},")",","]
["(",null,",",{"$f":"DataEntry!G724","v":0},",",{"$f":"DataEntry!H724","v":0},",",{"$f":"DataEntry!J724","v":{"$error":"#N/A"}},",",{"$f":"DataEntry!L724","v":{"$error":"#N/A"}},")",","]
["(",null,",",{"$f":"DataEntry!G725","v":0},",",{"$f":"DataEntry!H725","v":0},",",{"$f":"DataEntry!J725","v":{"$error":"#N/A"}},",",{"$f":"DataEntry!L725","v":{"$error":"#N/A"}},")",","]
["(",null,",",{"$f":"DataEntry!G726","v":0},",",{"$f":"DataEntry!H726","v":0},",",{"$f":"DataEntry!J726","v":{"$error":"#N/A"}},",",{"$f":"DataEntry!L726","v":{"$error":"#N/A"}},")",","]
["(",null,",",{"$f":"DataEntry!G727","v":0},",",{"$f":"DataEntry!H727","v":0},",",{"$f":"DataEntry!J727","v":{"$error":"#N/A"}},",",{"$f":"DataEntry!L727","v":{"$error":"#N/A"}},")",","]
["(",null,",",{"$f":"DataEntry!G728","v":0},",",{"$f":"DataEntry!H728","v":0},",",{"$f":"DataEntry!J728","v":{"$error":"#N/A"}},",",{"$f":"DataEntry!L728","v":{"$error":"#N/A"}},")",","]
["(",null,",",{"$f":"DataEntry!G729","v":0},",",{"$f":"DataEntry!H729","v":0},",",{"$f":"DataEntry!J729","v":{"$error":"#N/A"}},",",{"$f":"DataEntry!L729","v":{"$error":"#N/A"}},")",","]
["(",null,",",{"$f":"DataEntry!G730","v":0},",",{"$f":"DataEntry!H730","v":0},",",{"$f":"DataEntry!J730","v":{"$error":"#N/A"}},",",{"$f":"DataEntry!L730","v":{"$error":"#N/A"}},")",","]
["(",null,",",{"$f":"DataEntry!G731","v":0},",",{"$f":"DataEntry!H731","v":0},",",{"$f":"DataEntry!J731","v":{"$error":"#N/A"}},",",{"$f":"DataEntry!L731","v":{"$error":"#N/A"}},")",","]
["(",null,",",{"$f":"DataEntry!G732","v":0},",",{"$f":"DataEntry!H732","v":0},",",{"$f":"DataEntry!J732","v":{"$error":"#N/A"}},",",{"$f":"DataEntry!L732","v":{"$error":"#N/A"}},")",","]
["(",null,",",{"$f":"DataEntry!G733","v":0},",",{"$f":"DataEntry!H733","v":0},",",{"$f":"DataEntry!J733","v":{"$error":"#N/A"}},",",{"$f":"DataEntry!L733","v":{"$error":"#N/A"}},")",","]
["(",null,",",{"$f":"DataEntry!G734","v":0},",",{"$f":"DataEntry!H734","v":0},",",{"$f":"DataEntry!J734","v":{"$error":"#N/A"}},",",{"$f":"DataEntry!L734","v":{"$error":"#N/A"}},")",","]
["(",null,",",{"$f":"DataEntry!G735","v":0},",",{"$f":"DataEntry!H735","v":0},",",{"$f":"DataEntry!J735","v":{"$error":"#N/A"}},",",{"$f":"DataEntry!L735","v":{"$error":"#N/A"}},")",","]
["(",null,",",{"$f":"DataEntry!G736","v":0},",",{"$f":"DataEntry!H736","v":0},",",{"$f":"DataEntry!J736","v":{"$error":"#N/A"}},",",{"$f":"DataEntry!L736","v":{"$error":"#N/A"}},")",","]
["(",null,",",{"$f":"DataEntry!G737","v":0},",",{"$f":"DataEntry!H737","v":0},",",{"$f":"DataEntry!J737","v":{"$error":"#N/A"}},",",{"$f":"DataEntry!L737","v":{"$error":"#N/A"}},")",","]
["(",null,",",{"$f":"DataEntry!G738","v":0},",",{"$f":"DataEntry!H738","v":0},",",{"$f":"DataEntry!J738","v":{"$error":"#N/A"}},",",{"$f":"DataEntry!L738","v":{"$error":"#N/A"}},")",","]
["(",null,",",{"$f":"DataEntry!G739","v":0},",",{"$f":"DataEntry!H739","v":0},",",{"$f":"DataEntry!J739","v":{"$error":"#N/A"}},",",{"$f":"DataEntry!L739","v":{"$error":"#N/A"}},")",","]
["(",null,",",{"$f":"DataEntry!G740","v":0},",",{"$f":"DataEntry!H740","v":0},",",{"$f":"DataEntry!J740","v":{"$error":"#N/A"}},",",{"$f":"DataEntry!L740","v":{"$error":"#N/A"}},")",","]
["(",null,",",{"$f":"DataEntry!G741","v":0},",",{"$f":"DataEntry!H741","v":0},",",{"$f":"DataEntry!J741","v":{"$error":"#N/A"}},",",{"$f":"DataEntry!L741","v":{"$error":"#N/A"}},")",","]
["(",null,",",{"$f":"DataEntry!G742","v":0},",",{"$f":"DataEntry!H742","v":0},",",{"$f":"DataEntry!J742","v":{"$error":"#N/A"}},",",{"$f":"DataEntry!L742","v":{"$error":"#N/A"}},")",","]
["(",null,",",{"$f":"DataEntry!G743","v":0},",",{"$f":"DataEntry!H743","v":0},",",{"$f":"DataEntry!J743","v":{"$error":"#N/A"}},",",{"$f":"DataEntry!L743","v":{"$error":"#N/A"}},")",","]
["(",null,",",{"$f":"DataEntry!G744","v":0},",",{"$f":"DataEntry!H744","v":0},",",{"$f":"DataEntry!J744","v":{"$error":"#N/A"}},",",{"$f":"DataEntry!L744","v":{"$error":"#N/A"}},")",","]
["(",null,",",{"$f":"DataEntry!G745","v":0},",",{"$f":"DataEntry!H745","v":0},",",{"$f":"DataEntry!J745","v":{"$error":"#N/A"}},",",{"$f":"DataEntry!L745","v":{"$error":"#N/A"}},")",","]
["(",null,",",{"$f":"DataEntry!G746","v":0},",",{"$f":"DataEntry!H746","v":0},",",{"$f":"DataEntry!J746","v":{"$error":"#N/A"}},",",{"$f":"DataEntry!L746","v":{"$error":"#N/A"}},")",","]
["(",null,",",{"$f":"DataEntry!G747","v":0},",",{"$f":"DataEntry!H747","v":0},",",{"$f":"DataEntry!J747","v":{"$error":"#N/A"}},",",{"$f":"DataEntry!L747","v":{"$error":"#N/A"}},")",","]
["(",null,",",{"$f":"DataEntry!G748","v":0},",",{"$f":"DataEntry!H748","v":0},",",{"$f":"DataEntry!J748","v":{"$error":"#N/A"}},",",{"$f":"DataEntry!L748","v":{"$error":"#N/A"}},")",","]
["(",null,",",{"$f":"DataEntry!G749","v":0},",",{"$f":"DataEntry!H749","v":0},",",{"$f":"DataEntry!J749","v":{"$error":"#N/A"}},",",{"$f":"DataEntry!L749","v":{"$error":"#N/A"}},")",","]
["(",null,",",{"$f":"DataEntry!G750","v":0},",",{"$f":"DataEntry!H750","v":0},",",{"$f":"DataEntry!J750","v":{"$error":"#N/A"}},",",{"$f":"DataEntry!L750","v":{"$error":"#N/A"}},")",","]
["(",null,",",{"$f":"DataEntry!G751","v":0},",",{"$f":"DataEntry!H751","v":0},",",{"$f":"DataEntry!J751","v":{"$error":"#N/A"}},",",{"$f":"DataEntry!L751","v":{"$error":"#N/A"}},")",","]
["(",null,",",{"$f":"DataEntry!G752","v":0},",",{"$f":"DataEntry!H752","v":0},",",{"$f":"DataEntry!J752","v":{"$error":"#N/A"}},",",{"$f":"DataEntry!L752","v":{"$error":"#N/A"}},")",","]
["(",null,",",{"$f":"DataEntry!G753","v":0},",",{"$f":"DataEntry!H753","v":0},",",{"$f":"DataEntry!J753","v":{"$error":"#N/A"}},",",{"$f":"DataEntry!L753","v":{"$error":"#N/A"}},")",","]
["(",null,",",{"$f":"DataEntry!G754","v":0},",",{"$f":"DataEntry!H754","v":0},",",{"$f":"DataEntry!J754","v":{"$error":"#N/A"}},",",{"$f":"DataEntry!L754","v":{"$error":"#N/A"}},")",","]
["(",null,",",{"$f":"DataEntry!G755","v":0},",",{"$f":"DataEntry!H755","v":0},",",{"$f":"DataEntry!J755","v":{"$error":"#N/A"}},",",{"$f":"DataEntry!L755","v":{"$error":"#N/A"}},")",","]
["(",null,",",{"$f":"DataEntry!G756","v":0},",",{"$f":"DataEntry!H756","v":0},",",{"$f":"DataEntry!J756","v":{"$error":"#N/A"}},",",{"$f":"DataEntry!L756","v":{"$error":"#N/A"}},")",","]
["(",null,",",{"$f":"DataEntry!G757","v":0},",",{"$f":"DataEntry!H757","v":0},",",{"$f":"DataEntry!J757","v":{"$error":"#N/A"}},",",{"$f":"DataEntry!L757","v":{"$error":"#N/A"}},")",","]
["(",null,",",{"$f":"DataEntry!G758","v":0},",",{"$f":"DataEntry!H758","v":0},",",{"$f":"DataEntry!J758","v":{"$error":"#N/A"}},",",{"$f":"DataEntry!L758","v":{"$error":"#N/A"}},")",","]
["(",null,",",{"$f":"DataEntry!G759","v":0},",",{"$f":"DataEntry!H759","v":0},",",{"$f":"DataEntry!J759","v":{"$error":"#N/A"}},",",{"$f":"DataEntry!L759","v":{"$error":"#N/A"}},")",","]
["(",null,",",{"$f":"DataEntry!G760","v":0},",",{"$f":"DataEntry!H760","v":0},",",{"$f":"DataEntry!J760","v":{"$error":"#N/A"}},",",{"$f":"DataEntry!L760","v":{"$error":"#N/A"}},")",","]
["(",null,",",{"$f":"DataEntry!G761","v":0},",",{"$f":"DataEntry!H761","v":0},",",{"$f":"DataEntry!J761","v":{"$error":"#N/A"}},",",{"$f":"DataEntry!L761","v":{"$error":"#N/A"}},")",","]
["(",null,",",{"$f":"DataEntry!G762","v":0},",",{"$f":"DataEntry!H762","v":0},",",{"$f":"DataEntry!J762","v":{"$error":"#N/A"}},",",{"$f":"DataEntry!L762","v":{"$error":"#N/A"}},")",","]
["(",null,",",{"$f":"DataEntry!G763","v":0},",",{"$f":"DataEntry!H763","v":0},",",{"$f":"DataEntry!J763","v":{"$error":"#N/A"}},",",{"$f":"DataEntry!L763","v":{"$error":"#N/A"}},")",","]
["(",null,",",{"$f":"DataEntry!G764","v":0},",",{"$f":"DataEntry!H764","v":0},",",{"$f":"DataEntry!J764","v":{"$error":"#N/A"}},",",{"$f":"DataEntry!L764","v":{"$error":"#N/A"}},")",","]
["(",null,",",{"$f":"DataEntry!G765","v":0},",",{"$f":"DataEntry!H765","v":0},",",{"$f":"DataEntry!J765","v":{"$error":"#N/A"}},",",{"$f":"DataEntry!L765","v":{"$error":"#N/A"}},")",","]
["(",null,",",{"$f":"DataEntry!G766","v":0},",",{"$f":"DataEntry!H766","v":0},",",{"$f":"DataEntry!J766","v":{"$error":"#N/A"}},",",{"$f":"DataEntry!L766","v":{"$error":"#N/A"}},")",","]
["(",null,",",{"$f":"DataEntry!G767","v":0},",",{"$f":"DataEntry!H767","v":0},",",{"$f":"DataEntry!J767","v":{"$error":"#N/A"}},",",{"$f":"DataEntry!L767","v":{"$error":"#N/A"}},")",","]
["(",null,",",{"$f":"DataEntry!G768","v":0},",",{"$f":"DataEntry!H768","v":0},",",{"$f":"DataEntry!J768","v":{"$error":"#N/A"}},",",{"$f":"DataEntry!L768","v":{"$error":"#N/A"}},")",","]
["(",null,",",{"$f":"DataEntry!G769","v":0},",",{"$f":"DataEntry!H769","v":0},",",{"$f":"DataEntry!J769","v":{"$error":"#N/A"}},",",{"$f":"DataEntry!L769","v":{"$error":"#N/A"}},")",","]
["(",null,",",{"$f":"DataEntry!G770","v":0},",",{"$f":"DataEntry!H770","v":0},",",{"$f":"DataEntry!J770","v":{"$error":"#N/A"}},",",{"$f":"DataEntry!L770","v":{"$error":"#N/A"}},")",","]
["(",null,",",{"$f":"DataEntry!G771","v":0},",",{"$f":"DataEntry!H771","v":0},",",{"$f":"DataEntry!J771","v":{"$error":"#N/A"}},",",{"$f":"DataEntry!L771","v":{"$error":"#N/A"}},")",","]
["(",null,",",{"$f":"DataEntry!G772","v":0},",",{"$f":"DataEntry!H772","v":0},",",{"$f":"DataEntry!J772","v":{"$error":"#N/A"}},",",{"$f":"DataEntry!L772","v":{"$error":"#N/A"}},")",","]
["(",null,",",{"$f":"DataEntry!G773","v":0},",",{"$f":"DataEntry!H773","v":0},",",{"$f":"DataEntry!J773","v":{"$error":"#N/A"}},",",{"$f":"DataEntry!L773","v":{"$error":"#N/A"}},")",","]
["(",null,",",{"$f":"DataEntry!G774","v":0},",",{"$f":"DataEntry!H774","v":0},",",{"$f":"DataEntry!J774","v":{"$error":"#N/A"}},",",{"$f":"DataEntry!L774","v":{"$error":"#N/A"}},")",","]
["(",null,",",{"$f":"DataEntry!G775","v":0},",",{"$f":"DataEntry!H775","v":0},",",{"$f":"DataEntry!J775","v":{"$error":"#N/A"}},",",{"$f":"DataEntry!L775","v":{"$error":"#N/A"}},")",","]
["(",null,",",{"$f":"DataEntry!G776","v":0},",",{"$f":"DataEntry!H776","v":0},",",{"$f":"DataEntry!J776","v":{"$error":"#N/A"}},",",{"$f":"DataEntry!L776","v":{"$error":"#N/A"}},")",","]
["(",null,",",{"$f":"DataEntry!G777","v":0},",",{"$f":"DataEntry!H777","v":0},",",{"$f":"DataEntry!J777","v":{"$error":"#N/A"}},",",{"$f":"DataEntry!L777","v":{"$error":"#N/A"}},")",","]
["(",null,",",{"$f":"DataEntry!G778","v":0},",",{"$f":"DataEntry!H778","v":0},",",{"$f":"DataEntry!J778","v":{"$error":"#N/A"}},",",{"$f":"DataEntry!L778","v":{"$error":"#N/A"}},")",","]
["(",null,",",{"$f":"DataEntry!G779","v":0},",",{"$f":"DataEntry!H779","v":0},",",{"$f":"DataEntry!J779","v":{"$error":"#N/A"}},",",{"$f":"DataEntry!L779","v":{"$error":"#N/A"}},")",","]
["(",null,",",{"$f":"DataEntry!G780","v":0},",",{"$f":"DataEntry!H780","v":0},",",{"$f":"DataEntry!J780","v":{"$error":"#N/A"}},",",{"$f":"DataEntry!L780","v":{"$error":"#N/A"}},")",","]
["(",null,",",{"$f":"DataEntry!G781","v":0},",",{"$f":"DataEntry!H781","v":0},",",{"$f":"DataEntry!J781","v":{"$error":"#N/A"}},",",{"$f":"DataEntry!L781","v":{"$error":"#N/A"}},")",","]
["(",null,",",{"$f":"DataEntry!G782","v":0},",",{"$f":"DataEntry!H782","v":0},",",{"$f":"DataEntry!J782","v":{"$error":"#N/A"}},",",{"$f":"DataEntry!L782","v":{"$error":"#N/A"}},")",","]
["(",null,",",{"$f":"DataEntry!G783","v":0},",",{"$f":"DataEntry!H783","v":0},",",{"$f":"DataEntry!J783","v":{"$error":"#N/A"}},",",{"$f":"DataEntry!L783","v":{"$error":"#N/A"}},")",","]
["(",null,",",{"$f":"DataEntry!G784","v":0},",",{"$f":"DataEntry!H784","v":0},",",{"$f":"DataEntry!J784","v":{"$error":"#N/A"}},",",{"$f":"DataEntry!L784","v":{"$error":"#N/A"}},")",","]
["(",null,",",{"$f":"DataEntry!G785","v":0},",",{"$f":"DataEntry!H785","v":0},",",{"$f":"DataEntry!J785","v":{"$error":"#N/A"}},",",{"$f":"DataEntry!L785","v":{"$error":"#N/A"}},")",","]
["(",null,",",{"$f":"DataEntry!G786","v":0},",",{"$f":"DataEntry!H786","v":0},",",{"$f":"DataEntry!J786","v":{"$error":"#N/A"}},",",{"$f":"DataEntry!L786","v":{"$error":"#N/A"}},")",","]
["(",null,",",{"$f":"DataEntry!G787","v":0},",",{"$f":"DataEntry!H787","v":0},",",{"$f":"DataEntry!J787","v":{"$error":"#N/A"}},",",{"$f":"DataEntry!L787","v":{"$error":"#N/A"}},")",","]
["(",null,",",{"$f":"DataEntry!G788","v":0},",",{"$f":"DataEntry!H788","v":0},",",{"$f":"DataEntry!J788","v":{"$error":"#N/A"}},",",{"$f":"DataEntry!L788","v":{"$error":"#N/A"}},")",","]
["(",null,",",{"$f":"DataEntry!G789","v":0},",",{"$f":"DataEntry!H789","v":0},",",{"$f":"DataEntry!J789","v":{"$error":"#N/A"}},",",{"$f":"DataEntry!L789","v":{"$error":"#N/A"}},")",","]
["(",null,",",{"$f":"DataEntry!G790","v":0},",",{"$f":"DataEntry!H790","v":0},",",{"$f":"DataEntry!J790","v":{"$error":"#N/A"}},",",{"$f":"DataEntry!L790","v":{"$error":"#N/A"}},")",","]
["(",null,",",{"$f":"DataEntry!G791","v":0},",",{"$f":"DataEntry!H791","v":0},",",{"$f":"DataEntry!J791","v":{"$error":"#N/A"}},",",{"$f":"DataEntry!L791","v":{"$error":"#N/A"}},")",","]
["(",null,",",{"$f":"DataEntry!G792","v":0},",",{"$f":"DataEntry!H792","v":0},",",{"$f":"DataEntry!J792","v":{"$error":"#N/A"}},",",{"$f":"DataEntry!L792","v":{"$error":"#N/A"}},")",","]
["(",null,",",{"$f":"DataEntry!G793","v":0},",",{"$f":"DataEntry!H793","v":0},",",{"$f":"DataEntry!J793","v":{"$error":"#N/A"}},",",{"$f":"DataEntry!L793","v":{"$error":"#N/A"}},")",","]
["(",null,",",{"$f":"DataEntry!G794","v":0},",",{"$f":"DataEntry!H794","v":0},",",{"$f":"DataEntry!J794","v":{"$error":"#N/A"}},",",{"$f":"DataEntry!L794","v":{"$error":"#N/A"}},")",","]
["(",null,",",{"$f":"DataEntry!G795","v":0},",",{"$f":"DataEntry!H795","v":0},",",{"$f":"DataEntry!J795","v":{"$error":"#N/A"}},",",{"$f":"DataEntry!L795","v":{"$error":"#N/A"}},")",","]
["(",null,",",{"$f":"DataEntry!G796","v":0},",",{"$f":"DataEntry!H796","v":0},",",{"$f":"DataEntry!J796","v":{"$error":"#N/A"}},",",{"$f":"DataEntry!L796","v":{"$error":"#N/A"}},")",","]
["(",null,",",{"$f":"DataEntry!G797","v":0},",",{"$f":"DataEntry!H797","v":0},",",{"$f":"DataEntry!J797","v":{"$error":"#N/A"}},",",{"$f":"DataEntry!L797","v":{"$error":"#N/A"}},")",","]
["(",null,",",{"$f":"DataEntry!G798","v":0},",",{"$f":"DataEntry!H798","v":0},",",{"$f":"DataEntry!J798","v":{"$error":"#N/A"}},",",{"$f":"DataEntry!L798","v":{"$error":"#N/A"}},")",","]
["(",null,",",{"$f":"DataEntry!G799","v":0},",",{"$f":"DataEntry!H799","v":0},",",{"$f":"DataEntry!J799","v":{"$error":"#N/A"}},",",{"$f":"DataEntry!L799","v":{"$error":"#N/A"}},")",","]
["(",null,",",{"$f":"DataEntry!G800","v":0},",",{"$f":"DataEntry!H800","v":0},",",{"$f":"DataEntry!J800","v":{"$error":"#N/A"}},",",{"$f":"DataEntry!L800","v":{"$error":"#N/A"}},")",","]
["(",null,",",{"$f":"DataEntry!G801","v":0},",",{"$f":"DataEntry!H801","v":0},",",{"$f":"DataEntry!J801","v":{"$error":"#N/A"}},",",{"$f":"DataEntry!L801","v":{"$error":"#N/A"}},")",","]
["(",null,",",{"$f":"DataEntry!G802","v":0},",",{"$f":"DataEntry!H802","v":0},",",{"$f":"DataEntry!J802","v":{"$error":"#N/A"}},",",{"$f":"DataEntry!L802","v":{"$error":"#N/A"}},")",","]
["(",null,",",{"$f":"DataEntry!G803","v":0},",",{"$f":"DataEntry!H803","v":0},",",{"$f":"DataEntry!J803","v":{"$error":"#N/A"}},",",{"$f":"DataEntry!L803","v":{"$error":"#N/A"}},")",","]
["(",null,",",{"$f":"DataEntry!G804","v":0},",",{"$f":"DataEntry!H804","v":0},",",{"$f":"DataEntry!J804","v":{"$error":"#N/A"}},",",{"$f":"DataEntry!L804","v":{"$error":"#N/A"}},")",","]
["(",null,",",{"$f":"DataEntry!G805","v":0},",",{"$f":"DataEntry!H805","v":0},",",{"$f":"DataEntry!J805","v":{"$error":"#N/A"}},",",{"$f":"DataEntry!L805","v":{"$error":"#N/A"}},")",","]
["(",null,",",{"$f":"DataEntry!G806","v":0},",",{"$f":"DataEntry!H806","v":0},",",{"$f":"DataEntry!J806","v":{"$error":"#N/A"}},",",{"$f":"DataEntry!L806","v":{"$error":"#N/A"}},")",","]
["(",null,",",{"$f":"DataEntry!G807","v":0},",",{"$f":"DataEntry!H807","v":0},",",{"$f":"DataEntry!J807","v":{"$error":"#N/A"}},",",{"$f":"DataEntry!L807","v":{"$error":"#N/A"}},")",","]
["(",null,",",{"$f":"DataEntry!G808","v":0},",",{"$f":"DataEntry!H808","v":0},",",{"$f":"DataEntry!J808","v":{"$error":"#N/A"}},",",{"$f":"DataEntry!L808","v":{"$error":"#N/A"}},")",","]
["(",null,",",{"$f":"DataEntry!G809","v":0},",",{"$f":"DataEntry!H809","v":0},",",{"$f":"DataEntry!J809","v":{"$error":"#N/A"}},",",{"$f":"DataEntry!L809","v":{"$error":"#N/A"}},")",","]
["(",null,",",{"$f":"DataEntry!G810","v":0},",",{"$f":"DataEntry!H810","v":0},",",{"$f":"DataEntry!J810","v":{"$error":"#N/A"}},",",{"$f":"DataEntry!L810","v":{"$error":"#N/A"}},")",","]
["(",null,",",{"$f":"DataEntry!G811","v":0},",",{"$f":"DataEntry!H811","v":0},",",{"$f":"DataEntry!J811","v":{"$error":"#N/A"}},",",{"$f":"DataEntry!L811","v":{"$error":"#N/A"}},")",","]
["(",null,",",{"$f":"DataEntry!G812","v":0},",",{"$f":"DataEntry!H812","v":0},",",{"$f":"DataEntry!J812","v":{"$error":"#N/A"}},",",{"$f":"DataEntry!L812","v":{"$error":"#N/A"}},")",","]
["(",null,",",{"$f":"DataEntry!G813","v":0},",",{"$f":"DataEntry!H813","v":0},",",{"$f":"DataEntry!J813","v":{"$error":"#N/A"}},",",{"$f":"DataEntry!L813","v":{"$error":"#N/A"}},")",","]
["(",null,",",{"$f":"DataEntry!G814","v":0},",",{"$f":"DataEntry!H814","v":0},",",{"$f":"DataEntry!J814","v":{"$error":"#N/A"}},",",{"$f":"DataEntry!L814","v":{"$error":"#N/A"}},")",","]
["(",null,",",{"$f":"DataEntry!G815","v":0},",",{"$f":"DataEntry!H815","v":0},",",{"$f":"DataEntry!J815","v":{"$error":"#N/A"}},",",{"$f":"DataEntry!L815","v":{"$error":"#N/A"}},")",","]
["(",null,",",{"$f":"DataEntry!G816","v":0},",",{"$f":"DataEntry!H816","v":0},",",{"$f":"DataEntry!J816","v":{"$error":"#N/A"}},",",{"$f":"DataEntry!L816","v":{"$error":"#N/A"}},")",","]
["(",null,",",{"$f":"DataEntry!G817","v":0},",",{"$f":"DataEntry!H817","v":0},",",{"$f":"DataEntry!J817","v":{"$error":"#N/A"}},",",{"$f":"DataEntry!L817","v":{"$error":"#N/A"}},")",","]
["(",null,",",{"$f":"DataEntry!G818","v":0},",",{"$f":"DataEntry!H818","v":0},",",{"$f":"DataEntry!J818","v":{"$error":"#N/A"}},",",{"$f":"DataEntry!L818","v":{"$error":"#N/A"}},")",","]
["(",null,",",{"$f":"DataEntry!G819","v":0},",",{"$f":"DataEntry!H819","v":0},",",{"$f":"DataEntry!J819","v":{"$error":"#N/A"}},",",{"$f":"DataEntry!L819","v":{"$error":"#N/A"}},")",","]
["(",null,",",{"$f":"DataEntry!G820","v":0},",",{"$f":"DataEntry!H820","v":0},",",{"$f":"DataEntry!J820","v":{"$error":"#N/A"}},",",{"$f":"DataEntry!L820","v":{"$error":"#N/A"}},")",","]
["(",null,",",{"$f":"DataEntry!G821","v":0},",",{"$f":"DataEntry!H821","v":0},",",{"$f":"DataEntry!J821","v":{"$error":"#N/A"}},",",{"$f":"DataEntry!L821","v":{"$error":"#N/A"}},")",","]
["(",null,",",{"$f":"DataEntry!G822","v":0},",",{"$f":"DataEntry!H822","v":0},",",{"$f":"DataEntry!J822","v":{"$error":"#N/A"}},",",{"$f":"DataEntry!L822","v":{"$error":"#N/A"}},")",","]
["(",null,",",{"$f":"DataEntry!G823","v":0},",",{"$f":"DataEntry!H823","v":0},",",{"$f":"DataEntry!J823","v":{"$error":"#N/A"}},",",{"$f":"DataEntry!L823","v":{"$error":"#N/A"}},")",","]
["(",null,",",{"$f":"DataEntry!G824","v":0},",",{"$f":"DataEntry!H824","v":0},",",{"$f":"DataEntry!J824","v":{"$error":"#N/A"}},",",{"$f":"DataEntry!L824","v":{"$error":"#N/A"}},")",","]
["(",null,",",{"$f":"DataEntry!G825","v":0},",",{"$f":"DataEntry!H825","v":0},",",{"$f":"DataEntry!J825","v":{"$error":"#N/A"}},",",{"$f":"DataEntry!L825","v":{"$error":"#N/A"}},")",","]
["(",null,",",{"$f":"DataEntry!G826","v":0},",",{"$f":"DataEntry!H826","v":0},",",{"$f":"DataEntry!J826","v":{"$error":"#N/A"}},",",{"$f":"DataEntry!L826","v":{"$error":"#N/A"}},")",","]
["(",null,",",{"$f":"DataEntry!G827","v":0},",",{"$f":"DataEntry!H827","v":0},",",{"$f":"DataEntry!J827","v":{"$error":"#N/A"}},",",{"$f":"DataEntry!L827","v":{"$error":"#N/A"}},")",","]
["(",null,",",{"$f":"DataEntry!G828","v":0},",",{"$f":"DataEntry!H828","v":0},",",{"$f":"DataEntry!J828","v":{"$error":"#N/A"}},",",{"$f":"DataEntry!L828","v":{"$error":"#N/A"}},")",","]
["(",null,",",{"$f":"DataEntry!G829","v":0},",",{"$f":"DataEntry!H829","v":0},",",{"$f":"DataEntry!J829","v":{"$error":"#N/A"}},",",{"$f":"DataEntry!L829","v":{"$error":"#N/A"}},")",","]
["(",null,",",{"$f":"DataEntry!G830","v":0},",",{"$f":"DataEntry!H830","v":0},",",{"$f":"DataEntry!J830","v":{"$error":"#N/A"}},",",{"$f":"DataEntry!L830","v":{"$error":"#N/A"}},")",","]
["(",null,",",{"$f":"DataEntry!G831","v":0},",",{"$f":"DataEntry!H831","v":0},",",{"$f":"DataEntry!J831","v":{"$error":"#N/A"}},",",{"$f":"DataEntry!L831","v":{"$error":"#N/A"}},")",","]
["(",null,",",{"$f":"DataEntry!G832","v":0},",",{"$f":"DataEntry!H832","v":0},",",{"$f":"DataEntry!J832","v":{"$error":"#N/A"}},",",{"$f":"DataEntry!L832","v":{"$error":"#N/A"}},")",","]
["(",null,",",{"$f":"DataEntry!G833","v":0},",",{"$f":"DataEntry!H833","v":0},",",{"$f":"DataEntry!J833","v":{"$error":"#N/A"}},",",{"$f":"DataEntry!L833","v":{"$error":"#N/A"}},")",","]
["(",null,",",{"$f":"DataEntry!G834","v":0},",",{"$f":"DataEntry!H834","v":0},",",{"$f":"DataEntry!J834","v":{"$error":"#N/A"}},",",{"$f":"DataEntry!L834","v":{"$error":"#N/A"}},")",","]
["(",null,",",{"$f":"DataEntry!G835","v":0},",",{"$f":"DataEntry!H835","v":0},",",{"$f":"DataEntry!J835","v":{"$error":"#N/A"}},",",{"$f":"DataEntry!L835","v":{"$error":"#N/A"}},")",","]
["(",null,",",{"$f":"DataEntry!G836","v":0},",",{"$f":"DataEntry!H836","v":0},",",{"$f":"DataEntry!J836","v":{"$error":"#N/A"}},",",{"$f":"DataEntry!L836","v":{"$error":"#N/A"}},")",","]
["(",null,",",{"$f":"DataEntry!G837","v":0},",",{"$f":"DataEntry!H837","v":0},",",{"$f":"DataEntry!J837","v":{"$error":"#N/A"}},",",{"$f":"DataEntry!L837","v":{"$error":"#N/A"}},")",","]
["(",null,",",{"$f":"DataEntry!G838","v":0},",",{"$f":"DataEntry!H838","v":0},",",{"$f":"DataEntry!J838","v":{"$error":"#N/A"}},",",{"$f":"DataEntry!L838","v":{"$error":"#N/A"}},")",","]
["(",null,",",{"$f":"DataEntry!G839","v":0},",",{"$f":"DataEntry!H839","v":0},",",{"$f":"DataEntry!J839","v":{"$error":"#N/A"}},",",{"$f":"DataEntry!L839","v":{"$error":"#N/A"}},")",","]
["(",null,",",{"$f":"DataEntry!G840","v":0},",",{"$f":"DataEntry!H840","v":0},",",{"$f":"DataEntry!J840","v":{"$error":"#N/A"}},",",{"$f":"DataEntry!L840","v":{"$error":"#N/A"}},")",","]
["(",null,",",{"$f":"DataEntry!G841","v":0},",",{"$f":"DataEntry!H841","v":0},",",{"$f":"DataEntry!J841","v":{"$error":"#N/A"}},",",{"$f":"DataEntry!L841","v":{"$error":"#N/A"}},")",","]
["(",null,",",{"$f":"DataEntry!G842","v":0},",",{"$f":"DataEntry!H842","v":0},",",{"$f":"DataEntry!J842","v":{"$error":"#N/A"}},",",{"$f":"DataEntry!L842","v":{"$error":"#N/A"}},")",","]
["(",null,",",{"$f":"DataEntry!G843","v":0},",",{"$f":"DataEntry!H843","v":0},",",{"$f":"DataEntry!J843","v":{"$error":"#N/A"}},",",{"$f":"DataEntry!L843","v":{"$error":"#N/A"}},")",","]
["(",null,",",{"$f":"DataEntry!G844","v":0},",",{"$f":"DataEntry!H844","v":0},",",{"$f":"DataEntry!J844","v":{"$error":"#N/A"}},",",{"$f":"DataEntry!L844","v":{"$error":"#N/A"}},")",","]
["(",null,",",{"$f":"DataEntry!G845","v":0},",",{"$f":"DataEntry!H845","v":0},",",{"$f":"DataEntry!J845","v":{"$error":"#N/A"}},",",{"$f":"DataEntry!L845","v":{"$error":"#N/A"}},")",","]
["(",null,",",{"$f":"DataEntry!G846","v":0},",",{"$f":"DataEntry!H846","v":0},",",{"$f":"DataEntry!J846","v":{"$error":"#N/A"}},",",{"$f":"DataEntry!L846","v":{"$error":"#N/A"}},")",","]
["(",null,",",{"$f":"DataEntry!G847","v":0},",",{"$f":"DataEntry!H847","v":0},",",{"$f":"DataEntry!J847","v":{"$error":"#N/A"}},",",{"$f":"DataEntry!L847","v":{"$error":"#N/A"}},")",","]
["(",null,",",{"$f":"DataEntry!G848","v":0},",",{"$f":"DataEntry!H848","v":0},",",{"$f":"DataEntry!J848","v":{"$error":"#N/A"}},",",{"$f":"DataEntry!L848","v":{"$error":"#N/A"}},")",","]
["(",null,",",{"$f":"DataEntry!G849","v":0},",",{"$f":"DataEntry!H849","v":0},",",{"$f":"DataEntry!J849","v":{"$error":"#N/A"}},",",{"$f":"DataEntry!L849","v":{"$error":"#N/A"}},")",","]
["(",null,",",{"$f":"DataEntry!G850","v":0},",",{"$f":"DataEntry!H850","v":0},",",{"$f":"DataEntry!J850","v":{"$error":"#N/A"}},",",{"$f":"DataEntry!L850","v":{"$error":"#N/A"}},")",","]
["(",null,",",{"$f":"DataEntry!G851","v":0},",",{"$f":"DataEntry!H851","v":0},",",{"$f":"DataEntry!J851","v":{"$error":"#N/A"}},",",{"$f":"DataEntry!L851","v":{"$error":"#N/A"}},")",","]
["(",null,",",{"$f":"DataEntry!G852","v":0},",",{"$f":"DataEntry!H852","v":0},",",{"$f":"DataEntry!J852","v":{"$error":"#N/A"}},",",{"$f":"DataEntry!L852","v":{"$error":"#N/A"}},")",","]
["(",null,",",{"$f":"DataEntry!G853","v":0},",",{"$f":"DataEntry!H853","v":0},",",{"$f":"DataEntry!J853","v":{"$error":"#N/A"}},",",{"$f":"DataEntry!L853","v":{"$error":"#N/A"}},")",","]
["(",null,",",{"$f":"DataEntry!G854","v":0},",",{"$f":"DataEntry!H854","v":0},",",{"$f":"DataEntry!J854","v":{"$error":"#N/A"}},",",{"$f":"DataEntry!L854","v":{"$error":"#N/A"}},")",","]
["(",null,",",{"$f":"DataEntry!G855","v":0},",",{"$f":"DataEntry!H855","v":0},",",{"$f":"DataEntry!J855","v":{"$error":"#N/A"}},",",{"$f":"DataEntry!L855","v":{"$error":"#N/A"}},")",","]
["(",null,",",{"$f":"DataEntry!G856","v":0},",",{"$f":"DataEntry!H856","v":0},",",{"$f":"DataEntry!J856","v":{"$error":"#N/A"}},",",{"$f":"DataEntry!L856","v":{"$error":"#N/A"}},")",","]
["(",null,",",{"$f":"DataEntry!G857","v":0},",",{"$f":"DataEntry!H857","v":0},",",{"$f":"DataEntry!J857","v":{"$error":"#N/A"}},",",{"$f":"DataEntry!L857","v":{"$error":"#N/A"}},")",","]
["(",null,",",{"$f":"DataEntry!G858","v":0},",",{"$f":"DataEntry!H858","v":0},",",{"$f":"DataEntry!J858","v":{"$error":"#N/A"}},",",{"$f":"DataEntry!L858","v":{"$error":"#N/A"}},")",","]
["(",null,",",{"$f":"DataEntry!G859","v":0},",",{"$f":"DataEntry!H859","v":0},",",{"$f":"DataEntry!J859","v":{"$error":"#N/A"}},",",{"$f":"DataEntry!L859","v":{"$error":"#N/A"}},")",","]
["(",null,",",{"$f":"DataEntry!G860","v":0},",",{"$f":"DataEntry!H860","v":0},",",{"$f":"DataEntry!J860","v":{"$error":"#N/A"}},",",{"$f":"DataEntry!L860","v":{"$error":"#N/A"}},")",","]
["(",null,",",{"$f":"DataEntry!G861","v":0},",",{"$f":"DataEntry!H861","v":0},",",{"$f":"DataEntry!J861","v":{"$error":"#N/A"}},",",{"$f":"DataEntry!L861","v":{"$error":"#N/A"}},")",","]
["(",null,",",{"$f":"DataEntry!G862","v":0},",",{"$f":"DataEntry!H862","v":0},",",{"$f":"DataEntry!J862","v":{"$error":"#N/A"}},",",{"$f":"DataEntry!L862","v":{"$error":"#N/A"}},")",","]
["(",null,",",{"$f":"DataEntry!G863","v":0},",",{"$f":"DataEntry!H863","v":0},",",{"$f":"DataEntry!J863","v":{"$error":"#N/A"}},",",{"$f":"DataEntry!L863","v":{"$error":"#N/A"}},")",","]
["(",null,",",{"$f":"DataEntry!G864","v":0},",",{"$f":"DataEntry!H864","v":0},",",{"$f":"DataEntry!J864","v":{"$error":"#N/A"}},",",{"$f":"DataEntry!L864","v":{"$error":"#N/A"}},")",","]
["(",null,",",{"$f":"DataEntry!G865","v":0},",",{"$f":"DataEntry!H865","v":0},",",{"$f":"DataEntry!J865","v":{"$error":"#N/A"}},",",{"$f":"DataEntry!L865","v":{"$error":"#N/A"}},")",","]
["(",null,",",{"$f":"DataEntry!G866","v":0},",",{"$f":"DataEntry!H866","v":0},",",{"$f":"DataEntry!J866","v":{"$error":"#N/A"}},",",{"$f":"DataEntry!L866","v":{"$error":"#N/A"}},")",","]
["(",null,",",{"$f":"DataEntry!G867","v":0},",",{"$f":"DataEntry!H867","v":0},",",{"$f":"DataEntry!J867","v":{"$error":"#N/A"}},",",{"$f":"DataEntry!L867","v":{"$error":"#N/A"}},")",","]
["(",null,",",{"$f":"DataEntry!G868","v":0},",",{"$f":"DataEntry!H868","v":0},",",{"$f":"DataEntry!J868","v":{"$error":"#N/A"}},",",{"$f":"DataEntry!L868","v":{"$error":"#N/A"}},")",","]
["(",null,",",{"$f":"DataEntry!G869","v":0},",",{"$f":"DataEntry!H869","v":0},",",{"$f":"DataEntry!J869","v":{"$error":"#N/A"}},",",{"$f":"DataEntry!L869","v":{"$error":"#N/A"}},")",","]
["(",null,",",{"$f":"DataEntry!G870","v":0},",",{"$f":"DataEntry!H870","v":0},",",{"$f":"DataEntry!J870","v":{"$error":"#N/A"}},",",{"$f":"DataEntry!L870","v":{"$error":"#N/A"}},")",","]
["(",null,",",{"$f":"DataEntry!G871","v":0},",",{"$f":"DataEntry!H871","v":0},",",{"$f":"DataEntry!J871","v":{"$error":"#N/A"}},",",{"$f":"DataEntry!L871","v":{"$error":"#N/A"}},")",","]
["(",null,",",{"$f":"DataEntry!G872","v":0},",",{"$f":"DataEntry!H872","v":0},",",{"$f":"DataEntry!J872","v":{"$error":"#N/A"}},",",{"$f":"DataEntry!L872","v":{"$error":"#N/A"}},")",","]
["(",null,",",{"$f":"DataEntry!G873","v":0},",",{"$f":"DataEntry!H873","v":0},",",{"$f":"DataEntry!J873","v":{"$error":"#N/A"}},",",{"$f":"DataEntry!L873","v":{"$error":"#N/A"}},")",","]
["(",null,",",{"$f":"DataEntry!G874","v":0},",",{"$f":"DataEntry!H874","v":0},",",{"$f":"DataEntry!J874","v":{"$error":"#N/A"}},",",{"$f":"DataEntry!L874","v":{"$error":"#N/A"}},")",","]
["(",null,",",{"$f":"DataEntry!G875","v":0},",",{"$f":"DataEntry!H875","v":0},",",{"$f":"DataEntry!J875","v":{"$error":"#N/A"}},",",{"$f":"DataEntry!L875","v":{"$error":"#N/A"}},")",","]
["(",null,",",{"$f":"DataEntry!G876","v":0},",",{"$f":"DataEntry!H876","v":0},",",{"$f":"DataEntry!J876","v":{"$error":"#N/A"}},",",{"$f":"DataEntry!L876","v":{"$error":"#N/A"}},")",","]
["(",null,",",{"$f":"DataEntry!G877","v":0},",",{"$f":"DataEntry!H877","v":0},",",{"$f":"DataEntry!J877","v":{"$error":"#N/A"}},",",{"$f":"DataEntry!L877","v":{"$error":"#N/A"}},")",","]
["(",null,",",{"$f":"DataEntry!G878","v":0},",",{"$f":"DataEntry!H878","v":0},",",{"$f":"DataEntry!J878","v":{"$error":"#N/A"}},",",{"$f":"DataEntry!L878","v":{"$error":"#N/A"}},")",","]
["(",null,",",{"$f":"DataEntry!G879","v":0},",",{"$f":"DataEntry!H879","v":0},",",{"$f":"DataEntry!J879","v":{"$error":"#N/A"}},",",{"$f":"DataEntry!L879","v":{"$error":"#N/A"}},")",","]
["(",null,",",{"$f":"DataEntry!G880","v":0},",",{"$f":"DataEntry!H880","v":0},",",{"$f":"DataEntry!J880","v":{"$error":"#N/A"}},",",{"$f":"DataEntry!L880","v":{"$error":"#N/A"}},")",","]
["(",null,",",{"$f":"DataEntry!G881","v":0},",",{"$f":"DataEntry!H881","v":0},",",{"$f":"DataEntry!J881","v":{"$error":"#N/A"}},",",{"$f":"DataEntry!L881","v":{"$error":"#N/A"}},")",","]
["(",null,",",{"$f":"DataEntry!G882","v":0},",",{"$f":"DataEntry!H882","v":0},",",{"$f":"DataEntry!J882","v":{"$error":"#N/A"}},",",{"$f":"DataEntry!L882","v":{"$error":"#N/A"}},")",","]
["(",null,",",{"$f":"DataEntry!G883","v":0},",",{"$f":"DataEntry!H883","v":0},",",{"$f":"DataEntry!J883","v":{"$error":"#N/A"}},",",{"$f":"DataEntry!L883","v":{"$error":"#N/A"}},")",","]
["(",null,",",{"$f":"DataEntry!G884","v":0},",",{"$f":"DataEntry!H884","v":0},",",{"$f":"DataEntry!J884","v":{"$error":"#N/A"}},",",{"$f":"DataEntry!L884","v":{"$error":"#N/A"}},")",","]
["(",null,",",{"$f":"DataEntry!G885","v":0},",",{"$f":"DataEntry!H885","v":0},",",{"$f":"DataEntry!J885","v":{"$error":"#N/A"}},",",{"$f":"DataEntry!L885","v":{"$error":"#N/A"}},")",","]
["(",null,",",{"$f":"DataEntry!G886","v":0},",",{"$f":"DataEntry!H886","v":0},",",{"$f":"DataEntry!J886","v":{"$error":"#N/A"}},",",{"$f":"DataEntry!L886","v":{"$error":"#N/A"}},")",","]
["(",null,",",{"$f":"DataEntry!G887","v":0},",",{"$f":"DataEntry!H887","v":0},",",{"$f":"DataEntry!J887","v":{"$error":"#N/A"}},",",{"$f":"DataEntry!L887","v":{"$error":"#N/A"}},")",","]
["(",null,",",{"$f":"DataEntry!G888","v":0},",",{"$f":"DataEntry!H888","v":0},",",{"$f":"DataEntry!J888","v":{"$error":"#N/A"}},",",{"$f":"DataEntry!L888","v":{"$error":"#N/A"}},")",","]
["(",null,",",{"$f":"DataEntry!G889","v":0},",",{"$f":"DataEntry!H889","v":0},",",{"$f":"DataEntry!J889","v":{"$error":"#N/A"}},",",{"$f":"DataEntry!L889","v":{"$error":"#N/A"}},")",","]
["(",null,",",{"$f":"DataEntry!G890","v":0},",",{"$f":"DataEntry!H890","v":0},",",{"$f":"DataEntry!J890","v":{"$error":"#N/A"}},",",{"$f":"DataEntry!L890","v":{"$error":"#N/A"}},")",","]
["(",null,",",{"$f":"DataEntry!G891","v":0},",",{"$f":"DataEntry!H891","v":0},",",{"$f":"DataEntry!J891","v":{"$error":"#N/A"}},",",{"$f":"DataEntry!L891","v":{"$error":"#N/A"}},")",","]
["(",null,",",{"$f":"DataEntry!G892","v":0},",",{"$f":"DataEntry!H892","v":0},",",{"$f":"DataEntry!J892","v":{"$error":"#N/A"}},",",{"$f":"DataEntry!L892","v":{"$error":"#N/A"}},")",","]
["(",null,",",{"$f":"DataEntry!G893","v":0},",",{"$f":"DataEntry!H893","v":0},",",{"$f":"DataEntry!J893","v":{"$error":"#N/A"}},",",{"$f":"DataEntry!L893","v":{"$error":"#N/A"}},")",","]
["(",null,",",{"$f":"DataEntry!G894","v":0},",",{"$f":"DataEntry!H894","v":0},",",{"$f":"DataEntry!J894","v":{"$error":"#N/A"}},",",{"$f":"DataEntry!L894","v":{"$error":"#N/A"}},")",","]
["(",null,",",{"$f":"DataEntry!G895","v":0},",",{"$f":"DataEntry!H895","v":0},",",{"$f":"DataEntry!J895","v":{"$error":"#N/A"}},",",{"$f":"DataEntry!L895","v":{"$error":"#N/A"}},")",","]
["(",null,",",{"$f":"DataEntry!G896","v":0},",",{"$f":"DataEntry!H896","v":0},",",{"$f":"DataEntry!J896","v":{"$error":"#N/A"}},",",{"$f":"DataEntry!L896","v":{"$error":"#N/A"}},")",","]
["(",null,",",{"$f":"DataEntry!G897","v":0},",",{"$f":"DataEntry!H897","v":0},",",{"$f":"DataEntry!J897","v":{"$error":"#N/A"}},",",{"$f":"DataEntry!L897","v":{"$error":"#N/A"}},")",","]
["(",null,",",{"$f":"DataEntry!G898","v":0},",",{"$f":"DataEntry!H898","v":0},",",{"$f":"DataEntry!J898","v":{"$error":"#N/A"}},",",{"$f":"DataEntry!L898","v":{"$error":"#N/A"}},")",","]
["(",null,",",{"$f":"DataEntry!G899","v":0},",",{"$f":"DataEntry!H899","v":0},",",{"$f":"DataEntry!J899","v":{"$error":"#N/A"}},",",{"$f":"DataEntry!L899","v":{"$error":"#N/A"}},")",","]
["(",null,",",{"$f":"DataEntry!G900","v":0},",",{"$f":"DataEntry!H900","v":0},",",{"$f":"DataEntry!J900","v":{"$error":"#N/A"}},",",{"$f":"DataEntry!L900","v":{"$error":"#N/A"}},")",","]
["(",null,",",{"$f":"DataEntry!G901","v":0},",",{"$f":"DataEntry!H901","v":0},",",{"$f":"DataEntry!J901","v":{"$error":"#N/A"}},",",{"$f":"DataEntry!L901","v":{"$error":"#N/A"}},")",","]
["(",null,",",{"$f":"DataEntry!G902","v":0},",",{"$f":"DataEntry!H902","v":0},",",{"$f":"DataEntry!J902","v":{"$error":"#N/A"}},",",{"$f":"DataEntry!L902","v":{"$error":"#N/A"}},")",","]
["(",null,",",{"$f":"DataEntry!G903","v":0},",",{"$f":"DataEntry!H903","v":0},",",{"$f":"DataEntry!J903","v":{"$error":"#N/A"}},",",{"$f":"DataEntry!L903","v":{"$error":"#N/A"}},")",","]
["(",null,",",{"$f":"DataEntry!G904","v":0},",",{"$f":"DataEntry!H904","v":0},",",{"$f":"DataEntry!J904","v":{"$error":"#N/A"}},",",{"$f":"DataEntry!L904","v":{"$error":"#N/A"}},")",","]
["(",null,",",{"$f":"DataEntry!G905","v":0},",",{"$f":"DataEntry!H905","v":0},",",{"$f":"DataEntry!J905","v":{"$error":"#N/A"}},",",{"$f":"DataEntry!L905","v":{"$error":"#N/A"}},")",","]
["(",null,",",{"$f":"DataEntry!G906","v":0},",",{"$f":"DataEntry!H906","v":0},",",{"$f":"DataEntry!J906","v":{"$error":"#N/A"}},",",{"$f":"DataEntry!L906","v":{"$error":"#N/A"}},")",","]
["(",null,",",{"$f":"DataEntry!G907","v":0},",",{"$f":"DataEntry!H907","v":0},",",{"$f":"DataEntry!J907","v":{"$error":"#N/A"}},",",{"$f":"DataEntry!L907","v":{"$error":"#N/A"}},")",","]
["(",null,",",{"$f":"DataEntry!G908","v":0},",",{"$f":"DataEntry!H908","v":0},",",{"$f":"DataEntry!J908","v":{"$error":"#N/A"}},",",{"$f":"DataEntry!L908","v":{"$error":"#N/A"}},")",","]
["(",null,",",{"$f":"DataEntry!G909","v":0},",",{"$f":"DataEntry!H909","v":0},",",{"$f":"DataEntry!J909","v":{"$error":"#N/A"}},",",{"$f":"DataEntry!L909","v":{"$error":"#N/A"}},")",","]
["(",null,",",{"$f":"DataEntry!G910","v":0},",",{"$f":"DataEntry!H910","v":0},",",{"$f":"DataEntry!J910","v":{"$error":"#N/A"}},",",{"$f":"DataEntry!L910","v":{"$error":"#N/A"}},")",","]
["(",null,",",{"$f":"DataEntry!G911","v":0},",",{"$f":"DataEntry!H911","v":0},",",{"$f":"DataEntry!J911","v":{"$error":"#N/A"}},",",{"$f":"DataEntry!L911","v":{"$error":"#N/A"}},")",","]
["(",null,",",{"$f":"DataEntry!G912","v":0},",",{"$f":"DataEntry!H912","v":0},",",{"$f":"DataEntry!J912","v":{"$error":"#N/A"}},",",{"$f":"DataEntry!L912","v":{"$error":"#N/A"}},")",","]
["(",null,",",{"$f":"DataEntry!G913","v":0},",",{"$f":"DataEntry!H913","v":0},",",{"$f":"DataEntry!J913","v":{"$error":"#N/A"}},",",{"$f":"DataEntry!L913","v":{"$error":"#N/A"}},")",","]
["(",null,",",{"$f":"DataEntry!G914","v":0},",",{"$f":"DataEntry!H914","v":0},",",{"$f":"DataEntry!J914","v":{"$error":"#N/A"}},",",{"$f":"DataEntry!L914","v":{"$error":"#N/A"}},")",","]
["(",null,",",{"$f":"DataEntry!G915","v":0},",",{"$f":"DataEntry!H915","v":0},",",{"$f":"DataEntry!J915","v":{"$error":"#N/A"}},",",{"$f":"DataEntry!L915","v":{"$error":"#N/A"}},")",","]
["(",null,",",{"$f":"DataEntry!G916","v":0},",",{"$f":"DataEntry!H916","v":0},",",{"$f":"DataEntry!J916","v":{"$error":"#N/A"}},",",{"$f":"DataEntry!L916","v":{"$error":"#N/A"}},")",","]
["(",null,",",{"$f":"DataEntry!G917","v":0},",",{"$f":"DataEntry!H917","v":0},",",{"$f":"DataEntry!J917","v":{"$error":"#N/A"}},",",{"$f":"DataEntry!L917","v":{"$error":"#N/A"}},")",","]
["(",null,",",{"$f":"DataEntry!G918","v":0},",",{"$f":"DataEntry!H918","v":0},",",{"$f":"DataEntry!J918","v":{"$error":"#N/A"}},",",{"$f":"DataEntry!L918","v":{"$error":"#N/A"}},")",","]
["(",null,",",{"$f":"DataEntry!G919","v":0},",",{"$f":"DataEntry!H919","v":0},",",{"$f":"DataEntry!J919","v":{"$error":"#N/A"}},",",{"$f":"DataEntry!L919","v":{"$error":"#N/A"}},")",","]
["(",null,",",{"$f":"DataEntry!G920","v":0},",",{"$f":"DataEntry!H920","v":0},",",{"$f":"DataEntry!J920","v":{"$error":"#N/A"}},",",{"$f":"DataEntry!L920","v":{"$error":"#N/A"}},")",","]
["(",null,",",{"$f":"DataEntry!G921","v":0},",",{"$f":"DataEntry!H921","v":0},",",{"$f":"DataEntry!J921","v":{"$error":"#N/A"}},",",{"$f":"DataEntry!L921","v":{"$error":"#N/A"}},")",","]
["(",null,",",{"$f":"DataEntry!G922","v":0},",",{"$f":"DataEntry!H922","v":0},",",{"$f":"DataEntry!J922","v":{"$error":"#N/A"}},",",{"$f":"DataEntry!L922","v":{"$error":"#N/A"}},")",","]
["(",null,",",{"$f":"DataEntry!G923","v":0},",",{"$f":"DataEntry!H923","v":0},",",{"$f":"DataEntry!J923","v":{"$error":"#N/A"}},",",{"$f":"DataEntry!L923","v":{"$error":"#N/A"}},")",","]
["(",null,",",{"$f":"DataEntry!G924","v":0},",",{"$f":"DataEntry!H924","v":0},",",{"$f":"DataEntry!J924","v":{"$error":"#N/A"}},",",{"$f":"DataEntry!L924","v":{"$error":"#N/A"}},")",","]
["(",null,",",{"$f":"DataEntry!G925","v":0},",",{"$f":"DataEntry!H925","v":0},",",{"$f":"DataEntry!J925","v":{"$error":"#N/A"}},",",{"$f":"DataEntry!L925","v":{"$error":"#N/A"}},")",","]
["(",null,",",{"$f":"DataEntry!G926","v":0},",",{"$f":"DataEntry!H926","v":0},",",{"$f":"DataEntry!J926","v":{"$error":"#N/A"}},",",{"$f":"DataEntry!L926","v":{"$error":"#N/A"}},")",","]
["(",null,",",{"$f":"DataEntry!G927","v":0},",",{"$f":"DataEntry!H927","v":0},",",{"$f":"DataEntry!J927","v":{"$error":"#N/A"}},",",{"$f":"DataEntry!L927","v":{"$error":"#N/A"}},")",","]
["(",null,",",{"$f":"DataEntry!G928","v":0},",",{"$f":"DataEntry!H928","v":0},",",{"$f":"DataEntry!J928","v":{"$error":"#N/A"}},",",{"$f":"DataEntry!L928","v":{"$error":"#N/A"}},")",","]
["(",null,",",{"$f":"DataEntry!G929","v":0},",",{"$f":"DataEntry!H929","v":0},",",{"$f":"DataEntry!J929","v":{"$error":"#N/A"}},",",{"$f":"DataEntry!L929","v":{"$error":"#N/A"}},")",","]
["(",null,",",{"$f":"DataEntry!G930","v":0},",",{"$f":"DataEntry!H930","v":0},",",{"$f":"DataEntry!J930","v":{"$error":"#N/A"}},",",{"$f":"DataEntry!L930","v":{"$error":"#N/A"}},")",","]
["(",null,",",{"$f":"DataEntry!G931","v":0},",",{"$f":"DataEntry!H931","v":0},",",{"$f":"DataEntry!J931","v":{"$error":"#N/A"}},",",{"$f":"DataEntry!L931","v":{"$error":"#N/A"}},")",","]
["(",null,",",{"$f":"DataEntry!G932","v":0},",",{"$f":"DataEntry!H932","v":0},",",{"$f":"DataEntry!J932","v":{"$error":"#N/A"}},",",{"$f":"DataEntry!L932","v":{"$error":"#N/A"}},")",","]
["(",null,",",{"$f":"DataEntry!G933","v":0},",",{"$f":"DataEntry!H933","v":0},",",{"$f":"DataEntry!J933","v":{"$error":"#N/A"}},",",{"$f":"DataEntry!L933","v":{"$error":"#N/A"}},")",","]
["(",null,",",{"$f":"DataEntry!G934","v":0},",",{"$f":"DataEntry!H934","v":0},",",{"$f":"DataEntry!J934","v":{"$error":"#N/A"}},",",{"$f":"DataEntry!L934","v":{"$error":"#N/A"}},")",","]
["(",null,",",{"$f":"DataEntry!G935","v":0},",",{"$f":"DataEntry!H935","v":0},",",{"$f":"DataEntry!J935","v":{"$error":"#N/A"}},",",{"$f":"DataEntry!L935","v":{"$error":"#N/A"}},")",","]
["(",null,",",{"$f":"DataEntry!G936","v":0},",",{"$f":"DataEntry!H936","v":0},",",{"$f":"DataEntry!J936","v":{"$error":"#N/A"}},",",{"$f":"DataEntry!L936","v":{"$error":"#N/A"}},")",","]
["(",null,",",{"$f":"DataEntry!G937","v":0},",",{"$f":"DataEntry!H937","v":0},",",{"$f":"DataEntry!J937","v":{"$error":"#N/A"}},",",{"$f":"DataEntry!L937","v":{"$error":"#N/A"}},")",","]
["(",null,",",{"$f":"DataEntry!G938","v":0},",",{"$f":"DataEntry!H938","v":0},",",{"$f":"DataEntry!J938","v":{"$error":"#N/A"}},",",{"$f":"DataEntry!L938","v":{"$error":"#N/A"}},")",","]
["(",null,",",{"$f":"DataEntry!G939","v":0},",",{"$f":"DataEntry!H939","v":0},",",{"$f":"DataEntry!J939","v":{"$error":"#N/A"}},",",{"$f":"DataEntry!L939","v":{"$error":"#N/A"}},")",","]
["(",null,",",{"$f":"DataEntry!G940","v":0},",",{"$f":"DataEntry!H940","v":0},",",{"$f":"DataEntry!J940","v":{"$error":"#N/A"}},",",{"$f":"DataEntry!L940","v":{"$error":"#N/A"}},")",","]
["(",null,",",{"$f":"DataEntry!G941","v":0},",",{"$f":"DataEntry!H941","v":0},",",{"$f":"DataEntry!J941","v":{"$error":"#N/A"}},",",{"$f":"DataEntry!L941","v":{"$error":"#N/A"}},")",","]
["(",null,",",{"$f":"DataEntry!G942","v":0},",",{"$f":"DataEntry!H942","v":0},",",{"$f":"DataEntry!J942","v":{"$error":"#N/A"}},",",{"$f":"DataEntry!L942","v":{"$error":"#N/A"}},")",","]
["(",null,",",{"$f":"DataEntry!G943","v":0},",",{"$f":"DataEntry!H943","v":0},",",{"$f":"DataEntry!J943","v":{"$error":"#N/A"}},",",{"$f":"DataEntry!L943","v":{"$error":"#N/A"}},")",","]
["(",null,",",{"$f":"DataEntry!G944","v":0},",",{"$f":"DataEntry!H944","v":0},",",{"$f":"DataEntry!J944","v":{"$error":"#N/A"}},",",{"$f":"DataEntry!L944","v":{"$error":"#N/A"}},")",","]
["(",null,",",{"$f":"DataEntry!G945","v":0},",",{"$f":"DataEntry!H945","v":0},",",{"$f":"DataEntry!J945","v":{"$error":"#N/A"}},",",{"$f":"DataEntry!L945","v":{"$error":"#N/A"}},")",","]
["(",null,",",{"$f":"DataEntry!G946","v":0},",",{"$f":"DataEntry!H946","v":0},",",{"$f":"DataEntry!J946","v":{"$error":"#N/A"}},",",{"$f":"DataEntry!L946","v":{"$error":"#N/A"}},")",","]
["(",null,",",{"$f":"DataEntry!G947","v":0},",",{"$f":"DataEntry!H947","v":0},",",{"$f":"DataEntry!J947","v":{"$error":"#N/A"}},",",{"$f":"DataEntry!L947","v":{"$error":"#N/A"}},")",","]
["(",null,",",{"$f":"DataEntry!G948","v":0},",",{"$f":"DataEntry!H948","v":0},",",{"$f":"DataEntry!J948","v":{"$error":"#N/A"}},",",{"$f":"DataEntry!L948","v":{"$error":"#N/A"}},")",","]
["(",null,",",{"$f":"DataEntry!G949","v":0},",",{"$f":"DataEntry!H949","v":0},",",{"$f":"DataEntry!J949","v":{"$error":"#N/A"}},",",{"$f":"DataEntry!L949","v":{"$error":"#N/A"}},")",","]
["(",null,",",{"$f":"DataEntry!G950","v":0},",",{"$f":"DataEntry!H950","v":0},",",{"$f":"DataEntry!J950","v":{"$error":"#N/A"}},",",{"$f":"DataEntry!L950","v":{"$error":"#N/A"}},")",","]
["(",null,",",{"$f":"DataEntry!G951","v":0},",",{"$f":"DataEntry!H951","v":0},",",{"$f":"DataEntry!J951","v":{"$error":"#N/A"}},",",{"$f":"DataEntry!L951","v":{"$error":"#N/A"}},")",","]
["(",null,",",{"$f":"DataEntry!G952","v":0},",",{"$f":"DataEntry!H952","v":0},",",{"$f":"DataEntry!J952","v":{"$error":"#N/A"}},",",{"$f":"DataEntry!L952","v":{"$error":"#N/A"}},")",","]
["(",null,",",{"$f":"DataEntry!G953","v":0},",",{"$f":"DataEntry!H953","v":0},",",{"$f":"DataEntry!J953","v":{"$error":"#N/A"}},",",{"$f":"DataEntry!L953","v":{"$error":"#N/A"}},")",","]
["(",null,",",{"$f":"DataEntry!G954","v":0},",",{"$f":"DataEntry!H954","v":0},",",{"$f":"DataEntry!J954","v":{"$error":"#N/A"}},",",{"$f":"DataEntry!L954","v":{"$error":"#N/A"}},")",","]
["(",null,",",{"$f":"DataEntry!G955","v":0},",",{"$f":"DataEntry!H955","v":0},",",{"$f":"DataEntry!J955","v":{"$error":"#N/A"}},",",{"$f":"DataEntry!L955","v":{"$error":"#N/A"}},")",","]
["(",null,",",{"$f":"DataEntry!G956","v":0},",",{"$f":"DataEntry!H956","v":0},",",{"$f":"DataEntry!J956","v":{"$error":"#N/A"}},",",{"$f":"DataEntry!L956","v":{"$error":"#N/A"}},")",","]
["(",null,",",{"$f":"DataEntry!G957","v":0},",",{"$f":"DataEntry!H957","v":0},",",{"$f":"DataEntry!J957","v":{"$error":"#N/A"}},",",{"$f":"DataEntry!L957","v":{"$error":"#N/A"}},")",","]
["(",null,",",{"$f":"DataEntry!G958","v":0},",",{"$f":"DataEntry!H958","v":0},",",{"$f":"DataEntry!J958","v":{"$error":"#N/A"}},",",{"$f":"DataEntry!L958","v":{"$error":"#N/A"}},")",","]
["(",null,",",{"$f":"DataEntry!G959","v":0},",",{"$f":"DataEntry!H959","v":0},",",{"$f":"DataEntry!J959","v":{"$error":"#N/A"}},",",{"$f":"DataEntry!L959","v":{"$error":"#N/A"}},")",","]
["(",null,",",{"$f":"DataEntry!G960","v":0},",",{"$f":"DataEntry!H960","v":0},",",{"$f":"DataEntry!J960","v":{"$error":"#N/A"}},",",{"$f":"DataEntry!L960","v":{"$error":"#N/A"}},")",","]
["(",null,",",{"$f":"DataEntry!G961","v":0},",",{"$f":"DataEntry!H961","v":0},",",{"$f":"DataEntry!J961","v":{"$error":"#N/A"}},",",{"$f":"DataEntry!L961","v":{"$error":"#N/A"}},")",","]
["(",null,",",{"$f":"DataEntry!G962","v":0},",",{"$f":"DataEntry!H962","v":0},",",{"$f":"DataEntry!J962","v":{"$error":"#N/A"}},",",{"$f":"DataEntry!L962","v":{"$error":"#N/A"}},")",","]
["(",null,",",{"$f":"DataEntry!G963","v":0},",",{"$f":"DataEntry!H963","v":0},",",{"$f":"DataEntry!J963","v":{"$error":"#N/A"}},",",{"$f":"DataEntry!L963","v":{"$error":"#N/A"}},")",","]
["(",null,",",{"$f":"DataEntry!G964","v":0},",",{"$f":"DataEntry!H964","v":0},",",{"$f":"DataEntry!J964","v":{"$error":"#N/A"}},",",{"$f":"DataEntry!L964","v":{"$error":"#N/A"}},")",","]
["(",null,",",{"$f":"DataEntry!G965","v":0},",",{"$f":"DataEntry!H965","v":0},",",{"$f":"DataEntry!J965","v":{"$error":"#N/A"}},",",{"$f":"DataEntry!L965","v":{"$error":"#N/A"}},")",","]
["(",null,",",{"$f":"DataEntry!G966","v":0},",",{"$f":"DataEntry!H966","v":0},",",{"$f":"DataEntry!J966","v":{"$error":"#N/A"}},",",{"$f":"DataEntry!L966","v":{"$error":"#N/A"}},")",","]
["(",null,",",{"$f":"DataEntry!G967","v":0},",",{"$f":"DataEntry!H967","v":0},",",{"$f":"DataEntry!J967","v":{"$error":"#N/A"}},",",{"$f":"DataEntry!L967","v":{"$error":"#N/A"}},")",","]
["(",null,",",{"$f":"DataEntry!G968","v":0},",",{"$f":"DataEntry!H968","v":0},",",{"$f":"DataEntry!J968","v":{"$error":"#N/A"}},",",{"$f":"DataEntry!L968","v":{"$error":"#N/A"}},")",","]
["(",null,",",{"$f":"DataEntry!G969","v":0},",",{"$f":"DataEntry!H969","v":0},",",{"$f":"DataEntry!J969","v":{"$error":"#N/A"}},",",{"$f":"DataEntry!L969","v":{"$error":"#N/A"}},")",","]
["(",null,",",{"$f":"DataEntry!G970","v":0},",",{"$f":"DataEntry!H970","v":0},",",{"$f":"DataEntry!J970","v":{"$error":"#N/A"}},",",{"$f":"DataEntry!L970","v":{"$error":"#N/A"}},")",","]
["(",null,",",{"$f":"DataEntry!G971","v":0},",",{"$f":"DataEntry!H971","v":0},",",{"$f":"DataEntry!J971","v":{"$error":"#N/A"}},",",{"$f":"DataEntry!L971","v":{"$error":"#N/A"}},")",","]
["(",null,",",{"$f":"DataEntry!G972","v":0},",",{"$f":"DataEntry!H972","v":0},",",{"$f":"DataEntry!J972","v":{"$error":"#N/A"}},",",{"$f":"DataEntry!L972","v":{"$error":"#N/A"}},")",","]
["(",null,",",{"$f":"DataEntry!G973","v":0},",",{"$f":"DataEntry!H973","v":0},",",{"$f":"DataEntry!J973","v":{"$error":"#N/A"}},",",{"$f":"DataEntry!L973","v":{"$error":"#N/A"}},")",","]
["(",null,",",{"$f":"DataEntry!G974","v":0},",",{"$f":"DataEntry!H974","v":0},",",{"$f":"DataEntry!J974","v":{"$error":"#N/A"}},",",{"$f":"DataEntry!L974","v":{"$error":"#N/A"}},")",","]
["(",null,",",{"$f":"DataEntry!G975","v":0},",",{"$f":"DataEntry!H975","v":0},",",{"$f":"DataEntry!J975","v":{"$error":"#N/A"}},",",{"$f":"DataEntry!L975","v":{"$error":"#N/A"}},")",","]
["(",null,",",{"$f":"DataEntry!G976","v":0},",",{"$f":"DataEntry!H976","v":0},",",{"$f":"DataEntry!J976","v":{"$error":"#N/A"}},",",{"$f":"DataEntry!L976","v":{"$error":"#N/A"}},")",","]
["(",null,",",{"$f":"DataEntry!G977","v":0},",",{"$f":"DataEntry!H977","v":0},",",{"$f":"DataEntry!J977","v":{"$error":"#N/A"}},",",{"$f":"DataEntry!L977","v":{"$error":"#N/A"}},")",","]
["(",null,",",{"$f":"DataEntry!G978","v":0},",",{"$f":"DataEntry!H978","v":0},",",{"$f":"DataEntry!J978","v":{"$error":"#N/A"}},",",{"$f":"DataEntry!L978","v":{"$error":"#N/A"}},")",","]
["(",null,",",{"$f":"DataEntry!G979","v":0},",",{"$f":"DataEntry!H979","v":0},",",{"$f":"DataEntry!J979","v":{"$error":"#N/A"}},",",{"$f":"DataEntry!L979","v":{"$error":"#N/A"}},")",","]
["(",null,",",{"$f":"DataEntry!G980","v":0},",",{"$f":"DataEntry!H980","v":0},",",{"$f":"DataEntry!J980","v":{"$error":"#N/A"}},",",{"$f":"DataEntry!L980","v":{"$error":"#N/A"}},")",","]
["(",null,",",{"$f":"DataEntry!G981","v":0},",",{"$f":"DataEntry!H981","v":0},",",{"$f":"DataEntry!J981","v":{"$error":"#N/A"}},",",{"$f":"DataEntry!L981","v":{"$error":"#N/A"}},")",","]
["(",null,",",{"$f":"DataEntry!G982","v":0},",",{"$f":"DataEntry!H982","v":0},",",{"$f":"DataEntry!J982","v":{"$error":"#N/A"}},",",{"$f":"DataEntry!L982","v":{"$error":"#N/A"}},")",","]
["(",null,",",{"$f":"DataEntry!G983","v":0},",",{"$f":"DataEntry!H983","v":0},",",{"$f":"DataEntry!J983","v":{"$error":"#N/A"}},",",{"$f":"DataEntry!L983","v":{"$error":"#N/A"}},")",","]
["(",null,",",{"$f":"DataEntry!G984","v":0},",",{"$f":"DataEntry!H984","v":0},",",{"$f":"DataEntry!J984","v":{"$error":"#N/A"}},",",{"$f":"DataEntry!L984","v":{"$error":"#N/A"}},")",","]
["(",null,",",{"$f":"DataEntry!G985","v":0},",",{"$f":"DataEntry!H985","v":0},",",{"$f":"DataEntry!J985","v":{"$error":"#N/A"}},",",{"$f":"DataEntry!L985","v":{"$error":"#N/A"}},")",","]
["(",null,",",{"$f":"DataEntry!G986","v":0},",",{"$f":"DataEntry!H986","v":0},",",{"$f":"DataEntry!J986","v":{"$error":"#N/A"}},",",{"$f":"DataEntry!L986","v":{"$error":"#N/A"}},")",","]
["(",null,",",{"$f":"DataEntry!G987","v":0},",",{"$f":"DataEntry!H987","v":0},",",{"$f":"DataEntry!J987","v":{"$error":"#N/A"}},",",{"$f":"DataEntry!L987","v":{"$error":"#N/A"}},")",","]
["(",null,",",{"$f":"DataEntry!G988","v":0},",",{"$f":"DataEntry!H988","v":0},",",{"$f":"DataEntry!J988","v":{"$error":"#N/A"}},",",{"$f":"DataEntry!L988","v":{"$error":"#N/A"}},")",","]
["(",null,",",{"$f":"DataEntry!G989","v":0},",",{"$f":"DataEntry!H989","v":0},",",{"$f":"DataEntry!J989","v":{"$error":"#N/A"}},",",{"$f":"DataEntry!L989","v":{"$error":"#N/A"}},")",","]
["(",null,",",{"$f":"DataEntry!G990","v":0},",",{"$f":"DataEntry!H990","v":0},",",{"$f":"DataEntry!J990","v":{"$error":"#N/A"}},",",{"$f":"DataEntry!L990","v":{"$error":"#N/A"}},")",","]
["(",null,",",{"$f":"DataEntry!G991","v":0},",",{"$f":"DataEntry!H991","v":0},",",{"$f":"DataEntry!J991","v":{"$error":"#N/A"}},",",{"$f":"DataEntry!L991","v":{"$error":"#N/A"}},")",","]
["(",null,",",{"$f":"DataEntry!G992","v":0},",",{"$f":"DataEntry!H992","v":0},",",{"$f":"DataEntry!J992","v":{"$error":"#N/A"}},",",{"$f":"DataEntry!L992","v":{"$error":"#N/A"}},")",","]
["(",null,",",{"$f":"DataEntry!G993","v":0},",",{"$f":"DataEntry!H993","v":0},",",{"$f":"DataEntry!J993","v":{"$error":"#N/A"}},",",{"$f":"DataEntry!L993","v":{"$error":"#N/A"}},")",","]
["(",null,",",{"$f":"DataEntry!G994","v":0},",",{"$f":"DataEntry!H994","v":0},",",{"$f":"DataEntry!J994","v":{"$error":"#N/A"}},",",{"$f":"DataEntry!L994","v":{"$error":"#N/A"}},")",","]
["(",null,",",{"$f":"DataEntry!G995","v":0},",",{"$f":"DataEntry!H995","v":0},",",{"$f":"DataEntry!J995","v":{"$error":"#N/A"}},",",{"$f":"DataEntry!L995","v":{"$error":"#N/A"}},")",","]
["(",null,",",{"$f":"DataEntry!G996","v":0},",",{"$f":"DataEntry!H996","v":0},",",{"$f":"DataEntry!J996","v":{"$error":"#N/A"}},",",{"$f":"DataEntry!L996","v":{"$error":"#N/A"}},")",","]
["(",null,",",{"$f":"DataEntry!G997","v":0},",",{"$f":"DataEntry!H997","v":0},",",{"$f":"DataEntry!J997","v":{"$error":"#N/A"}},",",{"$f":"DataEntry!L997","v":{"$error":"#N/A"}},")",","]
["(",null,",",{"$f":"DataEntry!G998","v":0},",",{"$f":"DataEntry!H998","v":0},",",{"$f":"DataEntry!J998","v":{"$error":"#N/A"}},",",{"$f":"DataEntry!L998","v":{"$error":"#N/A"}},")",","]
["(",null,",",{"$f":"DataEntry!G999","v":0},",",{"$f":"DataEntry!H999","v":0},",",{"$f":"DataEntry!J999","v":{"$error":"#N/A"}},",",{"$f":"DataEntry!L999","v":{"$error":"#N/A"}},")",","]
["(",null,",",{"$f":"DataEntry!G1000","v":0},",",{"$f":"DataEntry!H1000","v":0},",",{"$f":"DataEntry!J1000","v":{"$error":"#N/A"}},",",{"$f":"DataEntry!L1000","v":{"$error":"#N/A"}},")",","]

{"sheet":"SQL3","index":11,"n_rows":1000,"n_cols":11,"rows_kept":1000,"cut":false,"hidden":false,"merged":[]}
["INSERT INTO vegetation_monitoring_canopy (vegetation_monitoring_point_id, transect_point, canopy_accepted_species_id)"]
["VALUES"]
["(",{"$f":"VLOOKUP(D3,$J$4:$K$103,2,FALSE)","v":{"$error":"#N/A"}},",",{"$f":"DataEntry!N14","v":0},",",{"$f":"DataEntry!P14","v":{"$error":"#N/A"}},")",",",null,"transect_point","vegetation_monitoring_point_id   "]
["(",{"$f":"VLOOKUP(D4,$J$4:$K$103,2,FALSE)","v":{"$error":"#N/A"}},",",{"$f":"DataEntry!N15","v":0},",",{"$f":"DataEntry!P15","v":{"$error":"#N/A"}},")",",",null,0.25,3750]
["(",{"$error":"#N/A"},",",{"$f":"DataEntry!N16","v":0},",",{"$f":"DataEntry!P16","v":{"$error":"#N/A"}},")",",",null,0.5,3751]
["(",{"$error":"#N/A"},",",{"$f":"DataEntry!N17","v":0},",",{"$f":"DataEntry!P17","v":{"$error":"#N/A"}},")",",",null,0.75,3752]
["(",{"$error":"#N/A"},",",{"$f":"DataEntry!N18","v":0},",",{"$f":"DataEntry!P18","v":{"$error":"#N/A"}},")",",",null,1,3753]
["(",{"$error":"#N/A"},",",{"$f":"DataEntry!N19","v":0},",",{"$f":"DataEntry!P19","v":{"$error":"#N/A"}},")",",",null,1.25,3754]
["(",{"$error":"#N/A"},",",{"$f":"DataEntry!N20","v":0},",",{"$f":"DataEntry!P20","v":{"$error":"#N/A"}},")",",",null,1.5,3755]
["(",{"$error":"#N/A"},",",{"$f":"DataEntry!N21","v":0},",",{"$f":"DataEntry!P21","v":{"$error":"#N/A"}},")",",",null,1.75,3756]
["(",{"$error":"#N/A"},",",{"$f":"DataEntry!N22","v":0},",",{"$f":"DataEntry!P22","v":{"$error":"#N/A"}},")",",",null,2,3757]
["(",{"$error":"#N/A"},",",{"$f":"DataEntry!N23","v":0},",",{"$f":"DataEntry!P23","v":{"$error":"#N/A"}},")",",",null,2.25,3758]
["(",{"$error":"#N/A"},",",{"$f":"DataEntry!N24","v":0},",",{"$f":"DataEntry!P24","v":{"$error":"#N/A"}},")",",",null,2.5,3759]
["(",{"$error":"#N/A"},",",{"$f":"DataEntry!N25","v":0},",",{"$f":"DataEntry!P25","v":{"$error":"#N/A"}},")",",",null,2.75,3760]
["(",{"$error":"#N/A"},",",{"$f":"DataEntry!N26","v":0},",",{"$f":"DataEntry!P26","v":{"$error":"#N/A"}},")",",",null,3,3761]
["(",{"$error":"#N/A"},",",{"$f":"DataEntry!N27","v":0},",",{"$f":"DataEntry!P27","v":{"$error":"#N/A"}},")",",",null,3.25,3762]
["(",{"$error":"#N/A"},",",{"$f":"DataEntry!N28","v":0},",",{"$f":"DataEntry!P28","v":{"$error":"#N/A"}},")",",",null,3.5,3763]
["(",{"$error":"#N/A"},",",{"$f":"DataEntry!N29","v":0},",",{"$f":"DataEntry!P29","v":{"$error":"#N/A"}},")",",",null,3.75,3764]
["(",{"$error":"#N/A"},",",{"$f":"DataEntry!N30","v":0},",",{"$f":"DataEntry!P30","v":{"$error":"#N/A"}},")",",",null,4,3765]
["(",{"$error":"#N/A"},",",{"$f":"DataEntry!N31","v":0},",",{"$f":"DataEntry!P31","v":{"$error":"#N/A"}},")",",",null,4.25,3766]
["(",{"$error":"#N/A"},",",{"$f":"DataEntry!N32","v":0},",",{"$f":"DataEntry!P32","v":{"$error":"#N/A"}},")",",",null,4.5,3767]
["(",{"$error":"#N/A"},",",{"$f":"DataEntry!N33","v":0},",",{"$f":"DataEntry!P33","v":{"$error":"#N/A"}},")",",",null,4.75,3768]
["(",{"$error":"#N/A"},",",{"$f":"DataEntry!N34","v":0},",",{"$f":"DataEntry!P34","v":{"$error":"#N/A"}},")",",",null,5,3769]
["(",{"$error":"#N/A"},",",{"$f":"DataEntry!N35","v":0},",",{"$f":"DataEntry!P35","v":{"$error":"#N/A"}},")",",",null,5.25,3770]
["(",{"$error":"#N/A"},",",{"$f":"DataEntry!N36","v":0},",",{"$f":"DataEntry!P36","v":{"$error":"#N/A"}},")",",",null,5.5,3771]
["(",{"$error":"#N/A"},",",{"$f":"DataEntry!N37","v":0},",",{"$f":"DataEntry!P37","v":{"$error":"#N/A"}},")",",",null,5.75,3772]
["(",{"$error":"#N/A"},",",{"$f":"DataEntry!N38","v":0},",",{"$f":"DataEntry!P38","v":{"$error":"#N/A"}},")",",",null,6,3773]
["(",{"$error":"#N/A"},",",{"$f":"DataEntry!N39","v":0},",",{"$f":"DataEntry!P39","v":{"$error":"#N/A"}},")",",",null,6.25,3774]
["(",{"$error":"#N/A"},",",{"$f":"DataEntry!N40","v":0},",",{"$f":"DataEntry!P40","v":{"$error":"#N/A"}},")",",",null,6.5,3775]
["(",{"$error":"#N/A"},",",{"$f":"DataEntry!N41","v":0},",",{"$f":"DataEntry!P41","v":{"$error":"#N/A"}},")",",",null,6.75,3776]
["(",{"$error":"#N/A"},",",{"$f":"DataEntry!N42","v":0},",",{"$f":"DataEntry!P42","v":{"$error":"#N/A"}},")",",",null,7,3777]
["(",{"$error":"#N/A"},",",{"$f":"DataEntry!N43","v":0},",",{"$f":"DataEntry!P43","v":{"$error":"#N/A"}},")",",",null,7.25,3778]
["(",{"$error":"#N/A"},",",{"$f":"DataEntry!N44","v":0},",",{"$f":"DataEntry!P44","v":{"$error":"#N/A"}},")",",",null,7.5,3779]
["(",{"$error":"#N/A"},",",{"$f":"DataEntry!N45","v":0},",",{"$f":"DataEntry!P45","v":{"$error":"#N/A"}},")",",",null,7.75,3780]
["(",{"$error":"#N/A"},",",{"$f":"DataEntry!N46","v":0},",",{"$f":"DataEntry!P46","v":{"$error":"#N/A"}},")",",",null,8,3781]
["(",{"$error":"#N/A"},",",{"$f":"DataEntry!N47","v":0},",",{"$f":"DataEntry!P47","v":{"$error":"#N/A"}},")",",",null,8.25,3782]
["(",{"$error":"#N/A"},",",{"$f":"DataEntry!N48","v":0},",",{"$f":"DataEntry!P48","v":{"$error":"#N/A"}},")",",",null,8.5,3783]
["(",{"$error":"#N/A"},",",{"$f":"DataEntry!N49","v":0},",",{"$f":"DataEntry!P49","v":{"$error":"#N/A"}},")",",",null,8.75,3784]
["(",{"$error":"#N/A"},",",{"$f":"DataEntry!N50","v":0},",",{"$f":"DataEntry!P50","v":{"$error":"#N/A"}},")",",",null,9,3785]
["(",{"$error":"#N/A"},",",{"$f":"DataEntry!N51","v":0},",",{"$f":"DataEntry!P51","v":{"$error":"#N/A"}},")",",",null,9.25,3786]
["(",{"$error":"#N/A"},",",{"$f":"DataEntry!N52","v":0},",",{"$f":"DataEntry!P52","v":{"$error":"#N/A"}},")",",",null,9.5,3787]
["(",{"$error":"#N/A"},",",{"$f":"DataEntry!N53","v":0},",",{"$f":"DataEntry!P53","v":{"$error":"#N/A"}},")",",",null,9.75,3788]
["(",{"$error":"#N/A"},",",{"$f":"DataEntry!N54","v":0},",",{"$f":"DataEntry!P54","v":{"$error":"#N/A"}},")",",",null,10,3789]
["(",{"$error":"#N/A"},",",{"$f":"DataEntry!N55","v":0},",",{"$f":"DataEntry!P55","v":{"$error":"#N/A"}},")",",",null,10.25,3790]
["(",{"$error":"#N/A"},",",{"$f":"DataEntry!N56","v":0},",",{"$f":"DataEntry!P56","v":{"$error":"#N/A"}},")",",",null,10.5,3791]
["(",{"$error":"#N/A"},",",{"$f":"DataEntry!N57","v":0},",",{"$f":"DataEntry!P57","v":{"$error":"#N/A"}},")",",",null,10.75,3792]
["(",{"$error":"#N/A"},",",{"$f":"DataEntry!N58","v":0},",",{"$f":"DataEntry!P58","v":{"$error":"#N/A"}},")",",",null,11,3793]
["(",{"$error":"#N/A"},",",{"$f":"DataEntry!N59","v":0},",",{"$f":"DataEntry!P59","v":{"$error":"#N/A"}},")",",",null,11.25,3794]
["(",{"$error":"#N/A"},",",{"$f":"DataEntry!N60","v":0},",",{"$f":"DataEntry!P60","v":{"$error":"#N/A"}},")",",",null,11.5,3795]
["(",{"$error":"#N/A"},",",{"$f":"DataEntry!N61","v":0},",",{"$f":"DataEntry!P61","v":{"$error":"#N/A"}},")",",",null,11.75,3796]
["(",{"$error":"#N/A"},",",{"$f":"DataEntry!N62","v":0},",",{"$f":"DataEntry!P62","v":{"$error":"#N/A"}},")",",",null,12,3797]
["(",{"$error":"#N/A"},",",{"$f":"DataEntry!N63","v":0},",",{"$f":"DataEntry!P63","v":{"$error":"#N/A"}},")",",",null,12.25,3798]
["(",{"$error":"#N/A"},",",{"$f":"DataEntry!N64","v":0},",",{"$f":"DataEntry!P64","v":{"$error":"#N/A"}},")",",",null,12.5,3799]
["(",{"$error":"#N/A"},",",{"$f":"DataEntry!N65","v":0},",",{"$f":"DataEntry!P65","v":{"$error":"#N/A"}},")",",",null,12.75,3800]
["(",{"$error":"#N/A"},",",{"$f":"DataEntry!N66","v":0},",",{"$f":"DataEntry!P66","v":{"$error":"#N/A"}},")",",",null,13,3801]
["(",{"$error":"#N/A"},",",{"$f":"DataEntry!N67","v":0},",",{"$f":"DataEntry!P67","v":{"$error":"#N/A"}},")",",",null,13.25,3802]
["(",{"$error":"#N/A"},",",{"$f":"DataEntry!N68","v":0},",",{"$f":"DataEntry!P68","v":{"$error":"#N/A"}},")",",",null,13.5,3803]
["(",{"$error":"#N/A"},",",{"$f":"DataEntry!N69","v":0},",",{"$f":"DataEntry!P69","v":{"$error":"#N/A"}},")",",",null,13.75,3804]
["(",{"$error":"#N/A"},",",{"$f":"DataEntry!N70","v":0},",",{"$f":"DataEntry!P70","v":{"$error":"#N/A"}},")",",",null,14,3805]
["(",{"$error":"#N/A"},",",{"$f":"DataEntry!N71","v":0},",",{"$f":"DataEntry!P71","v":{"$error":"#N/A"}},")",",",null,14.25,3806]
["(",{"$error":"#N/A"},",",{"$f":"DataEntry!N72","v":0},",",{"$f":"DataEntry!P72","v":{"$error":"#N/A"}},")",",",null,14.5,3807]
["(",{"$error":"#N/A"},",",{"$f":"DataEntry!N73","v":0},",",{"$f":"DataEntry!P73","v":{"$error":"#N/A"}},")",",",null,14.75,3808]
["(",{"$error":"#N/A"},",",{"$f":"DataEntry!N74","v":0},",",{"$f":"DataEntry!P74","v":{"$error":"#N/A"}},")",",",null,15,3809]
["(",{"$error":"#N/A"},",",{"$f":"DataEntry!N75","v":0},",",{"$f":"DataEntry!P75","v":{"$error":"#N/A"}},")",",",null,15.25,3810]
["(",{"$error":"#N/A"},",",{"$f":"DataEntry!N76","v":0},",",{"$f":"DataEntry!P76","v":{"$error":"#N/A"}},")",",",null,15.5,3811]
["(",{"$error":"#N/A"},",",{"$f":"DataEntry!N77","v":0},",",{"$f":"DataEntry!P77","v":{"$error":"#N/A"}},")",",",null,15.75,3812]
["(",{"$error":"#N/A"},",",{"$f":"DataEntry!N78","v":0},",",{"$f":"DataEntry!P78","v":{"$error":"#N/A"}},")",",",null,16,3813]
["(",{"$f":"VLOOKUP(D68,$J$4:$K$103,2,FALSE)","v":{"$error":"#N/A"}},",",{"$f":"DataEntry!N79","v":0},",",{"$f":"DataEntry!P79","v":{"$error":"#N/A"}},")",",",null,16.25,3814]
["(",{"$error":"#N/A"},",",{"$f":"DataEntry!N80","v":0},",",{"$f":"DataEntry!P80","v":{"$error":"#N/A"}},")",",",null,16.5,3815]
["(",{"$error":"#N/A"},",",{"$f":"DataEntry!N81","v":0},",",{"$f":"DataEntry!P81","v":{"$error":"#N/A"}},")",",",null,16.75,3816]
["(",{"$error":"#N/A"},",",{"$f":"DataEntry!N82","v":0},",",{"$f":"DataEntry!P82","v":{"$error":"#N/A"}},")",",",null,17,3817]
["(",{"$error":"#N/A"},",",{"$f":"DataEntry!N83","v":0},",",{"$f":"DataEntry!P83","v":{"$error":"#N/A"}},")",",",null,17.25,3818]
["(",{"$error":"#N/A"},",",{"$f":"DataEntry!N84","v":0},",",{"$f":"DataEntry!P84","v":{"$error":"#N/A"}},")",",",null,17.5,3819]
["(",{"$error":"#N/A"},",",{"$f":"DataEntry!N85","v":0},",",{"$f":"DataEntry!P85","v":{"$error":"#N/A"}},")",",",null,17.75,3820]
["(",{"$error":"#N/A"},",",{"$f":"DataEntry!N86","v":0},",",{"$f":"DataEntry!P86","v":{"$error":"#N/A"}},")",",",null,18,3821]
["(",{"$error":"#N/A"},",",{"$f":"DataEntry!N87","v":0},",",{"$f":"DataEntry!P87","v":{"$error":"#N/A"}},")",",",null,18.25,3822]
["(",{"$error":"#N/A"},",",{"$f":"DataEntry!N88","v":0},",",{"$f":"DataEntry!P88","v":{"$error":"#N/A"}},")",",",null,18.5,3823]
["(",{"$error":"#N/A"},",",{"$f":"DataEntry!N89","v":0},",",{"$f":"DataEntry!P89","v":{"$error":"#N/A"}},")",",",null,18.75,3824]
["(",{"$error":"#N/A"},",",{"$f":"DataEntry!N90","v":0},",",{"$f":"DataEntry!P90","v":{"$error":"#N/A"}},")",",",null,19,3825]
["(",{"$error":"#N/A"},",",{"$f":"DataEntry!N91","v":0},",",{"$f":"DataEntry!P91","v":{"$error":"#N/A"}},")",",",null,19.25,3826]
["(",{"$error":"#N/A"},",",{"$f":"DataEntry!N92","v":0},",",{"$f":"DataEntry!P92","v":{"$error":"#N/A"}},")",",",null,19.5,3827]
["(",{"$error":"#N/A"},",",{"$f":"DataEntry!N93","v":0},",",{"$f":"DataEntry!P93","v":{"$error":"#N/A"}},")",",",null,19.75,3828]
["(",{"$error":"#N/A"},",",{"$f":"DataEntry!N94","v":0},",",{"$f":"DataEntry!P94","v":{"$error":"#N/A"}},")",",",null,20,3829]
["(",{"$error":"#N/A"},",",{"$f":"DataEntry!N95","v":0},",",{"$f":"DataEntry!P95","v":{"$error":"#N/A"}},")",",",null,20.25,3830]
["(",{"$error":"#N/A"},",",{"$f":"DataEntry!N96","v":0},",",{"$f":"DataEntry!P96","v":{"$error":"#N/A"}},")",",",null,20.5,3831]
["(",{"$error":"#N/A"},",",{"$f":"DataEntry!N97","v":0},",",{"$f":"DataEntry!P97","v":{"$error":"#N/A"}},")",",",null,20.75,3832]
["(",{"$error":"#N/A"},",",{"$f":"DataEntry!N98","v":0},",",{"$f":"DataEntry!P98","v":{"$error":"#N/A"}},")",",",null,21,3833]
["(",{"$error":"#N/A"},",",{"$f":"DataEntry!N99","v":0},",",{"$f":"DataEntry!P99","v":{"$error":"#N/A"}},")",",",null,21.25,3834]
["(",{"$error":"#N/A"},",",{"$f":"DataEntry!N100","v":0},",",{"$f":"DataEntry!P100","v":{"$error":"#N/A"}},")",",",null,21.5,3835]
["(",{"$error":"#N/A"},",",{"$f":"DataEntry!N101","v":0},",",{"$f":"DataEntry!P101","v":{"$error":"#N/A"}},")",",",null,21.75,3836]
["(",{"$error":"#N/A"},",",{"$f":"DataEntry!N102","v":0},",",{"$f":"DataEntry!P102","v":{"$error":"#N/A"}},")",",",null,22,3837]
["(",{"$error":"#N/A"},",",{"$f":"DataEntry!N103","v":0},",",{"$f":"DataEntry!P103","v":{"$error":"#N/A"}},")",",",null,22.25,3838]
["(",{"$error":"#N/A"},",",{"$f":"DataEntry!N104","v":0},",",{"$f":"DataEntry!P104","v":{"$error":"#N/A"}},")",",",null,22.5,3839]
["(",{"$error":"#N/A"},",",{"$f":"DataEntry!N105","v":0},",",{"$f":"DataEntry!P105","v":{"$error":"#N/A"}},")",",",null,22.75,3840]
["(",{"$error":"#N/A"},",",{"$f":"DataEntry!N106","v":0},",",{"$f":"DataEntry!P106","v":{"$error":"#N/A"}},")",",",null,23,3841]
["(",{"$error":"#N/A"},",",{"$f":"DataEntry!N107","v":0},",",{"$f":"DataEntry!P107","v":{"$error":"#N/A"}},")",",",null,23.25,3842]
["(",{"$error":"#N/A"},",",{"$f":"DataEntry!N108","v":0},",",{"$f":"DataEntry!P108","v":{"$error":"#N/A"}},")",",",null,23.5,3843]
["(",{"$error":"#N/A"},",",{"$f":"DataEntry!N109","v":0},",",{"$f":"DataEntry!P109","v":{"$error":"#N/A"}},")",",",null,23.75,3844]
["(",{"$error":"#N/A"},",",{"$f":"DataEntry!N110","v":0},",",{"$f":"DataEntry!P110","v":{"$error":"#N/A"}},")",",",null,24,3845]
["(",{"$error":"#N/A"},",",{"$f":"DataEntry!N111","v":0},",",{"$f":"DataEntry!P111","v":{"$error":"#N/A"}},")",",",null,24.25,3846]
["(",{"$error":"#N/A"},",",{"$f":"DataEntry!N112","v":0},",",{"$f":"DataEntry!P112","v":{"$error":"#N/A"}},")",",",null,24.5,3847]
["(",{"$error":"#N/A"},",",{"$f":"DataEntry!N113","v":0},",",{"$f":"DataEntry!P113","v":{"$error":"#N/A"}},")",",",null,24.75,3848]
["(",{"$error":"#N/A"},",",{"$f":"DataEntry!N114","v":0},",",{"$f":"DataEntry!P114","v":{"$error":"#N/A"}},")",",",null,25,3849]
["(",{"$error":"#N/A"},",",{"$f":"DataEntry!N115","v":0},",",{"$f":"DataEntry!P115","v":{"$error":"#N/A"}},")",","]
["(",{"$error":"#N/A"},",",{"$f":"DataEntry!N116","v":0},",",{"$f":"DataEntry!P116","v":{"$error":"#N/A"}},")",","]
["(",{"$error":"#N/A"},",",{"$f":"DataEntry!N117","v":0},",",{"$f":"DataEntry!P117","v":{"$error":"#N/A"}},")",","]
["(",{"$error":"#N/A"},",",{"$f":"DataEntry!N118","v":0},",",{"$f":"DataEntry!P118","v":{"$error":"#N/A"}},")",","]
["(",{"$error":"#N/A"},",",{"$f":"DataEntry!N119","v":0},",",{"$f":"DataEntry!P119","v":{"$error":"#N/A"}},")",","]
["(",{"$error":"#N/A"},",",{"$f":"DataEntry!N120","v":0},",",{"$f":"DataEntry!P120","v":{"$error":"#N/A"}},")",","]
["(",{"$error":"#N/A"},",",{"$f":"DataEntry!N121","v":0},",",{"$f":"DataEntry!P121","v":{"$error":"#N/A"}},")",","]
["(",{"$error":"#N/A"},",",{"$f":"DataEntry!N122","v":0},",",{"$f":"DataEntry!P122","v":{"$error":"#N/A"}},")",","]
["(",{"$error":"#N/A"},",",{"$f":"DataEntry!N123","v":0},",",{"$f":"DataEntry!P123","v":{"$error":"#N/A"}},")",","]
["(",{"$error":"#N/A"},",",{"$f":"DataEntry!N124","v":0},",",{"$f":"DataEntry!P124","v":{"$error":"#N/A"}},")",","]
["(",{"$error":"#N/A"},",",{"$f":"DataEntry!N125","v":0},",",{"$f":"DataEntry!P125","v":{"$error":"#N/A"}},")",","]
["(",{"$error":"#N/A"},",",{"$f":"DataEntry!N126","v":0},",",{"$f":"DataEntry!P126","v":{"$error":"#N/A"}},")",","]
["(",{"$error":"#N/A"},",",{"$f":"DataEntry!N127","v":0},",",{"$f":"DataEntry!P127","v":{"$error":"#N/A"}},")",","]
["(",{"$error":"#N/A"},",",{"$f":"DataEntry!N128","v":0},",",{"$f":"DataEntry!P128","v":{"$error":"#N/A"}},")",","]
["(",{"$error":"#N/A"},",",{"$f":"DataEntry!N129","v":0},",",{"$f":"DataEntry!P129","v":{"$error":"#N/A"}},")",","]
["(",{"$error":"#N/A"},",",{"$f":"DataEntry!N130","v":0},",",{"$f":"DataEntry!P130","v":{"$error":"#N/A"}},")",","]
["(",{"$error":"#N/A"},",",{"$f":"DataEntry!N131","v":0},",",{"$f":"DataEntry!P131","v":{"$error":"#N/A"}},")",","]
["(",{"$error":"#N/A"},",",{"$f":"DataEntry!N132","v":0},",",{"$f":"DataEntry!P132","v":{"$error":"#N/A"}},")",","]
["(",{"$error":"#N/A"},",",{"$f":"DataEntry!N133","v":0},",",{"$f":"DataEntry!P133","v":{"$error":"#N/A"}},")",","]
["(",{"$error":"#N/A"},",",{"$f":"DataEntry!N134","v":0},",",{"$f":"DataEntry!P134","v":{"$error":"#N/A"}},")",","]
["(",{"$error":"#N/A"},",",{"$f":"DataEntry!N135","v":0},",",{"$f":"DataEntry!P135","v":{"$error":"#N/A"}},")",","]
["(",{"$error":"#N/A"},",",{"$f":"DataEntry!N136","v":0},",",{"$f":"DataEntry!P136","v":{"$error":"#N/A"}},")",","]
["(",{"$error":"#N/A"},",",{"$f":"DataEntry!N137","v":0},",",{"$f":"DataEntry!P137","v":{"$error":"#N/A"}},")",","]
["(",{"$error":"#N/A"},",",{"$f":"DataEntry!N138","v":0},",",{"$f":"DataEntry!P138","v":{"$error":"#N/A"}},")",","]
["(",{"$error":"#N/A"},",",{"$f":"DataEntry!N139","v":0},",",{"$f":"DataEntry!P139","v":{"$error":"#N/A"}},")",","]
["(",{"$error":"#N/A"},",",{"$f":"DataEntry!N140","v":0},",",{"$f":"DataEntry!P140","v":{"$error":"#N/A"}},")",","]
["(",{"$error":"#N/A"},",",{"$f":"DataEntry!N141","v":0},",",{"$f":"DataEntry!P141","v":{"$error":"#N/A"}},")",","]
["(",{"$error":"#N/A"},",",{"$f":"DataEntry!N142","v":0},",",{"$f":"DataEntry!P142","v":{"$error":"#N/A"}},")",","]
["(",{"$f":"VLOOKUP(D132,$J$4:$K$103,2,FALSE)","v":{"$error":"#N/A"}},",",{"$f":"DataEntry!N143","v":0},",",{"$f":"DataEntry!P143","v":{"$error":"#N/A"}},")",","]
["(",{"$error":"#N/A"},",",{"$f":"DataEntry!N144","v":0},",",{"$f":"DataEntry!P144","v":{"$error":"#N/A"}},")",","]
["(",{"$error":"#N/A"},",",{"$f":"DataEntry!N145","v":0},",",{"$f":"DataEntry!P145","v":{"$error":"#N/A"}},")",","]
["(",{"$error":"#N/A"},",",{"$f":"DataEntry!N146","v":0},",",{"$f":"DataEntry!P146","v":{"$error":"#N/A"}},")",","]
["(",{"$error":"#N/A"},",",{"$f":"DataEntry!N147","v":0},",",{"$f":"DataEntry!P147","v":{"$error":"#N/A"}},")",","]
["(",{"$error":"#N/A"},",",{"$f":"DataEntry!N148","v":0},",",{"$f":"DataEntry!P148","v":{"$error":"#N/A"}},")",","]
["(",{"$error":"#N/A"},",",{"$f":"DataEntry!N149","v":0},",",{"$f":"DataEntry!P149","v":{"$error":"#N/A"}},")",","]
["(",{"$error":"#N/A"},",",{"$f":"DataEntry!N150","v":0},",",{"$f":"DataEntry!P150","v":{"$error":"#N/A"}},")",","]
["(",{"$error":"#N/A"},",",{"$f":"DataEntry!N151","v":0},",",{"$f":"DataEntry!P151","v":{"$error":"#N/A"}},")",","]
["(",{"$error":"#N/A"},",",{"$f":"DataEntry!N152","v":0},",",{"$f":"DataEntry!P152","v":{"$error":"#N/A"}},")",","]
["(",{"$error":"#N/A"},",",{"$f":"DataEntry!N153","v":0},",",{"$f":"DataEntry!P153","v":{"$error":"#N/A"}},")",","]
["(",{"$error":"#N/A"},",",{"$f":"DataEntry!N154","v":0},",",{"$f":"DataEntry!P154","v":{"$error":"#N/A"}},")",","]
["(",{"$error":"#N/A"},",",{"$f":"DataEntry!N155","v":0},",",{"$f":"DataEntry!P155","v":{"$error":"#N/A"}},")",","]
["(",{"$error":"#N/A"},",",{"$f":"DataEntry!N156","v":0},",",{"$f":"DataEntry!P156","v":{"$error":"#N/A"}},")",","]
["(",{"$error":"#N/A"},",",{"$f":"DataEntry!N157","v":0},",",{"$f":"DataEntry!P157","v":{"$error":"#N/A"}},")",","]
["(",{"$error":"#N/A"},",",{"$f":"DataEntry!N158","v":0},",",{"$f":"DataEntry!P158","v":{"$error":"#N/A"}},")",","]
["(",{"$error":"#N/A"},",",{"$f":"DataEntry!N159","v":0},",",{"$f":"DataEntry!P159","v":{"$error":"#N/A"}},")",","]
["(",{"$error":"#N/A"},",",{"$f":"DataEntry!N160","v":0},",",{"$f":"DataEntry!P160","v":{"$error":"#N/A"}},")",","]
["(",{"$error":"#N/A"},",",{"$f":"DataEntry!N161","v":0},",",{"$f":"DataEntry!P161","v":{"$error":"#N/A"}},")",","]
["(",{"$error":"#N/A"},",",{"$f":"DataEntry!N162","v":0},",",{"$f":"DataEntry!P162","v":{"$error":"#N/A"}},")",","]
["(",{"$error":"#N/A"},",",{"$f":"DataEntry!N163","v":0},",",{"$f":"DataEntry!P163","v":{"$error":"#N/A"}},")",","]
["(",{"$error":"#N/A"},",",{"$f":"DataEntry!N164","v":0},",",{"$f":"DataEntry!P164","v":{"$error":"#N/A"}},")",","]
["(",{"$error":"#N/A"},",",{"$f":"DataEntry!N165","v":0},",",{"$f":"DataEntry!P165","v":{"$error":"#N/A"}},")",","]
["(",{"$error":"#N/A"},",",{"$f":"DataEntry!N166","v":0},",",{"$f":"DataEntry!P166","v":{"$error":"#N/A"}},")",","]
["(",{"$error":"#N/A"},",",{"$f":"DataEntry!N167","v":0},",",{"$f":"DataEntry!P167","v":{"$error":"#N/A"}},")",","]
["(",{"$error":"#N/A"},",",{"$f":"DataEntry!N168","v":0},",",{"$f":"DataEntry!P168","v":{"$error":"#N/A"}},")",","]
["(",{"$error":"#N/A"},",",{"$f":"DataEntry!N169","v":0},",",{"$f":"DataEntry!P169","v":{"$error":"#N/A"}},")",","]
["(",{"$error":"#N/A"},",",{"$f":"DataEntry!N170","v":0},",",{"$f":"DataEntry!P170","v":{"$error":"#N/A"}},")",","]
["(",{"$error":"#N/A"},",",{"$f":"DataEntry!N171","v":0},",",{"$f":"DataEntry!P171","v":{"$error":"#N/A"}},")",","]
["(",{"$error":"#N/A"},",",{"$f":"DataEntry!N172","v":0},",",{"$f":"DataEntry!P172","v":{"$error":"#N/A"}},")",","]
["(",{"$error":"#N/A"},",",{"$f":"DataEntry!N173","v":0},",",{"$f":"DataEntry!P173","v":{"$error":"#N/A"}},")",","]
["(",{"$error":"#N/A"},",",{"$f":"DataEntry!N174","v":0},",",{"$f":"DataEntry!P174","v":{"$error":"#N/A"}},")",","]
["(",{"$error":"#N/A"},",",{"$f":"DataEntry!N175","v":0},",",{"$f":"DataEntry!P175","v":{"$error":"#N/A"}},")",","]
["(",{"$error":"#N/A"},",",{"$f":"DataEntry!N176","v":0},",",{"$f":"DataEntry!P176","v":{"$error":"#N/A"}},")",","]
["(",{"$error":"#N/A"},",",{"$f":"DataEntry!N177","v":0},",",{"$f":"DataEntry!P177","v":{"$error":"#N/A"}},")",","]
["(",{"$error":"#N/A"},",",{"$f":"DataEntry!N178","v":0},",",{"$f":"DataEntry!P178","v":{"$error":"#N/A"}},")",","]
["(",{"$error":"#N/A"},",",{"$f":"DataEntry!N179","v":0},",",{"$f":"DataEntry!P179","v":{"$error":"#N/A"}},")",","]
["(",{"$error":"#N/A"},",",{"$f":"DataEntry!N180","v":0},",",{"$f":"DataEntry!P180","v":{"$error":"#N/A"}},")",","]
["(",{"$error":"#N/A"},",",{"$f":"DataEntry!N181","v":0},",",{"$f":"DataEntry!P181","v":{"$error":"#N/A"}},")",","]
["(",{"$error":"#N/A"},",",{"$f":"DataEntry!N182","v":0},",",{"$f":"DataEntry!P182","v":{"$error":"#N/A"}},")",","]
["(",{"$error":"#N/A"},",",{"$f":"DataEntry!N183","v":0},",",{"$f":"DataEntry!P183","v":{"$error":"#N/A"}},")",","]
["(",{"$error":"#N/A"},",",{"$f":"DataEntry!N184","v":0},",",{"$f":"DataEntry!P184","v":{"$error":"#N/A"}},")",","]
["(",{"$error":"#N/A"},",",{"$f":"DataEntry!N185","v":0},",",{"$f":"DataEntry!P185","v":{"$error":"#N/A"}},")",","]
["(",{"$error":"#N/A"},",",{"$f":"DataEntry!N186","v":0},",",{"$f":"DataEntry!P186","v":{"$error":"#N/A"}},")",","]
["(",{"$error":"#N/A"},",",{"$f":"DataEntry!N187","v":0},",",{"$f":"DataEntry!P187","v":{"$error":"#N/A"}},")",","]
["(",{"$error":"#N/A"},",",{"$f":"DataEntry!N188","v":0},",",{"$f":"DataEntry!P188","v":{"$error":"#N/A"}},")",","]
["(",{"$error":"#N/A"},",",{"$f":"DataEntry!N189","v":0},",",{"$f":"DataEntry!P189","v":{"$error":"#N/A"}},")",","]
["(",{"$error":"#N/A"},",",{"$f":"DataEntry!N190","v":0},",",{"$f":"DataEntry!P190","v":{"$error":"#N/A"}},")",","]
["(",{"$error":"#N/A"},",",{"$f":"DataEntry!N191","v":0},",",{"$f":"DataEntry!P191","v":{"$error":"#N/A"}},")",","]
["(",{"$error":"#N/A"},",",{"$f":"DataEntry!N192","v":0},",",{"$f":"DataEntry!P192","v":{"$error":"#N/A"}},")",","]
["(",{"$error":"#N/A"},",",{"$f":"DataEntry!N193","v":0},",",{"$f":"DataEntry!P193","v":{"$error":"#N/A"}},")",","]
["(",{"$error":"#N/A"},",",{"$f":"DataEntry!N194","v":0},",",{"$f":"DataEntry!P194","v":{"$error":"#N/A"}},")",","]
["(",{"$error":"#N/A"},",",{"$f":"DataEntry!N195","v":0},",",{"$f":"DataEntry!P195","v":{"$error":"#N/A"}},")",","]
["(",{"$error":"#N/A"},",",{"$f":"DataEntry!N196","v":0},",",{"$f":"DataEntry!P196","v":{"$error":"#N/A"}},")",","]
["(",{"$error":"#N/A"},",",{"$f":"DataEntry!N197","v":0},",",{"$f":"DataEntry!P197","v":{"$error":"#N/A"}},")",","]
["(",{"$error":"#N/A"},",",{"$f":"DataEntry!N198","v":0},",",{"$f":"DataEntry!P198","v":{"$error":"#N/A"}},")",","]
["(",null,",",{"$f":"DataEntry!N199","v":0},",",{"$f":"DataEntry!P199","v":{"$error":"#N/A"}},")",","]
["(",null,",",{"$f":"DataEntry!N200","v":0},",",{"$f":"DataEntry!P200","v":{"$error":"#N/A"}},")",","]
["(",null,",",{"$f":"DataEntry!N201","v":0},",",{"$f":"DataEntry!P201","v":{"$error":"#N/A"}},")",","]
["(",null,",",{"$f":"DataEntry!N202","v":0},",",{"$f":"DataEntry!P202","v":{"$error":"#N/A"}},")",","]
["(",null,",",{"$f":"DataEntry!N203","v":0},",",{"$f":"DataEntry!P203","v":{"$error":"#N/A"}},")",","]
["(",null,",",{"$f":"DataEntry!N204","v":0},",",{"$f":"DataEntry!P204","v":{"$error":"#N/A"}},")",","]
["(",null,",",{"$f":"DataEntry!N205","v":0},",",{"$f":"DataEntry!P205","v":{"$error":"#N/A"}},")",","]
["(",null,",",{"$f":"DataEntry!N206","v":0},",",{"$f":"DataEntry!P206","v":{"$error":"#N/A"}},")",","]
["(",null,",",{"$f":"DataEntry!N207","v":0},",",{"$f":"DataEntry!P207","v":{"$error":"#N/A"}},")",","]
["(",null,",",{"$f":"DataEntry!N208","v":0},",",{"$f":"DataEntry!P208","v":{"$error":"#N/A"}},")",","]
["(",null,",",{"$f":"DataEntry!N209","v":0},",",{"$f":"DataEntry!P209","v":{"$error":"#N/A"}},")",","]
["(",null,",",{"$f":"DataEntry!N210","v":0},",",{"$f":"DataEntry!P210","v":{"$error":"#N/A"}},")",","]
["(",null,",",{"$f":"DataEntry!N211","v":0},",",{"$f":"DataEntry!P211","v":{"$error":"#N/A"}},")",","]
["(",null,",",{"$f":"DataEntry!N212","v":0},",",{"$f":"DataEntry!P212","v":{"$error":"#N/A"}},")",","]
["(",null,",",{"$f":"DataEntry!N213","v":0},",",{"$f":"DataEntry!P213","v":{"$error":"#N/A"}},")",","]
["(",null,",",{"$f":"DataEntry!N214","v":0},",",{"$f":"DataEntry!P214","v":{"$error":"#N/A"}},")",","]
["(",null,",",{"$f":"DataEntry!N215","v":0},",",{"$f":"DataEntry!P215","v":{"$error":"#N/A"}},")",","]
["(",null,",",{"$f":"DataEntry!N216","v":0},",",{"$f":"DataEntry!P216","v":{"$error":"#N/A"}},")",","]
["(",null,",",{"$f":"DataEntry!N217","v":0},",",{"$f":"DataEntry!P217","v":{"$error":"#N/A"}},")",","]
["(",null,",",{"$f":"DataEntry!N218","v":0},",",{"$f":"DataEntry!P218","v":{"$error":"#N/A"}},")",","]
["(",null,",",{"$f":"DataEntry!N219","v":0},",",{"$f":"DataEntry!P219","v":{"$error":"#N/A"}},")",","]
["(",null,",",{"$f":"DataEntry!N220","v":0},",",{"$f":"DataEntry!P220","v":{"$error":"#N/A"}},")",","]
["(",null,",",{"$f":"DataEntry!N221","v":0},",",{"$f":"DataEntry!P221","v":{"$error":"#N/A"}},")",","]
["(",null,",",{"$f":"DataEntry!N222","v":0},",",{"$f":"DataEntry!P222","v":{"$error":"#N/A"}},")",","]
["(",null,",",{"$f":"DataEntry!N223","v":0},",",{"$f":"DataEntry!P223","v":{"$error":"#N/A"}},")",","]
["(",null,",",{"$f":"DataEntry!N224","v":0},",",{"$f":"DataEntry!P224","v":{"$error":"#N/A"}},")",","]
["(",null,",",{"$f":"DataEntry!N225","v":0},",",{"$f":"DataEntry!P225","v":{"$error":"#N/A"}},")",","]
["(",null,",",{"$f":"DataEntry!N226","v":0},",",{"$f":"DataEntry!P226","v":{"$error":"#N/A"}},")",","]
["(",null,",",{"$f":"DataEntry!N227","v":0},",",{"$f":"DataEntry!P227","v":{"$error":"#N/A"}},")",","]
["(",null,",",{"$f":"DataEntry!N228","v":0},",",{"$f":"DataEntry!P228","v":{"$error":"#N/A"}},")",","]
["(",null,",",{"$f":"DataEntry!N229","v":0},",",{"$f":"DataEntry!P229","v":{"$error":"#N/A"}},")",","]
["(",null,",",{"$f":"DataEntry!N230","v":0},",",{"$f":"DataEntry!P230","v":{"$error":"#N/A"}},")",","]
["(",null,",",{"$f":"DataEntry!N231","v":0},",",{"$f":"DataEntry!P231","v":{"$error":"#N/A"}},")",","]
["(",null,",",{"$f":"DataEntry!N232","v":0},",",{"$f":"DataEntry!P232","v":{"$error":"#N/A"}},")",","]
["(",null,",",{"$f":"DataEntry!N233","v":0},",",{"$f":"DataEntry!P233","v":{"$error":"#N/A"}},")",","]
["(",null,",",{"$f":"DataEntry!N234","v":0},",",{"$f":"DataEntry!P234","v":{"$error":"#N/A"}},")",","]
["(",null,",",{"$f":"DataEntry!N235","v":0},",",{"$f":"DataEntry!P235","v":{"$error":"#N/A"}},")",","]
["(",null,",",{"$f":"DataEntry!N236","v":0},",",{"$f":"DataEntry!P236","v":{"$error":"#N/A"}},")",","]
["(",null,",",{"$f":"DataEntry!N237","v":0},",",{"$f":"DataEntry!P237","v":{"$error":"#N/A"}},")",","]
["(",null,",",{"$f":"DataEntry!N238","v":0},",",{"$f":"DataEntry!P238","v":{"$error":"#N/A"}},")",","]
["(",null,",",{"$f":"DataEntry!N239","v":0},",",{"$f":"DataEntry!P239","v":{"$error":"#N/A"}},")",","]
["(",null,",",{"$f":"DataEntry!N240","v":0},",",{"$f":"DataEntry!P240","v":{"$error":"#N/A"}},")",","]
["(",null,",",{"$f":"DataEntry!N241","v":0},",",{"$f":"DataEntry!P241","v":{"$error":"#N/A"}},")",","]
["(",null,",",{"$f":"DataEntry!N242","v":0},",",{"$f":"DataEntry!P242","v":{"$error":"#N/A"}},")",","]
["(",null,",",{"$f":"DataEntry!N243","v":0},",",{"$f":"DataEntry!P243","v":{"$error":"#N/A"}},")",","]
["(",null,",",{"$f":"DataEntry!N244","v":0},",",{"$f":"DataEntry!P244","v":{"$error":"#N/A"}},")",","]
["(",null,",",{"$f":"DataEntry!N245","v":0},",",{"$f":"DataEntry!P245","v":{"$error":"#N/A"}},")",","]
["(",null,",",{"$f":"DataEntry!N246","v":0},",",{"$f":"DataEntry!P246","v":{"$error":"#N/A"}},")",","]
["(",null,",",{"$f":"DataEntry!N247","v":0},",",{"$f":"DataEntry!P247","v":{"$error":"#N/A"}},")",","]
["(",null,",",{"$f":"DataEntry!N248","v":0},",",{"$f":"DataEntry!P248","v":{"$error":"#N/A"}},")",","]
["(",null,",",{"$f":"DataEntry!N249","v":0},",",{"$f":"DataEntry!P249","v":{"$error":"#N/A"}},")",","]
["(",null,",",{"$f":"DataEntry!N250","v":0},",",{"$f":"DataEntry!P250","v":{"$error":"#N/A"}},")",","]
["(",null,",",{"$f":"DataEntry!N251","v":0},",",{"$f":"DataEntry!P251","v":{"$error":"#N/A"}},")",","]
["(",null,",",{"$f":"DataEntry!N252","v":0},",",{"$f":"DataEntry!P252","v":{"$error":"#N/A"}},")",","]
["(",null,",",{"$f":"DataEntry!N253","v":0},",",{"$f":"DataEntry!P253","v":{"$error":"#N/A"}},")",","]
["(",null,",",{"$f":"DataEntry!N254","v":0},",",{"$f":"DataEntry!P254","v":{"$error":"#N/A"}},")",","]
["(",null,",",{"$f":"DataEntry!N255","v":0},",",{"$f":"DataEntry!P255","v":{"$error":"#N/A"}},")",","]
["(",null,",",{"$f":"DataEntry!N256","v":0},",",{"$f":"DataEntry!P256","v":{"$error":"#N/A"}},")",","]
["(",null,",",{"$f":"DataEntry!N257","v":0},",",{"$f":"DataEntry!P257","v":{"$error":"#N/A"}},")",","]
["(",null,",",{"$f":"DataEntry!N258","v":0},",",{"$f":"DataEntry!P258","v":{"$error":"#N/A"}},")",","]
["(",null,",",{"$f":"DataEntry!N259","v":0},",",{"$f":"DataEntry!P259","v":{"$error":"#N/A"}},")",","]
["(",null,",",{"$f":"DataEntry!N260","v":0},",",{"$f":"DataEntry!P260","v":{"$error":"#N/A"}},")",","]
["(",null,",",{"$f":"DataEntry!N261","v":0},",",{"$f":"DataEntry!P261","v":{"$error":"#N/A"}},")",","]
["(",null,",",{"$f":"DataEntry!N262","v":0},",",{"$f":"DataEntry!P262","v":{"$error":"#N/A"}},")",","]
["(",null,",",{"$f":"DataEntry!N263","v":0},",",{"$f":"DataEntry!P263","v":{"$error":"#N/A"}},")",","]
["(",null,",",{"$f":"DataEntry!N264","v":0},",",{"$f":"DataEntry!P264","v":{"$error":"#N/A"}},")",","]
["(",null,",",{"$f":"DataEntry!N265","v":0},",",{"$f":"DataEntry!P265","v":{"$error":"#N/A"}},")",","]
["(",null,",",{"$f":"DataEntry!N266","v":0},",",{"$f":"DataEntry!P266","v":{"$error":"#N/A"}},")",","]
["(",null,",",{"$f":"DataEntry!N267","v":0},",",{"$f":"DataEntry!P267","v":{"$error":"#N/A"}},")",","]
["(",null,",",{"$f":"DataEntry!N268","v":0},",",{"$f":"DataEntry!P268","v":{"$error":"#N/A"}},")",","]
["(",null,",",{"$f":"DataEntry!N269","v":0},",",{"$f":"DataEntry!P269","v":{"$error":"#N/A"}},")",","]
["(",null,",",{"$f":"DataEntry!N270","v":0},",",{"$f":"DataEntry!P270","v":{"$error":"#N/A"}},")",","]
["(",null,",",{"$f":"DataEntry!N271","v":0},",",{"$f":"DataEntry!P271","v":{"$error":"#N/A"}},")",","]
["(",null,",",{"$f":"DataEntry!N272","v":0},",",{"$f":"DataEntry!P272","v":{"$error":"#N/A"}},")",","]
["(",null,",",{"$f":"DataEntry!N273","v":0},",",{"$f":"DataEntry!P273","v":{"$error":"#N/A"}},")",","]
["(",null,",",{"$f":"DataEntry!N274","v":0},",",{"$f":"DataEntry!P274","v":{"$error":"#N/A"}},")",","]
["(",null,",",{"$f":"DataEntry!N275","v":0},",",{"$f":"DataEntry!P275","v":{"$error":"#N/A"}},")",","]
["(",null,",",{"$f":"DataEntry!N276","v":0},",",{"$f":"DataEntry!P276","v":{"$error":"#N/A"}},")",","]
["(",null,",",{"$f":"DataEntry!N277","v":0},",",{"$f":"DataEntry!P277","v":{"$error":"#N/A"}},")",","]
["(",null,",",{"$f":"DataEntry!N278","v":0},",",{"$f":"DataEntry!P278","v":{"$error":"#N/A"}},")",","]
["(",null,",",{"$f":"DataEntry!N279","v":0},",",{"$f":"DataEntry!P279","v":{"$error":"#N/A"}},")",","]
["(",null,",",{"$f":"DataEntry!N280","v":0},",",{"$f":"DataEntry!P280","v":{"$error":"#N/A"}},")",","]
["(",null,",",{"$f":"DataEntry!N281","v":0},",",{"$f":"DataEntry!P281","v":{"$error":"#N/A"}},")",","]
["(",null,",",{"$f":"DataEntry!N282","v":0},",",{"$f":"DataEntry!P282","v":{"$error":"#N/A"}},")",","]
["(",null,",",{"$f":"DataEntry!N283","v":0},",",{"$f":"DataEntry!P283","v":{"$error":"#N/A"}},")",","]
["(",null,",",{"$f":"DataEntry!N284","v":0},",",{"$f":"DataEntry!P284","v":{"$error":"#N/A"}},")",","]
["(",null,",",{"$f":"DataEntry!N285","v":0},",",{"$f":"DataEntry!P285","v":{"$error":"#N/A"}},")",","]
["(",null,",",{"$f":"DataEntry!N286","v":0},",",{"$f":"DataEntry!P286","v":{"$error":"#N/A"}},")",","]
["(",null,",",{"$f":"DataEntry!N287","v":0},",",{"$f":"DataEntry!P287","v":{"$error":"#N/A"}},")",","]
["(",null,",",{"$f":"DataEntry!N288","v":0},",",{"$f":"DataEntry!P288","v":{"$error":"#N/A"}},")",","]
["(",null,",",{"$f":"DataEntry!N289","v":0},",",{"$f":"DataEntry!P289","v":{"$error":"#N/A"}},")",","]
["(",null,",",{"$f":"DataEntry!N290","v":0},",",{"$f":"DataEntry!P290","v":{"$error":"#N/A"}},")",","]
["(",null,",",{"$f":"DataEntry!N291","v":0},",",{"$f":"DataEntry!P291","v":{"$error":"#N/A"}},")",","]
["(",null,",",{"$f":"DataEntry!N292","v":0},",",{"$f":"DataEntry!P292","v":{"$error":"#N/A"}},")",","]
["(",null,",",{"$f":"DataEntry!N293","v":0},",",{"$f":"DataEntry!P293","v":{"$error":"#N/A"}},")",","]
["(",null,",",{"$f":"DataEntry!N294","v":0},",",{"$f":"DataEntry!P294","v":{"$error":"#N/A"}},")",","]
["(",null,",",{"$f":"DataEntry!N295","v":0},",",{"$f":"DataEntry!P295","v":{"$error":"#N/A"}},")",","]
["(",null,",",{"$f":"DataEntry!N296","v":0},",",{"$f":"DataEntry!P296","v":{"$error":"#N/A"}},")",","]
["(",null,",",{"$f":"DataEntry!N297","v":0},",",{"$f":"DataEntry!P297","v":{"$error":"#N/A"}},")",","]
["(",null,",",{"$f":"DataEntry!N298","v":0},",",{"$f":"DataEntry!P298","v":{"$error":"#N/A"}},")",","]
["(",null,",",{"$f":"DataEntry!N299","v":0},",",{"$f":"DataEntry!P299","v":{"$error":"#N/A"}},")",","]
["(",null,",",{"$f":"DataEntry!N300","v":0},",",{"$f":"DataEntry!P300","v":{"$error":"#N/A"}},")",","]
["(",null,",",{"$f":"DataEntry!N301","v":0},",",{"$f":"DataEntry!P301","v":{"$error":"#N/A"}},")",","]
["(",null,",",{"$f":"DataEntry!N302","v":0},",",{"$f":"DataEntry!P302","v":{"$error":"#N/A"}},")",","]
["(",null,",",{"$f":"DataEntry!N303","v":0},",",{"$f":"DataEntry!P303","v":{"$error":"#N/A"}},")",","]
["(",null,",",{"$f":"DataEntry!N304","v":0},",",{"$f":"DataEntry!P304","v":{"$error":"#N/A"}},")",","]
["(",null,",",{"$f":"DataEntry!N305","v":0},",",{"$f":"DataEntry!P305","v":{"$error":"#N/A"}},")",","]
["(",null,",",{"$f":"DataEntry!N306","v":0},",",{"$f":"DataEntry!P306","v":{"$error":"#N/A"}},")",","]
["(",null,",",{"$f":"DataEntry!N307","v":0},",",{"$f":"DataEntry!P307","v":{"$error":"#N/A"}},")",","]
["(",null,",",{"$f":"DataEntry!N308","v":0},",",{"$f":"DataEntry!P308","v":{"$error":"#N/A"}},")",","]
["(",null,",",{"$f":"DataEntry!N309","v":0},",",{"$f":"DataEntry!P309","v":{"$error":"#N/A"}},")",","]
["(",null,",",{"$f":"DataEntry!N310","v":0},",",{"$f":"DataEntry!P310","v":{"$error":"#N/A"}},")",","]
["(",null,",",{"$f":"DataEntry!N311","v":0},",",{"$f":"DataEntry!P311","v":{"$error":"#N/A"}},")",","]
["(",null,",",{"$f":"DataEntry!N312","v":0},",",{"$f":"DataEntry!P312","v":{"$error":"#N/A"}},")",","]
["(",null,",",{"$f":"DataEntry!N313","v":0},",",{"$f":"DataEntry!P313","v":{"$error":"#N/A"}},")",","]
["(",null,",",{"$f":"DataEntry!N314","v":0},",",{"$f":"DataEntry!P314","v":{"$error":"#N/A"}},")",","]
["(",null,",",{"$f":"DataEntry!N315","v":0},",",{"$f":"DataEntry!P315","v":{"$error":"#N/A"}},")",","]
["(",null,",",{"$f":"DataEntry!N316","v":0},",",{"$f":"DataEntry!P316","v":{"$error":"#N/A"}},")",","]
["(",null,",",{"$f":"DataEntry!N317","v":0},",",{"$f":"DataEntry!P317","v":{"$error":"#N/A"}},")",","]
["(",null,",",{"$f":"DataEntry!N318","v":0},",",{"$f":"DataEntry!P318","v":{"$error":"#N/A"}},")",","]
["(",null,",",{"$f":"DataEntry!N319","v":0},",",{"$f":"DataEntry!P319","v":{"$error":"#N/A"}},")",","]
["(",null,",",{"$f":"DataEntry!N320","v":0},",",{"$f":"DataEntry!P320","v":{"$error":"#N/A"}},")",","]
["(",null,",",{"$f":"DataEntry!N321","v":0},",",{"$f":"DataEntry!P321","v":{"$error":"#N/A"}},")",","]
["(",null,",",{"$f":"DataEntry!N322","v":0},",",{"$f":"DataEntry!P322","v":{"$error":"#N/A"}},")",","]
["(",null,",",{"$f":"DataEntry!N323","v":0},",",{"$f":"DataEntry!P323","v":{"$error":"#N/A"}},")",","]
["(",null,",",{"$f":"DataEntry!N324","v":0},",",{"$f":"DataEntry!P324","v":{"$error":"#N/A"}},")",","]
["(",null,",",{"$f":"DataEntry!N325","v":0},",",{"$f":"DataEntry!P325","v":{"$error":"#N/A"}},")",","]
["(",null,",",{"$f":"DataEntry!N326","v":0},",",{"$f":"DataEntry!P326","v":{"$error":"#N/A"}},")",","]
["(",null,",",{"$f":"DataEntry!N327","v":0},",",{"$f":"DataEntry!P327","v":{"$error":"#N/A"}},")",","]
["(",null,",",{"$f":"DataEntry!N328","v":0},",",{"$f":"DataEntry!P328","v":{"$error":"#N/A"}},")",","]
["(",null,",",{"$f":"DataEntry!N329","v":0},",",{"$f":"DataEntry!P329","v":{"$error":"#N/A"}},")",","]
["(",null,",",{"$f":"DataEntry!N330","v":0},",",{"$f":"DataEntry!P330","v":{"$error":"#N/A"}},")",","]
["(",null,",",{"$f":"DataEntry!N331","v":0},",",{"$f":"DataEntry!P331","v":{"$error":"#N/A"}},")",","]
["(",null,",",{"$f":"DataEntry!N332","v":0},",",{"$f":"DataEntry!P332","v":{"$error":"#N/A"}},")",","]
["(",null,",",{"$f":"DataEntry!N333","v":0},",",{"$f":"DataEntry!P333","v":{"$error":"#N/A"}},")",","]
["(",null,",",{"$f":"DataEntry!N334","v":0},",",{"$f":"DataEntry!P334","v":{"$error":"#N/A"}},")",","]
["(",null,",",{"$f":"DataEntry!N335","v":0},",",{"$f":"DataEntry!P335","v":{"$error":"#N/A"}},")",","]
["(",null,",",{"$f":"DataEntry!N336","v":0},",",{"$f":"DataEntry!P336","v":{"$error":"#N/A"}},")",","]
["(",null,",",{"$f":"DataEntry!N337","v":0},",",{"$f":"DataEntry!P337","v":{"$error":"#N/A"}},")",","]
["(",null,",",{"$f":"DataEntry!N338","v":0},",",{"$f":"DataEntry!P338","v":{"$error":"#N/A"}},")",","]
["(",null,",",{"$f":"DataEntry!N339","v":0},",",{"$f":"DataEntry!P339","v":{"$error":"#N/A"}},")",","]
["(",null,",",{"$f":"DataEntry!N340","v":0},",",{"$f":"DataEntry!P340","v":{"$error":"#N/A"}},")",","]
["(",null,",",{"$f":"DataEntry!N341","v":0},",",{"$f":"DataEntry!P341","v":{"$error":"#N/A"}},")",","]
["(",null,",",{"$f":"DataEntry!N342","v":0},",",{"$f":"DataEntry!P342","v":{"$error":"#N/A"}},")",","]
["(",null,",",{"$f":"DataEntry!N343","v":0},",",{"$f":"DataEntry!P343","v":{"$error":"#N/A"}},")",","]
["(",null,",",{"$f":"DataEntry!N344","v":0},",",{"$f":"DataEntry!P344","v":{"$error":"#N/A"}},")",","]
["(",null,",",{"$f":"DataEntry!N345","v":0},",",{"$f":"DataEntry!P345","v":{"$error":"#N/A"}},")",","]
["(",null,",",{"$f":"DataEntry!N346","v":0},",",{"$f":"DataEntry!P346","v":{"$error":"#N/A"}},")",","]
["(",null,",",{"$f":"DataEntry!N347","v":0},",",{"$f":"DataEntry!P347","v":{"$error":"#N/A"}},")",","]
["(",null,",",{"$f":"DataEntry!N348","v":0},",",{"$f":"DataEntry!P348","v":{"$error":"#N/A"}},")",","]
["(",null,",",{"$f":"DataEntry!N349","v":0},",",{"$f":"DataEntry!P349","v":{"$error":"#N/A"}},")",","]
["(",null,",",{"$f":"DataEntry!N350","v":0},",",{"$f":"DataEntry!P350","v":{"$error":"#N/A"}},")",","]
["(",null,",",{"$f":"DataEntry!N351","v":0},",",{"$f":"DataEntry!P351","v":{"$error":"#N/A"}},")",","]
["(",null,",",{"$f":"DataEntry!N352","v":0},",",{"$f":"DataEntry!P352","v":{"$error":"#N/A"}},")",","]
["(",null,",",{"$f":"DataEntry!N353","v":0},",",{"$f":"DataEntry!P353","v":{"$error":"#N/A"}},")",","]
["(",null,",",{"$f":"DataEntry!N354","v":0},",",{"$f":"DataEntry!P354","v":{"$error":"#N/A"}},")",","]
["(",null,",",{"$f":"DataEntry!N355","v":0},",",{"$f":"DataEntry!P355","v":{"$error":"#N/A"}},")",","]
["(",null,",",{"$f":"DataEntry!N356","v":0},",",{"$f":"DataEntry!P356","v":{"$error":"#N/A"}},")",","]
["(",null,",",{"$f":"DataEntry!N357","v":0},",",{"$f":"DataEntry!P357","v":{"$error":"#N/A"}},")",","]
["(",null,",",{"$f":"DataEntry!N358","v":0},",",{"$f":"DataEntry!P358","v":{"$error":"#N/A"}},")",","]
["(",null,",",{"$f":"DataEntry!N359","v":0},",",{"$f":"DataEntry!P359","v":{"$error":"#N/A"}},")",","]
["(",null,",",{"$f":"DataEntry!N360","v":0},",",{"$f":"DataEntry!P360","v":{"$error":"#N/A"}},")",","]
["(",null,",",{"$f":"DataEntry!N361","v":0},",",{"$f":"DataEntry!P361","v":{"$error":"#N/A"}},")",","]
["(",null,",",{"$f":"DataEntry!N362","v":0},",",{"$f":"DataEntry!P362","v":{"$error":"#N/A"}},")",","]
["(",null,",",{"$f":"DataEntry!N363","v":0},",",{"$f":"DataEntry!P363","v":{"$error":"#N/A"}},")",","]
["(",null,",",{"$f":"DataEntry!N364","v":0},",",{"$f":"DataEntry!P364","v":{"$error":"#N/A"}},")",","]
["(",null,",",{"$f":"DataEntry!N365","v":0},",",{"$f":"DataEntry!P365","v":{"$error":"#N/A"}},")",","]
["(",null,",",{"$f":"DataEntry!N366","v":0},",",{"$f":"DataEntry!P366","v":{"$error":"#N/A"}},")",","]
["(",null,",",{"$f":"DataEntry!N367","v":0},",",{"$f":"DataEntry!P367","v":{"$error":"#N/A"}},")",","]
["(",null,",",{"$f":"DataEntry!N368","v":0},",",{"$f":"DataEntry!P368","v":{"$error":"#N/A"}},")",","]
["(",null,",",{"$f":"DataEntry!N369","v":0},",",{"$f":"DataEntry!P369","v":{"$error":"#N/A"}},")",","]
["(",null,",",{"$f":"DataEntry!N370","v":0},",",{"$f":"DataEntry!P370","v":{"$error":"#N/A"}},")",","]
["(",null,",",{"$f":"DataEntry!N371","v":0},",",{"$f":"DataEntry!P371","v":{"$error":"#N/A"}},")",","]
["(",null,",",{"$f":"DataEntry!N372","v":0},",",{"$f":"DataEntry!P372","v":{"$error":"#N/A"}},")",","]
["(",null,",",{"$f":"DataEntry!N373","v":0},",",{"$f":"DataEntry!P373","v":{"$error":"#N/A"}},")",","]
["(",null,",",{"$f":"DataEntry!N374","v":0},",",{"$f":"DataEntry!P374","v":{"$error":"#N/A"}},")",","]
["(",null,",",{"$f":"DataEntry!N375","v":0},",",{"$f":"DataEntry!P375","v":{"$error":"#N/A"}},")",","]
["(",null,",",{"$f":"DataEntry!N376","v":0},",",{"$f":"DataEntry!P376","v":{"$error":"#N/A"}},")",","]
["(",null,",",{"$f":"DataEntry!N377","v":0},",",{"$f":"DataEntry!P377","v":{"$error":"#N/A"}},")",","]
["(",null,",",{"$f":"DataEntry!N378","v":0},",",{"$f":"DataEntry!P378","v":{"$error":"#N/A"}},")",","]
["(",null,",",{"$f":"DataEntry!N379","v":0},",",{"$f":"DataEntry!P379","v":{"$error":"#N/A"}},")",","]
["(",null,",",{"$f":"DataEntry!N380","v":0},",",{"$f":"DataEntry!P380","v":{"$error":"#N/A"}},")",","]
["(",null,",",{"$f":"DataEntry!N381","v":0},",",{"$f":"DataEntry!P381","v":{"$error":"#N/A"}},")",","]
["(",null,",",{"$f":"DataEntry!N382","v":0},",",{"$f":"DataEntry!P382","v":{"$error":"#N/A"}},")",","]
["(",null,",",{"$f":"DataEntry!N383","v":0},",",{"$f":"DataEntry!P383","v":{"$error":"#N/A"}},")",","]
["(",null,",",{"$f":"DataEntry!N384","v":0},",",{"$f":"DataEntry!P384","v":{"$error":"#N/A"}},")",","]
["(",null,",",{"$f":"DataEntry!N385","v":0},",",{"$f":"DataEntry!P385","v":{"$error":"#N/A"}},")",","]
["(",null,",",{"$f":"DataEntry!N386","v":0},",",{"$f":"DataEntry!P386","v":{"$error":"#N/A"}},")",","]
["(",null,",",{"$f":"DataEntry!N387","v":0},",",{"$f":"DataEntry!P387","v":{"$error":"#N/A"}},")",","]
["(",null,",",{"$f":"DataEntry!N388","v":0},",",{"$f":"DataEntry!P388","v":{"$error":"#N/A"}},")",","]
["(",null,",",{"$f":"DataEntry!N389","v":0},",",{"$f":"DataEntry!P389","v":{"$error":"#N/A"}},")",","]
["(",null,",",{"$f":"DataEntry!N390","v":0},",",{"$f":"DataEntry!P390","v":{"$error":"#N/A"}},")",","]
["(",null,",",{"$f":"DataEntry!N391","v":0},",",{"$f":"DataEntry!P391","v":{"$error":"#N/A"}},")",","]
["(",null,",",{"$f":"DataEntry!N392","v":0},",",{"$f":"DataEntry!P392","v":{"$error":"#N/A"}},")",","]
["(",null,",",{"$f":"DataEntry!N393","v":0},",",{"$f":"DataEntry!P393","v":{"$error":"#N/A"}},")",","]
["(",null,",",{"$f":"DataEntry!N394","v":0},",",{"$f":"DataEntry!P394","v":{"$error":"#N/A"}},")",","]
["(",null,",",{"$f":"DataEntry!N395","v":0},",",{"$f":"DataEntry!P395","v":{"$error":"#N/A"}},")",","]
["(",null,",",{"$f":"DataEntry!N396","v":0},",",{"$f":"DataEntry!P396","v":{"$error":"#N/A"}},")",","]
["(",null,",",{"$f":"DataEntry!N397","v":0},",",{"$f":"DataEntry!P397","v":{"$error":"#N/A"}},")",","]
["(",null,",",{"$f":"DataEntry!N398","v":0},",",{"$f":"DataEntry!P398","v":{"$error":"#N/A"}},")",","]
["(",null,",",{"$f":"DataEntry!N399","v":0},",",{"$f":"DataEntry!P399","v":{"$error":"#N/A"}},")",","]
["(",null,",",{"$f":"DataEntry!N400","v":0},",",{"$f":"DataEntry!P400","v":{"$error":"#N/A"}},")",","]
["(",null,",",{"$f":"DataEntry!N401","v":0},",",{"$f":"DataEntry!P401","v":{"$error":"#N/A"}},")",","]
["(",null,",",{"$f":"DataEntry!N402","v":0},",",{"$f":"DataEntry!P402","v":{"$error":"#N/A"}},")",","]
["(",null,",",{"$f":"DataEntry!N403","v":0},",",{"$f":"DataEntry!P403","v":{"$error":"#N/A"}},")",","]
["(",null,",",{"$f":"DataEntry!N404","v":0},",",{"$f":"DataEntry!P404","v":{"$error":"#N/A"}},")",","]
["(",null,",",{"$f":"DataEntry!N405","v":0},",",{"$f":"DataEntry!P405","v":{"$error":"#N/A"}},")",","]
["(",null,",",{"$f":"DataEntry!N406","v":0},",",{"$f":"DataEntry!P406","v":{"$error":"#N/A"}},")",","]
["(",null,",",{"$f":"DataEntry!N407","v":0},",",{"$f":"DataEntry!P407","v":{"$error":"#N/A"}},")",","]
["(",null,",",{"$f":"DataEntry!N408","v":0},",",{"$f":"DataEntry!P408","v":{"$error":"#N/A"}},")",","]
["(",null,",",{"$f":"DataEntry!N409","v":0},",",{"$f":"DataEntry!P409","v":{"$error":"#N/A"}},")",","]
["(",null,",",{"$f":"DataEntry!N410","v":0},",",{"$f":"DataEntry!P410","v":{"$error":"#N/A"}},")",","]
["(",null,",",{"$f":"DataEntry!N411","v":0},",",{"$f":"DataEntry!P411","v":{"$error":"#N/A"}},")",","]
["(",null,",",{"$f":"DataEntry!N412","v":0},",",{"$f":"DataEntry!P412","v":{"$error":"#N/A"}},")",","]
["(",null,",",{"$f":"DataEntry!N413","v":0},",",{"$f":"DataEntry!P413","v":{"$error":"#N/A"}},")",","]
["(",null,",",{"$f":"DataEntry!N414","v":0},",",{"$f":"DataEntry!P414","v":{"$error":"#N/A"}},")",","]
["(",null,",",{"$f":"DataEntry!N415","v":0},",",{"$f":"DataEntry!P415","v":{"$error":"#N/A"}},")",","]
["(",null,",",{"$f":"DataEntry!N416","v":0},",",{"$f":"DataEntry!P416","v":{"$error":"#N/A"}},")",","]
["(",null,",",{"$f":"DataEntry!N417","v":0},",",{"$f":"DataEntry!P417","v":{"$error":"#N/A"}},")",","]
["(",null,",",{"$f":"DataEntry!N418","v":0},",",{"$f":"DataEntry!P418","v":{"$error":"#N/A"}},")",","]
["(",null,",",{"$f":"DataEntry!N419","v":0},",",{"$f":"DataEntry!P419","v":{"$error":"#N/A"}},")",","]
["(",null,",",{"$f":"DataEntry!N420","v":0},",",{"$f":"DataEntry!P420","v":{"$error":"#N/A"}},")",","]
["(",null,",",{"$f":"DataEntry!N421","v":0},",",{"$f":"DataEntry!P421","v":{"$error":"#N/A"}},")",","]
["(",null,",",{"$f":"DataEntry!N422","v":0},",",{"$f":"DataEntry!P422","v":{"$error":"#N/A"}},")",","]
["(",null,",",{"$f":"DataEntry!N423","v":0},",",{"$f":"DataEntry!P423","v":{"$error":"#N/A"}},")",","]
["(",null,",",{"$f":"DataEntry!N424","v":0},",",{"$f":"DataEntry!P424","v":{"$error":"#N/A"}},")",","]
["(",null,",",{"$f":"DataEntry!N425","v":0},",",{"$f":"DataEntry!P425","v":{"$error":"#N/A"}},")",","]
["(",null,",",{"$f":"DataEntry!N426","v":0},",",{"$f":"DataEntry!P426","v":{"$error":"#N/A"}},")",","]
["(",null,",",{"$f":"DataEntry!N427","v":0},",",{"$f":"DataEntry!P427","v":{"$error":"#N/A"}},")",","]
["(",null,",",{"$f":"DataEntry!N428","v":0},",",{"$f":"DataEntry!P428","v":{"$error":"#N/A"}},")",","]
["(",null,",",{"$f":"DataEntry!N429","v":0},",",{"$f":"DataEntry!P429","v":{"$error":"#N/A"}},")",","]
["(",null,",",{"$f":"DataEntry!N430","v":0},",",{"$f":"DataEntry!P430","v":{"$error":"#N/A"}},")",","]
["(",null,",",{"$f":"DataEntry!N431","v":0},",",{"$f":"DataEntry!P431","v":{"$error":"#N/A"}},")",","]
["(",null,",",{"$f":"DataEntry!N432","v":0},",",{"$f":"DataEntry!P432","v":{"$error":"#N/A"}},")",","]
["(",null,",",{"$f":"DataEntry!N433","v":0},",",{"$f":"DataEntry!P433","v":{"$error":"#N/A"}},")",","]
["(",null,",",{"$f":"DataEntry!N434","v":0},",",{"$f":"DataEntry!P434","v":{"$error":"#N/A"}},")",","]
["(",null,",",{"$f":"DataEntry!N435","v":0},",",{"$f":"DataEntry!P435","v":{"$error":"#N/A"}},")",","]
["(",null,",",{"$f":"DataEntry!N436","v":0},",",{"$f":"DataEntry!P436","v":{"$error":"#N/A"}},")",","]
["(",null,",",{"$f":"DataEntry!N437","v":0},",",{"$f":"DataEntry!P437","v":{"$error":"#N/A"}},")",","]
["(",null,",",{"$f":"DataEntry!N438","v":0},",",{"$f":"DataEntry!P438","v":{"$error":"#N/A"}},")",","]
["(",null,",",{"$f":"DataEntry!N439","v":0},",",{"$f":"DataEntry!P439","v":{"$error":"#N/A"}},")",","]
["(",null,",",{"$f":"DataEntry!N440","v":0},",",{"$f":"DataEntry!P440","v":{"$error":"#N/A"}},")",","]
["(",null,",",{"$f":"DataEntry!N441","v":0},",",{"$f":"DataEntry!P441","v":{"$error":"#N/A"}},")",","]
["(",null,",",{"$f":"DataEntry!N442","v":0},",",{"$f":"DataEntry!P442","v":{"$error":"#N/A"}},")",","]
["(",null,",",{"$f":"DataEntry!N443","v":0},",",{"$f":"DataEntry!P443","v":{"$error":"#N/A"}},")",","]
["(",null,",",{"$f":"DataEntry!N444","v":0},",",{"$f":"DataEntry!P444","v":{"$error":"#N/A"}},")",","]
["(",null,",",{"$f":"DataEntry!N445","v":0},",",{"$f":"DataEntry!P445","v":{"$error":"#N/A"}},")",","]
["(",null,",",{"$f":"DataEntry!N446","v":0},",",{"$f":"DataEntry!P446","v":{"$error":"#N/A"}},")",","]
["(",null,",",{"$f":"DataEntry!N447","v":0},",",{"$f":"DataEntry!P447","v":{"$error":"#N/A"}},")",","]
["(",null,",",{"$f":"DataEntry!N448","v":0},",",{"$f":"DataEntry!P448","v":{"$error":"#N/A"}},")",","]
["(",null,",",{"$f":"DataEntry!N449","v":0},",",{"$f":"DataEntry!P449","v":{"$error":"#N/A"}},")",","]
["(",null,",",{"$f":"DataEntry!N450","v":0},",",{"$f":"DataEntry!P450","v":{"$error":"#N/A"}},")",","]
["(",null,",",{"$f":"DataEntry!N451","v":0},",",{"$f":"DataEntry!P451","v":{"$error":"#N/A"}},")",","]
["(",null,",",{"$f":"DataEntry!N452","v":0},",",{"$f":"DataEntry!P452","v":{"$error":"#N/A"}},")",","]
["(",null,",",{"$f":"DataEntry!N453","v":0},",",{"$f":"DataEntry!P453","v":{"$error":"#N/A"}},")",","]
["(",null,",",{"$f":"DataEntry!N454","v":0},",",{"$f":"DataEntry!P454","v":{"$error":"#N/A"}},")",","]
["(",null,",",{"$f":"DataEntry!N455","v":0},",",{"$f":"DataEntry!P455","v":{"$error":"#N/A"}},")",","]
["(",null,",",{"$f":"DataEntry!N456","v":0},",",{"$f":"DataEntry!P456","v":{"$error":"#N/A"}},")",","]
["(",null,",",{"$f":"DataEntry!N457","v":0},",",{"$f":"DataEntry!P457","v":{"$error":"#N/A"}},")",","]
["(",null,",",{"$f":"DataEntry!N458","v":0},",",{"$f":"DataEntry!P458","v":{"$error":"#N/A"}},")",","]
["(",null,",",{"$f":"DataEntry!N459","v":0},",",{"$f":"DataEntry!P459","v":{"$error":"#N/A"}},")",","]
["(",null,",",{"$f":"DataEntry!N460","v":0},",",{"$f":"DataEntry!P460","v":{"$error":"#N/A"}},")",","]
["(",null,",",{"$f":"DataEntry!N461","v":0},",",{"$f":"DataEntry!P461","v":{"$error":"#N/A"}},")",","]
["(",null,",",{"$f":"DataEntry!N462","v":0},",",{"$f":"DataEntry!P462","v":{"$error":"#N/A"}},")",","]
["(",null,",",{"$f":"DataEntry!N463","v":0},",",{"$f":"DataEntry!P463","v":{"$error":"#N/A"}},")",","]
["(",null,",",{"$f":"DataEntry!N464","v":0},",",{"$f":"DataEntry!P464","v":{"$error":"#N/A"}},")",","]
["(",null,",",{"$f":"DataEntry!N465","v":0},",",{"$f":"DataEntry!P465","v":{"$error":"#N/A"}},")",","]
["(",null,",",{"$f":"DataEntry!N466","v":0},",",{"$f":"DataEntry!P466","v":{"$error":"#N/A"}},")",","]
["(",null,",",{"$f":"DataEntry!N467","v":0},",",{"$f":"DataEntry!P467","v":{"$error":"#N/A"}},")",","]
["(",null,",",{"$f":"DataEntry!N468","v":0},",",{"$f":"DataEntry!P468","v":{"$error":"#N/A"}},")",","]
["(",null,",",{"$f":"DataEntry!N469","v":0},",",{"$f":"DataEntry!P469","v":{"$error":"#N/A"}},")",","]
["(",null,",",{"$f":"DataEntry!N470","v":0},",",{"$f":"DataEntry!P470","v":{"$error":"#N/A"}},")",","]
["(",null,",",{"$f":"DataEntry!N471","v":0},",",{"$f":"DataEntry!P471","v":{"$error":"#N/A"}},")",","]
["(",null,",",{"$f":"DataEntry!N472","v":0},",",{"$f":"DataEntry!P472","v":{"$error":"#N/A"}},")",","]
["(",null,",",{"$f":"DataEntry!N473","v":0},",",{"$f":"DataEntry!P473","v":{"$error":"#N/A"}},")",","]
["(",null,",",{"$f":"DataEntry!N474","v":0},",",{"$f":"DataEntry!P474","v":{"$error":"#N/A"}},")",","]
["(",null,",",{"$f":"DataEntry!N475","v":0},",",{"$f":"DataEntry!P475","v":{"$error":"#N/A"}},")",","]
["(",null,",",{"$f":"DataEntry!N476","v":0},",",{"$f":"DataEntry!P476","v":{"$error":"#N/A"}},")",","]
["(",null,",",{"$f":"DataEntry!N477","v":0},",",{"$f":"DataEntry!P477","v":{"$error":"#N/A"}},")",","]
["(",null,",",{"$f":"DataEntry!N478","v":0},",",{"$f":"DataEntry!P478","v":{"$error":"#N/A"}},")",","]
["(",null,",",{"$f":"DataEntry!N479","v":0},",",{"$f":"DataEntry!P479","v":{"$error":"#N/A"}},")",","]
["(",null,",",{"$f":"DataEntry!N480","v":0},",",{"$f":"DataEntry!P480","v":{"$error":"#N/A"}},")",","]
["(",null,",",{"$f":"DataEntry!N481","v":0},",",{"$f":"DataEntry!P481","v":{"$error":"#N/A"}},")",","]
["(",null,",",{"$f":"DataEntry!N482","v":0},",",{"$f":"DataEntry!P482","v":{"$error":"#N/A"}},")",","]
["(",null,",",{"$f":"DataEntry!N483","v":0},",",{"$f":"DataEntry!P483","v":{"$error":"#N/A"}},")",","]
["(",null,",",{"$f":"DataEntry!N484","v":0},",",{"$f":"DataEntry!P484","v":{"$error":"#N/A"}},")",","]
["(",null,",",{"$f":"DataEntry!N485","v":0},",",{"$f":"DataEntry!P485","v":{"$error":"#N/A"}},")",","]
["(",null,",",{"$f":"DataEntry!N486","v":0},",",{"$f":"DataEntry!P486","v":{"$error":"#N/A"}},")",","]
["(",null,",",{"$f":"DataEntry!N487","v":0},",",{"$f":"DataEntry!P487","v":{"$error":"#N/A"}},")",","]
["(",null,",",{"$f":"DataEntry!N488","v":0},",",{"$f":"DataEntry!P488","v":{"$error":"#N/A"}},")",","]
["(",null,",",{"$f":"DataEntry!N489","v":0},",",{"$f":"DataEntry!P489","v":{"$error":"#N/A"}},")",","]
["(",null,",",{"$f":"DataEntry!N490","v":0},",",{"$f":"DataEntry!P490","v":{"$error":"#N/A"}},")",","]
["(",null,",",{"$f":"DataEntry!N491","v":0},",",{"$f":"DataEntry!P491","v":{"$error":"#N/A"}},")",","]
["(",null,",",{"$f":"DataEntry!N492","v":0},",",{"$f":"DataEntry!P492","v":{"$error":"#N/A"}},")",","]
["(",null,",",{"$f":"DataEntry!N493","v":0},",",{"$f":"DataEntry!P493","v":{"$error":"#N/A"}},")",","]
["(",null,",",{"$f":"DataEntry!N494","v":0},",",{"$f":"DataEntry!P494","v":{"$error":"#N/A"}},")",","]
["(",null,",",{"$f":"DataEntry!N495","v":0},",",{"$f":"DataEntry!P495","v":{"$error":"#N/A"}},")",","]
["(",null,",",{"$f":"DataEntry!N496","v":0},",",{"$f":"DataEntry!P496","v":{"$error":"#N/A"}},")",","]
["(",null,",",{"$f":"DataEntry!N497","v":0},",",{"$f":"DataEntry!P497","v":{"$error":"#N/A"}},")",","]
["(",null,",",{"$f":"DataEntry!N498","v":0},",",{"$f":"DataEntry!P498","v":{"$error":"#N/A"}},")",","]
["(",null,",",{"$f":"DataEntry!N499","v":0},",",{"$f":"DataEntry!P499","v":{"$error":"#N/A"}},")",","]
["(",null,",",{"$f":"DataEntry!N500","v":0},",",{"$f":"DataEntry!P500","v":{"$error":"#N/A"}},")",","]
["(",null,",",{"$f":"DataEntry!N501","v":0},",",{"$f":"DataEntry!P501","v":{"$error":"#N/A"}},")",","]
["(",null,",",{"$f":"DataEntry!N502","v":0},",",{"$f":"DataEntry!P502","v":{"$error":"#N/A"}},")",","]
["(",null,",",{"$f":"DataEntry!N503","v":0},",",{"$f":"DataEntry!P503","v":{"$error":"#N/A"}},")",","]
["(",null,",",{"$f":"DataEntry!N504","v":0},",",{"$f":"DataEntry!P504","v":{"$error":"#N/A"}},")",","]
["(",null,",",{"$f":"DataEntry!N505","v":0},",",{"$f":"DataEntry!P505","v":{"$error":"#N/A"}},")",","]
["(",null,",",{"$f":"DataEntry!N506","v":0},",",{"$f":"DataEntry!P506","v":{"$error":"#N/A"}},")",","]
["(",null,",",{"$f":"DataEntry!N507","v":0},",",{"$f":"DataEntry!P507","v":{"$error":"#N/A"}},")",","]
["(",null,",",{"$f":"DataEntry!N508","v":0},",",{"$f":"DataEntry!P508","v":{"$error":"#N/A"}},")",","]
["(",null,",",{"$f":"DataEntry!N509","v":0},",",{"$f":"DataEntry!P509","v":{"$error":"#N/A"}},")",","]
["(",null,",",{"$f":"DataEntry!N510","v":0},",",{"$f":"DataEntry!P510","v":{"$error":"#N/A"}},")",","]
["(",null,",",{"$f":"DataEntry!N511","v":0},",",{"$f":"DataEntry!P511","v":{"$error":"#N/A"}},")",","]
["(",null,",",{"$f":"DataEntry!N512","v":0},",",{"$f":"DataEntry!P512","v":{"$error":"#N/A"}},")",","]
["(",null,",",{"$f":"DataEntry!N513","v":0},",",{"$f":"DataEntry!P513","v":{"$error":"#N/A"}},")",","]
["(",null,",",{"$f":"DataEntry!N514","v":0},",",{"$f":"DataEntry!P514","v":{"$error":"#N/A"}},")",","]
["(",null,",",{"$f":"DataEntry!N515","v":0},",",{"$f":"DataEntry!P515","v":{"$error":"#N/A"}},")",","]
["(",null,",",{"$f":"DataEntry!N516","v":0},",",{"$f":"DataEntry!P516","v":{"$error":"#N/A"}},")",","]
["(",null,",",{"$f":"DataEntry!N517","v":0},",",{"$f":"DataEntry!P517","v":{"$error":"#N/A"}},")",","]
["(",null,",",{"$f":"DataEntry!N518","v":0},",",{"$f":"DataEntry!P518","v":{"$error":"#N/A"}},")",","]
["(",null,",",{"$f":"DataEntry!N519","v":0},",",{"$f":"DataEntry!P519","v":{"$error":"#N/A"}},")",","]
["(",null,",",{"$f":"DataEntry!N520","v":0},",",{"$f":"DataEntry!P520","v":{"$error":"#N/A"}},")",","]
["(",null,",",{"$f":"DataEntry!N521","v":0},",",{"$f":"DataEntry!P521","v":{"$error":"#N/A"}},")",","]
["(",null,",",{"$f":"DataEntry!N522","v":0},",",{"$f":"DataEntry!P522","v":{"$error":"#N/A"}},")",","]
["(",null,",",{"$f":"DataEntry!N523","v":0},",",{"$f":"DataEntry!P523","v":{"$error":"#N/A"}},")",","]
["(",null,",",{"$f":"DataEntry!N524","v":0},",",{"$f":"DataEntry!P524","v":{"$error":"#N/A"}},")",","]
["(",null,",",{"$f":"DataEntry!N525","v":0},",",{"$f":"DataEntry!P525","v":{"$error":"#N/A"}},")",","]
["(",null,",",{"$f":"DataEntry!N526","v":0},",",{"$f":"DataEntry!P526","v":{"$error":"#N/A"}},")",","]
["(",null,",",{"$f":"DataEntry!N527","v":0},",",{"$f":"DataEntry!P527","v":{"$error":"#N/A"}},")",","]
["(",null,",",{"$f":"DataEntry!N528","v":0},",",{"$f":"DataEntry!P528","v":{"$error":"#N/A"}},")",","]
["(",null,",",{"$f":"DataEntry!N529","v":0},",",{"$f":"DataEntry!P529","v":{"$error":"#N/A"}},")",","]
["(",null,",",{"$f":"DataEntry!N530","v":0},",",{"$f":"DataEntry!P530","v":{"$error":"#N/A"}},")",","]
["(",null,",",{"$f":"DataEntry!N531","v":0},",",{"$f":"DataEntry!P531","v":{"$error":"#N/A"}},")",","]
["(",null,",",{"$f":"DataEntry!N532","v":0},",",{"$f":"DataEntry!P532","v":{"$error":"#N/A"}},")",","]
["(",null,",",{"$f":"DataEntry!N533","v":0},",",{"$f":"DataEntry!P533","v":{"$error":"#N/A"}},")",","]
["(",null,",",{"$f":"DataEntry!N534","v":0},",",{"$f":"DataEntry!P534","v":{"$error":"#N/A"}},")",","]
["(",null,",",{"$f":"DataEntry!N535","v":0},",",{"$f":"DataEntry!P535","v":{"$error":"#N/A"}},")",","]
["(",null,",",{"$f":"DataEntry!N536","v":0},",",{"$f":"DataEntry!P536","v":{"$error":"#N/A"}},")",","]
["(",null,",",{"$f":"DataEntry!N537","v":0},",",{"$f":"DataEntry!P537","v":{"$error":"#N/A"}},")",","]
["(",null,",",{"$f":"DataEntry!N538","v":0},",",{"$f":"DataEntry!P538","v":{"$error":"#N/A"}},")",","]
["(",null,",",{"$f":"DataEntry!N539","v":0},",",{"$f":"DataEntry!P539","v":{"$error":"#N/A"}},")",","]
["(",null,",",{"$f":"DataEntry!N540","v":0},",",{"$f":"DataEntry!P540","v":{"$error":"#N/A"}},")",","]
["(",null,",",{"$f":"DataEntry!N541","v":0},",",{"$f":"DataEntry!P541","v":{"$error":"#N/A"}},")",","]
["(",null,",",{"$f":"DataEntry!N542","v":0},",",{"$f":"DataEntry!P542","v":{"$error":"#N/A"}},")",","]
["(",null,",",{"$f":"DataEntry!N543","v":0},",",{"$f":"DataEntry!P543","v":{"$error":"#N/A"}},")",","]
["(",null,",",{"$f":"DataEntry!N544","v":0},",",{"$f":"DataEntry!P544","v":{"$error":"#N/A"}},")",","]
["(",null,",",{"$f":"DataEntry!N545","v":0},",",{"$f":"DataEntry!P545","v":{"$error":"#N/A"}},")",","]
["(",null,",",{"$f":"DataEntry!N546","v":0},",",{"$f":"DataEntry!P546","v":{"$error":"#N/A"}},")",","]
["(",null,",",{"$f":"DataEntry!N547","v":0},",",{"$f":"DataEntry!P547","v":{"$error":"#N/A"}},")",","]
["(",null,",",{"$f":"DataEntry!N548","v":0},",",{"$f":"DataEntry!P548","v":{"$error":"#N/A"}},")",","]
["(",null,",",{"$f":"DataEntry!N549","v":0},",",{"$f":"DataEntry!P549","v":{"$error":"#N/A"}},")",","]
["(",null,",",{"$f":"DataEntry!N550","v":0},",",{"$f":"DataEntry!P550","v":{"$error":"#N/A"}},")",","]
["(",null,",",{"$f":"DataEntry!N551","v":0},",",{"$f":"DataEntry!P551","v":{"$error":"#N/A"}},")",","]
["(",null,",",{"$f":"DataEntry!N552","v":0},",",{"$f":"DataEntry!P552","v":{"$error":"#N/A"}},")",","]
["(",null,",",{"$f":"DataEntry!N553","v":0},",",{"$f":"DataEntry!P553","v":{"$error":"#N/A"}},")",","]
["(",null,",",{"$f":"DataEntry!N554","v":0},",",{"$f":"DataEntry!P554","v":{"$error":"#N/A"}},")",","]
["(",null,",",{"$f":"DataEntry!N555","v":0},",",{"$f":"DataEntry!P555","v":{"$error":"#N/A"}},")",","]
["(",null,",",{"$f":"DataEntry!N556","v":0},",",{"$f":"DataEntry!P556","v":{"$error":"#N/A"}},")",","]
["(",null,",",{"$f":"DataEntry!N557","v":0},",",{"$f":"DataEntry!P557","v":{"$error":"#N/A"}},")",","]
["(",null,",",{"$f":"DataEntry!N558","v":0},",",{"$f":"DataEntry!P558","v":{"$error":"#N/A"}},")",","]
["(",null,",",{"$f":"DataEntry!N559","v":0},",",{"$f":"DataEntry!P559","v":{"$error":"#N/A"}},")",","]
["(",null,",",{"$f":"DataEntry!N560","v":0},",",{"$f":"DataEntry!P560","v":{"$error":"#N/A"}},")",","]
["(",null,",",{"$f":"DataEntry!N561","v":0},",",{"$f":"DataEntry!P561","v":{"$error":"#N/A"}},")",","]
["(",null,",",{"$f":"DataEntry!N562","v":0},",",{"$f":"DataEntry!P562","v":{"$error":"#N/A"}},")",","]
["(",null,",",{"$f":"DataEntry!N563","v":0},",",{"$f":"DataEntry!P563","v":{"$error":"#N/A"}},")",","]
["(",null,",",{"$f":"DataEntry!N564","v":0},",",{"$f":"DataEntry!P564","v":{"$error":"#N/A"}},")",","]
["(",null,",",{"$f":"DataEntry!N565","v":0},",",{"$f":"DataEntry!P565","v":{"$error":"#N/A"}},")",","]
["(",null,",",{"$f":"DataEntry!N566","v":0},",",{"$f":"DataEntry!P566","v":{"$error":"#N/A"}},")",","]
["(",null,",",{"$f":"DataEntry!N567","v":0},",",{"$f":"DataEntry!P567","v":{"$error":"#N/A"}},")",","]
["(",null,",",{"$f":"DataEntry!N568","v":0},",",{"$f":"DataEntry!P568","v":{"$error":"#N/A"}},")",","]
["(",null,",",{"$f":"DataEntry!N569","v":0},",",{"$f":"DataEntry!P569","v":{"$error":"#N/A"}},")",","]
["(",null,",",{"$f":"DataEntry!N570","v":0},",",{"$f":"DataEntry!P570","v":{"$error":"#N/A"}},")",","]
["(",null,",",{"$f":"DataEntry!N571","v":0},",",{"$f":"DataEntry!P571","v":{"$error":"#N/A"}},")",","]
["(",null,",",{"$f":"DataEntry!N572","v":0},",",{"$f":"DataEntry!P572","v":{"$error":"#N/A"}},")",","]
["(",null,",",{"$f":"DataEntry!N573","v":0},",",{"$f":"DataEntry!P573","v":{"$error":"#N/A"}},")",","]
["(",null,",",{"$f":"DataEntry!N574","v":0},",",{"$f":"DataEntry!P574","v":{"$error":"#N/A"}},")",","]
["(",null,",",{"$f":"DataEntry!N575","v":0},",",{"$f":"DataEntry!P575","v":{"$error":"#N/A"}},")",","]
["(",null,",",{"$f":"DataEntry!N576","v":0},",",{"$f":"DataEntry!P576","v":{"$error":"#N/A"}},")",","]
["(",null,",",{"$f":"DataEntry!N577","v":0},",",{"$f":"DataEntry!P577","v":{"$error":"#N/A"}},")",","]
["(",null,",",{"$f":"DataEntry!N578","v":0},",",{"$f":"DataEntry!P578","v":{"$error":"#N/A"}},")",","]
["(",null,",",{"$f":"DataEntry!N579","v":0},",",{"$f":"DataEntry!P579","v":{"$error":"#N/A"}},")",","]
["(",null,",",{"$f":"DataEntry!N580","v":0},",",{"$f":"DataEntry!P580","v":{"$error":"#N/A"}},")",","]
["(",null,",",{"$f":"DataEntry!N581","v":0},",",{"$f":"DataEntry!P581","v":{"$error":"#N/A"}},")",","]
["(",null,",",{"$f":"DataEntry!N582","v":0},",",{"$f":"DataEntry!P582","v":{"$error":"#N/A"}},")",","]
["(",null,",",{"$f":"DataEntry!N583","v":0},",",{"$f":"DataEntry!P583","v":{"$error":"#N/A"}},")",","]
["(",null,",",{"$f":"DataEntry!N584","v":0},",",{"$f":"DataEntry!P584","v":{"$error":"#N/A"}},")",","]
["(",null,",",{"$f":"DataEntry!N585","v":0},",",{"$f":"DataEntry!P585","v":{"$error":"#N/A"}},")",","]
["(",null,",",{"$f":"DataEntry!N586","v":0},",",{"$f":"DataEntry!P586","v":{"$error":"#N/A"}},")",","]
["(",null,",",{"$f":"DataEntry!N587","v":0},",",{"$f":"DataEntry!P587","v":{"$error":"#N/A"}},")",","]
["(",null,",",{"$f":"DataEntry!N588","v":0},",",{"$f":"DataEntry!P588","v":{"$error":"#N/A"}},")",","]
["(",null,",",{"$f":"DataEntry!N589","v":0},",",{"$f":"DataEntry!P589","v":{"$error":"#N/A"}},")",","]
["(",null,",",{"$f":"DataEntry!N590","v":0},",",{"$f":"DataEntry!P590","v":{"$error":"#N/A"}},")",","]
["(",null,",",{"$f":"DataEntry!N591","v":0},",",{"$f":"DataEntry!P591","v":{"$error":"#N/A"}},")",","]
["(",null,",",{"$f":"DataEntry!N592","v":0},",",{"$f":"DataEntry!P592","v":{"$error":"#N/A"}},")",","]
["(",null,",",{"$f":"DataEntry!N593","v":0},",",{"$f":"DataEntry!P593","v":{"$error":"#N/A"}},")",","]
["(",null,",",{"$f":"DataEntry!N594","v":0},",",{"$f":"DataEntry!P594","v":{"$error":"#N/A"}},")",","]
["(",null,",",{"$f":"DataEntry!N595","v":0},",",{"$f":"DataEntry!P595","v":{"$error":"#N/A"}},")",","]
["(",null,",",{"$f":"DataEntry!N596","v":0},",",{"$f":"DataEntry!P596","v":{"$error":"#N/A"}},")",","]
["(",null,",",{"$f":"DataEntry!N597","v":0},",",{"$f":"DataEntry!P597","v":{"$error":"#N/A"}},")",","]
["(",null,",",{"$f":"DataEntry!N598","v":0},",",{"$f":"DataEntry!P598","v":{"$error":"#N/A"}},")",","]
["(",null,",",{"$f":"DataEntry!N599","v":0},",",{"$f":"DataEntry!P599","v":{"$error":"#N/A"}},")",","]
["(",null,",",{"$f":"DataEntry!N600","v":0},",",{"$f":"DataEntry!P600","v":{"$error":"#N/A"}},")",","]
["(",null,",",{"$f":"DataEntry!N601","v":0},",",{"$f":"DataEntry!P601","v":{"$error":"#N/A"}},")",","]
["(",null,",",{"$f":"DataEntry!N602","v":0},",",{"$f":"DataEntry!P602","v":{"$error":"#N/A"}},")",","]
["(",null,",",{"$f":"DataEntry!N603","v":0},",",{"$f":"DataEntry!P603","v":{"$error":"#N/A"}},")",","]
["(",null,",",{"$f":"DataEntry!N604","v":0},",",{"$f":"DataEntry!P604","v":{"$error":"#N/A"}},")",","]
["(",null,",",{"$f":"DataEntry!N605","v":0},",",{"$f":"DataEntry!P605","v":{"$error":"#N/A"}},")",","]
["(",null,",",{"$f":"DataEntry!N606","v":0},",",{"$f":"DataEntry!P606","v":{"$error":"#N/A"}},")",","]
["(",null,",",{"$f":"DataEntry!N607","v":0},",",{"$f":"DataEntry!P607","v":{"$error":"#N/A"}},")",","]
["(",null,",",{"$f":"DataEntry!N608","v":0},",",{"$f":"DataEntry!P608","v":{"$error":"#N/A"}},")",","]
["(",null,",",{"$f":"DataEntry!N609","v":0},",",{"$f":"DataEntry!P609","v":{"$error":"#N/A"}},")",","]
["(",null,",",{"$f":"DataEntry!N610","v":0},",",{"$f":"DataEntry!P610","v":{"$error":"#N/A"}},")",","]
["(",null,",",{"$f":"DataEntry!N611","v":0},",",{"$f":"DataEntry!P611","v":{"$error":"#N/A"}},")",","]
["(",null,",",{"$f":"DataEntry!N612","v":0},",",{"$f":"DataEntry!P612","v":{"$error":"#N/A"}},")",","]
["(",null,",",{"$f":"DataEntry!N613","v":0},",",{"$f":"DataEntry!P613","v":{"$error":"#N/A"}},")",","]
["(",null,",",{"$f":"DataEntry!N614","v":0},",",{"$f":"DataEntry!P614","v":{"$error":"#N/A"}},")",","]
["(",null,",",{"$f":"DataEntry!N615","v":0},",",{"$f":"DataEntry!P615","v":{"$error":"#N/A"}},")",","]
["(",null,",",{"$f":"DataEntry!N616","v":0},",",{"$f":"DataEntry!P616","v":{"$error":"#N/A"}},")",","]
["(",null,",",{"$f":"DataEntry!N617","v":0},",",{"$f":"DataEntry!P617","v":{"$error":"#N/A"}},")",","]
["(",null,",",{"$f":"DataEntry!N618","v":0},",",{"$f":"DataEntry!P618","v":{"$error":"#N/A"}},")",","]
["(",null,",",{"$f":"DataEntry!N619","v":0},",",{"$f":"DataEntry!P619","v":{"$error":"#N/A"}},")",","]
["(",null,",",{"$f":"DataEntry!N620","v":0},",",{"$f":"DataEntry!P620","v":{"$error":"#N/A"}},")",","]
["(",null,",",{"$f":"DataEntry!N621","v":0},",",{"$f":"DataEntry!P621","v":{"$error":"#N/A"}},")",","]
["(",null,",",{"$f":"DataEntry!N622","v":0},",",{"$f":"DataEntry!P622","v":{"$error":"#N/A"}},")",","]
["(",null,",",{"$f":"DataEntry!N623","v":0},",",{"$f":"DataEntry!P623","v":{"$error":"#N/A"}},")",","]
["(",null,",",{"$f":"DataEntry!N624","v":0},",",{"$f":"DataEntry!P624","v":{"$error":"#N/A"}},")",","]
["(",null,",",{"$f":"DataEntry!N625","v":0},",",{"$f":"DataEntry!P625","v":{"$error":"#N/A"}},")",","]
["(",null,",",{"$f":"DataEntry!N626","v":0},",",{"$f":"DataEntry!P626","v":{"$error":"#N/A"}},")",","]
["(",null,",",{"$f":"DataEntry!N627","v":0},",",{"$f":"DataEntry!P627","v":{"$error":"#N/A"}},")",","]
["(",null,",",{"$f":"DataEntry!N628","v":0},",",{"$f":"DataEntry!P628","v":{"$error":"#N/A"}},")",","]
["(",null,",",{"$f":"DataEntry!N629","v":0},",",{"$f":"DataEntry!P629","v":{"$error":"#N/A"}},")",","]
["(",null,",",{"$f":"DataEntry!N630","v":0},",",{"$f":"DataEntry!P630","v":{"$error":"#N/A"}},")",","]
["(",null,",",{"$f":"DataEntry!N631","v":0},",",{"$f":"DataEntry!P631","v":{"$error":"#N/A"}},")",","]
["(",null,",",{"$f":"DataEntry!N632","v":0},",",{"$f":"DataEntry!P632","v":{"$error":"#N/A"}},")",","]
["(",null,",",{"$f":"DataEntry!N633","v":0},",",{"$f":"DataEntry!P633","v":{"$error":"#N/A"}},")",","]
["(",null,",",{"$f":"DataEntry!N634","v":0},",",{"$f":"DataEntry!P634","v":{"$error":"#N/A"}},")",","]
["(",null,",",{"$f":"DataEntry!N635","v":0},",",{"$f":"DataEntry!P635","v":{"$error":"#N/A"}},")",","]
["(",null,",",{"$f":"DataEntry!N636","v":0},",",{"$f":"DataEntry!P636","v":{"$error":"#N/A"}},")",","]
["(",null,",",{"$f":"DataEntry!N637","v":0},",",{"$f":"DataEntry!P637","v":{"$error":"#N/A"}},")",","]
["(",null,",",{"$f":"DataEntry!N638","v":0},",",{"$f":"DataEntry!P638","v":{"$error":"#N/A"}},")",","]
["(",null,",",{"$f":"DataEntry!N639","v":0},",",{"$f":"DataEntry!P639","v":{"$error":"#N/A"}},")",","]
["(",null,",",{"$f":"DataEntry!N640","v":0},",",{"$f":"DataEntry!P640","v":{"$error":"#N/A"}},")",","]
["(",null,",",{"$f":"DataEntry!N641","v":0},",",{"$f":"DataEntry!P641","v":{"$error":"#N/A"}},")",","]
["(",null,",",{"$f":"DataEntry!N642","v":0},",",{"$f":"DataEntry!P642","v":{"$error":"#N/A"}},")",","]
["(",null,",",{"$f":"DataEntry!N643","v":0},",",{"$f":"DataEntry!P643","v":{"$error":"#N/A"}},")",","]
["(",null,",",{"$f":"DataEntry!N644","v":0},",",{"$f":"DataEntry!P644","v":{"$error":"#N/A"}},")",","]
["(",null,",",{"$f":"DataEntry!N645","v":0},",",{"$f":"DataEntry!P645","v":{"$error":"#N/A"}},")",","]
["(",null,",",{"$f":"DataEntry!N646","v":0},",",{"$f":"DataEntry!P646","v":{"$error":"#N/A"}},")",","]
["(",null,",",{"$f":"DataEntry!N647","v":0},",",{"$f":"DataEntry!P647","v":{"$error":"#N/A"}},")",","]
["(",null,",",{"$f":"DataEntry!N648","v":0},",",{"$f":"DataEntry!P648","v":{"$error":"#N/A"}},")",","]
["(",null,",",{"$f":"DataEntry!N649","v":0},",",{"$f":"DataEntry!P649","v":{"$error":"#N/A"}},")",","]
["(",null,",",{"$f":"DataEntry!N650","v":0},",",{"$f":"DataEntry!P650","v":{"$error":"#N/A"}},")",","]
["(",null,",",{"$f":"DataEntry!N651","v":0},",",{"$f":"DataEntry!P651","v":{"$error":"#N/A"}},")",","]
["(",null,",",{"$f":"DataEntry!N652","v":0},",",{"$f":"DataEntry!P652","v":{"$error":"#N/A"}},")",","]
["(",null,",",{"$f":"DataEntry!N653","v":0},",",{"$f":"DataEntry!P653","v":{"$error":"#N/A"}},")",","]
["(",null,",",{"$f":"DataEntry!N654","v":0},",",{"$f":"DataEntry!P654","v":{"$error":"#N/A"}},")",","]
["(",null,",",{"$f":"DataEntry!N655","v":0},",",{"$f":"DataEntry!P655","v":{"$error":"#N/A"}},")",","]
["(",null,",",{"$f":"DataEntry!N656","v":0},",",{"$f":"DataEntry!P656","v":{"$error":"#N/A"}},")",","]
["(",null,",",{"$f":"DataEntry!N657","v":0},",",{"$f":"DataEntry!P657","v":{"$error":"#N/A"}},")",","]
["(",null,",",{"$f":"DataEntry!N658","v":0},",",{"$f":"DataEntry!P658","v":{"$error":"#N/A"}},")",","]
["(",null,",",{"$f":"DataEntry!N659","v":0},",",{"$f":"DataEntry!P659","v":{"$error":"#N/A"}},")",","]
["(",null,",",{"$f":"DataEntry!N660","v":0},",",{"$f":"DataEntry!P660","v":{"$error":"#N/A"}},")",","]
["(",null,",",{"$f":"DataEntry!N661","v":0},",",{"$f":"DataEntry!P661","v":{"$error":"#N/A"}},")",","]
["(",null,",",{"$f":"DataEntry!N662","v":0},",",{"$f":"DataEntry!P662","v":{"$error":"#N/A"}},")",","]
["(",null,",",{"$f":"DataEntry!N663","v":0},",",{"$f":"DataEntry!P663","v":{"$error":"#N/A"}},")",","]
["(",null,",",{"$f":"DataEntry!N664","v":0},",",{"$f":"DataEntry!P664","v":{"$error":"#N/A"}},")",","]
["(",null,",",{"$f":"DataEntry!N665","v":0},",",{"$f":"DataEntry!P665","v":{"$error":"#N/A"}},")",","]
["(",null,",",{"$f":"DataEntry!N666","v":0},",",{"$f":"DataEntry!P666","v":{"$error":"#N/A"}},")",","]
["(",null,",",{"$f":"DataEntry!N667","v":0},",",{"$f":"DataEntry!P667","v":{"$error":"#N/A"}},")",","]
["(",null,",",{"$f":"DataEntry!N668","v":0},",",{"$f":"DataEntry!P668","v":{"$error":"#N/A"}},")",","]
["(",null,",",{"$f":"DataEntry!N669","v":0},",",{"$f":"DataEntry!P669","v":{"$error":"#N/A"}},")",","]
["(",null,",",{"$f":"DataEntry!N670","v":0},",",{"$f":"DataEntry!P670","v":{"$error":"#N/A"}},")",","]
["(",null,",",{"$f":"DataEntry!N671","v":0},",",{"$f":"DataEntry!P671","v":{"$error":"#N/A"}},")",","]
["(",null,",",{"$f":"DataEntry!N672","v":0},",",{"$f":"DataEntry!P672","v":{"$error":"#N/A"}},")",","]
["(",null,",",{"$f":"DataEntry!N673","v":0},",",{"$f":"DataEntry!P673","v":{"$error":"#N/A"}},")",","]
["(",null,",",{"$f":"DataEntry!N674","v":0},",",{"$f":"DataEntry!P674","v":{"$error":"#N/A"}},")",","]
["(",null,",",{"$f":"DataEntry!N675","v":0},",",{"$f":"DataEntry!P675","v":{"$error":"#N/A"}},")",","]
["(",null,",",{"$f":"DataEntry!N676","v":0},",",{"$f":"DataEntry!P676","v":{"$error":"#N/A"}},")",","]
["(",null,",",{"$f":"DataEntry!N677","v":0},",",{"$f":"DataEntry!P677","v":{"$error":"#N/A"}},")",","]
["(",null,",",{"$f":"DataEntry!N678","v":0},",",{"$f":"DataEntry!P678","v":{"$error":"#N/A"}},")",","]
["(",null,",",{"$f":"DataEntry!N679","v":0},",",{"$f":"DataEntry!P679","v":{"$error":"#N/A"}},")",","]
["(",null,",",{"$f":"DataEntry!N680","v":0},",",{"$f":"DataEntry!P680","v":{"$error":"#N/A"}},")",","]
["(",null,",",{"$f":"DataEntry!N681","v":0},",",{"$f":"DataEntry!P681","v":{"$error":"#N/A"}},")",","]
["(",null,",",{"$f":"DataEntry!N682","v":0},",",{"$f":"DataEntry!P682","v":{"$error":"#N/A"}},")",","]
["(",null,",",{"$f":"DataEntry!N683","v":0},",",{"$f":"DataEntry!P683","v":{"$error":"#N/A"}},")",","]
["(",null,",",{"$f":"DataEntry!N684","v":0},",",{"$f":"DataEntry!P684","v":{"$error":"#N/A"}},")",","]
["(",null,",",{"$f":"DataEntry!N685","v":0},",",{"$f":"DataEntry!P685","v":{"$error":"#N/A"}},")",","]
["(",null,",",{"$f":"DataEntry!N686","v":0},",",{"$f":"DataEntry!P686","v":{"$error":"#N/A"}},")",","]
["(",null,",",{"$f":"DataEntry!N687","v":0},",",{"$f":"DataEntry!P687","v":{"$error":"#N/A"}},")",","]
["(",null,",",{"$f":"DataEntry!N688","v":0},",",{"$f":"DataEntry!P688","v":{"$error":"#N/A"}},")",","]
["(",null,",",{"$f":"DataEntry!N689","v":0},",",{"$f":"DataEntry!P689","v":{"$error":"#N/A"}},")",","]
["(",null,",",{"$f":"DataEntry!N690","v":0},",",{"$f":"DataEntry!P690","v":{"$error":"#N/A"}},")",","]
["(",null,",",{"$f":"DataEntry!N691","v":0},",",{"$f":"DataEntry!P691","v":{"$error":"#N/A"}},")",","]
["(",null,",",{"$f":"DataEntry!N692","v":0},",",{"$f":"DataEntry!P692","v":{"$error":"#N/A"}},")",","]
["(",null,",",{"$f":"DataEntry!N693","v":0},",",{"$f":"DataEntry!P693","v":{"$error":"#N/A"}},")",","]
["(",null,",",{"$f":"DataEntry!N694","v":0},",",{"$f":"DataEntry!P694","v":{"$error":"#N/A"}},")",","]
["(",null,",",{"$f":"DataEntry!N695","v":0},",",{"$f":"DataEntry!P695","v":{"$error":"#N/A"}},")",","]
["(",null,",",{"$f":"DataEntry!N696","v":0},",",{"$f":"DataEntry!P696","v":{"$error":"#N/A"}},")",","]
["(",null,",",{"$f":"DataEntry!N697","v":0},",",{"$f":"DataEntry!P697","v":{"$error":"#N/A"}},")",","]
["(",null,",",{"$f":"DataEntry!N698","v":0},",",{"$f":"DataEntry!P698","v":{"$error":"#N/A"}},")",","]
["(",null,",",{"$f":"DataEntry!N699","v":0},",",{"$f":"DataEntry!P699","v":{"$error":"#N/A"}},")",","]
["(",null,",",{"$f":"DataEntry!N700","v":0},",",{"$f":"DataEntry!P700","v":{"$error":"#N/A"}},")",","]
["(",null,",",{"$f":"DataEntry!N701","v":0},",",{"$f":"DataEntry!P701","v":{"$error":"#N/A"}},")",","]
["(",null,",",{"$f":"DataEntry!N702","v":0},",",{"$f":"DataEntry!P702","v":{"$error":"#N/A"}},")",","]
["(",null,",",{"$f":"DataEntry!N703","v":0},",",{"$f":"DataEntry!P703","v":{"$error":"#N/A"}},")",","]
["(",null,",",{"$f":"DataEntry!N704","v":0},",",{"$f":"DataEntry!P704","v":{"$error":"#N/A"}},")",","]
["(",null,",",{"$f":"DataEntry!N705","v":0},",",{"$f":"DataEntry!P705","v":{"$error":"#N/A"}},")",","]
["(",null,",",{"$f":"DataEntry!N706","v":0},",",{"$f":"DataEntry!P706","v":{"$error":"#N/A"}},")",","]
["(",null,",",{"$f":"DataEntry!N707","v":0},",",{"$f":"DataEntry!P707","v":{"$error":"#N/A"}},")",","]
["(",null,",",{"$f":"DataEntry!N708","v":0},",",{"$f":"DataEntry!P708","v":{"$error":"#N/A"}},")",","]
["(",null,",",{"$f":"DataEntry!N709","v":0},",",{"$f":"DataEntry!P709","v":{"$error":"#N/A"}},")",","]
["(",null,",",{"$f":"DataEntry!N710","v":0},",",{"$f":"DataEntry!P710","v":{"$error":"#N/A"}},")",","]
["(",null,",",{"$f":"DataEntry!N711","v":0},",",{"$f":"DataEntry!P711","v":{"$error":"#N/A"}},")",","]
["(",null,",",{"$f":"DataEntry!N712","v":0},",",{"$f":"DataEntry!P712","v":{"$error":"#N/A"}},")",","]
["(",null,",",{"$f":"DataEntry!N713","v":0},",",{"$f":"DataEntry!P713","v":{"$error":"#N/A"}},")",","]
["(",null,",",{"$f":"DataEntry!N714","v":0},",",{"$f":"DataEntry!P714","v":{"$error":"#N/A"}},")",","]
["(",null,",",{"$f":"DataEntry!N715","v":0},",",{"$f":"DataEntry!P715","v":{"$error":"#N/A"}},")",","]
["(",null,",",{"$f":"DataEntry!N716","v":0},",",{"$f":"DataEntry!P716","v":{"$error":"#N/A"}},")",","]
["(",null,",",{"$f":"DataEntry!N717","v":0},",",{"$f":"DataEntry!P717","v":{"$error":"#N/A"}},")",","]
["(",null,",",{"$f":"DataEntry!N718","v":0},",",{"$f":"DataEntry!P718","v":{"$error":"#N/A"}},")",","]
["(",null,",",{"$f":"DataEntry!N719","v":0},",",{"$f":"DataEntry!P719","v":{"$error":"#N/A"}},")",","]
["(",null,",",{"$f":"DataEntry!N720","v":0},",",{"$f":"DataEntry!P720","v":{"$error":"#N/A"}},")",","]
["(",null,",",{"$f":"DataEntry!N721","v":0},",",{"$f":"DataEntry!P721","v":{"$error":"#N/A"}},")",","]
["(",null,",",{"$f":"DataEntry!N722","v":0},",",{"$f":"DataEntry!P722","v":{"$error":"#N/A"}},")",","]
["(",null,",",{"$f":"DataEntry!N723","v":0},",",{"$f":"DataEntry!P723","v":{"$error":"#N/A"}},")",","]
["(",null,",",{"$f":"DataEntry!N724","v":0},",",{"$f":"DataEntry!P724","v":{"$error":"#N/A"}},")",","]
["(",null,",",{"$f":"DataEntry!N725","v":0},",",{"$f":"DataEntry!P725","v":{"$error":"#N/A"}},")",","]
["(",null,",",{"$f":"DataEntry!N726","v":0},",",{"$f":"DataEntry!P726","v":{"$error":"#N/A"}},")",","]
["(",null,",",{"$f":"DataEntry!N727","v":0},",",{"$f":"DataEntry!P727","v":{"$error":"#N/A"}},")",","]
["(",null,",",{"$f":"DataEntry!N728","v":0},",",{"$f":"DataEntry!P728","v":{"$error":"#N/A"}},")",","]
["(",null,",",{"$f":"DataEntry!N729","v":0},",",{"$f":"DataEntry!P729","v":{"$error":"#N/A"}},")",","]
["(",null,",",{"$f":"DataEntry!N730","v":0},",",{"$f":"DataEntry!P730","v":{"$error":"#N/A"}},")",","]
["(",null,",",{"$f":"DataEntry!N731","v":0},",",{"$f":"DataEntry!P731","v":{"$error":"#N/A"}},")",","]
["(",null,",",{"$f":"DataEntry!N732","v":0},",",{"$f":"DataEntry!P732","v":{"$error":"#N/A"}},")",","]
["(",null,",",{"$f":"DataEntry!N733","v":0},",",{"$f":"DataEntry!P733","v":{"$error":"#N/A"}},")",","]
["(",null,",",{"$f":"DataEntry!N734","v":0},",",{"$f":"DataEntry!P734","v":{"$error":"#N/A"}},")",","]
["(",null,",",{"$f":"DataEntry!N735","v":0},",",{"$f":"DataEntry!P735","v":{"$error":"#N/A"}},")",","]
["(",null,",",{"$f":"DataEntry!N736","v":0},",",{"$f":"DataEntry!P736","v":{"$error":"#N/A"}},")",","]
["(",null,",",{"$f":"DataEntry!N737","v":0},",",{"$f":"DataEntry!P737","v":{"$error":"#N/A"}},")",","]
["(",null,",",{"$f":"DataEntry!N738","v":0},",",{"$f":"DataEntry!P738","v":{"$error":"#N/A"}},")",","]
["(",null,",",{"$f":"DataEntry!N739","v":0},",",{"$f":"DataEntry!P739","v":{"$error":"#N/A"}},")",","]
["(",null,",",{"$f":"DataEntry!N740","v":0},",",{"$f":"DataEntry!P740","v":{"$error":"#N/A"}},")",","]
["(",null,",",{"$f":"DataEntry!N741","v":0},",",{"$f":"DataEntry!P741","v":{"$error":"#N/A"}},")",","]
["(",null,",",{"$f":"DataEntry!N742","v":0},",",{"$f":"DataEntry!P742","v":{"$error":"#N/A"}},")",","]
["(",null,",",{"$f":"DataEntry!N743","v":0},",",{"$f":"DataEntry!P743","v":{"$error":"#N/A"}},")",","]
["(",null,",",{"$f":"DataEntry!N744","v":0},",",{"$f":"DataEntry!P744","v":{"$error":"#N/A"}},")",","]
["(",null,",",{"$f":"DataEntry!N745","v":0},",",{"$f":"DataEntry!P745","v":{"$error":"#N/A"}},")",","]
["(",null,",",{"$f":"DataEntry!N746","v":0},",",{"$f":"DataEntry!P746","v":{"$error":"#N/A"}},")",","]
["(",null,",",{"$f":"DataEntry!N747","v":0},",",{"$f":"DataEntry!P747","v":{"$error":"#N/A"}},")",","]
["(",null,",",{"$f":"DataEntry!N748","v":0},",",{"$f":"DataEntry!P748","v":{"$error":"#N/A"}},")",","]
["(",null,",",{"$f":"DataEntry!N749","v":0},",",{"$f":"DataEntry!P749","v":{"$error":"#N/A"}},")",","]
["(",null,",",{"$f":"DataEntry!N750","v":0},",",{"$f":"DataEntry!P750","v":{"$error":"#N/A"}},")",","]
["(",null,",",{"$f":"DataEntry!N751","v":0},",",{"$f":"DataEntry!P751","v":{"$error":"#N/A"}},")",","]
["(",null,",",{"$f":"DataEntry!N752","v":0},",",{"$f":"DataEntry!P752","v":{"$error":"#N/A"}},")",","]
["(",null,",",{"$f":"DataEntry!N753","v":0},",",{"$f":"DataEntry!P753","v":{"$error":"#N/A"}},")",","]
["(",null,",",{"$f":"DataEntry!N754","v":0},",",{"$f":"DataEntry!P754","v":{"$error":"#N/A"}},")",","]
["(",null,",",{"$f":"DataEntry!N755","v":0},",",{"$f":"DataEntry!P755","v":{"$error":"#N/A"}},")",","]
["(",null,",",{"$f":"DataEntry!N756","v":0},",",{"$f":"DataEntry!P756","v":{"$error":"#N/A"}},")",","]
["(",null,",",{"$f":"DataEntry!N757","v":0},",",{"$f":"DataEntry!P757","v":{"$error":"#N/A"}},")",","]
["(",null,",",{"$f":"DataEntry!N758","v":0},",",{"$f":"DataEntry!P758","v":{"$error":"#N/A"}},")",","]
["(",null,",",{"$f":"DataEntry!N759","v":0},",",{"$f":"DataEntry!P759","v":{"$error":"#N/A"}},")",","]
["(",null,",",{"$f":"DataEntry!N760","v":0},",",{"$f":"DataEntry!P760","v":{"$error":"#N/A"}},")",","]
["(",null,",",{"$f":"DataEntry!N761","v":0},",",{"$f":"DataEntry!P761","v":{"$error":"#N/A"}},")",","]
["(",null,",",{"$f":"DataEntry!N762","v":0},",",{"$f":"DataEntry!P762","v":{"$error":"#N/A"}},")",","]
["(",null,",",{"$f":"DataEntry!N763","v":0},",",{"$f":"DataEntry!P763","v":{"$error":"#N/A"}},")",","]
["(",null,",",{"$f":"DataEntry!N764","v":0},",",{"$f":"DataEntry!P764","v":{"$error":"#N/A"}},")",","]
["(",null,",",{"$f":"DataEntry!N765","v":0},",",{"$f":"DataEntry!P765","v":{"$error":"#N/A"}},")",","]
["(",null,",",{"$f":"DataEntry!N766","v":0},",",{"$f":"DataEntry!P766","v":{"$error":"#N/A"}},")",","]
["(",null,",",{"$f":"DataEntry!N767","v":0},",",{"$f":"DataEntry!P767","v":{"$error":"#N/A"}},")",","]
["(",null,",",{"$f":"DataEntry!N768","v":0},",",{"$f":"DataEntry!P768","v":{"$error":"#N/A"}},")",","]
["(",null,",",{"$f":"DataEntry!N769","v":0},",",{"$f":"DataEntry!P769","v":{"$error":"#N/A"}},")",","]
["(",null,",",{"$f":"DataEntry!N770","v":0},",",{"$f":"DataEntry!P770","v":{"$error":"#N/A"}},")",","]
["(",null,",",{"$f":"DataEntry!N771","v":0},",",{"$f":"DataEntry!P771","v":{"$error":"#N/A"}},")",","]
["(",null,",",{"$f":"DataEntry!N772","v":0},",",{"$f":"DataEntry!P772","v":{"$error":"#N/A"}},")",","]
["(",null,",",{"$f":"DataEntry!N773","v":0},",",{"$f":"DataEntry!P773","v":{"$error":"#N/A"}},")",","]
["(",null,",",{"$f":"DataEntry!N774","v":0},",",{"$f":"DataEntry!P774","v":{"$error":"#N/A"}},")",","]
["(",null,",",{"$f":"DataEntry!N775","v":0},",",{"$f":"DataEntry!P775","v":{"$error":"#N/A"}},")",","]
["(",null,",",{"$f":"DataEntry!N776","v":0},",",{"$f":"DataEntry!P776","v":{"$error":"#N/A"}},")",","]
["(",null,",",{"$f":"DataEntry!N777","v":0},",",{"$f":"DataEntry!P777","v":{"$error":"#N/A"}},")",","]
["(",null,",",{"$f":"DataEntry!N778","v":0},",",{"$f":"DataEntry!P778","v":{"$error":"#N/A"}},")",","]
["(",null,",",{"$f":"DataEntry!N779","v":0},",",{"$f":"DataEntry!P779","v":{"$error":"#N/A"}},")",","]
["(",null,",",{"$f":"DataEntry!N780","v":0},",",{"$f":"DataEntry!P780","v":{"$error":"#N/A"}},")",","]
["(",null,",",{"$f":"DataEntry!N781","v":0},",",{"$f":"DataEntry!P781","v":{"$error":"#N/A"}},")",","]
["(",null,",",{"$f":"DataEntry!N782","v":0},",",{"$f":"DataEntry!P782","v":{"$error":"#N/A"}},")",","]
["(",null,",",{"$f":"DataEntry!N783","v":0},",",{"$f":"DataEntry!P783","v":{"$error":"#N/A"}},")",","]
["(",null,",",{"$f":"DataEntry!N784","v":0},",",{"$f":"DataEntry!P784","v":{"$error":"#N/A"}},")",","]
["(",null,",",{"$f":"DataEntry!N785","v":0},",",{"$f":"DataEntry!P785","v":{"$error":"#N/A"}},")",","]
["(",null,",",{"$f":"DataEntry!N786","v":0},",",{"$f":"DataEntry!P786","v":{"$error":"#N/A"}},")",","]
["(",null,",",{"$f":"DataEntry!N787","v":0},",",{"$f":"DataEntry!P787","v":{"$error":"#N/A"}},")",","]
["(",null,",",{"$f":"DataEntry!N788","v":0},",",{"$f":"DataEntry!P788","v":{"$error":"#N/A"}},")",","]
["(",null,",",{"$f":"DataEntry!N789","v":0},",",{"$f":"DataEntry!P789","v":{"$error":"#N/A"}},")",","]
["(",null,",",{"$f":"DataEntry!N790","v":0},",",{"$f":"DataEntry!P790","v":{"$error":"#N/A"}},")",","]
["(",null,",",{"$f":"DataEntry!N791","v":0},",",{"$f":"DataEntry!P791","v":{"$error":"#N/A"}},")",","]
["(",null,",",{"$f":"DataEntry!N792","v":0},",",{"$f":"DataEntry!P792","v":{"$error":"#N/A"}},")",","]
["(",null,",",{"$f":"DataEntry!N793","v":0},",",{"$f":"DataEntry!P793","v":{"$error":"#N/A"}},")",","]
["(",null,",",{"$f":"DataEntry!N794","v":0},",",{"$f":"DataEntry!P794","v":{"$error":"#N/A"}},")",","]
["(",null,",",{"$f":"DataEntry!N795","v":0},",",{"$f":"DataEntry!P795","v":{"$error":"#N/A"}},")",","]
["(",null,",",{"$f":"DataEntry!N796","v":0},",",{"$f":"DataEntry!P796","v":{"$error":"#N/A"}},")",","]
["(",null,",",{"$f":"DataEntry!N797","v":0},",",{"$f":"DataEntry!P797","v":{"$error":"#N/A"}},")",","]
["(",null,",",{"$f":"DataEntry!N798","v":0},",",{"$f":"DataEntry!P798","v":{"$error":"#N/A"}},")",","]
["(",null,",",{"$f":"DataEntry!N799","v":0},",",{"$f":"DataEntry!P799","v":{"$error":"#N/A"}},")",","]
["(",null,",",{"$f":"DataEntry!N800","v":0},",",{"$f":"DataEntry!P800","v":{"$error":"#N/A"}},")",","]
["(",null,",",{"$f":"DataEntry!N801","v":0},",",{"$f":"DataEntry!P801","v":{"$error":"#N/A"}},")",","]
["(",null,",",{"$f":"DataEntry!N802","v":0},",",{"$f":"DataEntry!P802","v":{"$error":"#N/A"}},")",","]
["(",null,",",{"$f":"DataEntry!N803","v":0},",",{"$f":"DataEntry!P803","v":{"$error":"#N/A"}},")",","]
["(",null,",",{"$f":"DataEntry!N804","v":0},",",{"$f":"DataEntry!P804","v":{"$error":"#N/A"}},")",","]
["(",null,",",{"$f":"DataEntry!N805","v":0},",",{"$f":"DataEntry!P805","v":{"$error":"#N/A"}},")",","]
["(",null,",",{"$f":"DataEntry!N806","v":0},",",{"$f":"DataEntry!P806","v":{"$error":"#N/A"}},")",","]
["(",null,",",{"$f":"DataEntry!N807","v":0},",",{"$f":"DataEntry!P807","v":{"$error":"#N/A"}},")",","]
["(",null,",",{"$f":"DataEntry!N808","v":0},",",{"$f":"DataEntry!P808","v":{"$error":"#N/A"}},")",","]
["(",null,",",{"$f":"DataEntry!N809","v":0},",",{"$f":"DataEntry!P809","v":{"$error":"#N/A"}},")",","]
["(",null,",",{"$f":"DataEntry!N810","v":0},",",{"$f":"DataEntry!P810","v":{"$error":"#N/A"}},")",","]
["(",null,",",{"$f":"DataEntry!N811","v":0},",",{"$f":"DataEntry!P811","v":{"$error":"#N/A"}},")",","]
["(",null,",",{"$f":"DataEntry!N812","v":0},",",{"$f":"DataEntry!P812","v":{"$error":"#N/A"}},")",","]
["(",null,",",{"$f":"DataEntry!N813","v":0},",",{"$f":"DataEntry!P813","v":{"$error":"#N/A"}},")",","]
["(",null,",",{"$f":"DataEntry!N814","v":0},",",{"$f":"DataEntry!P814","v":{"$error":"#N/A"}},")",","]
["(",null,",",{"$f":"DataEntry!N815","v":0},",",{"$f":"DataEntry!P815","v":{"$error":"#N/A"}},")",","]
["(",null,",",{"$f":"DataEntry!N816","v":0},",",{"$f":"DataEntry!P816","v":{"$error":"#N/A"}},")",","]
["(",null,",",{"$f":"DataEntry!N817","v":0},",",{"$f":"DataEntry!P817","v":{"$error":"#N/A"}},")",","]
["(",null,",",{"$f":"DataEntry!N818","v":0},",",{"$f":"DataEntry!P818","v":{"$error":"#N/A"}},")",","]
["(",null,",",{"$f":"DataEntry!N819","v":0},",",{"$f":"DataEntry!P819","v":{"$error":"#N/A"}},")",","]
["(",null,",",{"$f":"DataEntry!N820","v":0},",",{"$f":"DataEntry!P820","v":{"$error":"#N/A"}},")",","]
["(",null,",",{"$f":"DataEntry!N821","v":0},",",{"$f":"DataEntry!P821","v":{"$error":"#N/A"}},")",","]
["(",null,",",{"$f":"DataEntry!N822","v":0},",",{"$f":"DataEntry!P822","v":{"$error":"#N/A"}},")",","]
["(",null,",",{"$f":"DataEntry!N823","v":0},",",{"$f":"DataEntry!P823","v":{"$error":"#N/A"}},")",","]
["(",null,",",{"$f":"DataEntry!N824","v":0},",",{"$f":"DataEntry!P824","v":{"$error":"#N/A"}},")",","]
["(",null,",",{"$f":"DataEntry!N825","v":0},",",{"$f":"DataEntry!P825","v":{"$error":"#N/A"}},")",","]
["(",null,",",{"$f":"DataEntry!N826","v":0},",",{"$f":"DataEntry!P826","v":{"$error":"#N/A"}},")",","]
["(",null,",",{"$f":"DataEntry!N827","v":0},",",{"$f":"DataEntry!P827","v":{"$error":"#N/A"}},")",","]
["(",null,",",{"$f":"DataEntry!N828","v":0},",",{"$f":"DataEntry!P828","v":{"$error":"#N/A"}},")",","]
["(",null,",",{"$f":"DataEntry!N829","v":0},",",{"$f":"DataEntry!P829","v":{"$error":"#N/A"}},")",","]
["(",null,",",{"$f":"DataEntry!N830","v":0},",",{"$f":"DataEntry!P830","v":{"$error":"#N/A"}},")",","]
["(",null,",",{"$f":"DataEntry!N831","v":0},",",{"$f":"DataEntry!P831","v":{"$error":"#N/A"}},")",","]
["(",null,",",{"$f":"DataEntry!N832","v":0},",",{"$f":"DataEntry!P832","v":{"$error":"#N/A"}},")",","]
["(",null,",",{"$f":"DataEntry!N833","v":0},",",{"$f":"DataEntry!P833","v":{"$error":"#N/A"}},")",","]
["(",null,",",{"$f":"DataEntry!N834","v":0},",",{"$f":"DataEntry!P834","v":{"$error":"#N/A"}},")",","]
["(",null,",",{"$f":"DataEntry!N835","v":0},",",{"$f":"DataEntry!P835","v":{"$error":"#N/A"}},")",","]
["(",null,",",{"$f":"DataEntry!N836","v":0},",",{"$f":"DataEntry!P836","v":{"$error":"#N/A"}},")",","]
["(",null,",",{"$f":"DataEntry!N837","v":0},",",{"$f":"DataEntry!P837","v":{"$error":"#N/A"}},")",","]
["(",null,",",{"$f":"DataEntry!N838","v":0},",",{"$f":"DataEntry!P838","v":{"$error":"#N/A"}},")",","]
["(",null,",",{"$f":"DataEntry!N839","v":0},",",{"$f":"DataEntry!P839","v":{"$error":"#N/A"}},")",","]
["(",null,",",{"$f":"DataEntry!N840","v":0},",",{"$f":"DataEntry!P840","v":{"$error":"#N/A"}},")",","]
["(",null,",",{"$f":"DataEntry!N841","v":0},",",{"$f":"DataEntry!P841","v":{"$error":"#N/A"}},")",","]
["(",null,",",{"$f":"DataEntry!N842","v":0},",",{"$f":"DataEntry!P842","v":{"$error":"#N/A"}},")",","]
["(",null,",",{"$f":"DataEntry!N843","v":0},",",{"$f":"DataEntry!P843","v":{"$error":"#N/A"}},")",","]
["(",null,",",{"$f":"DataEntry!N844","v":0},",",{"$f":"DataEntry!P844","v":{"$error":"#N/A"}},")",","]
["(",null,",",{"$f":"DataEntry!N845","v":0},",",{"$f":"DataEntry!P845","v":{"$error":"#N/A"}},")",","]
["(",null,",",{"$f":"DataEntry!N846","v":0},",",{"$f":"DataEntry!P846","v":{"$error":"#N/A"}},")",","]
["(",null,",",{"$f":"DataEntry!N847","v":0},",",{"$f":"DataEntry!P847","v":{"$error":"#N/A"}},")",","]
["(",null,",",{"$f":"DataEntry!N848","v":0},",",{"$f":"DataEntry!P848","v":{"$error":"#N/A"}},")",","]
["(",null,",",{"$f":"DataEntry!N849","v":0},",",{"$f":"DataEntry!P849","v":{"$error":"#N/A"}},")",","]
["(",null,",",{"$f":"DataEntry!N850","v":0},",",{"$f":"DataEntry!P850","v":{"$error":"#N/A"}},")",","]
["(",null,",",{"$f":"DataEntry!N851","v":0},",",{"$f":"DataEntry!P851","v":{"$error":"#N/A"}},")",","]
["(",null,",",{"$f":"DataEntry!N852","v":0},",",{"$f":"DataEntry!P852","v":{"$error":"#N/A"}},")",","]
["(",null,",",{"$f":"DataEntry!N853","v":0},",",{"$f":"DataEntry!P853","v":{"$error":"#N/A"}},")",","]
["(",null,",",{"$f":"DataEntry!N854","v":0},",",{"$f":"DataEntry!P854","v":{"$error":"#N/A"}},")",","]
["(",null,",",{"$f":"DataEntry!N855","v":0},",",{"$f":"DataEntry!P855","v":{"$error":"#N/A"}},")",","]
["(",null,",",{"$f":"DataEntry!N856","v":0},",",{"$f":"DataEntry!P856","v":{"$error":"#N/A"}},")",","]
["(",null,",",{"$f":"DataEntry!N857","v":0},",",{"$f":"DataEntry!P857","v":{"$error":"#N/A"}},")",","]
["(",null,",",{"$f":"DataEntry!N858","v":0},",",{"$f":"DataEntry!P858","v":{"$error":"#N/A"}},")",","]
["(",null,",",{"$f":"DataEntry!N859","v":0},",",{"$f":"DataEntry!P859","v":{"$error":"#N/A"}},")",","]
["(",null,",",{"$f":"DataEntry!N860","v":0},",",{"$f":"DataEntry!P860","v":{"$error":"#N/A"}},")",","]
["(",null,",",{"$f":"DataEntry!N861","v":0},",",{"$f":"DataEntry!P861","v":{"$error":"#N/A"}},")",","]
["(",null,",",{"$f":"DataEntry!N862","v":0},",",{"$f":"DataEntry!P862","v":{"$error":"#N/A"}},")",","]
["(",null,",",{"$f":"DataEntry!N863","v":0},",",{"$f":"DataEntry!P863","v":{"$error":"#N/A"}},")",","]
["(",null,",",{"$f":"DataEntry!N864","v":0},",",{"$f":"DataEntry!P864","v":{"$error":"#N/A"}},")",","]
["(",null,",",{"$f":"DataEntry!N865","v":0},",",{"$f":"DataEntry!P865","v":{"$error":"#N/A"}},")",","]
["(",null,",",{"$f":"DataEntry!N866","v":0},",",{"$f":"DataEntry!P866","v":{"$error":"#N/A"}},")",","]
["(",null,",",{"$f":"DataEntry!N867","v":0},",",{"$f":"DataEntry!P867","v":{"$error":"#N/A"}},")",","]
["(",null,",",{"$f":"DataEntry!N868","v":0},",",{"$f":"DataEntry!P868","v":{"$error":"#N/A"}},")",","]
["(",null,",",{"$f":"DataEntry!N869","v":0},",",{"$f":"DataEntry!P869","v":{"$error":"#N/A"}},")",","]
["(",null,",",{"$f":"DataEntry!N870","v":0},",",{"$f":"DataEntry!P870","v":{"$error":"#N/A"}},")",","]
["(",null,",",{"$f":"DataEntry!N871","v":0},",",{"$f":"DataEntry!P871","v":{"$error":"#N/A"}},")",","]
["(",null,",",{"$f":"DataEntry!N872","v":0},",",{"$f":"DataEntry!P872","v":{"$error":"#N/A"}},")",","]
["(",null,",",{"$f":"DataEntry!N873","v":0},",",{"$f":"DataEntry!P873","v":{"$error":"#N/A"}},")",","]
["(",null,",",{"$f":"DataEntry!N874","v":0},",",{"$f":"DataEntry!P874","v":{"$error":"#N/A"}},")",","]
["(",null,",",{"$f":"DataEntry!N875","v":0},",",{"$f":"DataEntry!P875","v":{"$error":"#N/A"}},")",","]
["(",null,",",{"$f":"DataEntry!N876","v":0},",",{"$f":"DataEntry!P876","v":{"$error":"#N/A"}},")",","]
["(",null,",",{"$f":"DataEntry!N877","v":0},",",{"$f":"DataEntry!P877","v":{"$error":"#N/A"}},")",","]
["(",null,",",{"$f":"DataEntry!N878","v":0},",",{"$f":"DataEntry!P878","v":{"$error":"#N/A"}},")",","]
["(",null,",",{"$f":"DataEntry!N879","v":0},",",{"$f":"DataEntry!P879","v":{"$error":"#N/A"}},")",","]
["(",null,",",{"$f":"DataEntry!N880","v":0},",",{"$f":"DataEntry!P880","v":{"$error":"#N/A"}},")",","]
["(",null,",",{"$f":"DataEntry!N881","v":0},",",{"$f":"DataEntry!P881","v":{"$error":"#N/A"}},")",","]
["(",null,",",{"$f":"DataEntry!N882","v":0},",",{"$f":"DataEntry!P882","v":{"$error":"#N/A"}},")",","]
["(",null,",",{"$f":"DataEntry!N883","v":0},",",{"$f":"DataEntry!P883","v":{"$error":"#N/A"}},")",","]
["(",null,",",{"$f":"DataEntry!N884","v":0},",",{"$f":"DataEntry!P884","v":{"$error":"#N/A"}},")",","]
["(",null,",",{"$f":"DataEntry!N885","v":0},",",{"$f":"DataEntry!P885","v":{"$error":"#N/A"}},")",","]
["(",null,",",{"$f":"DataEntry!N886","v":0},",",{"$f":"DataEntry!P886","v":{"$error":"#N/A"}},")",","]
["(",null,",",{"$f":"DataEntry!N887","v":0},",",{"$f":"DataEntry!P887","v":{"$error":"#N/A"}},")",","]
["(",null,",",{"$f":"DataEntry!N888","v":0},",",{"$f":"DataEntry!P888","v":{"$error":"#N/A"}},")",","]
["(",null,",",{"$f":"DataEntry!N889","v":0},",",{"$f":"DataEntry!P889","v":{"$error":"#N/A"}},")",","]
["(",null,",",{"$f":"DataEntry!N890","v":0},",",{"$f":"DataEntry!P890","v":{"$error":"#N/A"}},")",","]
["(",null,",",{"$f":"DataEntry!N891","v":0},",",{"$f":"DataEntry!P891","v":{"$error":"#N/A"}},")",","]
["(",null,",",{"$f":"DataEntry!N892","v":0},",",{"$f":"DataEntry!P892","v":{"$error":"#N/A"}},")",","]
["(",null,",",{"$f":"DataEntry!N893","v":0},",",{"$f":"DataEntry!P893","v":{"$error":"#N/A"}},")",","]
["(",null,",",{"$f":"DataEntry!N894","v":0},",",{"$f":"DataEntry!P894","v":{"$error":"#N/A"}},")",","]
["(",null,",",{"$f":"DataEntry!N895","v":0},",",{"$f":"DataEntry!P895","v":{"$error":"#N/A"}},")",","]
["(",null,",",{"$f":"DataEntry!N896","v":0},",",{"$f":"DataEntry!P896","v":{"$error":"#N/A"}},")",","]
["(",null,",",{"$f":"DataEntry!N897","v":0},",",{"$f":"DataEntry!P897","v":{"$error":"#N/A"}},")",","]
["(",null,",",{"$f":"DataEntry!N898","v":0},",",{"$f":"DataEntry!P898","v":{"$error":"#N/A"}},")",","]
["(",null,",",{"$f":"DataEntry!N899","v":0},",",{"$f":"DataEntry!P899","v":{"$error":"#N/A"}},")",","]
["(",null,",",{"$f":"DataEntry!N900","v":0},",",{"$f":"DataEntry!P900","v":{"$error":"#N/A"}},")",","]
["(",null,",",{"$f":"DataEntry!N901","v":0},",",{"$f":"DataEntry!P901","v":{"$error":"#N/A"}},")",","]
["(",null,",",{"$f":"DataEntry!N902","v":0},",",{"$f":"DataEntry!P902","v":{"$error":"#N/A"}},")",","]
["(",null,",",{"$f":"DataEntry!N903","v":0},",",{"$f":"DataEntry!P903","v":{"$error":"#N/A"}},")",","]
["(",null,",",{"$f":"DataEntry!N904","v":0},",",{"$f":"DataEntry!P904","v":{"$error":"#N/A"}},")",","]
["(",null,",",{"$f":"DataEntry!N905","v":0},",",{"$f":"DataEntry!P905","v":{"$error":"#N/A"}},")",","]
["(",null,",",{"$f":"DataEntry!N906","v":0},",",{"$f":"DataEntry!P906","v":{"$error":"#N/A"}},")",","]
["(",null,",",{"$f":"DataEntry!N907","v":0},",",{"$f":"DataEntry!P907","v":{"$error":"#N/A"}},")",","]
["(",null,",",{"$f":"DataEntry!N908","v":0},",",{"$f":"DataEntry!P908","v":{"$error":"#N/A"}},")",","]
["(",null,",",{"$f":"DataEntry!N909","v":0},",",{"$f":"DataEntry!P909","v":{"$error":"#N/A"}},")",","]
["(",null,",",{"$f":"DataEntry!N910","v":0},",",{"$f":"DataEntry!P910","v":{"$error":"#N/A"}},")",","]
["(",null,",",{"$f":"DataEntry!N911","v":0},",",{"$f":"DataEntry!P911","v":{"$error":"#N/A"}},")",","]
["(",null,",",{"$f":"DataEntry!N912","v":0},",",{"$f":"DataEntry!P912","v":{"$error":"#N/A"}},")",","]
["(",null,",",{"$f":"DataEntry!N913","v":0},",",{"$f":"DataEntry!P913","v":{"$error":"#N/A"}},")",","]
["(",null,",",{"$f":"DataEntry!N914","v":0},",",{"$f":"DataEntry!P914","v":{"$error":"#N/A"}},")",","]
["(",null,",",{"$f":"DataEntry!N915","v":0},",",{"$f":"DataEntry!P915","v":{"$error":"#N/A"}},")",","]
["(",null,",",{"$f":"DataEntry!N916","v":0},",",{"$f":"DataEntry!P916","v":{"$error":"#N/A"}},")",","]
["(",null,",",{"$f":"DataEntry!N917","v":0},",",{"$f":"DataEntry!P917","v":{"$error":"#N/A"}},")",","]
["(",null,",",{"$f":"DataEntry!N918","v":0},",",{"$f":"DataEntry!P918","v":{"$error":"#N/A"}},")",","]
["(",null,",",{"$f":"DataEntry!N919","v":0},",",{"$f":"DataEntry!P919","v":{"$error":"#N/A"}},")",","]
["(",null,",",{"$f":"DataEntry!N920","v":0},",",{"$f":"DataEntry!P920","v":{"$error":"#N/A"}},")",","]
["(",null,",",{"$f":"DataEntry!N921","v":0},",",{"$f":"DataEntry!P921","v":{"$error":"#N/A"}},")",","]
["(",null,",",{"$f":"DataEntry!N922","v":0},",",{"$f":"DataEntry!P922","v":{"$error":"#N/A"}},")",","]
["(",null,",",{"$f":"DataEntry!N923","v":0},",",{"$f":"DataEntry!P923","v":{"$error":"#N/A"}},")",","]
["(",null,",",{"$f":"DataEntry!N924","v":0},",",{"$f":"DataEntry!P924","v":{"$error":"#N/A"}},")",","]
["(",null,",",{"$f":"DataEntry!N925","v":0},",",{"$f":"DataEntry!P925","v":{"$error":"#N/A"}},")",","]
["(",null,",",{"$f":"DataEntry!N926","v":0},",",{"$f":"DataEntry!P926","v":{"$error":"#N/A"}},")",","]
["(",null,",",{"$f":"DataEntry!N927","v":0},",",{"$f":"DataEntry!P927","v":{"$error":"#N/A"}},")",","]
["(",null,",",{"$f":"DataEntry!N928","v":0},",",{"$f":"DataEntry!P928","v":{"$error":"#N/A"}},")",","]
["(",null,",",{"$f":"DataEntry!N929","v":0},",",{"$f":"DataEntry!P929","v":{"$error":"#N/A"}},")",","]
["(",null,",",{"$f":"DataEntry!N930","v":0},",",{"$f":"DataEntry!P930","v":{"$error":"#N/A"}},")",","]
["(",null,",",{"$f":"DataEntry!N931","v":0},",",{"$f":"DataEntry!P931","v":{"$error":"#N/A"}},")",","]
["(",null,",",{"$f":"DataEntry!N932","v":0},",",{"$f":"DataEntry!P932","v":{"$error":"#N/A"}},")",","]
["(",null,",",{"$f":"DataEntry!N933","v":0},",",{"$f":"DataEntry!P933","v":{"$error":"#N/A"}},")",","]
["(",null,",",{"$f":"DataEntry!N934","v":0},",",{"$f":"DataEntry!P934","v":{"$error":"#N/A"}},")",","]
["(",null,",",{"$f":"DataEntry!N935","v":0},",",{"$f":"DataEntry!P935","v":{"$error":"#N/A"}},")",","]
["(",null,",",{"$f":"DataEntry!N936","v":0},",",{"$f":"DataEntry!P936","v":{"$error":"#N/A"}},")",","]
["(",null,",",{"$f":"DataEntry!N937","v":0},",",{"$f":"DataEntry!P937","v":{"$error":"#N/A"}},")",","]
["(",null,",",{"$f":"DataEntry!N938","v":0},",",{"$f":"DataEntry!P938","v":{"$error":"#N/A"}},")",","]
["(",null,",",{"$f":"DataEntry!N939","v":0},",",{"$f":"DataEntry!P939","v":{"$error":"#N/A"}},")",","]
["(",null,",",{"$f":"DataEntry!N940","v":0},",",{"$f":"DataEntry!P940","v":{"$error":"#N/A"}},")",","]
["(",null,",",{"$f":"DataEntry!N941","v":0},",",{"$f":"DataEntry!P941","v":{"$error":"#N/A"}},")",","]
["(",null,",",{"$f":"DataEntry!N942","v":0},",",{"$f":"DataEntry!P942","v":{"$error":"#N/A"}},")",","]
["(",null,",",{"$f":"DataEntry!N943","v":0},",",{"$f":"DataEntry!P943","v":{"$error":"#N/A"}},")",","]
["(",null,",",{"$f":"DataEntry!N944","v":0},",",{"$f":"DataEntry!P944","v":{"$error":"#N/A"}},")",","]
["(",null,",",{"$f":"DataEntry!N945","v":0},",",{"$f":"DataEntry!P945","v":{"$error":"#N/A"}},")",","]
["(",null,",",{"$f":"DataEntry!N946","v":0},",",{"$f":"DataEntry!P946","v":{"$error":"#N/A"}},")",","]
["(",null,",",{"$f":"DataEntry!N947","v":0},",",{"$f":"DataEntry!P947","v":{"$error":"#N/A"}},")",","]
["(",null,",",{"$f":"DataEntry!N948","v":0},",",{"$f":"DataEntry!P948","v":{"$error":"#N/A"}},")",","]
["(",null,",",{"$f":"DataEntry!N949","v":0},",",{"$f":"DataEntry!P949","v":{"$error":"#N/A"}},")",","]
["(",null,",",{"$f":"DataEntry!N950","v":0},",",{"$f":"DataEntry!P950","v":{"$error":"#N/A"}},")",","]
["(",null,",",{"$f":"DataEntry!N951","v":0},",",{"$f":"DataEntry!P951","v":{"$error":"#N/A"}},")",","]
["(",null,",",{"$f":"DataEntry!N952","v":0},",",{"$f":"DataEntry!P952","v":{"$error":"#N/A"}},")",","]
["(",null,",",{"$f":"DataEntry!N953","v":0},",",{"$f":"DataEntry!P953","v":{"$error":"#N/A"}},")",","]
["(",null,",",{"$f":"DataEntry!N954","v":0},",",{"$f":"DataEntry!P954","v":{"$error":"#N/A"}},")",","]
["(",null,",",{"$f":"DataEntry!N955","v":0},",",{"$f":"DataEntry!P955","v":{"$error":"#N/A"}},")",","]
["(",null,",",{"$f":"DataEntry!N956","v":0},",",{"$f":"DataEntry!P956","v":{"$error":"#N/A"}},")",","]
["(",null,",",{"$f":"DataEntry!N957","v":0},",",{"$f":"DataEntry!P957","v":{"$error":"#N/A"}},")",","]
["(",null,",",{"$f":"DataEntry!N958","v":0},",",{"$f":"DataEntry!P958","v":{"$error":"#N/A"}},")",","]
["(",null,",",{"$f":"DataEntry!N959","v":0},",",{"$f":"DataEntry!P959","v":{"$error":"#N/A"}},")",","]
["(",null,",",{"$f":"DataEntry!N960","v":0},",",{"$f":"DataEntry!P960","v":{"$error":"#N/A"}},")",","]
["(",null,",",{"$f":"DataEntry!N961","v":0},",",{"$f":"DataEntry!P961","v":{"$error":"#N/A"}},")",","]
["(",null,",",{"$f":"DataEntry!N962","v":0},",",{"$f":"DataEntry!P962","v":{"$error":"#N/A"}},")",","]
["(",null,",",{"$f":"DataEntry!N963","v":0},",",{"$f":"DataEntry!P963","v":{"$error":"#N/A"}},")",","]
["(",null,",",{"$f":"DataEntry!N964","v":0},",",{"$f":"DataEntry!P964","v":{"$error":"#N/A"}},")",","]
["(",null,",",{"$f":"DataEntry!N965","v":0},",",{"$f":"DataEntry!P965","v":{"$error":"#N/A"}},")",","]
["(",null,",",{"$f":"DataEntry!N966","v":0},",",{"$f":"DataEntry!P966","v":{"$error":"#N/A"}},")",","]
["(",null,",",{"$f":"DataEntry!N967","v":0},",",{"$f":"DataEntry!P967","v":{"$error":"#N/A"}},")",","]
["(",null,",",{"$f":"DataEntry!N968","v":0},",",{"$f":"DataEntry!P968","v":{"$error":"#N/A"}},")",","]
["(",null,",",{"$f":"DataEntry!N969","v":0},",",{"$f":"DataEntry!P969","v":{"$error":"#N/A"}},")",","]
["(",null,",",{"$f":"DataEntry!N970","v":0},",",{"$f":"DataEntry!P970","v":{"$error":"#N/A"}},")",","]
["(",null,",",{"$f":"DataEntry!N971","v":0},",",{"$f":"DataEntry!P971","v":{"$error":"#N/A"}},")",","]
["(",null,",",{"$f":"DataEntry!N972","v":0},",",{"$f":"DataEntry!P972","v":{"$error":"#N/A"}},")",","]
["(",null,",",{"$f":"DataEntry!N973","v":0},",",{"$f":"DataEntry!P973","v":{"$error":"#N/A"}},")",","]
["(",null,",",{"$f":"DataEntry!N974","v":0},",",{"$f":"DataEntry!P974","v":{"$error":"#N/A"}},")",","]
["(",null,",",{"$f":"DataEntry!N975","v":0},",",{"$f":"DataEntry!P975","v":{"$error":"#N/A"}},")",","]
["(",null,",",{"$f":"DataEntry!N976","v":0},",",{"$f":"DataEntry!P976","v":{"$error":"#N/A"}},")",","]
["(",null,",",{"$f":"DataEntry!N977","v":0},",",{"$f":"DataEntry!P977","v":{"$error":"#N/A"}},")",","]
["(",null,",",{"$f":"DataEntry!N978","v":0},",",{"$f":"DataEntry!P978","v":{"$error":"#N/A"}},")",","]
["(",null,",",{"$f":"DataEntry!N979","v":0},",",{"$f":"DataEntry!P979","v":{"$error":"#N/A"}},")",","]
["(",null,",",{"$f":"DataEntry!N980","v":0},",",{"$f":"DataEntry!P980","v":{"$error":"#N/A"}},")",","]
["(",null,",",{"$f":"DataEntry!N981","v":0},",",{"$f":"DataEntry!P981","v":{"$error":"#N/A"}},")",","]
["(",null,",",{"$f":"DataEntry!N982","v":0},",",{"$f":"DataEntry!P982","v":{"$error":"#N/A"}},")",","]
["(",null,",",{"$f":"DataEntry!N983","v":0},",",{"$f":"DataEntry!P983","v":{"$error":"#N/A"}},")",","]
["(",null,",",{"$f":"DataEntry!N984","v":0},",",{"$f":"DataEntry!P984","v":{"$error":"#N/A"}},")",","]
["(",null,",",{"$f":"DataEntry!N985","v":0},",",{"$f":"DataEntry!P985","v":{"$error":"#N/A"}},")",","]
["(",null,",",{"$f":"DataEntry!N986","v":0},",",{"$f":"DataEntry!P986","v":{"$error":"#N/A"}},")",","]
["(",null,",",{"$f":"DataEntry!N987","v":0},",",{"$f":"DataEntry!P987","v":{"$error":"#N/A"}},")",","]
["(",null,",",{"$f":"DataEntry!N988","v":0},",",{"$f":"DataEntry!P988","v":{"$error":"#N/A"}},")",","]
["(",null,",",{"$f":"DataEntry!N989","v":0},",",{"$f":"DataEntry!P989","v":{"$error":"#N/A"}},")",","]
["(",null,",",{"$f":"DataEntry!N990","v":0},",",{"$f":"DataEntry!P990","v":{"$error":"#N/A"}},")",","]
["(",null,",",{"$f":"DataEntry!N991","v":0},",",{"$f":"DataEntry!P991","v":{"$error":"#N/A"}},")",","]
["(",null,",",{"$f":"DataEntry!N992","v":0},",",{"$f":"DataEntry!P992","v":{"$error":"#N/A"}},")",","]
["(",null,",",{"$f":"DataEntry!N993","v":0},",",{"$f":"DataEntry!P993","v":{"$error":"#N/A"}},")",","]
["(",null,",",{"$f":"DataEntry!N994","v":0},",",{"$f":"DataEntry!P994","v":{"$error":"#N/A"}},")",","]
["(",null,",",{"$f":"DataEntry!N995","v":0},",",{"$f":"DataEntry!P995","v":{"$error":"#N/A"}},")",","]
["(",null,",",{"$f":"DataEntry!N996","v":0},",",{"$f":"DataEntry!P996","v":{"$error":"#N/A"}},")",","]
["(",null,",",{"$f":"DataEntry!N997","v":0},",",{"$f":"DataEntry!P997","v":{"$error":"#N/A"}},")",","]
["(",null,",",{"$f":"DataEntry!N998","v":0},",",{"$f":"DataEntry!P998","v":{"$error":"#N/A"}},")",","]
["(",null,",",{"$f":"DataEntry!N999","v":0},",",{"$f":"DataEntry!P999","v":{"$error":"#N/A"}},")",","]
["(",null,",",{"$f":"DataEntry!N1000","v":0},",",{"$f":"DataEntry!P1000","v":{"$error":"#N/A"}},")",","]
["(",null,",",{"$f":"DataEntry!N1001","v":0},",",{"$f":"DataEntry!P1001","v":0},")",","]
["(",null,",",{"$f":"DataEntry!N1002","v":0},",",{"$f":"DataEntry!P1002","v":0},")",","]
["(",null,",",{"$f":"DataEntry!N1003","v":0},",",{"$f":"DataEntry!P1003","v":0},")",","]
["(",null,",",{"$f":"DataEntry!N1004","v":0},",",{"$f":"DataEntry!P1004","v":0},")",","]
["(",null,",",{"$f":"DataEntry!N1005","v":0},",",{"$f":"DataEntry!P1005","v":0},")",","]
["(",null,",",{"$f":"DataEntry!N1006","v":0},",",{"$f":"DataEntry!P1006","v":0},")",","]
["(",null,",",{"$f":"DataEntry!N1007","v":0},",",{"$f":"DataEntry!P1007","v":0},")",","]
["(",null,",",{"$f":"DataEntry!N1008","v":0},",",{"$f":"DataEntry!P1008","v":0},")",","]
["(",null,",",{"$f":"DataEntry!N1009","v":0},",",{"$f":"DataEntry!P1009","v":0},")",","]
["(",null,",",{"$f":"DataEntry!N1010","v":0},",",{"$f":"DataEntry!P1010","v":0},")",","]
["(",null,",",{"$f":"DataEntry!N1011","v":0},",",{"$f":"DataEntry!P1011","v":0},")",","]

{"sheet":"SQL4","index":12,"n_rows":1136,"n_cols":6,"rows_kept":1136,"cut":false,"hidden":false,"merged":[]}
["INSERT INTO vegetation_species_outside_plots (vegetation_monitoring_id, accepted_species_id)"]
["VALUES"]
["(",62,",",{"$f":"DataEntry!S14","v":{"$error":"#N/A"}},")",","]
["(",62,",",{"$f":"DataEntry!S15","v":{"$error":"#N/A"}},")",","]
["(",62,",",{"$f":"DataEntry!S16","v":{"$error":"#N/A"}},")",","]
["(",62,",",{"$f":"DataEntry!S17","v":{"$error":"#N/A"}},")",","]
["(",62,",",{"$f":"DataEntry!S18","v":{"$error":"#N/A"}},")",","]
["(",62,",",{"$f":"DataEntry!S19","v":{"$error":"#N/A"}},")",","]
["(",62,",",{"$f":"DataEntry!S20","v":{"$error":"#N/A"}},")",","]
["(",62,",",{"$f":"DataEntry!S21","v":{"$error":"#N/A"}},")",","]
["(",62,",",{"$f":"DataEntry!S22","v":{"$error":"#N/A"}},")",","]
["(",null,",",{"$f":"DataEntry!S23","v":{"$error":"#N/A"}},")",","]
["(",null,",",{"$f":"DataEntry!S24","v":{"$error":"#N/A"}},")",","]
["(",null,",",{"$f":"DataEntry!S25","v":{"$error":"#N/A"}},")",","]
["(",null,",",{"$f":"DataEntry!S26","v":{"$error":"#N/A"}},")",","]
["(",null,",",{"$f":"DataEntry!S27","v":{"$error":"#N/A"}},")",","]
["(",null,",",{"$f":"DataEntry!S28","v":{"$error":"#N/A"}},")",","]
["(",null,",",{"$f":"DataEntry!S29","v":{"$error":"#N/A"}},")",","]
["(",null,",",{"$f":"DataEntry!S30","v":{"$error":"#N/A"}},")",","]
["(",null,",",{"$f":"DataEntry!S31","v":{"$error":"#N/A"}},")",","]
["(",null,",",{"$f":"DataEntry!S32","v":{"$error":"#N/A"}},")",","]
["(",null,",",{"$f":"DataEntry!S33","v":{"$error":"#N/A"}},")",","]
["(",null,",",{"$f":"DataEntry!S34","v":{"$error":"#N/A"}},")",","]
["(",null,",",{"$f":"DataEntry!S35","v":{"$error":"#N/A"}},")",","]
["(",null,",",{"$f":"DataEntry!S36","v":{"$error":"#N/A"}},")",","]
["(",null,",",{"$f":"DataEntry!S37","v":{"$error":"#N/A"}},")",","]
["(",null,",",{"$f":"DataEntry!S38","v":{"$error":"#N/A"}},")",","]
["(",null,",",{"$f":"DataEntry!S39","v":{"$error":"#N/A"}},")",","]
["(",null,",",{"$f":"DataEntry!S40","v":{"$error":"#N/A"}},")",","]
["(",null,",",{"$f":"DataEntry!S41","v":{"$error":"#N/A"}},")",","]
["(",null,",",{"$f":"DataEntry!S42","v":{"$error":"#N/A"}},")",","]
["(",null,",",{"$f":"DataEntry!S43","v":{"$error":"#N/A"}},")",","]
["(",null,",",{"$f":"DataEntry!S44","v":{"$error":"#N/A"}},")",","]
["(",null,",",{"$f":"DataEntry!S45","v":{"$error":"#N/A"}},")",","]
["(",null,",",{"$f":"DataEntry!S46","v":{"$error":"#N/A"}},")",","]
["(",null,",",{"$f":"DataEntry!S47","v":{"$error":"#N/A"}},")",","]
["(",null,",",{"$f":"DataEntry!S48","v":{"$error":"#N/A"}},")",","]
["(",null,",",{"$f":"DataEntry!S49","v":{"$error":"#N/A"}},")",","]
["(",null,",",{"$f":"DataEntry!S50","v":{"$error":"#N/A"}},")",","]
["(",null,",",{"$f":"DataEntry!S51","v":{"$error":"#N/A"}},")",","]
["(",null,",",{"$f":"DataEntry!S52","v":{"$error":"#N/A"}},")",","]
["(",null,",",{"$f":"DataEntry!S53","v":{"$error":"#N/A"}},")",","]
["(",null,",",{"$f":"DataEntry!S54","v":{"$error":"#N/A"}},")",","]
["(",null,",",{"$f":"DataEntry!S55","v":{"$error":"#N/A"}},")",","]
["(",null,",",{"$f":"DataEntry!S56","v":{"$error":"#N/A"}},")",","]
["(",null,",",{"$f":"DataEntry!S57","v":{"$error":"#N/A"}},")",","]
["(",null,",",{"$f":"DataEntry!S58","v":{"$error":"#N/A"}},")",","]
["(",null,",",{"$f":"DataEntry!S59","v":{"$error":"#N/A"}},")",","]
["(",null,",",{"$f":"DataEntry!S60","v":{"$error":"#N/A"}},")",","]
["(",null,",",{"$f":"DataEntry!S61","v":{"$error":"#N/A"}},")",","]
["(",null,",",{"$f":"DataEntry!S62","v":{"$error":"#N/A"}},")",","]
["(",null,",",{"$f":"DataEntry!S63","v":{"$error":"#N/A"}},")",","]
["(",null,",",{"$f":"DataEntry!S64","v":{"$error":"#N/A"}},")",","]
["(",null,",",{"$f":"DataEntry!S65","v":{"$error":"#N/A"}},")",","]
["(",null,",",{"$f":"DataEntry!S66","v":{"$error":"#N/A"}},")",","]
["(",null,",",{"$f":"DataEntry!S67","v":{"$error":"#N/A"}},")",","]
["(",null,",",{"$f":"DataEntry!S68","v":{"$error":"#N/A"}},")",","]
["(",null,",",{"$f":"DataEntry!S69","v":{"$error":"#N/A"}},")",","]
["(",null,",",{"$f":"DataEntry!S70","v":{"$error":"#N/A"}},")",","]
["(",null,",",{"$f":"DataEntry!S71","v":{"$error":"#N/A"}},")",","]
["(",null,",",{"$f":"DataEntry!S72","v":{"$error":"#N/A"}},")",","]
["(",null,",",{"$f":"DataEntry!S73","v":{"$error":"#N/A"}},")",","]
["(",null,",",{"$f":"DataEntry!S74","v":{"$error":"#N/A"}},")",","]
["(",null,",",{"$f":"DataEntry!S75","v":{"$error":"#N/A"}},")",","]
["(",null,",",{"$f":"DataEntry!S76","v":{"$error":"#N/A"}},")",","]
["(",null,",",{"$f":"DataEntry!S77","v":{"$error":"#N/A"}},")",","]
["(",null,",",{"$f":"DataEntry!S78","v":{"$error":"#N/A"}},")",","]
["(",null,",",{"$f":"DataEntry!S79","v":{"$error":"#N/A"}},")",","]
["(",null,",",{"$f":"DataEntry!S80","v":{"$error":"#N/A"}},")",","]
["(",null,",",{"$f":"DataEntry!S81","v":{"$error":"#N/A"}},")",","]
["(",null,",",{"$f":"DataEntry!S82","v":{"$error":"#N/A"}},")",","]
["(",null,",",{"$f":"DataEntry!S83","v":{"$error":"#N/A"}},")",","]
["(",null,",",{"$f":"DataEntry!S84","v":{"$error":"#N/A"}},")",","]
["(",null,",",{"$f":"DataEntry!S85","v":{"$error":"#N/A"}},")",","]
["(",null,",",{"$f":"DataEntry!S86","v":{"$error":"#N/A"}},")",","]
["(",null,",",{"$f":"DataEntry!S87","v":{"$error":"#N/A"}},")",","]
["(",null,",",{"$f":"DataEntry!S88","v":{"$error":"#N/A"}},")",","]
["(",null,",",{"$f":"DataEntry!S89","v":{"$error":"#N/A"}},")",","]
["(",null,",",{"$f":"DataEntry!S90","v":{"$error":"#N/A"}},")",","]
["(",null,",",{"$f":"DataEntry!S91","v":{"$error":"#N/A"}},")",","]
["(",null,",",{"$f":"DataEntry!S92","v":{"$error":"#N/A"}},")",","]
["(",null,",",{"$f":"DataEntry!S93","v":{"$error":"#N/A"}},")",","]
["(",null,",",{"$f":"DataEntry!S94","v":{"$error":"#N/A"}},")",","]
["(",null,",",{"$f":"DataEntry!S95","v":{"$error":"#N/A"}},")",","]
["(",null,",",{"$f":"DataEntry!S96","v":{"$error":"#N/A"}},")",","]
["(",null,",",{"$f":"DataEntry!S97","v":{"$error":"#N/A"}},")",","]
["(",null,",",{"$f":"DataEntry!S98","v":{"$error":"#N/A"}},")",","]
["(",null,",",{"$f":"DataEntry!S99","v":{"$error":"#N/A"}},")",","]
["(",null,",",{"$f":"DataEntry!S100","v":{"$error":"#N/A"}},")",","]
["(",null,",",{"$f":"DataEntry!S101","v":{"$error":"#N/A"}},")",","]
["(",null,",",{"$f":"DataEntry!S102","v":{"$error":"#N/A"}},")",","]
["(",null,",",{"$f":"DataEntry!S103","v":{"$error":"#N/A"}},")",","]
["(",null,",",{"$f":"DataEntry!S104","v":{"$error":"#N/A"}},")",","]
["(",null,",",{"$f":"DataEntry!S105","v":{"$error":"#N/A"}},")",","]
["(",null,",",{"$f":"DataEntry!S106","v":{"$error":"#N/A"}},")",","]
["(",null,",",{"$f":"DataEntry!S107","v":{"$error":"#N/A"}},")",","]
["(",null,",",{"$f":"DataEntry!S108","v":{"$error":"#N/A"}},")",","]
["(",null,",",{"$f":"DataEntry!S109","v":{"$error":"#N/A"}},")",","]
["(",null,",",{"$f":"DataEntry!S110","v":{"$error":"#N/A"}},")",","]
["(",null,",",{"$f":"DataEntry!S111","v":{"$error":"#N/A"}},")",","]
["(",null,",",{"$f":"DataEntry!S112","v":{"$error":"#N/A"}},")",","]
["(",null,",",{"$f":"DataEntry!S113","v":{"$error":"#N/A"}},")",","]
["(",null,",",{"$f":"DataEntry!S114","v":{"$error":"#N/A"}},")",","]
["(",null,",",{"$f":"DataEntry!S115","v":{"$error":"#N/A"}},")",","]
["(",null,",",{"$f":"DataEntry!S116","v":{"$error":"#N/A"}},")",","]
["(",null,",",{"$f":"DataEntry!S117","v":{"$error":"#N/A"}},")",","]
["(",null,",",{"$f":"DataEntry!S118","v":{"$error":"#N/A"}},")",","]
["(",null,",",{"$f":"DataEntry!S119","v":{"$error":"#N/A"}},")",","]
["(",null,",",{"$f":"DataEntry!S120","v":{"$error":"#N/A"}},")",","]
["(",null,",",{"$f":"DataEntry!S121","v":{"$error":"#N/A"}},")",","]
["(",null,",",{"$f":"DataEntry!S122","v":{"$error":"#N/A"}},")",","]
["(",null,",",{"$f":"DataEntry!S123","v":{"$error":"#N/A"}},")",","]
["(",null,",",{"$f":"DataEntry!S124","v":{"$error":"#N/A"}},")",","]
["(",null,",",{"$f":"DataEntry!S125","v":{"$error":"#N/A"}},")",","]
["(",null,",",{"$f":"DataEntry!S126","v":{"$error":"#N/A"}},")",","]
["(",null,",",{"$f":"DataEntry!S127","v":{"$error":"#N/A"}},")",","]
["(",null,",",{"$f":"DataEntry!S128","v":{"$error":"#N/A"}},")",","]
["(",null,",",{"$f":"DataEntry!S129","v":{"$error":"#N/A"}},")",","]
["(",null,",",{"$f":"DataEntry!S130","v":{"$error":"#N/A"}},")",","]
["(",null,",",{"$f":"DataEntry!S131","v":{"$error":"#N/A"}},")",","]
["(",null,",",{"$f":"DataEntry!S132","v":{"$error":"#N/A"}},")",","]
["(",null,",",{"$f":"DataEntry!S133","v":{"$error":"#N/A"}},")",","]
["(",null,",",{"$f":"DataEntry!S134","v":{"$error":"#N/A"}},")",","]
["(",null,",",{"$f":"DataEntry!S135","v":{"$error":"#N/A"}},")",","]
["(",null,",",{"$f":"DataEntry!S136","v":{"$error":"#N/A"}},")",","]
["(",null,",",{"$f":"DataEntry!S137","v":{"$error":"#N/A"}},")",","]
["(",null,",",{"$f":"DataEntry!S138","v":{"$error":"#N/A"}},")",","]
["(",null,",",{"$f":"DataEntry!S139","v":{"$error":"#N/A"}},")",","]
["(",null,",",{"$f":"DataEntry!S140","v":{"$error":"#N/A"}},")",","]
["(",null,",",{"$f":"DataEntry!S141","v":{"$error":"#N/A"}},")",","]
["(",null,",",{"$f":"DataEntry!S142","v":{"$error":"#N/A"}},")",","]
["(",null,",",{"$f":"DataEntry!S143","v":{"$error":"#N/A"}},")",","]
["(",null,",",{"$f":"DataEntry!S144","v":{"$error":"#N/A"}},")",","]
["(",null,",",{"$f":"DataEntry!S145","v":{"$error":"#N/A"}},")",","]
["(",null,",",{"$f":"DataEntry!S146","v":{"$error":"#N/A"}},")",","]
["(",null,",",{"$f":"DataEntry!S147","v":{"$error":"#N/A"}},")",","]
["(",null,",",{"$f":"DataEntry!S148","v":{"$error":"#N/A"}},")",","]
["(",null,",",{"$f":"DataEntry!S149","v":{"$error":"#N/A"}},")",","]
["(",null,",",{"$f":"DataEntry!S150","v":{"$error":"#N/A"}},")",","]
["(",null,",",{"$f":"DataEntry!S151","v":{"$error":"#N/A"}},")",","]
["(",null,",",{"$f":"DataEntry!S152","v":{"$error":"#N/A"}},")",","]
["(",null,",",{"$f":"DataEntry!S153","v":{"$error":"#N/A"}},")",","]
["(",null,",",{"$f":"DataEntry!S154","v":{"$error":"#N/A"}},")",","]
["(",null,",",{"$f":"DataEntry!S155","v":{"$error":"#N/A"}},")",","]
["(",null,",",{"$f":"DataEntry!S156","v":{"$error":"#N/A"}},")",","]
["(",null,",",{"$f":"DataEntry!S157","v":{"$error":"#N/A"}},")",","]
["(",null,",",{"$f":"DataEntry!S158","v":{"$error":"#N/A"}},")",","]
["(",null,",",{"$f":"DataEntry!S159","v":{"$error":"#N/A"}},")",","]
["(",null,",",{"$f":"DataEntry!S160","v":{"$error":"#N/A"}},")",","]
["(",null,",",{"$f":"DataEntry!S161","v":{"$error":"#N/A"}},")",","]
["(",null,",",{"$f":"DataEntry!S162","v":{"$error":"#N/A"}},")",","]
["(",null,",",{"$f":"DataEntry!S163","v":{"$error":"#N/A"}},")",","]
["(",null,",",{"$f":"DataEntry!S164","v":{"$error":"#N/A"}},")",","]
["(",null,",",{"$f":"DataEntry!S165","v":{"$error":"#N/A"}},")",","]
["(",null,",",{"$f":"DataEntry!S166","v":{"$error":"#N/A"}},")",","]
["(",null,",",{"$f":"DataEntry!S167","v":{"$error":"#N/A"}},")",","]
["(",null,",",{"$f":"DataEntry!S168","v":{"$error":"#N/A"}},")",","]
["(",null,",",{"$f":"DataEntry!S169","v":{"$error":"#N/A"}},")",","]
["(",null,",",{"$f":"DataEntry!S170","v":{"$error":"#N/A"}},")",","]
["(",null,",",{"$f":"DataEntry!S171","v":{"$error":"#N/A"}},")",","]
["(",null,",",{"$f":"DataEntry!S172","v":{"$error":"#N/A"}},")",","]
["(",null,",",{"$f":"DataEntry!S173","v":{"$error":"#N/A"}},")",","]
["(",null,",",{"$f":"DataEntry!S174","v":{"$error":"#N/A"}},")",","]
["(",null,",",{"$f":"DataEntry!S175","v":{"$error":"#N/A"}},")",","]
["(",null,",",{"$f":"DataEntry!S176","v":{"$error":"#N/A"}},")",","]
["(",null,",",{"$f":"DataEntry!S177","v":{"$error":"#N/A"}},")",","]
["(",null,",",{"$f":"DataEntry!S178","v":{"$error":"#N/A"}},")",","]
["(",null,",",{"$f":"DataEntry!S179","v":{"$error":"#N/A"}},")",","]
["(",null,",",{"$f":"DataEntry!S180","v":{"$error":"#N/A"}},")",","]
["(",null,",",{"$f":"DataEntry!S181","v":{"$error":"#N/A"}},")",","]
["(",null,",",{"$f":"DataEntry!S182","v":{"$error":"#N/A"}},")",","]
["(",null,",",{"$f":"DataEntry!S183","v":{"$error":"#N/A"}},")",","]
["(",null,",",{"$f":"DataEntry!S184","v":{"$error":"#N/A"}},")",","]
["(",null,",",{"$f":"DataEntry!S185","v":{"$error":"#N/A"}},")",","]
["(",null,",",{"$f":"DataEntry!S186","v":{"$error":"#N/A"}},")",","]
["(",null,",",{"$f":"DataEntry!S187","v":{"$error":"#N/A"}},")",","]
["(",null,",",{"$f":"DataEntry!S188","v":{"$error":"#N/A"}},")",","]
["(",null,",",{"$f":"DataEntry!S189","v":{"$error":"#N/A"}},")",","]
["(",null,",",{"$f":"DataEntry!S190","v":{"$error":"#N/A"}},")",","]
["(",null,",",{"$f":"DataEntry!S191","v":{"$error":"#N/A"}},")",","]
["(",null,",",{"$f":"DataEntry!S192","v":{"$error":"#N/A"}},")",","]
["(",null,",",{"$f":"DataEntry!S193","v":{"$error":"#N/A"}},")",","]
["(",null,",",{"$f":"DataEntry!S194","v":{"$error":"#N/A"}},")",","]
["(",null,",",{"$f":"DataEntry!S195","v":{"$error":"#N/A"}},")",","]
["(",null,",",{"$f":"DataEntry!S196","v":{"$error":"#N/A"}},")",","]
["(",null,",",{"$f":"DataEntry!S197","v":{"$error":"#N/A"}},")",","]
["(",null,",",{"$f":"DataEntry!S198","v":{"$error":"#N/A"}},")",","]
["(",null,",",{"$f":"DataEntry!S199","v":{"$error":"#N/A"}},")",","]
["(",null,",",{"$f":"DataEntry!S200","v":{"$error":"#N/A"}},")",","]
["(",null,",",{"$f":"DataEntry!S201","v":{"$error":"#N/A"}},")",","]
["(",null,",",{"$f":"DataEntry!S202","v":{"$error":"#N/A"}},")",","]
["(",null,",",{"$f":"DataEntry!S203","v":{"$error":"#N/A"}},")",","]
["(",null,",",{"$f":"DataEntry!S204","v":{"$error":"#N/A"}},")",","]
["(",null,",",{"$f":"DataEntry!S205","v":{"$error":"#N/A"}},")",","]
["(",null,",",{"$f":"DataEntry!S206","v":{"$error":"#N/A"}},")",","]
["(",null,",",{"$f":"DataEntry!S207","v":{"$error":"#N/A"}},")",","]
["(",null,",",{"$f":"DataEntry!S208","v":{"$error":"#N/A"}},")",","]
["(",null,",",{"$f":"DataEntry!S209","v":{"$error":"#N/A"}},")",","]
["(",null,",",{"$f":"DataEntry!S210","v":{"$error":"#N/A"}},")",","]
["(",null,",",{"$f":"DataEntry!S211","v":{"$error":"#N/A"}},")",","]
["(",null,",",{"$f":"DataEntry!S212","v":{"$error":"#N/A"}},")",","]
["(",null,",",{"$f":"DataEntry!S213","v":{"$error":"#N/A"}},")",","]
["(",null,",",{"$f":"DataEntry!S214","v":{"$error":"#N/A"}},")",","]
["(",null,",",{"$f":"DataEntry!S215","v":{"$error":"#N/A"}},")",","]
["(",null,",",{"$f":"DataEntry!S216","v":{"$error":"#N/A"}},")",","]
["(",null,",",{"$f":"DataEntry!S217","v":{"$error":"#N/A"}},")",","]
["(",null,",",{"$f":"DataEntry!S218","v":{"$error":"#N/A"}},")",","]
["(",null,",",{"$f":"DataEntry!S219","v":{"$error":"#N/A"}},")",","]
["(",null,",",{"$f":"DataEntry!S220","v":{"$error":"#N/A"}},")",","]
["(",null,",",{"$f":"DataEntry!S221","v":{"$error":"#N/A"}},")",","]
["(",null,",",{"$f":"DataEntry!S222","v":{"$error":"#N/A"}},")",","]
["(",null,",",{"$f":"DataEntry!S223","v":{"$error":"#N/A"}},")",","]
["(",null,",",{"$f":"DataEntry!S224","v":{"$error":"#N/A"}},")",","]
["(",null,",",{"$f":"DataEntry!S225","v":{"$error":"#N/A"}},")",","]
["(",null,",",{"$f":"DataEntry!S226","v":{"$error":"#N/A"}},")",","]
["(",null,",",{"$f":"DataEntry!S227","v":{"$error":"#N/A"}},")",","]
["(",null,",",{"$f":"DataEntry!S228","v":{"$error":"#N/A"}},")",","]
["(",null,",",{"$f":"DataEntry!S229","v":{"$error":"#N/A"}},")",","]
["(",null,",",{"$f":"DataEntry!S230","v":{"$error":"#N/A"}},")",","]
["(",null,",",{"$f":"DataEntry!S231","v":{"$error":"#N/A"}},")",","]
["(",null,",",{"$f":"DataEntry!S232","v":{"$error":"#N/A"}},")",","]
["(",null,",",{"$f":"DataEntry!S233","v":{"$error":"#N/A"}},")",","]
["(",null,",",{"$f":"DataEntry!S234","v":{"$error":"#N/A"}},")",","]
["(",null,",",{"$f":"DataEntry!S235","v":{"$error":"#N/A"}},")",","]
["(",null,",",{"$f":"DataEntry!S236","v":{"$error":"#N/A"}},")",","]
["(",null,",",{"$f":"DataEntry!S237","v":{"$error":"#N/A"}},")",","]
["(",null,",",{"$f":"DataEntry!S238","v":{"$error":"#N/A"}},")",","]
["(",null,",",{"$f":"DataEntry!S239","v":{"$error":"#N/A"}},")",","]
["(",null,",",{"$f":"DataEntry!S240","v":{"$error":"#N/A"}},")",","]
["(",null,",",{"$f":"DataEntry!S241","v":{"$error":"#N/A"}},")",","]
["(",null,",",{"$f":"DataEntry!S242","v":{"$error":"#N/A"}},")",","]
["(",null,",",{"$f":"DataEntry!S243","v":{"$error":"#N/A"}},")",","]
["(",null,",",{"$f":"DataEntry!S244","v":{"$error":"#N/A"}},")",","]
["(",null,",",{"$f":"DataEntry!S245","v":{"$error":"#N/A"}},")",","]
["(",null,",",{"$f":"DataEntry!S246","v":{"$error":"#N/A"}},")",","]
["(",null,",",{"$f":"DataEntry!S247","v":{"$error":"#N/A"}},")",","]
["(",null,",",{"$f":"DataEntry!S248","v":{"$error":"#N/A"}},")",","]
["(",null,",",{"$f":"DataEntry!S249","v":{"$error":"#N/A"}},")",","]
["(",null,",",{"$f":"DataEntry!S250","v":{"$error":"#N/A"}},")",","]
["(",null,",",{"$f":"DataEntry!S251","v":{"$error":"#N/A"}},")",","]
["(",null,",",{"$f":"DataEntry!S252","v":{"$error":"#N/A"}},")",","]
["(",null,",",{"$f":"DataEntry!S253","v":{"$error":"#N/A"}},")",","]
["(",null,",",{"$f":"DataEntry!S254","v":{"$error":"#N/A"}},")",","]
["(",null,",",{"$f":"DataEntry!S255","v":{"$error":"#N/A"}},")",","]
["(",null,",",{"$f":"DataEntry!S256","v":{"$error":"#N/A"}},")",","]
["(",null,",",{"$f":"DataEntry!S257","v":{"$error":"#N/A"}},")",","]
["(",null,",",{"$f":"DataEntry!S258","v":{"$error":"#N/A"}},")",","]
["(",null,",",{"$f":"DataEntry!S259","v":{"$error":"#N/A"}},")",","]
["(",null,",",{"$f":"DataEntry!S260","v":{"$error":"#N/A"}},")",","]
["(",null,",",{"$f":"DataEntry!S261","v":{"$error":"#N/A"}},")",","]
["(",null,",",{"$f":"DataEntry!S262","v":{"$error":"#N/A"}},")",","]
["(",null,",",{"$f":"DataEntry!S263","v":{"$error":"#N/A"}},")",","]
["(",null,",",{"$f":"DataEntry!S264","v":{"$error":"#N/A"}},")",","]
["(",null,",",{"$f":"DataEntry!S265","v":{"$error":"#N/A"}},")",","]
["(",null,",",{"$f":"DataEntry!S266","v":{"$error":"#N/A"}},")",","]
["(",null,",",{"$f":"DataEntry!S267","v":{"$error":"#N/A"}},")",","]
["(",null,",",{"$f":"DataEntry!S268","v":{"$error":"#N/A"}},")",","]
["(",null,",",{"$f":"DataEntry!S269","v":{"$error":"#N/A"}},")",","]
["(",null,",",{"$f":"DataEntry!S270","v":{"$error":"#N/A"}},")",","]
["(",null,",",{"$f":"DataEntry!S271","v":{"$error":"#N/A"}},")",","]
["(",null,",",{"$f":"DataEntry!S272","v":{"$error":"#N/A"}},")",","]
["(",null,",",{"$f":"DataEntry!S273","v":{"$error":"#N/A"}},")",","]
["(",null,",",{"$f":"DataEntry!S274","v":{"$error":"#N/A"}},")",","]
["(",null,",",{"$f":"DataEntry!S275","v":{"$error":"#N/A"}},")",","]
["(",null,",",{"$f":"DataEntry!S276","v":{"$error":"#N/A"}},")",","]
["(",null,",",{"$f":"DataEntry!S277","v":{"$error":"#N/A"}},")",","]
["(",null,",",{"$f":"DataEntry!S278","v":{"$error":"#N/A"}},")",","]
["(",null,",",{"$f":"DataEntry!S279","v":{"$error":"#N/A"}},")",","]
["(",null,",",{"$f":"DataEntry!S280","v":{"$error":"#N/A"}},")",","]
["(",null,",",{"$f":"DataEntry!S281","v":{"$error":"#N/A"}},")",","]
["(",null,",",{"$f":"DataEntry!S282","v":{"$error":"#N/A"}},")",","]
["(",null,",",{"$f":"DataEntry!S283","v":{"$error":"#N/A"}},")",","]
["(",null,",",{"$f":"DataEntry!S284","v":{"$error":"#N/A"}},")",","]
["(",null,",",{"$f":"DataEntry!S285","v":{"$error":"#N/A"}},")",","]
["(",null,",",{"$f":"DataEntry!S286","v":{"$error":"#N/A"}},")",","]
["(",null,",",{"$f":"DataEntry!S287","v":{"$error":"#N/A"}},")",","]
["(",null,",",{"$f":"DataEntry!S288","v":{"$error":"#N/A"}},")",","]
["(",null,",",{"$f":"DataEntry!S289","v":{"$error":"#N/A"}},")",","]
["(",null,",",{"$f":"DataEntry!S290","v":{"$error":"#N/A"}},")",","]
["(",null,",",{"$f":"DataEntry!S291","v":{"$error":"#N/A"}},")",","]
["(",null,",",{"$f":"DataEntry!S292","v":{"$error":"#N/A"}},")",","]
["(",null,",",{"$f":"DataEntry!S293","v":{"$error":"#N/A"}},")",","]
["(",null,",",{"$f":"DataEntry!S294","v":{"$error":"#N/A"}},")",","]
["(",null,",",{"$f":"DataEntry!S295","v":{"$error":"#N/A"}},")",","]
["(",null,",",{"$f":"DataEntry!S296","v":{"$error":"#N/A"}},")",","]
["(",null,",",{"$f":"DataEntry!S297","v":{"$error":"#N/A"}},")",","]
["(",null,",",{"$f":"DataEntry!S298","v":{"$error":"#N/A"}},")",","]
["(",null,",",{"$f":"DataEntry!S299","v":{"$error":"#N/A"}},")",","]
["(",null,",",{"$f":"DataEntry!S300","v":{"$error":"#N/A"}},")",","]
["(",null,",",{"$f":"DataEntry!S301","v":{"$error":"#N/A"}},")",","]
["(",null,",",{"$f":"DataEntry!S302","v":{"$error":"#N/A"}},")",","]
["(",null,",",{"$f":"DataEntry!S303","v":{"$error":"#N/A"}},")",","]
["(",null,",",{"$f":"DataEntry!S304","v":{"$error":"#N/A"}},")",","]
["(",null,",",{"$f":"DataEntry!S305","v":{"$error":"#N/A"}},")",","]
["(",null,",",{"$f":"DataEntry!S306","v":{"$error":"#N/A"}},")",","]
["(",null,",",{"$f":"DataEntry!S307","v":{"$error":"#N/A"}},")",","]
["(",null,",",{"$f":"DataEntry!S308","v":{"$error":"#N/A"}},")",","]
["(",null,",",{"$f":"DataEntry!S309","v":{"$error":"#N/A"}},")",","]
["(",null,",",{"$f":"DataEntry!S310","v":{"$error":"#N/A"}},")",","]
["(",null,",",{"$f":"DataEntry!S311","v":{"$error":"#N/A"}},")",","]
["(",null,",",{"$f":"DataEntry!S312","v":{"$error":"#N/A"}},")",","]
["(",null,",",{"$f":"DataEntry!S313","v":{"$error":"#N/A"}},")",","]
["(",null,",",{"$f":"DataEntry!S314","v":{"$error":"#N/A"}},")",","]
["(",null,",",{"$f":"DataEntry!S315","v":{"$error":"#N/A"}},")",","]
["(",null,",",{"$f":"DataEntry!S316","v":{"$error":"#N/A"}},")",","]
["(",null,",",{"$f":"DataEntry!S317","v":{"$error":"#N/A"}},")",","]
["(",null,",",{"$f":"DataEntry!S318","v":{"$error":"#N/A"}},")",","]
["(",null,",",{"$f":"DataEntry!S319","v":{"$error":"#N/A"}},")",","]
["(",null,",",{"$f":"DataEntry!S320","v":{"$error":"#N/A"}},")",","]
["(",null,",",{"$f":"DataEntry!S321","v":{"$error":"#N/A"}},")",","]
["(",null,",",{"$f":"DataEntry!S322","v":{"$error":"#N/A"}},")",","]
["(",null,",",{"$f":"DataEntry!S323","v":{"$error":"#N/A"}},")",","]
["(",null,",",{"$f":"DataEntry!S324","v":{"$error":"#N/A"}},")",","]
["(",null,",",{"$f":"DataEntry!S325","v":{"$error":"#N/A"}},")",","]
["(",null,",",{"$f":"DataEntry!S326","v":{"$error":"#N/A"}},")",","]
["(",null,",",{"$f":"DataEntry!S327","v":{"$error":"#N/A"}},")",","]
["(",null,",",{"$f":"DataEntry!S328","v":{"$error":"#N/A"}},")",","]
["(",null,",",{"$f":"DataEntry!S329","v":{"$error":"#N/A"}},")",","]
["(",null,",",{"$f":"DataEntry!S330","v":{"$error":"#N/A"}},")",","]
["(",null,",",{"$f":"DataEntry!S331","v":{"$error":"#N/A"}},")",","]
["(",null,",",{"$f":"DataEntry!S332","v":{"$error":"#N/A"}},")",","]
["(",null,",",{"$f":"DataEntry!S333","v":{"$error":"#N/A"}},")",","]
["(",null,",",{"$f":"DataEntry!S334","v":{"$error":"#N/A"}},")",","]
["(",null,",",{"$f":"DataEntry!S335","v":{"$error":"#N/A"}},")",","]
["(",null,",",{"$f":"DataEntry!S336","v":{"$error":"#N/A"}},")",","]
["(",null,",",{"$f":"DataEntry!S337","v":{"$error":"#N/A"}},")",","]
["(",null,",",{"$f":"DataEntry!S338","v":{"$error":"#N/A"}},")",","]
["(",null,",",{"$f":"DataEntry!S339","v":{"$error":"#N/A"}},")",","]
["(",null,",",{"$f":"DataEntry!S340","v":{"$error":"#N/A"}},")",","]
["(",null,",",{"$f":"DataEntry!S341","v":{"$error":"#N/A"}},")",","]
["(",null,",",{"$f":"DataEntry!S342","v":{"$error":"#N/A"}},")",","]
["(",null,",",{"$f":"DataEntry!S343","v":{"$error":"#N/A"}},")",","]
["(",null,",",{"$f":"DataEntry!S344","v":{"$error":"#N/A"}},")",","]
["(",null,",",{"$f":"DataEntry!S345","v":{"$error":"#N/A"}},")",","]
["(",null,",",{"$f":"DataEntry!S346","v":{"$error":"#N/A"}},")",","]
["(",null,",",{"$f":"DataEntry!S347","v":{"$error":"#N/A"}},")",","]
["(",null,",",{"$f":"DataEntry!S348","v":{"$error":"#N/A"}},")",","]
["(",null,",",{"$f":"DataEntry!S349","v":{"$error":"#N/A"}},")",","]
["(",null,",",{"$f":"DataEntry!S350","v":{"$error":"#N/A"}},")",","]
["(",null,",",{"$f":"DataEntry!S351","v":{"$error":"#N/A"}},")",","]
["(",null,",",{"$f":"DataEntry!S352","v":{"$error":"#N/A"}},")",","]
["(",null,",",{"$f":"DataEntry!S353","v":{"$error":"#N/A"}},")",","]
["(",null,",",{"$f":"DataEntry!S354","v":{"$error":"#N/A"}},")",","]
["(",null,",",{"$f":"DataEntry!S355","v":{"$error":"#N/A"}},")",","]
["(",null,",",{"$f":"DataEntry!S356","v":{"$error":"#N/A"}},")",","]
["(",null,",",{"$f":"DataEntry!S357","v":{"$error":"#N/A"}},")",","]
["(",null,",",{"$f":"DataEntry!S358","v":{"$error":"#N/A"}},")",","]
["(",null,",",{"$f":"DataEntry!S359","v":{"$error":"#N/A"}},")",","]
["(",null,",",{"$f":"DataEntry!S360","v":{"$error":"#N/A"}},")",","]
["(",null,",",{"$f":"DataEntry!S361","v":{"$error":"#N/A"}},")",","]
["(",null,",",{"$f":"DataEntry!S362","v":{"$error":"#N/A"}},")",","]
["(",null,",",{"$f":"DataEntry!S363","v":{"$error":"#N/A"}},")",","]
["(",null,",",{"$f":"DataEntry!S364","v":{"$error":"#N/A"}},")",","]
["(",null,",",{"$f":"DataEntry!S365","v":{"$error":"#N/A"}},")",","]
["(",null,",",{"$f":"DataEntry!S366","v":{"$error":"#N/A"}},")",","]
["(",null,",",{"$f":"DataEntry!S367","v":{"$error":"#N/A"}},")",","]
["(",null,",",{"$f":"DataEntry!S368","v":{"$error":"#N/A"}},")",","]
["(",null,",",{"$f":"DataEntry!S369","v":{"$error":"#N/A"}},")",","]
["(",null,",",{"$f":"DataEntry!S370","v":{"$error":"#N/A"}},")",","]
["(",null,",",{"$f":"DataEntry!S371","v":{"$error":"#N/A"}},")",","]
["(",null,",",{"$f":"DataEntry!S372","v":{"$error":"#N/A"}},")",","]
["(",null,",",{"$f":"DataEntry!S373","v":{"$error":"#N/A"}},")",","]
["(",null,",",{"$f":"DataEntry!S374","v":{"$error":"#N/A"}},")",","]
["(",null,",",{"$f":"DataEntry!S375","v":{"$error":"#N/A"}},")",","]
["(",null,",",{"$f":"DataEntry!S376","v":{"$error":"#N/A"}},")",","]
["(",null,",",{"$f":"DataEntry!S377","v":{"$error":"#N/A"}},")",","]
["(",null,",",{"$f":"DataEntry!S378","v":{"$error":"#N/A"}},")",","]
["(",null,",",{"$f":"DataEntry!S379","v":{"$error":"#N/A"}},")",","]
["(",null,",",{"$f":"DataEntry!S380","v":{"$error":"#N/A"}},")",","]
["(",null,",",{"$f":"DataEntry!S381","v":{"$error":"#N/A"}},")",","]
["(",null,",",{"$f":"DataEntry!S382","v":{"$error":"#N/A"}},")",","]
["(",null,",",{"$f":"DataEntry!S383","v":{"$error":"#N/A"}},")",","]
["(",null,",",{"$f":"DataEntry!S384","v":{"$error":"#N/A"}},")",","]
["(",null,",",{"$f":"DataEntry!S385","v":{"$error":"#N/A"}},")",","]
["(",null,",",{"$f":"DataEntry!S386","v":{"$error":"#N/A"}},")",","]
["(",null,",",{"$f":"DataEntry!S387","v":{"$error":"#N/A"}},")",","]
["(",null,",",{"$f":"DataEntry!S388","v":{"$error":"#N/A"}},")",","]
["(",null,",",{"$f":"DataEntry!S389","v":{"$error":"#N/A"}},")",","]
["(",null,",",{"$f":"DataEntry!S390","v":{"$error":"#N/A"}},")",","]
["(",null,",",{"$f":"DataEntry!S391","v":{"$error":"#N/A"}},")",","]
["(",null,",",{"$f":"DataEntry!S392","v":{"$error":"#N/A"}},")",","]
["(",null,",",{"$f":"DataEntry!S393","v":{"$error":"#N/A"}},")",","]
["(",null,",",{"$f":"DataEntry!S394","v":{"$error":"#N/A"}},")",","]
["(",null,",",{"$f":"DataEntry!S395","v":{"$error":"#N/A"}},")",","]
["(",null,",",{"$f":"DataEntry!S396","v":{"$error":"#N/A"}},")",","]
["(",null,",",{"$f":"DataEntry!S397","v":{"$error":"#N/A"}},")",","]
["(",null,",",{"$f":"DataEntry!S398","v":{"$error":"#N/A"}},")",","]
["(",null,",",{"$f":"DataEntry!S399","v":{"$error":"#N/A"}},")",","]
["(",null,",",{"$f":"DataEntry!S400","v":{"$error":"#N/A"}},")",","]
["(",null,",",{"$f":"DataEntry!S401","v":{"$error":"#N/A"}},")",","]
["(",null,",",{"$f":"DataEntry!S402","v":{"$error":"#N/A"}},")",","]
["(",null,",",{"$f":"DataEntry!S403","v":{"$error":"#N/A"}},")",","]
["(",null,",",{"$f":"DataEntry!S404","v":{"$error":"#N/A"}},")",","]
["(",null,",",{"$f":"DataEntry!S405","v":{"$error":"#N/A"}},")",","]
["(",null,",",{"$f":"DataEntry!S406","v":{"$error":"#N/A"}},")",","]
["(",null,",",{"$f":"DataEntry!S407","v":{"$error":"#N/A"}},")",","]
["(",null,",",{"$f":"DataEntry!S408","v":{"$error":"#N/A"}},")",","]
["(",null,",",{"$f":"DataEntry!S409","v":{"$error":"#N/A"}},")",","]
["(",null,",",{"$f":"DataEntry!S410","v":{"$error":"#N/A"}},")",","]
["(",null,",",{"$f":"DataEntry!S411","v":{"$error":"#N/A"}},")",","]
["(",null,",",{"$f":"DataEntry!S412","v":{"$error":"#N/A"}},")",","]
["(",null,",",{"$f":"DataEntry!S413","v":{"$error":"#N/A"}},")",","]
["(",null,",",{"$f":"DataEntry!S414","v":{"$error":"#N/A"}},")",","]
["(",null,",",{"$f":"DataEntry!S415","v":{"$error":"#N/A"}},")",","]
["(",null,",",{"$f":"DataEntry!S416","v":{"$error":"#N/A"}},")",","]
["(",null,",",{"$f":"DataEntry!S417","v":{"$error":"#N/A"}},")",","]
["(",null,",",{"$f":"DataEntry!S418","v":{"$error":"#N/A"}},")",","]
["(",null,",",{"$f":"DataEntry!S419","v":{"$error":"#N/A"}},")",","]
["(",null,",",{"$f":"DataEntry!S420","v":{"$error":"#N/A"}},")",","]
["(",null,",",{"$f":"DataEntry!S421","v":{"$error":"#N/A"}},")",","]
["(",null,",",{"$f":"DataEntry!S422","v":{"$error":"#N/A"}},")",","]
["(",null,",",{"$f":"DataEntry!S423","v":{"$error":"#N/A"}},")",","]
["(",null,",",{"$f":"DataEntry!S424","v":{"$error":"#N/A"}},")",","]
["(",null,",",{"$f":"DataEntry!S425","v":{"$error":"#N/A"}},")",","]
["(",null,",",{"$f":"DataEntry!S426","v":{"$error":"#N/A"}},")",","]
["(",null,",",{"$f":"DataEntry!S427","v":{"$error":"#N/A"}},")",","]
["(",null,",",{"$f":"DataEntry!S428","v":{"$error":"#N/A"}},")",","]
["(",null,",",{"$f":"DataEntry!S429","v":{"$error":"#N/A"}},")",","]
["(",null,",",{"$f":"DataEntry!S430","v":{"$error":"#N/A"}},")",","]
["(",null,",",{"$f":"DataEntry!S431","v":{"$error":"#N/A"}},")",","]
["(",null,",",{"$f":"DataEntry!S432","v":{"$error":"#N/A"}},")",","]
["(",null,",",{"$f":"DataEntry!S433","v":{"$error":"#N/A"}},")",","]
["(",null,",",{"$f":"DataEntry!S434","v":{"$error":"#N/A"}},")",","]
["(",null,",",{"$f":"DataEntry!S435","v":{"$error":"#N/A"}},")",","]
["(",null,",",{"$f":"DataEntry!S436","v":{"$error":"#N/A"}},")",","]
["(",null,",",{"$f":"DataEntry!S437","v":{"$error":"#N/A"}},")",","]
["(",null,",",{"$f":"DataEntry!S438","v":{"$error":"#N/A"}},")",","]
["(",null,",",{"$f":"DataEntry!S439","v":{"$error":"#N/A"}},")",","]
["(",null,",",{"$f":"DataEntry!S440","v":{"$error":"#N/A"}},")",","]
["(",null,",",{"$f":"DataEntry!S441","v":{"$error":"#N/A"}},")",","]
["(",null,",",{"$f":"DataEntry!S442","v":{"$error":"#N/A"}},")",","]
["(",null,",",{"$f":"DataEntry!S443","v":{"$error":"#N/A"}},")",","]
["(",null,",",{"$f":"DataEntry!S444","v":{"$error":"#N/A"}},")",","]
["(",null,",",{"$f":"DataEntry!S445","v":{"$error":"#N/A"}},")",","]
["(",null,",",{"$f":"DataEntry!S446","v":{"$error":"#N/A"}},")",","]
["(",null,",",{"$f":"DataEntry!S447","v":{"$error":"#N/A"}},")",","]
["(",null,",",{"$f":"DataEntry!S448","v":{"$error":"#N/A"}},")",","]
["(",null,",",{"$f":"DataEntry!S449","v":{"$error":"#N/A"}},")",","]
["(",null,",",{"$f":"DataEntry!S450","v":{"$error":"#N/A"}},")",","]
["(",null,",",{"$f":"DataEntry!S451","v":{"$error":"#N/A"}},")",","]
["(",null,",",{"$f":"DataEntry!S452","v":{"$error":"#N/A"}},")",","]
["(",null,",",{"$f":"DataEntry!S453","v":{"$error":"#N/A"}},")",","]
["(",null,",",{"$f":"DataEntry!S454","v":{"$error":"#N/A"}},")",","]
["(",null,",",{"$f":"DataEntry!S455","v":{"$error":"#N/A"}},")",","]
["(",null,",",{"$f":"DataEntry!S456","v":{"$error":"#N/A"}},")",","]
["(",null,",",{"$f":"DataEntry!S457","v":{"$error":"#N/A"}},")",","]
["(",null,",",{"$f":"DataEntry!S458","v":{"$error":"#N/A"}},")",","]
["(",null,",",{"$f":"DataEntry!S459","v":{"$error":"#N/A"}},")",","]
["(",null,",",{"$f":"DataEntry!S460","v":{"$error":"#N/A"}},")",","]
["(",null,",",{"$f":"DataEntry!S461","v":{"$error":"#N/A"}},")",","]
["(",null,",",{"$f":"DataEntry!S462","v":{"$error":"#N/A"}},")",","]
["(",null,",",{"$f":"DataEntry!S463","v":{"$error":"#N/A"}},")",","]
["(",null,",",{"$f":"DataEntry!S464","v":{"$error":"#N/A"}},")",","]
["(",null,",",{"$f":"DataEntry!S465","v":{"$error":"#N/A"}},")",","]
["(",null,",",{"$f":"DataEntry!S466","v":{"$error":"#N/A"}},")",","]
["(",null,",",{"$f":"DataEntry!S467","v":{"$error":"#N/A"}},")",","]
["(",null,",",{"$f":"DataEntry!S468","v":{"$error":"#N/A"}},")",","]
["(",null,",",{"$f":"DataEntry!S469","v":{"$error":"#N/A"}},")",","]
["(",null,",",{"$f":"DataEntry!S470","v":{"$error":"#N/A"}},")",","]
["(",null,",",{"$f":"DataEntry!S471","v":{"$error":"#N/A"}},")",","]
["(",null,",",{"$f":"DataEntry!S472","v":{"$error":"#N/A"}},")",","]
["(",null,",",{"$f":"DataEntry!S473","v":{"$error":"#N/A"}},")",","]
["(",null,",",{"$f":"DataEntry!S474","v":{"$error":"#N/A"}},")",","]
["(",null,",",{"$f":"DataEntry!S475","v":{"$error":"#N/A"}},")",","]
["(",null,",",{"$f":"DataEntry!S476","v":{"$error":"#N/A"}},")",","]
["(",null,",",{"$f":"DataEntry!S477","v":{"$error":"#N/A"}},")",","]
["(",null,",",{"$f":"DataEntry!S478","v":{"$error":"#N/A"}},")",","]
["(",null,",",{"$f":"DataEntry!S479","v":{"$error":"#N/A"}},")",","]
["(",null,",",{"$f":"DataEntry!S480","v":{"$error":"#N/A"}},")",","]
["(",null,",",{"$f":"DataEntry!S481","v":{"$error":"#N/A"}},")",","]
["(",null,",",{"$f":"DataEntry!S482","v":{"$error":"#N/A"}},")",","]
["(",null,",",{"$f":"DataEntry!S483","v":{"$error":"#N/A"}},")",","]
["(",null,",",{"$f":"DataEntry!S484","v":{"$error":"#N/A"}},")",","]
["(",null,",",{"$f":"DataEntry!S485","v":{"$error":"#N/A"}},")",","]
["(",null,",",{"$f":"DataEntry!S486","v":{"$error":"#N/A"}},")",","]
["(",null,",",{"$f":"DataEntry!S487","v":{"$error":"#N/A"}},")",","]
["(",null,",",{"$f":"DataEntry!S488","v":{"$error":"#N/A"}},")",","]
["(",null,",",{"$f":"DataEntry!S489","v":{"$error":"#N/A"}},")",","]
["(",null,",",{"$f":"DataEntry!S490","v":{"$error":"#N/A"}},")",","]
["(",null,",",{"$f":"DataEntry!S491","v":{"$error":"#N/A"}},")",","]
["(",null,",",{"$f":"DataEntry!S492","v":{"$error":"#N/A"}},")",","]
["(",null,",",{"$f":"DataEntry!S493","v":{"$error":"#N/A"}},")",","]
["(",null,",",{"$f":"DataEntry!S494","v":{"$error":"#N/A"}},")",","]
["(",null,",",{"$f":"DataEntry!S495","v":{"$error":"#N/A"}},")",","]
["(",null,",",{"$f":"DataEntry!S496","v":{"$error":"#N/A"}},")",","]
["(",null,",",{"$f":"DataEntry!S497","v":{"$error":"#N/A"}},")",","]
["(",null,",",{"$f":"DataEntry!S498","v":{"$error":"#N/A"}},")",","]
["(",null,",",{"$f":"DataEntry!S499","v":{"$error":"#N/A"}},")",","]
["(",null,",",{"$f":"DataEntry!S500","v":{"$error":"#N/A"}},")",","]
["(",null,",",{"$f":"DataEntry!S501","v":{"$error":"#N/A"}},")",","]
["(",null,",",{"$f":"DataEntry!S502","v":{"$error":"#N/A"}},")",","]
["(",null,",",{"$f":"DataEntry!S503","v":{"$error":"#N/A"}},")",","]
["(",null,",",{"$f":"DataEntry!S504","v":{"$error":"#N/A"}},")",","]
["(",null,",",{"$f":"DataEntry!S505","v":{"$error":"#N/A"}},")",","]
["(",null,",",{"$f":"DataEntry!S506","v":{"$error":"#N/A"}},")",","]
["(",null,",",{"$f":"DataEntry!S507","v":{"$error":"#N/A"}},")",","]
["(",null,",",{"$f":"DataEntry!S508","v":{"$error":"#N/A"}},")",","]
["(",null,",",{"$f":"DataEntry!S509","v":{"$error":"#N/A"}},")",","]
["(",null,",",{"$f":"DataEntry!S510","v":{"$error":"#N/A"}},")",","]
["(",null,",",{"$f":"DataEntry!S511","v":{"$error":"#N/A"}},")",","]
["(",null,",",{"$f":"DataEntry!S512","v":{"$error":"#N/A"}},")",","]
["(",null,",",{"$f":"DataEntry!S513","v":{"$error":"#N/A"}},")",","]
["(",null,",",{"$f":"DataEntry!S514","v":{"$error":"#N/A"}},")",","]
["(",null,",",{"$f":"DataEntry!S515","v":{"$error":"#N/A"}},")",","]
["(",null,",",{"$f":"DataEntry!S516","v":{"$error":"#N/A"}},")",","]
["(",null,",",{"$f":"DataEntry!S517","v":{"$error":"#N/A"}},")",","]
["(",null,",",{"$f":"DataEntry!S518","v":{"$error":"#N/A"}},")",","]
["(",null,",",{"$f":"DataEntry!S519","v":{"$error":"#N/A"}},")",","]
["(",null,",",{"$f":"DataEntry!S520","v":{"$error":"#N/A"}},")",","]
["(",null,",",{"$f":"DataEntry!S521","v":{"$error":"#N/A"}},")",","]
["(",null,",",{"$f":"DataEntry!S522","v":{"$error":"#N/A"}},")",","]
["(",null,",",{"$f":"DataEntry!S523","v":{"$error":"#N/A"}},")",","]
["(",null,",",{"$f":"DataEntry!S524","v":{"$error":"#N/A"}},")",","]
["(",null,",",{"$f":"DataEntry!S525","v":{"$error":"#N/A"}},")",","]
["(",null,",",{"$f":"DataEntry!S526","v":{"$error":"#N/A"}},")",","]
["(",null,",",{"$f":"DataEntry!S527","v":{"$error":"#N/A"}},")",","]
["(",null,",",{"$f":"DataEntry!S528","v":{"$error":"#N/A"}},")",","]
["(",null,",",{"$f":"DataEntry!S529","v":{"$error":"#N/A"}},")",","]
["(",null,",",{"$f":"DataEntry!S530","v":{"$error":"#N/A"}},")",","]
["(",null,",",{"$f":"DataEntry!S531","v":{"$error":"#N/A"}},")",","]
["(",null,",",{"$f":"DataEntry!S532","v":{"$error":"#N/A"}},")",","]
["(",null,",",{"$f":"DataEntry!S533","v":{"$error":"#N/A"}},")",","]
["(",null,",",{"$f":"DataEntry!S534","v":{"$error":"#N/A"}},")",","]
["(",null,",",{"$f":"DataEntry!S535","v":{"$error":"#N/A"}},")",","]
["(",null,",",{"$f":"DataEntry!S536","v":{"$error":"#N/A"}},")",","]
["(",null,",",{"$f":"DataEntry!S537","v":{"$error":"#N/A"}},")",","]
["(",null,",",{"$f":"DataEntry!S538","v":{"$error":"#N/A"}},")",","]
["(",null,",",{"$f":"DataEntry!S539","v":{"$error":"#N/A"}},")",","]
["(",null,",",{"$f":"DataEntry!S540","v":{"$error":"#N/A"}},")",","]
["(",null,",",{"$f":"DataEntry!S541","v":{"$error":"#N/A"}},")",","]
["(",null,",",{"$f":"DataEntry!S542","v":{"$error":"#N/A"}},")",","]
["(",null,",",{"$f":"DataEntry!S543","v":{"$error":"#N/A"}},")",","]
["(",null,",",{"$f":"DataEntry!S544","v":{"$error":"#N/A"}},")",","]
["(",null,",",{"$f":"DataEntry!S545","v":{"$error":"#N/A"}},")",","]
["(",null,",",{"$f":"DataEntry!S546","v":{"$error":"#N/A"}},")",","]
["(",null,",",{"$f":"DataEntry!S547","v":{"$error":"#N/A"}},")",","]
["(",null,",",{"$f":"DataEntry!S548","v":{"$error":"#N/A"}},")",","]
["(",null,",",{"$f":"DataEntry!S549","v":{"$error":"#N/A"}},")",","]
["(",null,",",{"$f":"DataEntry!S550","v":{"$error":"#N/A"}},")",","]
["(",null,",",{"$f":"DataEntry!S551","v":{"$error":"#N/A"}},")",","]
["(",null,",",{"$f":"DataEntry!S552","v":{"$error":"#N/A"}},")",","]
["(",null,",",{"$f":"DataEntry!S553","v":{"$error":"#N/A"}},")",","]
["(",null,",",{"$f":"DataEntry!S554","v":{"$error":"#N/A"}},")",","]
["(",null,",",{"$f":"DataEntry!S555","v":{"$error":"#N/A"}},")",","]
["(",null,",",{"$f":"DataEntry!S556","v":{"$error":"#N/A"}},")",","]
["(",null,",",{"$f":"DataEntry!S557","v":{"$error":"#N/A"}},")",","]
["(",null,",",{"$f":"DataEntry!S558","v":{"$error":"#N/A"}},")",","]
["(",null,",",{"$f":"DataEntry!S559","v":{"$error":"#N/A"}},")",","]
["(",null,",",{"$f":"DataEntry!S560","v":{"$error":"#N/A"}},")",","]
["(",null,",",{"$f":"DataEntry!S561","v":{"$error":"#N/A"}},")",","]
["(",null,",",{"$f":"DataEntry!S562","v":{"$error":"#N/A"}},")",","]
["(",null,",",{"$f":"DataEntry!S563","v":{"$error":"#N/A"}},")",","]
["(",null,",",{"$f":"DataEntry!S564","v":{"$error":"#N/A"}},")",","]
["(",null,",",{"$f":"DataEntry!S565","v":{"$error":"#N/A"}},")",","]
["(",null,",",{"$f":"DataEntry!S566","v":{"$error":"#N/A"}},")",","]
["(",null,",",{"$f":"DataEntry!S567","v":{"$error":"#N/A"}},")",","]
["(",null,",",{"$f":"DataEntry!S568","v":{"$error":"#N/A"}},")",","]
["(",null,",",{"$f":"DataEntry!S569","v":{"$error":"#N/A"}},")",","]
["(",null,",",{"$f":"DataEntry!S570","v":{"$error":"#N/A"}},")",","]
["(",null,",",{"$f":"DataEntry!S571","v":{"$error":"#N/A"}},")",","]
["(",null,",",{"$f":"DataEntry!S572","v":{"$error":"#N/A"}},")",","]
["(",null,",",{"$f":"DataEntry!S573","v":{"$error":"#N/A"}},")",","]
["(",null,",",{"$f":"DataEntry!S574","v":{"$error":"#N/A"}},")",","]
["(",null,",",{"$f":"DataEntry!S575","v":{"$error":"#N/A"}},")",","]
["(",null,",",{"$f":"DataEntry!S576","v":{"$error":"#N/A"}},")",","]
["(",null,",",{"$f":"DataEntry!S577","v":{"$error":"#N/A"}},")",","]
["(",null,",",{"$f":"DataEntry!S578","v":{"$error":"#N/A"}},")",","]
["(",null,",",{"$f":"DataEntry!S579","v":{"$error":"#N/A"}},")",","]
["(",null,",",{"$f":"DataEntry!S580","v":{"$error":"#N/A"}},")",","]
["(",null,",",{"$f":"DataEntry!S581","v":{"$error":"#N/A"}},")",","]
["(",null,",",{"$f":"DataEntry!S582","v":{"$error":"#N/A"}},")",","]
["(",null,",",{"$f":"DataEntry!S583","v":{"$error":"#N/A"}},")",","]
["(",null,",",{"$f":"DataEntry!S584","v":{"$error":"#N/A"}},")",","]
["(",null,",",{"$f":"DataEntry!S585","v":{"$error":"#N/A"}},")",","]
["(",null,",",{"$f":"DataEntry!S586","v":{"$error":"#N/A"}},")",","]
["(",null,",",{"$f":"DataEntry!S587","v":{"$error":"#N/A"}},")",","]
["(",null,",",{"$f":"DataEntry!S588","v":{"$error":"#N/A"}},")",","]
["(",null,",",{"$f":"DataEntry!S589","v":{"$error":"#N/A"}},")",","]
["(",null,",",{"$f":"DataEntry!S590","v":{"$error":"#N/A"}},")",","]
["(",null,",",{"$f":"DataEntry!S591","v":{"$error":"#N/A"}},")",","]
["(",null,",",{"$f":"DataEntry!S592","v":{"$error":"#N/A"}},")",","]
["(",null,",",{"$f":"DataEntry!S593","v":{"$error":"#N/A"}},")",","]
["(",null,",",{"$f":"DataEntry!S594","v":{"$error":"#N/A"}},")",","]
["(",null,",",{"$f":"DataEntry!S595","v":{"$error":"#N/A"}},")",","]
["(",null,",",{"$f":"DataEntry!S596","v":{"$error":"#N/A"}},")",","]
["(",null,",",{"$f":"DataEntry!S597","v":{"$error":"#N/A"}},")",","]
["(",null,",",{"$f":"DataEntry!S598","v":{"$error":"#N/A"}},")",","]
["(",null,",",{"$f":"DataEntry!S599","v":{"$error":"#N/A"}},")",","]
["(",null,",",{"$f":"DataEntry!S600","v":{"$error":"#N/A"}},")",","]
["(",null,",",{"$f":"DataEntry!S601","v":{"$error":"#N/A"}},")",","]
["(",null,",",{"$f":"DataEntry!S602","v":{"$error":"#N/A"}},")",","]
["(",null,",",{"$f":"DataEntry!S603","v":{"$error":"#N/A"}},")",","]
["(",null,",",{"$f":"DataEntry!S604","v":{"$error":"#N/A"}},")",","]
["(",null,",",{"$f":"DataEntry!S605","v":{"$error":"#N/A"}},")",","]
["(",null,",",{"$f":"DataEntry!S606","v":{"$error":"#N/A"}},")",","]
["(",null,",",{"$f":"DataEntry!S607","v":{"$error":"#N/A"}},")",","]
["(",null,",",{"$f":"DataEntry!S608","v":{"$error":"#N/A"}},")",","]
["(",null,",",{"$f":"DataEntry!S609","v":{"$error":"#N/A"}},")",","]
["(",null,",",{"$f":"DataEntry!S610","v":{"$error":"#N/A"}},")",","]
["(",null,",",{"$f":"DataEntry!S611","v":{"$error":"#N/A"}},")",","]
["(",null,",",{"$f":"DataEntry!S612","v":{"$error":"#N/A"}},")",","]
["(",null,",",{"$f":"DataEntry!S613","v":{"$error":"#N/A"}},")",","]
["(",null,",",{"$f":"DataEntry!S614","v":{"$error":"#N/A"}},")",","]
["(",null,",",{"$f":"DataEntry!S615","v":{"$error":"#N/A"}},")",","]
["(",null,",",{"$f":"DataEntry!S616","v":{"$error":"#N/A"}},")",","]
["(",null,",",{"$f":"DataEntry!S617","v":{"$error":"#N/A"}},")",","]
["(",null,",",{"$f":"DataEntry!S618","v":{"$error":"#N/A"}},")",","]
["(",null,",",{"$f":"DataEntry!S619","v":{"$error":"#N/A"}},")",","]
["(",null,",",{"$f":"DataEntry!S620","v":{"$error":"#N/A"}},")",","]
["(",null,",",{"$f":"DataEntry!S621","v":{"$error":"#N/A"}},")",","]
["(",null,",",{"$f":"DataEntry!S622","v":{"$error":"#N/A"}},")",","]
["(",null,",",{"$f":"DataEntry!S623","v":{"$error":"#N/A"}},")",","]
["(",null,",",{"$f":"DataEntry!S624","v":{"$error":"#N/A"}},")",","]
["(",null,",",{"$f":"DataEntry!S625","v":{"$error":"#N/A"}},")",","]
["(",null,",",{"$f":"DataEntry!S626","v":{"$error":"#N/A"}},")",","]
["(",null,",",{"$f":"DataEntry!S627","v":{"$error":"#N/A"}},")",","]
["(",null,",",{"$f":"DataEntry!S628","v":{"$error":"#N/A"}},")",","]
["(",null,",",{"$f":"DataEntry!S629","v":{"$error":"#N/A"}},")",","]
["(",null,",",{"$f":"DataEntry!S630","v":{"$error":"#N/A"}},")",","]
["(",null,",",{"$f":"DataEntry!S631","v":{"$error":"#N/A"}},")",","]
["(",null,",",{"$f":"DataEntry!S632","v":{"$error":"#N/A"}},")",","]
["(",null,",",{"$f":"DataEntry!S633","v":{"$error":"#N/A"}},")",","]
["(",null,",",{"$f":"DataEntry!S634","v":{"$error":"#N/A"}},")",","]
["(",null,",",{"$f":"DataEntry!S635","v":{"$error":"#N/A"}},")",","]
["(",null,",",{"$f":"DataEntry!S636","v":{"$error":"#N/A"}},")",","]
["(",null,",",{"$f":"DataEntry!S637","v":{"$error":"#N/A"}},")",","]
["(",null,",",{"$f":"DataEntry!S638","v":{"$error":"#N/A"}},")",","]
["(",null,",",{"$f":"DataEntry!S639","v":{"$error":"#N/A"}},")",","]
["(",null,",",{"$f":"DataEntry!S640","v":{"$error":"#N/A"}},")",","]
["(",null,",",{"$f":"DataEntry!S641","v":{"$error":"#N/A"}},")",","]
["(",null,",",{"$f":"DataEntry!S642","v":{"$error":"#N/A"}},")",","]
["(",null,",",{"$f":"DataEntry!S643","v":{"$error":"#N/A"}},")",","]
["(",null,",",{"$f":"DataEntry!S644","v":{"$error":"#N/A"}},")",","]
["(",null,",",{"$f":"DataEntry!S645","v":{"$error":"#N/A"}},")",","]
["(",null,",",{"$f":"DataEntry!S646","v":{"$error":"#N/A"}},")",","]
["(",null,",",{"$f":"DataEntry!S647","v":{"$error":"#N/A"}},")",","]
["(",null,",",{"$f":"DataEntry!S648","v":{"$error":"#N/A"}},")",","]
["(",null,",",{"$f":"DataEntry!S649","v":{"$error":"#N/A"}},")",","]
["(",null,",",{"$f":"DataEntry!S650","v":{"$error":"#N/A"}},")",","]
["(",null,",",{"$f":"DataEntry!S651","v":{"$error":"#N/A"}},")",","]
["(",null,",",{"$f":"DataEntry!S652","v":{"$error":"#N/A"}},")",","]
["(",null,",",{"$f":"DataEntry!S653","v":{"$error":"#N/A"}},")",","]
["(",null,",",{"$f":"DataEntry!S654","v":{"$error":"#N/A"}},")",","]
["(",null,",",{"$f":"DataEntry!S655","v":{"$error":"#N/A"}},")",","]
["(",null,",",{"$f":"DataEntry!S656","v":{"$error":"#N/A"}},")",","]
["(",null,",",{"$f":"DataEntry!S657","v":{"$error":"#N/A"}},")",","]
["(",null,",",{"$f":"DataEntry!S658","v":{"$error":"#N/A"}},")",","]
["(",null,",",{"$f":"DataEntry!S659","v":{"$error":"#N/A"}},")",","]
["(",null,",",{"$f":"DataEntry!S660","v":{"$error":"#N/A"}},")",","]
["(",null,",",{"$f":"DataEntry!S661","v":{"$error":"#N/A"}},")",","]
["(",null,",",{"$f":"DataEntry!S662","v":{"$error":"#N/A"}},")",","]
["(",null,",",{"$f":"DataEntry!S663","v":{"$error":"#N/A"}},")",","]
["(",null,",",{"$f":"DataEntry!S664","v":{"$error":"#N/A"}},")",","]
["(",null,",",{"$f":"DataEntry!S665","v":{"$error":"#N/A"}},")",","]
["(",null,",",{"$f":"DataEntry!S666","v":{"$error":"#N/A"}},")",","]
["(",null,",",{"$f":"DataEntry!S667","v":{"$error":"#N/A"}},")",","]
["(",null,",",{"$f":"DataEntry!S668","v":{"$error":"#N/A"}},")",","]
["(",null,",",{"$f":"DataEntry!S669","v":{"$error":"#N/A"}},")",","]
["(",null,",",{"$f":"DataEntry!S670","v":{"$error":"#N/A"}},")",","]
["(",null,",",{"$f":"DataEntry!S671","v":{"$error":"#N/A"}},")",","]
["(",null,",",{"$f":"DataEntry!S672","v":{"$error":"#N/A"}},")",","]
["(",null,",",{"$f":"DataEntry!S673","v":{"$error":"#N/A"}},")",","]
["(",null,",",{"$f":"DataEntry!S674","v":{"$error":"#N/A"}},")",","]
["(",null,",",{"$f":"DataEntry!S675","v":{"$error":"#N/A"}},")",","]
["(",null,",",{"$f":"DataEntry!S676","v":{"$error":"#N/A"}},")",","]
["(",null,",",{"$f":"DataEntry!S677","v":{"$error":"#N/A"}},")",","]
["(",null,",",{"$f":"DataEntry!S678","v":{"$error":"#N/A"}},")",","]
["(",null,",",{"$f":"DataEntry!S679","v":{"$error":"#N/A"}},")",","]
["(",null,",",{"$f":"DataEntry!S680","v":{"$error":"#N/A"}},")",","]
["(",null,",",{"$f":"DataEntry!S681","v":{"$error":"#N/A"}},")",","]
["(",null,",",{"$f":"DataEntry!S682","v":{"$error":"#N/A"}},")",","]
["(",null,",",{"$f":"DataEntry!S683","v":{"$error":"#N/A"}},")",","]
["(",null,",",{"$f":"DataEntry!S684","v":{"$error":"#N/A"}},")",","]
["(",null,",",{"$f":"DataEntry!S685","v":{"$error":"#N/A"}},")",","]
["(",null,",",{"$f":"DataEntry!S686","v":{"$error":"#N/A"}},")",","]
["(",null,",",{"$f":"DataEntry!S687","v":{"$error":"#N/A"}},")",","]
["(",null,",",{"$f":"DataEntry!S688","v":{"$error":"#N/A"}},")",","]
["(",null,",",{"$f":"DataEntry!S689","v":{"$error":"#N/A"}},")",","]
["(",null,",",{"$f":"DataEntry!S690","v":{"$error":"#N/A"}},")",","]
["(",null,",",{"$f":"DataEntry!S691","v":{"$error":"#N/A"}},")",","]
["(",null,",",{"$f":"DataEntry!S692","v":{"$error":"#N/A"}},")",","]
["(",null,",",{"$f":"DataEntry!S693","v":{"$error":"#N/A"}},")",","]
["(",null,",",{"$f":"DataEntry!S694","v":{"$error":"#N/A"}},")",","]
["(",null,",",{"$f":"DataEntry!S695","v":{"$error":"#N/A"}},")",","]
["(",null,",",{"$f":"DataEntry!S696","v":{"$error":"#N/A"}},")",","]
["(",null,",",{"$f":"DataEntry!S697","v":{"$error":"#N/A"}},")",","]
["(",null,",",{"$f":"DataEntry!S698","v":{"$error":"#N/A"}},")",","]
["(",null,",",{"$f":"DataEntry!S699","v":{"$error":"#N/A"}},")",","]
["(",null,",",{"$f":"DataEntry!S700","v":{"$error":"#N/A"}},")",","]
["(",null,",",{"$f":"DataEntry!S701","v":{"$error":"#N/A"}},")",","]
["(",null,",",{"$f":"DataEntry!S702","v":{"$error":"#N/A"}},")",","]
["(",null,",",{"$f":"DataEntry!S703","v":{"$error":"#N/A"}},")",","]
["(",null,",",{"$f":"DataEntry!S704","v":{"$error":"#N/A"}},")",","]
["(",null,",",{"$f":"DataEntry!S705","v":{"$error":"#N/A"}},")",","]
["(",null,",",{"$f":"DataEntry!S706","v":{"$error":"#N/A"}},")",","]
["(",null,",",{"$f":"DataEntry!S707","v":{"$error":"#N/A"}},")",","]
["(",null,",",{"$f":"DataEntry!S708","v":{"$error":"#N/A"}},")",","]
["(",null,",",{"$f":"DataEntry!S709","v":{"$error":"#N/A"}},")",","]
["(",null,",",{"$f":"DataEntry!S710","v":{"$error":"#N/A"}},")",","]
["(",null,",",{"$f":"DataEntry!S711","v":{"$error":"#N/A"}},")",","]
["(",null,",",{"$f":"DataEntry!S712","v":{"$error":"#N/A"}},")",","]
["(",null,",",{"$f":"DataEntry!S713","v":{"$error":"#N/A"}},")",","]
["(",null,",",{"$f":"DataEntry!S714","v":{"$error":"#N/A"}},")",","]
["(",null,",",{"$f":"DataEntry!S715","v":{"$error":"#N/A"}},")",","]
["(",null,",",{"$f":"DataEntry!S716","v":{"$error":"#N/A"}},")",","]
["(",null,",",{"$f":"DataEntry!S717","v":{"$error":"#N/A"}},")",","]
["(",null,",",{"$f":"DataEntry!S718","v":{"$error":"#N/A"}},")",","]
["(",null,",",{"$f":"DataEntry!S719","v":{"$error":"#N/A"}},")",","]
["(",null,",",{"$f":"DataEntry!S720","v":{"$error":"#N/A"}},")",","]
["(",null,",",{"$f":"DataEntry!S721","v":{"$error":"#N/A"}},")",","]
["(",null,",",{"$f":"DataEntry!S722","v":{"$error":"#N/A"}},")",","]
["(",null,",",{"$f":"DataEntry!S723","v":{"$error":"#N/A"}},")",","]
["(",null,",",{"$f":"DataEntry!S724","v":{"$error":"#N/A"}},")",","]
["(",null,",",{"$f":"DataEntry!S725","v":{"$error":"#N/A"}},")",","]
["(",null,",",{"$f":"DataEntry!S726","v":{"$error":"#N/A"}},")",","]
["(",null,",",{"$f":"DataEntry!S727","v":{"$error":"#N/A"}},")",","]
["(",null,",",{"$f":"DataEntry!S728","v":{"$error":"#N/A"}},")",","]
["(",null,",",{"$f":"DataEntry!S729","v":{"$error":"#N/A"}},")",","]
["(",null,",",{"$f":"DataEntry!S730","v":{"$error":"#N/A"}},")",","]
["(",null,",",{"$f":"DataEntry!S731","v":{"$error":"#N/A"}},")",","]
["(",null,",",{"$f":"DataEntry!S732","v":{"$error":"#N/A"}},")",","]
["(",null,",",{"$f":"DataEntry!S733","v":{"$error":"#N/A"}},")",","]
["(",null,",",{"$f":"DataEntry!S734","v":{"$error":"#N/A"}},")",","]
["(",null,",",{"$f":"DataEntry!S735","v":{"$error":"#N/A"}},")",","]
["(",null,",",{"$f":"DataEntry!S736","v":{"$error":"#N/A"}},")",","]
["(",null,",",{"$f":"DataEntry!S737","v":{"$error":"#N/A"}},")",","]
["(",null,",",{"$f":"DataEntry!S738","v":{"$error":"#N/A"}},")",","]
["(",null,",",{"$f":"DataEntry!S739","v":{"$error":"#N/A"}},")",","]
["(",null,",",{"$f":"DataEntry!S740","v":{"$error":"#N/A"}},")",","]
["(",null,",",{"$f":"DataEntry!S741","v":{"$error":"#N/A"}},")",","]
["(",null,",",{"$f":"DataEntry!S742","v":{"$error":"#N/A"}},")",","]
["(",null,",",{"$f":"DataEntry!S743","v":{"$error":"#N/A"}},")",","]
["(",null,",",{"$f":"DataEntry!S744","v":{"$error":"#N/A"}},")",","]
["(",null,",",{"$f":"DataEntry!S745","v":{"$error":"#N/A"}},")",","]
["(",null,",",{"$f":"DataEntry!S746","v":{"$error":"#N/A"}},")",","]
["(",null,",",{"$f":"DataEntry!S747","v":{"$error":"#N/A"}},")",","]
["(",null,",",{"$f":"DataEntry!S748","v":{"$error":"#N/A"}},")",","]
["(",null,",",{"$f":"DataEntry!S749","v":{"$error":"#N/A"}},")",","]
["(",null,",",{"$f":"DataEntry!S750","v":{"$error":"#N/A"}},")",","]
["(",null,",",{"$f":"DataEntry!S751","v":{"$error":"#N/A"}},")",","]
["(",null,",",{"$f":"DataEntry!S752","v":{"$error":"#N/A"}},")",","]
["(",null,",",{"$f":"DataEntry!S753","v":{"$error":"#N/A"}},")",","]
["(",null,",",{"$f":"DataEntry!S754","v":{"$error":"#N/A"}},")",","]
["(",null,",",{"$f":"DataEntry!S755","v":{"$error":"#N/A"}},")",","]
["(",null,",",{"$f":"DataEntry!S756","v":{"$error":"#N/A"}},")",","]
["(",null,",",{"$f":"DataEntry!S757","v":{"$error":"#N/A"}},")",","]
["(",null,",",{"$f":"DataEntry!S758","v":{"$error":"#N/A"}},")",","]
["(",null,",",{"$f":"DataEntry!S759","v":{"$error":"#N/A"}},")",","]
["(",null,",",{"$f":"DataEntry!S760","v":{"$error":"#N/A"}},")",","]
["(",null,",",{"$f":"DataEntry!S761","v":{"$error":"#N/A"}},")",","]
["(",null,",",{"$f":"DataEntry!S762","v":{"$error":"#N/A"}},")",","]
["(",null,",",{"$f":"DataEntry!S763","v":{"$error":"#N/A"}},")",","]
["(",null,",",{"$f":"DataEntry!S764","v":{"$error":"#N/A"}},")",","]
["(",null,",",{"$f":"DataEntry!S765","v":{"$error":"#N/A"}},")",","]
["(",null,",",{"$f":"DataEntry!S766","v":{"$error":"#N/A"}},")",","]
["(",null,",",{"$f":"DataEntry!S767","v":{"$error":"#N/A"}},")",","]
["(",null,",",{"$f":"DataEntry!S768","v":{"$error":"#N/A"}},")",","]
["(",null,",",{"$f":"DataEntry!S769","v":{"$error":"#N/A"}},")",","]
["(",null,",",{"$f":"DataEntry!S770","v":{"$error":"#N/A"}},")",","]
["(",null,",",{"$f":"DataEntry!S771","v":{"$error":"#N/A"}},")",","]
["(",null,",",{"$f":"DataEntry!S772","v":{"$error":"#N/A"}},")",","]
["(",null,",",{"$f":"DataEntry!S773","v":{"$error":"#N/A"}},")",","]
["(",null,",",{"$f":"DataEntry!S774","v":{"$error":"#N/A"}},")",","]
["(",null,",",{"$f":"DataEntry!S775","v":{"$error":"#N/A"}},")",","]
["(",null,",",{"$f":"DataEntry!S776","v":{"$error":"#N/A"}},")",","]
["(",null,",",{"$f":"DataEntry!S777","v":{"$error":"#N/A"}},")",","]
["(",null,",",{"$f":"DataEntry!S778","v":{"$error":"#N/A"}},")",","]
["(",null,",",{"$f":"DataEntry!S779","v":{"$error":"#N/A"}},")",","]
["(",null,",",{"$f":"DataEntry!S780","v":{"$error":"#N/A"}},")",","]
["(",null,",",{"$f":"DataEntry!S781","v":{"$error":"#N/A"}},")",","]
["(",null,",",{"$f":"DataEntry!S782","v":{"$error":"#N/A"}},")",","]
["(",null,",",{"$f":"DataEntry!S783","v":{"$error":"#N/A"}},")",","]
["(",null,",",{"$f":"DataEntry!S784","v":{"$error":"#N/A"}},")",","]
["(",null,",",{"$f":"DataEntry!S785","v":{"$error":"#N/A"}},")",","]
["(",null,",",{"$f":"DataEntry!S786","v":{"$error":"#N/A"}},")",","]
["(",null,",",{"$f":"DataEntry!S787","v":{"$error":"#N/A"}},")",","]
["(",null,",",{"$f":"DataEntry!S788","v":{"$error":"#N/A"}},")",","]
["(",null,",",{"$f":"DataEntry!S789","v":{"$error":"#N/A"}},")",","]
["(",null,",",{"$f":"DataEntry!S790","v":{"$error":"#N/A"}},")",","]
["(",null,",",{"$f":"DataEntry!S791","v":{"$error":"#N/A"}},")",","]
["(",null,",",{"$f":"DataEntry!S792","v":{"$error":"#N/A"}},")",","]
["(",null,",",{"$f":"DataEntry!S793","v":{"$error":"#N/A"}},")",","]
["(",null,",",{"$f":"DataEntry!S794","v":{"$error":"#N/A"}},")",","]
["(",null,",",{"$f":"DataEntry!S795","v":{"$error":"#N/A"}},")",","]
["(",null,",",{"$f":"DataEntry!S796","v":{"$error":"#N/A"}},")",","]
["(",null,",",{"$f":"DataEntry!S797","v":{"$error":"#N/A"}},")",","]
["(",null,",",{"$f":"DataEntry!S798","v":{"$error":"#N/A"}},")",","]
["(",null,",",{"$f":"DataEntry!S799","v":{"$error":"#N/A"}},")",","]
["(",null,",",{"$f":"DataEntry!S800","v":{"$error":"#N/A"}},")",","]
["(",null,",",{"$f":"DataEntry!S801","v":{"$error":"#N/A"}},")",","]
["(",null,",",{"$f":"DataEntry!S802","v":{"$error":"#N/A"}},")",","]
["(",null,",",{"$f":"DataEntry!S803","v":{"$error":"#N/A"}},")",","]
["(",null,",",{"$f":"DataEntry!S804","v":{"$error":"#N/A"}},")",","]
["(",null,",",{"$f":"DataEntry!S805","v":{"$error":"#N/A"}},")",","]
["(",null,",",{"$f":"DataEntry!S806","v":{"$error":"#N/A"}},")",","]
["(",null,",",{"$f":"DataEntry!S807","v":{"$error":"#N/A"}},")",","]
["(",null,",",{"$f":"DataEntry!S808","v":{"$error":"#N/A"}},")",","]
["(",null,",",{"$f":"DataEntry!S809","v":{"$error":"#N/A"}},")",","]
["(",null,",",{"$f":"DataEntry!S810","v":{"$error":"#N/A"}},")",","]
["(",null,",",{"$f":"DataEntry!S811","v":{"$error":"#N/A"}},")",","]
["(",null,",",{"$f":"DataEntry!S812","v":{"$error":"#N/A"}},")",","]
["(",null,",",{"$f":"DataEntry!S813","v":{"$error":"#N/A"}},")",","]
["(",null,",",{"$f":"DataEntry!S814","v":{"$error":"#N/A"}},")",","]
["(",null,",",{"$f":"DataEntry!S815","v":{"$error":"#N/A"}},")",","]
["(",null,",",{"$f":"DataEntry!S816","v":{"$error":"#N/A"}},")",","]
["(",null,",",{"$f":"DataEntry!S817","v":{"$error":"#N/A"}},")",","]
["(",null,",",{"$f":"DataEntry!S818","v":{"$error":"#N/A"}},")",","]
["(",null,",",{"$f":"DataEntry!S819","v":{"$error":"#N/A"}},")",","]
["(",null,",",{"$f":"DataEntry!S820","v":{"$error":"#N/A"}},")",","]
["(",null,",",{"$f":"DataEntry!S821","v":{"$error":"#N/A"}},")",","]
["(",null,",",{"$f":"DataEntry!S822","v":{"$error":"#N/A"}},")",","]
["(",null,",",{"$f":"DataEntry!S823","v":{"$error":"#N/A"}},")",","]
["(",null,",",{"$f":"DataEntry!S824","v":{"$error":"#N/A"}},")",","]
["(",null,",",{"$f":"DataEntry!S825","v":{"$error":"#N/A"}},")",","]
["(",null,",",{"$f":"DataEntry!S826","v":{"$error":"#N/A"}},")",","]
["(",null,",",{"$f":"DataEntry!S827","v":{"$error":"#N/A"}},")",","]
["(",null,",",{"$f":"DataEntry!S828","v":{"$error":"#N/A"}},")",","]
["(",null,",",{"$f":"DataEntry!S829","v":{"$error":"#N/A"}},")",","]
["(",null,",",{"$f":"DataEntry!S830","v":{"$error":"#N/A"}},")",","]
["(",null,",",{"$f":"DataEntry!S831","v":{"$error":"#N/A"}},")",","]
["(",null,",",{"$f":"DataEntry!S832","v":{"$error":"#N/A"}},")",","]
["(",null,",",{"$f":"DataEntry!S833","v":{"$error":"#N/A"}},")",","]
["(",null,",",{"$f":"DataEntry!S834","v":{"$error":"#N/A"}},")",","]
["(",null,",",{"$f":"DataEntry!S835","v":{"$error":"#N/A"}},")",","]
["(",null,",",{"$f":"DataEntry!S836","v":{"$error":"#N/A"}},")",","]
["(",null,",",{"$f":"DataEntry!S837","v":{"$error":"#N/A"}},")",","]
["(",null,",",{"$f":"DataEntry!S838","v":{"$error":"#N/A"}},")",","]
["(",null,",",{"$f":"DataEntry!S839","v":{"$error":"#N/A"}},")",","]
["(",null,",",{"$f":"DataEntry!S840","v":{"$error":"#N/A"}},")",","]
["(",null,",",{"$f":"DataEntry!S841","v":{"$error":"#N/A"}},")",","]
["(",null,",",{"$f":"DataEntry!S842","v":{"$error":"#N/A"}},")",","]
["(",null,",",{"$f":"DataEntry!S843","v":{"$error":"#N/A"}},")",","]
["(",null,",",{"$f":"DataEntry!S844","v":{"$error":"#N/A"}},")",","]
["(",null,",",{"$f":"DataEntry!S845","v":{"$error":"#N/A"}},")",","]
["(",null,",",{"$f":"DataEntry!S846","v":{"$error":"#N/A"}},")",","]
["(",null,",",{"$f":"DataEntry!S847","v":{"$error":"#N/A"}},")",","]
["(",null,",",{"$f":"DataEntry!S848","v":{"$error":"#N/A"}},")",","]
["(",null,",",{"$f":"DataEntry!S849","v":{"$error":"#N/A"}},")",","]
["(",null,",",{"$f":"DataEntry!S850","v":{"$error":"#N/A"}},")",","]
["(",null,",",{"$f":"DataEntry!S851","v":{"$error":"#N/A"}},")",","]
["(",null,",",{"$f":"DataEntry!S852","v":{"$error":"#N/A"}},")",","]
["(",null,",",{"$f":"DataEntry!S853","v":{"$error":"#N/A"}},")",","]
["(",null,",",{"$f":"DataEntry!S854","v":{"$error":"#N/A"}},")",","]
["(",null,",",{"$f":"DataEntry!S855","v":{"$error":"#N/A"}},")",","]
["(",null,",",{"$f":"DataEntry!S856","v":{"$error":"#N/A"}},")",","]
["(",null,",",{"$f":"DataEntry!S857","v":{"$error":"#N/A"}},")",","]
["(",null,",",{"$f":"DataEntry!S858","v":{"$error":"#N/A"}},")",","]
["(",null,",",{"$f":"DataEntry!S859","v":{"$error":"#N/A"}},")",","]
["(",null,",",{"$f":"DataEntry!S860","v":{"$error":"#N/A"}},")",","]
["(",null,",",{"$f":"DataEntry!S861","v":{"$error":"#N/A"}},")",","]
["(",null,",",{"$f":"DataEntry!S862","v":{"$error":"#N/A"}},")",","]
["(",null,",",{"$f":"DataEntry!S863","v":{"$error":"#N/A"}},")",","]
["(",null,",",{"$f":"DataEntry!S864","v":{"$error":"#N/A"}},")",","]
["(",null,",",{"$f":"DataEntry!S865","v":{"$error":"#N/A"}},")",","]
["(",null,",",{"$f":"DataEntry!S866","v":{"$error":"#N/A"}},")",","]
["(",null,",",{"$f":"DataEntry!S867","v":{"$error":"#N/A"}},")",","]
["(",null,",",{"$f":"DataEntry!S868","v":{"$error":"#N/A"}},")",","]
["(",null,",",{"$f":"DataEntry!S869","v":{"$error":"#N/A"}},")",","]
["(",null,",",{"$f":"DataEntry!S870","v":{"$error":"#N/A"}},")",","]
["(",null,",",{"$f":"DataEntry!S871","v":{"$error":"#N/A"}},")",","]
["(",null,",",{"$f":"DataEntry!S872","v":{"$error":"#N/A"}},")",","]
["(",null,",",{"$f":"DataEntry!S873","v":{"$error":"#N/A"}},")",","]
["(",null,",",{"$f":"DataEntry!S874","v":{"$error":"#N/A"}},")",","]
["(",null,",",{"$f":"DataEntry!S875","v":{"$error":"#N/A"}},")",","]
["(",null,",",{"$f":"DataEntry!S876","v":{"$error":"#N/A"}},")",","]
["(",null,",",{"$f":"DataEntry!S877","v":{"$error":"#N/A"}},")",","]
["(",null,",",{"$f":"DataEntry!S878","v":{"$error":"#N/A"}},")",","]
["(",null,",",{"$f":"DataEntry!S879","v":{"$error":"#N/A"}},")",","]
["(",null,",",{"$f":"DataEntry!S880","v":{"$error":"#N/A"}},")",","]
["(",null,",",{"$f":"DataEntry!S881","v":{"$error":"#N/A"}},")",","]
["(",null,",",{"$f":"DataEntry!S882","v":{"$error":"#N/A"}},")",","]
["(",null,",",{"$f":"DataEntry!S883","v":{"$error":"#N/A"}},")",","]
["(",null,",",{"$f":"DataEntry!S884","v":{"$error":"#N/A"}},")",","]
["(",null,",",{"$f":"DataEntry!S885","v":{"$error":"#N/A"}},")",","]
["(",null,",",{"$f":"DataEntry!S886","v":{"$error":"#N/A"}},")",","]
["(",null,",",{"$f":"DataEntry!S887","v":{"$error":"#N/A"}},")",","]
["(",null,",",{"$f":"DataEntry!S888","v":{"$error":"#N/A"}},")",","]
["(",null,",",{"$f":"DataEntry!S889","v":{"$error":"#N/A"}},")",","]
["(",null,",",{"$f":"DataEntry!S890","v":{"$error":"#N/A"}},")",","]
["(",null,",",{"$f":"DataEntry!S891","v":{"$error":"#N/A"}},")",","]
["(",null,",",{"$f":"DataEntry!S892","v":{"$error":"#N/A"}},")",","]
["(",null,",",{"$f":"DataEntry!S893","v":{"$error":"#N/A"}},")",","]
["(",null,",",{"$f":"DataEntry!S894","v":{"$error":"#N/A"}},")",","]
["(",null,",",{"$f":"DataEntry!S895","v":{"$error":"#N/A"}},")",","]
["(",null,",",{"$f":"DataEntry!S896","v":{"$error":"#N/A"}},")",","]
["(",null,",",{"$f":"DataEntry!S897","v":{"$error":"#N/A"}},")",","]
["(",null,",",{"$f":"DataEntry!S898","v":{"$error":"#N/A"}},")",","]
["(",null,",",{"$f":"DataEntry!S899","v":{"$error":"#N/A"}},")",","]
["(",null,",",{"$f":"DataEntry!S900","v":{"$error":"#N/A"}},")",","]
["(",null,",",{"$f":"DataEntry!S901","v":{"$error":"#N/A"}},")",","]
["(",null,",",{"$f":"DataEntry!S902","v":{"$error":"#N/A"}},")",","]
["(",null,",",{"$f":"DataEntry!S903","v":{"$error":"#N/A"}},")",","]
["(",null,",",{"$f":"DataEntry!S904","v":{"$error":"#N/A"}},")",","]
["(",null,",",{"$f":"DataEntry!S905","v":{"$error":"#N/A"}},")",","]
["(",null,",",{"$f":"DataEntry!S906","v":{"$error":"#N/A"}},")",","]
["(",null,",",{"$f":"DataEntry!S907","v":{"$error":"#N/A"}},")",","]
["(",null,",",{"$f":"DataEntry!S908","v":{"$error":"#N/A"}},")",","]
["(",null,",",{"$f":"DataEntry!S909","v":{"$error":"#N/A"}},")",","]
["(",null,",",{"$f":"DataEntry!S910","v":{"$error":"#N/A"}},")",","]
["(",null,",",{"$f":"DataEntry!S911","v":{"$error":"#N/A"}},")",","]
["(",null,",",{"$f":"DataEntry!S912","v":{"$error":"#N/A"}},")",","]
["(",null,",",{"$f":"DataEntry!S913","v":{"$error":"#N/A"}},")",","]
["(",null,",",{"$f":"DataEntry!S914","v":{"$error":"#N/A"}},")",","]
["(",null,",",{"$f":"DataEntry!S915","v":{"$error":"#N/A"}},")",","]
["(",null,",",{"$f":"DataEntry!S916","v":{"$error":"#N/A"}},")",","]
["(",null,",",{"$f":"DataEntry!S917","v":{"$error":"#N/A"}},")",","]
["(",null,",",{"$f":"DataEntry!S918","v":{"$error":"#N/A"}},")",","]
["(",null,",",{"$f":"DataEntry!S919","v":{"$error":"#N/A"}},")",","]
["(",null,",",{"$f":"DataEntry!S920","v":{"$error":"#N/A"}},")",","]
["(",null,",",{"$f":"DataEntry!S921","v":{"$error":"#N/A"}},")",","]
["(",null,",",{"$f":"DataEntry!S922","v":{"$error":"#N/A"}},")",","]
["(",null,",",{"$f":"DataEntry!S923","v":{"$error":"#N/A"}},")",","]
["(",null,",",{"$f":"DataEntry!S924","v":{"$error":"#N/A"}},")",","]
["(",null,",",{"$f":"DataEntry!S925","v":{"$error":"#N/A"}},")",","]
["(",null,",",{"$f":"DataEntry!S926","v":{"$error":"#N/A"}},")",","]
["(",null,",",{"$f":"DataEntry!S927","v":{"$error":"#N/A"}},")",","]
["(",null,",",{"$f":"DataEntry!S928","v":{"$error":"#N/A"}},")",","]
["(",null,",",{"$f":"DataEntry!S929","v":{"$error":"#N/A"}},")",","]
["(",null,",",{"$f":"DataEntry!S930","v":{"$error":"#N/A"}},")",","]
["(",null,",",{"$f":"DataEntry!S931","v":{"$error":"#N/A"}},")",","]
["(",null,",",{"$f":"DataEntry!S932","v":{"$error":"#N/A"}},")",","]
["(",null,",",{"$f":"DataEntry!S933","v":{"$error":"#N/A"}},")",","]
["(",null,",",{"$f":"DataEntry!S934","v":{"$error":"#N/A"}},")",","]
["(",null,",",{"$f":"DataEntry!S935","v":{"$error":"#N/A"}},")",","]
["(",null,",",{"$f":"DataEntry!S936","v":{"$error":"#N/A"}},")",","]
["(",null,",",{"$f":"DataEntry!S937","v":{"$error":"#N/A"}},")",","]
["(",null,",",{"$f":"DataEntry!S938","v":{"$error":"#N/A"}},")",","]
["(",null,",",{"$f":"DataEntry!S939","v":{"$error":"#N/A"}},")",","]
["(",null,",",{"$f":"DataEntry!S940","v":{"$error":"#N/A"}},")",","]
["(",null,",",{"$f":"DataEntry!S941","v":{"$error":"#N/A"}},")",","]
["(",null,",",{"$f":"DataEntry!S942","v":{"$error":"#N/A"}},")",","]
["(",null,",",{"$f":"DataEntry!S943","v":{"$error":"#N/A"}},")",","]
["(",null,",",{"$f":"DataEntry!S944","v":{"$error":"#N/A"}},")",","]
["(",null,",",{"$f":"DataEntry!S945","v":{"$error":"#N/A"}},")",","]
["(",null,",",{"$f":"DataEntry!S946","v":{"$error":"#N/A"}},")",","]
["(",null,",",{"$f":"DataEntry!S947","v":{"$error":"#N/A"}},")",","]
["(",null,",",{"$f":"DataEntry!S948","v":{"$error":"#N/A"}},")",","]
["(",null,",",{"$f":"DataEntry!S949","v":{"$error":"#N/A"}},")",","]
["(",null,",",{"$f":"DataEntry!S950","v":{"$error":"#N/A"}},")",","]
["(",null,",",{"$f":"DataEntry!S951","v":{"$error":"#N/A"}},")",","]
["(",null,",",{"$f":"DataEntry!S952","v":{"$error":"#N/A"}},")",","]
["(",null,",",{"$f":"DataEntry!S953","v":{"$error":"#N/A"}},")",","]
["(",null,",",{"$f":"DataEntry!S954","v":{"$error":"#N/A"}},")",","]
["(",null,",",{"$f":"DataEntry!S955","v":{"$error":"#N/A"}},")",","]
["(",null,",",{"$f":"DataEntry!S956","v":{"$error":"#N/A"}},")",","]
["(",null,",",{"$f":"DataEntry!S957","v":{"$error":"#N/A"}},")",","]
["(",null,",",{"$f":"DataEntry!S958","v":{"$error":"#N/A"}},")",","]
["(",null,",",{"$f":"DataEntry!S959","v":{"$error":"#N/A"}},")",","]
["(",null,",",{"$f":"DataEntry!S960","v":{"$error":"#N/A"}},")",","]
["(",null,",",{"$f":"DataEntry!S961","v":{"$error":"#N/A"}},")",","]
["(",null,",",{"$f":"DataEntry!S962","v":{"$error":"#N/A"}},")",","]
["(",null,",",{"$f":"DataEntry!S963","v":{"$error":"#N/A"}},")",","]
["(",null,",",{"$f":"DataEntry!S964","v":{"$error":"#N/A"}},")",","]
["(",null,",",{"$f":"DataEntry!S965","v":{"$error":"#N/A"}},")",","]
["(",null,",",{"$f":"DataEntry!S966","v":{"$error":"#N/A"}},")",","]
["(",null,",",{"$f":"DataEntry!S967","v":{"$error":"#N/A"}},")",","]
["(",null,",",{"$f":"DataEntry!S968","v":{"$error":"#N/A"}},")",","]
["(",null,",",{"$f":"DataEntry!S969","v":{"$error":"#N/A"}},")",","]
["(",null,",",{"$f":"DataEntry!S970","v":{"$error":"#N/A"}},")",","]
["(",null,",",{"$f":"DataEntry!S971","v":{"$error":"#N/A"}},")",","]
["(",null,",",{"$f":"DataEntry!S972","v":{"$error":"#N/A"}},")",","]
["(",null,",",{"$f":"DataEntry!S973","v":{"$error":"#N/A"}},")",","]
["(",null,",",{"$f":"DataEntry!S974","v":{"$error":"#N/A"}},")",","]
["(",null,",",{"$f":"DataEntry!S975","v":{"$error":"#N/A"}},")",","]
["(",null,",",{"$f":"DataEntry!S976","v":{"$error":"#N/A"}},")",","]
["(",null,",",{"$f":"DataEntry!S977","v":{"$error":"#N/A"}},")",","]
["(",null,",",{"$f":"DataEntry!S978","v":{"$error":"#N/A"}},")",","]
["(",null,",",{"$f":"DataEntry!S979","v":{"$error":"#N/A"}},")",","]
["(",null,",",{"$f":"DataEntry!S980","v":{"$error":"#N/A"}},")",","]
["(",null,",",{"$f":"DataEntry!S981","v":{"$error":"#N/A"}},")",","]
["(",null,",",{"$f":"DataEntry!S982","v":{"$error":"#N/A"}},")",","]
["(",null,",",{"$f":"DataEntry!S983","v":{"$error":"#N/A"}},")",","]
["(",null,",",{"$f":"DataEntry!S984","v":{"$error":"#N/A"}},")",","]
["(",null,",",{"$f":"DataEntry!S985","v":{"$error":"#N/A"}},")",","]
["(",null,",",{"$f":"DataEntry!S986","v":{"$error":"#N/A"}},")",","]
["(",null,",",{"$f":"DataEntry!S987","v":{"$error":"#N/A"}},")",","]
["(",null,",",{"$f":"DataEntry!S988","v":{"$error":"#N/A"}},")",","]
["(",null,",",{"$f":"DataEntry!S989","v":{"$error":"#N/A"}},")",","]
["(",null,",",{"$f":"DataEntry!S990","v":{"$error":"#N/A"}},")",","]
["(",null,",",{"$f":"DataEntry!S991","v":{"$error":"#N/A"}},")",","]
["(",null,",",{"$f":"DataEntry!S992","v":{"$error":"#N/A"}},")",","]
["(",null,",",{"$f":"DataEntry!S993","v":{"$error":"#N/A"}},")",","]
["(",null,",",{"$f":"DataEntry!S994","v":{"$error":"#N/A"}},")",","]
["(",null,",",{"$f":"DataEntry!S995","v":{"$error":"#N/A"}},")",","]
["(",null,",",{"$f":"DataEntry!S996","v":{"$error":"#N/A"}},")",","]
["(",null,",",{"$f":"DataEntry!S997","v":{"$error":"#N/A"}},")",","]
["(",null,",",{"$f":"DataEntry!S998","v":{"$error":"#N/A"}},")",","]
["(",null,",",{"$f":"DataEntry!S999","v":{"$error":"#N/A"}},")",","]
["(",null,",",{"$f":"DataEntry!S1000","v":{"$error":"#N/A"}},")",","]
["(",null,",",{"$f":"DataEntry!S1001","v":0},")",","]
["(",null,",",{"$f":"DataEntry!S1002","v":0},")",","]
["(",null,",",{"$f":"DataEntry!S1003","v":0},")",","]
["(",null,",",{"$f":"DataEntry!S1004","v":0},")",","]
["(",null,",",{"$f":"DataEntry!S1005","v":0},")",","]
["(",null,",",{"$f":"DataEntry!S1006","v":0},")",","]
["(",null,",",{"$f":"DataEntry!S1007","v":0},")",","]
["(",null,",",{"$f":"DataEntry!S1008","v":0},")",","]
["(",null,",",{"$f":"DataEntry!S1009","v":0},")",","]
["(",null,",",{"$f":"DataEntry!S1010","v":0},")",","]
["(",null,",",{"$f":"DataEntry!S1011","v":0},")",","]
["(",null,",",{"$f":"DataEntry!S1012","v":0},")",","]
["(",null,",",{"$f":"DataEntry!S1013","v":0},")",","]
["(",null,",",{"$f":"DataEntry!S1014","v":0},")",","]
["(",null,",",{"$f":"DataEntry!S1015","v":0},")",","]
["(",null,",",{"$f":"DataEntry!S1016","v":0},")",","]
["(",null,",",{"$f":"DataEntry!S1017","v":0},")",","]
["(",null,",",{"$f":"DataEntry!S1018","v":0},")",","]
["(",null,",",{"$f":"DataEntry!S1019","v":0},")",","]
["(",null,",",{"$f":"DataEntry!S1020","v":0},")",","]
["(",null,",",{"$f":"DataEntry!S1021","v":0},")",","]
["(",null,",",{"$f":"DataEntry!S1022","v":0},")",","]
["(",null,",",{"$f":"DataEntry!S1023","v":0},")",","]
["(",null,",",{"$f":"DataEntry!S1024","v":0},")",","]
["(",null,",",{"$f":"DataEntry!S1025","v":0},")",","]
["(",null,",",{"$f":"DataEntry!S1026","v":0},")",","]
["(",null,",",{"$f":"DataEntry!S1027","v":0},")",","]
["(",null,",",{"$f":"DataEntry!S1028","v":0},")",","]
["(",null,",",{"$f":"DataEntry!S1029","v":0},")",","]
["(",null,",",{"$f":"DataEntry!S1030","v":0},")",","]
["(",null,",",{"$f":"DataEntry!S1031","v":0},")",","]
["(",null,",",{"$f":"DataEntry!S1032","v":0},")",","]
["(",null,",",{"$f":"DataEntry!S1033","v":0},")",","]
["(",null,",",{"$f":"DataEntry!S1034","v":0},")",","]
["(",null,",",{"$f":"DataEntry!S1035","v":0},")",","]
["(",null,",",{"$f":"DataEntry!S1036","v":0},")",","]
["(",null,",",{"$f":"DataEntry!S1037","v":0},")",","]
["(",null,",",{"$f":"DataEntry!S1038","v":0},")",","]
["(",null,",",{"$f":"DataEntry!S1039","v":0},")",","]
["(",null,",",{"$f":"DataEntry!S1040","v":0},")",","]
["(",null,",",{"$f":"DataEntry!S1041","v":0},")",","]
["(",null,",",{"$f":"DataEntry!S1042","v":0},")",","]
["(",null,",",{"$f":"DataEntry!S1043","v":0},")",","]
["(",null,",",{"$f":"DataEntry!S1044","v":0},")",","]
["(",null,",",{"$f":"DataEntry!S1045","v":0},")",","]
["(",null,",",{"$f":"DataEntry!S1046","v":0},")",","]
["(",null,",",{"$f":"DataEntry!S1047","v":0},")",","]
["(",null,",",{"$f":"DataEntry!S1048","v":0},")",","]
["(",null,",",{"$f":"DataEntry!S1049","v":0},")",","]
["(",null,",",{"$f":"DataEntry!S1050","v":0},")",","]
["(",null,",",{"$f":"DataEntry!S1051","v":0},")",","]
["(",null,",",{"$f":"DataEntry!S1052","v":0},")",","]
["(",null,",",{"$f":"DataEntry!S1053","v":0},")",","]
["(",null,",",{"$f":"DataEntry!S1054","v":0},")",","]
["(",null,",",{"$f":"DataEntry!S1055","v":0},")",","]
["(",null,",",{"$f":"DataEntry!S1056","v":0},")",","]
["(",null,",",{"$f":"DataEntry!S1057","v":0},")",","]
["(",null,",",{"$f":"DataEntry!S1058","v":0},")",","]
["(",null,",",{"$f":"DataEntry!S1059","v":0},")",","]
["(",null,",",{"$f":"DataEntry!S1060","v":0},")",","]
["(",null,",",{"$f":"DataEntry!S1061","v":0},")",","]
["(",null,",",{"$f":"DataEntry!S1062","v":0},")",","]
["(",null,",",{"$f":"DataEntry!S1063","v":0},")",","]
["(",null,",",{"$f":"DataEntry!S1064","v":0},")",","]
["(",null,",",{"$f":"DataEntry!S1065","v":0},")",","]
["(",null,",",{"$f":"DataEntry!S1066","v":0},")",","]
["(",null,",",{"$f":"DataEntry!S1067","v":0},")",","]
["(",null,",",{"$f":"DataEntry!S1068","v":0},")",","]
["(",null,",",{"$f":"DataEntry!S1069","v":0},")",","]
["(",null,",",{"$f":"DataEntry!S1070","v":0},")",","]
["(",null,",",{"$f":"DataEntry!S1071","v":0},")",","]
["(",null,",",{"$f":"DataEntry!S1072","v":0},")",","]
["(",null,",",{"$f":"DataEntry!S1073","v":0},")",","]
["(",null,",",{"$f":"DataEntry!S1074","v":0},")",","]
["(",null,",",{"$f":"DataEntry!S1075","v":0},")",","]
["(",null,",",{"$f":"DataEntry!S1076","v":0},")",","]
["(",null,",",{"$f":"DataEntry!S1077","v":0},")",","]
["(",null,",",{"$f":"DataEntry!S1078","v":0},")",","]
["(",null,",",{"$f":"DataEntry!S1079","v":0},")",","]
["(",null,",",{"$f":"DataEntry!S1080","v":0},")",","]
["(",null,",",{"$f":"DataEntry!S1081","v":0},")",","]
["(",null,",",{"$f":"DataEntry!S1082","v":0},")",","]
["(",null,",",{"$f":"DataEntry!S1083","v":0},")",","]
["(",null,",",{"$f":"DataEntry!S1084","v":0},")",","]
["(",null,",",{"$f":"DataEntry!S1085","v":0},")",","]
["(",null,",",{"$f":"DataEntry!S1086","v":0},")",","]
["(",null,",",{"$f":"DataEntry!S1087","v":0},")",","]
["(",null,",",{"$f":"DataEntry!S1088","v":0},")",","]
["(",null,",",{"$f":"DataEntry!S1089","v":0},")",","]
["(",null,",",{"$f":"DataEntry!S1090","v":0},")",","]
["(",null,",",{"$f":"DataEntry!S1091","v":0},")",","]
["(",null,",",{"$f":"DataEntry!S1092","v":0},")",","]
["(",null,",",{"$f":"DataEntry!S1093","v":0},")",","]
["(",null,",",{"$f":"DataEntry!S1094","v":0},")",","]
["(",null,",",{"$f":"DataEntry!S1095","v":0},")",","]
["(",null,",",{"$f":"DataEntry!S1096","v":0},")",","]
["(",null,",",{"$f":"DataEntry!S1097","v":0},")",","]
["(",null,",",{"$f":"DataEntry!S1098","v":0},")",","]
["(",null,",",{"$f":"DataEntry!S1099","v":0},")",","]
["(",null,",",{"$f":"DataEntry!S1100","v":0},")",","]
["(",null,",",{"$f":"DataEntry!S1101","v":0},")",","]
["(",null,",",{"$f":"DataEntry!S1102","v":0},")",","]
["(",null,",",{"$f":"DataEntry!S1103","v":0},")",","]
["(",null,",",{"$f":"DataEntry!S1104","v":0},")",","]
["(",null,",",{"$f":"DataEntry!S1105","v":0},")",","]
["(",null,",",{"$f":"DataEntry!S1106","v":0},")",","]
["(",null,",",{"$f":"DataEntry!S1107","v":0},")",","]
["(",null,",",{"$f":"DataEntry!S1108","v":0},")",","]
["(",null,",",{"$f":"DataEntry!S1109","v":0},")",","]
["(",null,",",{"$f":"DataEntry!S1110","v":0},")",","]
["(",null,",",{"$f":"DataEntry!S1111","v":0},")",","]
["(",null,",",{"$f":"DataEntry!S1112","v":0},")",","]
["(",null,",",{"$f":"DataEntry!S1113","v":0},")",","]
["(",null,",",{"$f":"DataEntry!S1114","v":0},")",","]
["(",null,",",{"$f":"DataEntry!S1115","v":0},")",","]
["(",null,",",{"$f":"DataEntry!S1116","v":0},")",","]
["(",null,",",{"$f":"DataEntry!S1117","v":0},")",","]
["(",null,",",{"$f":"DataEntry!S1118","v":0},")",","]
["(",null,",",{"$f":"DataEntry!S1119","v":0},")",","]
["(",null,",",{"$f":"DataEntry!S1120","v":0},")",","]
["(",null,",",{"$f":"DataEntry!S1121","v":0},")",","]
["(",null,",",{"$f":"DataEntry!S1122","v":0},")",","]
["(",null,",",{"$f":"DataEntry!S1123","v":0},")",","]
["(",null,",",{"$f":"DataEntry!S1124","v":0},")",","]
["(",null,",",{"$f":"DataEntry!S1125","v":0},")",","]
["(",null,",",{"$f":"DataEntry!S1126","v":0},")",","]
["(",null,",",{"$f":"DataEntry!S1127","v":0},")",","]
["(",null,",",{"$f":"DataEntry!S1128","v":0},")",","]
["(",null,",",{"$f":"DataEntry!S1129","v":0},")",","]
["(",null,",",{"$f":"DataEntry!S1130","v":0},")",","]
["(",null,",",{"$f":"DataEntry!S1131","v":0},")",","]
["(",null,",",{"$f":"DataEntry!S1132","v":0},")",","]
["(",null,",",{"$f":"DataEntry!S1133","v":0},")",","]
["(",null,",",{"$f":"DataEntry!S1134","v":0},")",","]
["(",null,",",{"$f":"DataEntry!S1135","v":0},")",","]
["(",null,",",{"$f":"DataEntry!S1136","v":0},")",","]
["(",null,",",{"$f":"DataEntry!S1137","v":0},")",","]
["(",null,",",{"$f":"DataEntry!S1138","v":0},")",","]
["(",null,",",{"$f":"DataEntry!S1139","v":0},")",","]
["(",null,",",{"$f":"DataEntry!S1140","v":0},")",","]
["(",null,",",{"$f":"DataEntry!S1141","v":0},")",","]
["(",null,",",{"$f":"DataEntry!S1142","v":0},")",","]
["(",null,",",{"$f":"DataEntry!S1143","v":0},")",","]
["(",null,",",{"$f":"DataEntry!S1144","v":0},")",","]
["(",null,",",{"$f":"DataEntry!S1145","v":0},")",","]
["(",null,",",{"$f":"DataEntry!S1146","v":0}]
["(",null,",",{"$f":"DataEntry!S1147","v":0}]

{"sheet":"SQL5","index":13,"n_rows":20,"n_cols":11,"rows_kept":20,"cut":false,"hidden":false,"merged":[]}
["INSERT INTO vegetation_monitoring_unknowns (vegetation_monitoring_id, temporary_name, description, voucher_id, notes)"]
["VALUES"]
["(",null,",",{"$f":"DataEntry!U14","v":0},",",{"$f":"DataEntry!V14","v":0},",",{"$f":"DataEntry!W14","v":0},",",{"$f":"DataEntry!X14","v":0},"),"]
["(",null,",",{"$f":"DataEntry!U15","v":0},",",{"$f":"DataEntry!V15","v":0},",",{"$f":"DataEntry!W15","v":0},",",{"$f":"DataEntry!X15","v":0},"),"]
["(",null,",",{"$f":"DataEntry!U16","v":0},",",{"$f":"DataEntry!V16","v":0},",",{"$f":"DataEntry!W16","v":0},",",{"$f":"DataEntry!X16","v":0},"),"]
["(",null,",",{"$f":"DataEntry!U17","v":0},",",{"$f":"DataEntry!V17","v":0},",",{"$f":"DataEntry!W17","v":0},",",{"$f":"DataEntry!X17","v":0},"),"]
["(",null,",",{"$f":"DataEntry!U18","v":0},",",{"$f":"DataEntry!V18","v":0},",",{"$f":"DataEntry!W18","v":0},",",{"$f":"DataEntry!X18","v":0},"),"]
["(",null,",",{"$f":"DataEntry!U19","v":0},",",{"$f":"DataEntry!V19","v":0},",",{"$f":"DataEntry!W19","v":0},",",{"$f":"DataEntry!X19","v":0},"),"]
["(",null,",",{"$f":"DataEntry!U20","v":0},",",{"$f":"DataEntry!V20","v":0},",",{"$f":"DataEntry!W20","v":0},",",{"$f":"DataEntry!X20","v":0},"),"]
["(",null,",",{"$f":"DataEntry!U21","v":0},",",{"$f":"DataEntry!V21","v":0},",",{"$f":"DataEntry!W21","v":0},",",{"$f":"DataEntry!X21","v":0},"),"]
["(",null,",",{"$f":"DataEntry!U22","v":0},",",{"$f":"DataEntry!V22","v":0},",",{"$f":"DataEntry!W22","v":0},",",{"$f":"DataEntry!X22","v":0},"),"]
["(",null,",",{"$f":"DataEntry!U23","v":0},",",{"$f":"DataEntry!V23","v":0},",",{"$f":"DataEntry!W23","v":0},",",{"$f":"DataEntry!X23","v":0},"),"]
["(",null,",",{"$f":"DataEntry!U24","v":0},",",{"$f":"DataEntry!V24","v":0},",",{"$f":"DataEntry!W24","v":0},",",{"$f":"DataEntry!X24","v":0},"),"]
["(",null,",",{"$f":"DataEntry!U25","v":0},",",{"$f":"DataEntry!V25","v":0},",",{"$f":"DataEntry!W25","v":0},",",{"$f":"DataEntry!X25","v":0},"),"]
["(",null,",",{"$f":"DataEntry!U26","v":0},",",{"$f":"DataEntry!V26","v":0},",",{"$f":"DataEntry!W26","v":0},",",{"$f":"DataEntry!X26","v":0},"),"]
["(",null,",",{"$f":"DataEntry!U27","v":0},",",{"$f":"DataEntry!V27","v":0},",",{"$f":"DataEntry!W27","v":0},",",{"$f":"DataEntry!X27","v":0},"),"]
["(",null,",",{"$f":"DataEntry!U28","v":0},",",{"$f":"DataEntry!V28","v":0},",",{"$f":"DataEntry!W28","v":0},",",{"$f":"DataEntry!X28","v":0},"),"]
["(",null,",",{"$f":"DataEntry!U29","v":0},",",{"$f":"DataEntry!V29","v":0},",",{"$f":"DataEntry!W29","v":0},",",{"$f":"DataEntry!X29","v":0},"),"]
["(",null,",",{"$f":"DataEntry!U30","v":0},",",{"$f":"DataEntry!V30","v":0},",",{"$f":"DataEntry!W30","v":0},",",{"$f":"DataEntry!X30","v":0},"),"]
["(",null,",",{"$f":"DataEntry!U31","v":0},",",{"$f":"DataEntry!V31","v":0},",",{"$f":"DataEntry!W31","v":0},",",{"$f":"DataEntry!X31","v":0},"),"]